{"text_format":"3","workbook":"xlsx","n_sheets":7,"sheets":["Introduction","Example Event","Example Fact","Example Dimension","Empty Table","Settings","Help (BEAM✲ Codes)"],"not_rendered":{"images":1,"defined_names":1},"read":"whole","date_system":"1900"}

{"sheet":"Introduction","index":0,"n_rows":0,"n_cols":0,"rows_kept":0}

{"sheet":"Example Event","index":1,"n_rows":144,"n_cols":155,"rows_kept":144,"merged":[[30,5,35,12],[76,2,76,4],[116,46,116,49]]}
[null,null,"Guide"]
[null,null," 'Detail about Detail' scratchpad"]
[]
[null,null,"Table | Codes | Description",null,null,"Event Name","RE"]
[null,null,"verb | preposition",{"$nulls":3},"verb","every"]
[null,null,"Column Names",null,null,"Subject","Object","Event Date"]
[null,null,"Column Codes",{"$nulls":4},"[when]"]
[null,null,"Source"]
[null,null,"Data Type Length.Precision"]
[null,null,"Example Data",null,"Typical"]
[{"$nulls":4},"Different"]
[{"$nulls":4},"Repeat"]
[{"$nulls":4},"Missing"]
[{"$nulls":4},"Range"]
[{"$nulls":4},"Change"]
[]
[]
[]
[null,null,"Data Profiling Results",null,"Sample Count"]
[{"$nulls":4},"Missing"]
[{"$nulls":4},"Unique Values"]
[{"$nulls":4},"Min Value"]
[{"$nulls":4},"Min Count"]
[{"$nulls":4},"Max Value"]
[{"$nulls":4},"Max Count"]
[{"$nulls":4},"Min Length"]
[{"$nulls":4},"Max Length"]
[]
[]
[]
[null,null,"SQL DDL",null,null,{"$f":"F139","v":"/* DDL for Recurring Event EVENT_NAME generated by BEAM*Modelstormer 0.95C on 22 May 2017 at 19:16 */\r\rCREATE TABLE EVENT_NAME\r(SUBJECT VARCHAR2(40),\rOBJECT VARCHAR2(40),\rEVENT_DATE DATE);\r\rComment on Table EVENT_NAME is 'RE';\rComment on Column EVENT_NAME.EVENT_DATE is '[when]';\r"}]
[]
[]
[]
[]
[]
[]
[null,null,"Formula Key",null,null,"Table Level Formula"]
[{"$nulls":5},"Column Level Formula"]
[{"$nulls":5},"Column Level Formula (different)"]
[{"$nulls":5},"Array Formula"]
[]
[null,null,"Version",null,null,"0.95C"]
[null,null,"BEAM SQL Table",null,null,{"$f":"SUBSTITUTE(TRIM(UPPER($F$4)), \" \", \"_\")","v":"EVENT_NAME"}]
[null,null,"SQL Table Name",null,null,{"$f":"IF(LEN(TRIM($F$4))=0, \"[ Fill in Table Name in F4 ]\", TRIM(SUBSTITUTE(IF($F$55=\"Fact\", Settings!$B$6, Settings!$B$7), \"&BEAMTable\", $F$44)))","v":"EVENT_NAME"}]
[null,null,"Trimmed Table Code",null,null,{"$f":"IF(LEN(TRIM($F$4))=0, \"\", TRIM(G4))","v":"RE"}]
[null,null,"Start Table Source ({ symbol)",null,null,{"$f":"FIND(\"{\",F46)","v":{"$error":"#VALUE!"}}]
[null,null,"End Table Source (} symbol)",null,null,{"$f":"FIND(\"}\",F46)","v":{"$error":"#VALUE!"}}]
[null,null,"Table Source",null,null,{"$f":"MID(F46,F47,F48-F47+1)","v":{"$error":"#VALUE!"}}]
[null,null,"Table Code without Table Source",null,null,{"$f":"TRIM(IF(ISERROR(F49),F46,SUBSTITUTE( F46, F49,\"\")))","v":"RE"}]
[null,null,"Table Code and Description",null,null,{"$f":"TRIM(F46 & \" \" & H4)","v":"RE"}]
[null,null,"Table Comment",null,null,{"$f":"IF(LEN(F51)=0,\"\",SUBSTITUTE(SUBSTITUTE(Settings!$B$38,\"&Table\",$F$45),\"&BEAMTableCodes\",$F$51))","v":"Comment on Table EVENT_NAME is 'RE';\r"}]
[null,null,"Diagram Table Name",null,null,{"$f":"IF(Settings!B44=\"Y\",SUBSTITUTE($F$45,\"_\",\" \"), $F$45) & IF(LEN(F50)=0, \"\", SUBSTITUTE(Settings!B40, \"&BEAMTableCodes\", $F$50))","v":"EVENT NAME  [ RE ]"}]
[null,null,"Full Table Type",null,null,{"$f":"IF(NOT(ISERROR(FIND(\"TF\",F50))),\"Transaction Fact\",IF(NOT(ISERROR(FIND(\"AS\",F50))),\"Accumulating Snapshot Fact\",IF(NOT(ISERROR(FIND(\"PS\",F50))),\"Periodic Snapshot Fact\",IF(NOT(ISERROR(FIND(\"AG\",F50))),\"Aggregate Fact\",IF(NOT(ISERROR(FIND(\"DF\",F50))),\"Derived Fact\",IF(NOT(ISERROR(FIND(\"DE\",F50))),\"Discrete Event\",IF(NOT(ISERROR(FIND(\"EE\",F50))),\"Evolving Event\",IF(NOT(ISERROR(FIND(\"RE\",F50))),\"Recurring Event\",IF(NOT(ISERROR(FIND(\"HM\",F50))),\"Hierarchy Map\",IF(NOT(ISERROR(FIND(\"HV\",F50))),\"Historic Value Dimenson (SCD Type 2)\",IF(NOT(ISERROR(FIND(\"CV\",F50))),\"Current Value Dimenson (SCD Type 1)\",IF(NOT(ISERROR(FIND(\"FV\",F50))),\"Fixed Value Dimenson (SCD Type 1)\",IF(NOT(ISERROR(FIND(\"HV\",F50))),\"Historic Value Dimenson (SCD Type 2)\",IF(NOT(ISERROR(FIND(\"PD\",F50))),\"Pivoted Dimenson\",IF(NOT(ISERROR(FIND(\"RU\",F50))),\"Rollup Dimenson\",IF(NOT(ISERROR(FIND(\"SD\",F50))),\"Swappable Dimenson\",IF(NOT(ISERROR(FIND(\"RP\",F50))),\"Role-Playing Dimenson\",IF(NOT(ISERROR(FIND(\"MV\",F50))),\"Multi-Valued Dimenson\",\"\"))))))))))))))))))","v":"Recurring Event"}]
[null,null,"Short Table Type\n [Fact, Dimension, Other]",null,null,{"$f":"IF(NOT(ISERROR(FIND(\"Fact\",F54))),\"Fact\",IF(AND(ISERROR(FIND(\"CV\",$F$50)),ISERROR(FIND(\"HV\",$F$50)),ISERROR(FIND(\"FV\",$F$50)),ISERROR(FIND(\"SD\",$F$50)),ISERROR(FIND(\"HM\",$F$50)),ISERROR(FIND(\"MV\",$F$50)),ISERROR(FIND(\"ML\",$F$50)),ISERROR(FIND(\"RP\",$F$50)),ISERROR(FIND(\"RU\",$F$50)),ISERROR(FIND(\"PD\",$F$50))),\"Other\",\"Dimension\"))","v":"Other"}]
[null,null,"Create Table Clause",null,null,{"$f":"SUBSTITUTE(IF($F$55=\"Fact\", Settings!$B$8, IF($F$55=\"Dimension\", Settings!$B$9, Settings!$B$10)),\"&Table\", $F$45)","v":"CREATE TABLE EVENT_NAME"}]
[null,null,"Ignore Column with\n ? Code, DF or Empty",null,null,{"$f":"IF(OR(AND(Settings!$B$14=\"Y\", NOT(ISERROR(FIND(\"DF\",F7)))), LEN(TRIM(F6))=0, NOT(ISERROR(FIND(\"?\",F7)))),\"Y\",\"_\")","v":"_"},{"$f":"IF(OR(AND(Settings!$B$14=\"Y\", NOT(ISERROR(FIND(\"DF\",G7)))), LEN(TRIM(G6))=0, NOT(ISERROR(FIND(\"?\",G7)))),\"Y\",\"_\")","v":"_"},{"$f":"IF(OR(AND(Settings!$B$14=\"Y\", NOT(ISERROR(FIND(\"DF\",H7)))), LEN(TRIM(H6))=0, NOT(ISERROR(FIND(\"?\",H7)))),\"Y\",\"_\")","v":"_"},{"$f":"IF(OR(AND(Settings!$B$14=\"Y\", NOT(ISERROR(FIND(\"DF\",I7)))), LEN(TRIM(I6))=0, NOT(ISERROR(FIND(\"?\",I7)))),\"Y\",\"_\")","v":"Y"},{"$f":"IF(OR(AND(Settings!$B$14=\"Y\", NOT(ISERROR(FIND(\"DF\",J7)))), LEN(TRIM(J6))=0, NOT(ISERROR(FIND(\"?\",J7)))),\"Y\",\"_\")","v":"Y"},{"$f":"IF(OR(AND(Settings!$B$14=\"Y\", NOT(ISERROR(FIND(\"DF\",K7)))), LEN(TRIM(K6))=0, NOT(ISERROR(FIND(\"?\",K7)))),\"Y\",\"_\")","v":"Y"},{"$f":"IF(OR(AND(Settings!$B$14=\"Y\", NOT(ISERROR(FIND(\"DF\",L7)))), LEN(TRIM(L6))=0, NOT(ISERROR(FIND(\"?\",L7)))),\"Y\",\"_\")","v":"Y"},{"$f":"IF(OR(AND(Settings!$B$14=\"Y\", NOT(ISERROR(FIND(\"DF\",M7)))), LEN(TRIM(M6))=0, NOT(ISERROR(FIND(\"?\",M7)))),\"Y\",\"_\")","v":"Y"},{"$f":"IF(OR(AND(Settings!$B$14=\"Y\", NOT(ISERROR(FIND(\"DF\",N7)))), LEN(TRIM(N6))=0, NOT(ISERROR(FIND(\"?\",N7)))),\"Y\",\"_\")","v":"Y"},{"$f":"IF(OR(AND(Settings!$B$14=\"Y\", NOT(ISERROR(FIND(\"DF\",O7)))), LEN(TRIM(O6))=0, NOT(ISERROR(FIND(\"?\",O7)))),\"Y\",\"_\")","v":"Y"},{"$f":"IF(OR(AND(Settings!$B$14=\"Y\", NOT(ISERROR(FIND(\"DF\",P7)))), LEN(TRIM(P6))=0, NOT(ISERROR(FIND(\"?\",P7)))),\"Y\",\"_\")","v":"Y"},{"$f":"IF(OR(AND(Settings!$B$14=\"Y\", NOT(ISERROR(FIND(\"DF\",Q7)))), LEN(TRIM(Q6))=0, NOT(ISERROR(FIND(\"?\",Q7)))),\"Y\",\"_\")","v":"Y"},{"$f":"IF(OR(AND(Settings!$B$14=\"Y\", NOT(ISERROR(FIND(\"DF\",R7)))), LEN(TRIM(R6))=0, NOT(ISERROR(FIND(\"?\",R7)))),\"Y\",\"_\")","v":"Y"},{"$f":"IF(OR(AND(Settings!$B$14=\"Y\", NOT(ISERROR(FIND(\"DF\",S7)))), LEN(TRIM(S6))=0, NOT(ISERROR(FIND(\"?\",S7)))),\"Y\",\"_\")","v":"Y"},{"$f":"IF(OR(AND(Settings!$B$14=\"Y\", NOT(ISERROR(FIND(\"DF\",T7)))), LEN(TRIM(T6))=0, NOT(ISERROR(FIND(\"?\",T7)))),\"Y\",\"_\")","v":"Y"},{"$f":"IF(OR(AND(Settings!$B$14=\"Y\", NOT(ISERROR(FIND(\"DF\",U7)))), LEN(TRIM(U6))=0, NOT(ISERROR(FIND(\"?\",U7)))),\"Y\",\"_\")","v":"Y"},{"$f":"IF(OR(AND(Settings!$B$14=\"Y\", NOT(ISERROR(FIND(\"DF\",V7)))), LEN(TRIM(V6))=0, NOT(ISERROR(FIND(\"?\",V7)))),\"Y\",\"_\")","v":"Y"},{"$f":"IF(OR(AND(Settings!$B$14=\"Y\", NOT(ISERROR(FIND(\"DF\",W7)))), LEN(TRIM(W6))=0, NOT(ISERROR(FIND(\"?\",W7)))),\"Y\",\"_\")","v":"Y"},{"$f":"IF(OR(AND(Settings!$B$14=\"Y\", NOT(ISERROR(FIND(\"DF\",X7)))), LEN(TRIM(X6))=0, NOT(ISERROR(FIND(\"?\",X7)))),\"Y\",\"_\")","v":"Y"},{"$f":"IF(OR(AND(Settings!$B$14=\"Y\", NOT(ISERROR(FIND(\"DF\",Y7)))), LEN(TRIM(Y6))=0, NOT(ISERROR(FIND(\"?\",Y7)))),\"Y\",\"_\")","v":"Y"},{"$f":"IF(OR(AND(Settings!$B$14=\"Y\", NOT(ISERROR(FIND(\"DF\",Z7)))), LEN(TRIM(Z6))=0, NOT(ISERROR(FIND(\"?\",Z7)))),\"Y\",\"_\")","v":"Y"},{"$f":"IF(OR(AND(Settings!$B$14=\"Y\", NOT(ISERROR(FIND(\"DF\",AA7)))), LEN(TRIM(AA6))=0, NOT(ISERROR(FIND(\"?\",AA7)))),\"Y\",\"_\")","v":"Y"},{"$f":"IF(OR(AND(Settings!$B$14=\"Y\", NOT(ISERROR(FIND(\"DF\",AB7)))), LEN(TRIM(AB6))=0, NOT(ISERROR(FIND(\"?\",AB7)))),\"Y\",\"_\")","v":"Y"},{"$f":"IF(OR(AND(Settings!$B$14=\"Y\", NOT(ISERROR(FIND(\"DF\",AC7)))), LEN(TRIM(AC6))=0, NOT(ISERROR(FIND(\"?\",AC7)))),\"Y\",\"_\")","v":"Y"},{"$f":"IF(OR(AND(Settings!$B$14=\"Y\", NOT(ISERROR(FIND(\"DF\",AD7)))), LEN(TRIM(AD6))=0, NOT(ISERROR(FIND(\"?\",AD7)))),\"Y\",\"_\")","v":"Y"},{"$f":"IF(OR(AND(Settings!$B$14=\"Y\", NOT(ISERROR(FIND(\"DF\",AE7)))), LEN(TRIM(AE6))=0, NOT(ISERROR(FIND(\"?\",AE7)))),\"Y\",\"_\")","v":"Y"},{"$f":"IF(OR(AND(Settings!$B$14=\"Y\", NOT(ISERROR(FIND(\"DF\",AF7)))), LEN(TRIM(AF6))=0, NOT(ISERROR(FIND(\"?\",AF7)))),\"Y\",\"_\")","v":"Y"},{"$f":"IF(OR(AND(Settings!$B$14=\"Y\", NOT(ISERROR(FIND(\"DF\",AG7)))), LEN(TRIM(AG6))=0, NOT(ISERROR(FIND(\"?\",AG7)))),\"Y\",\"_\")","v":"Y"},{"$f":"IF(OR(AND(Settings!$B$14=\"Y\", NOT(ISERROR(FIND(\"DF\",AH7)))), LEN(TRIM(AH6))=0, NOT(ISERROR(FIND(\"?\",AH7)))),\"Y\",\"_\")","v":"Y"},{"$f":"IF(OR(AND(Settings!$B$14=\"Y\", NOT(ISERROR(FIND(\"DF\",AI7)))), LEN(TRIM(AI6))=0, NOT(ISERROR(FIND(\"?\",AI7)))),\"Y\",\"_\")","v":"Y"},{"$f":"IF(OR(AND(Settings!$B$14=\"Y\", NOT(ISERROR(FIND(\"DF\",AJ7)))), LEN(TRIM(AJ6))=0, NOT(ISERROR(FIND(\"?\",AJ7)))),\"Y\",\"_\")","v":"Y"},{"$f":"IF(OR(AND(Settings!$B$14=\"Y\", NOT(ISERROR(FIND(\"DF\",AK7)))), LEN(TRIM(AK6))=0, NOT(ISERROR(FIND(\"?\",AK7)))),\"Y\",\"_\")","v":"Y"},{"$f":"IF(OR(AND(Settings!$B$14=\"Y\", NOT(ISERROR(FIND(\"DF\",AL7)))), LEN(TRIM(AL6))=0, NOT(ISERROR(FIND(\"?\",AL7)))),\"Y\",\"_\")","v":"Y"},{"$f":"IF(OR(AND(Settings!$B$14=\"Y\", NOT(ISERROR(FIND(\"DF\",AM7)))), LEN(TRIM(AM6))=0, NOT(ISERROR(FIND(\"?\",AM7)))),\"Y\",\"_\")","v":"Y"},{"$f":"IF(OR(AND(Settings!$B$14=\"Y\", NOT(ISERROR(FIND(\"DF\",AN7)))), LEN(TRIM(AN6))=0, NOT(ISERROR(FIND(\"?\",AN7)))),\"Y\",\"_\")","v":"Y"},{"$f":"IF(OR(AND(Settings!$B$14=\"Y\", NOT(ISERROR(FIND(\"DF\",AO7)))), LEN(TRIM(AO6))=0, NOT(ISERROR(FIND(\"?\",AO7)))),\"Y\",\"_\")","v":"Y"},{"$f":"IF(OR(AND(Settings!$B$14=\"Y\", NOT(ISERROR(FIND(\"DF\",AP7)))), LEN(TRIM(AP6))=0, NOT(ISERROR(FIND(\"?\",AP7)))),\"Y\",\"_\")","v":"Y"},{"$f":"IF(OR(AND(Settings!$B$14=\"Y\", NOT(ISERROR(FIND(\"DF\",AQ7)))), LEN(TRIM(AQ6))=0, NOT(ISERROR(FIND(\"?\",AQ7)))),\"Y\",\"_\")","v":"Y"},{"$f":"IF(OR(AND(Settings!$B$14=\"Y\", NOT(ISERROR(FIND(\"DF\",AR7)))), LEN(TRIM(AR6))=0, NOT(ISERROR(FIND(\"?\",AR7)))),\"Y\",\"_\")","v":"Y"},{"$f":"IF(OR(AND(Settings!$B$14=\"Y\", NOT(ISERROR(FIND(\"DF\",AS7)))), LEN(TRIM(AS6))=0, NOT(ISERROR(FIND(\"?\",AS7)))),\"Y\",\"_\")","v":"Y"},{"$f":"IF(OR(AND(Settings!$B$14=\"Y\", NOT(ISERROR(FIND(\"DF\",AT7)))), LEN(TRIM(AT6))=0, NOT(ISERROR(FIND(\"?\",AT7)))),\"Y\",\"_\")","v":"Y"},{"$f":"IF(OR(AND(Settings!$B$14=\"Y\", NOT(ISERROR(FIND(\"DF\",AU7)))), LEN(TRIM(AU6))=0, NOT(ISERROR(FIND(\"?\",AU7)))),\"Y\",\"_\")","v":"Y"},{"$f":"IF(OR(AND(Settings!$B$14=\"Y\", NOT(ISERROR(FIND(\"DF\",AV7)))), LEN(TRIM(AV6))=0, NOT(ISERROR(FIND(\"?\",AV7)))),\"Y\",\"_\")","v":"Y"},{"$f":"IF(OR(AND(Settings!$B$14=\"Y\", NOT(ISERROR(FIND(\"DF\",AW7)))), LEN(TRIM(AW6))=0, NOT(ISERROR(FIND(\"?\",AW7)))),\"Y\",\"_\")","v":"Y"},{"$f":"IF(OR(AND(Settings!$B$14=\"Y\", NOT(ISERROR(FIND(\"DF\",AX7)))), LEN(TRIM(AX6))=0, NOT(ISERROR(FIND(\"?\",AX7)))),\"Y\",\"_\")","v":"Y"},{"$f":"IF(OR(AND(Settings!$B$14=\"Y\", NOT(ISERROR(FIND(\"DF\",AY7)))), LEN(TRIM(AY6))=0, NOT(ISERROR(FIND(\"?\",AY7)))),\"Y\",\"_\")","v":"Y"},{"$f":"IF(OR(AND(Settings!$B$14=\"Y\", NOT(ISERROR(FIND(\"DF\",AZ7)))), LEN(TRIM(AZ6))=0, NOT(ISERROR(FIND(\"?\",AZ7)))),\"Y\",\"_\")","v":"Y"},{"$f":"IF(OR(AND(Settings!$B$14=\"Y\", NOT(ISERROR(FIND(\"DF\",BA7)))), LEN(TRIM(BA6))=0, NOT(ISERROR(FIND(\"?\",BA7)))),\"Y\",\"_\")","v":"Y"},{"$f":"IF(OR(AND(Settings!$B$14=\"Y\", NOT(ISERROR(FIND(\"DF\",BB7)))), LEN(TRIM(BB6))=0, NOT(ISERROR(FIND(\"?\",BB7)))),\"Y\",\"_\")","v":"Y"},{"$f":"IF(OR(AND(Settings!$B$14=\"Y\", NOT(ISERROR(FIND(\"DF\",BC7)))), LEN(TRIM(BC6))=0, NOT(ISERROR(FIND(\"?\",BC7)))),\"Y\",\"_\")","v":"Y"},{"$f":"IF(OR(AND(Settings!$B$14=\"Y\", NOT(ISERROR(FIND(\"DF\",BD7)))), LEN(TRIM(BD6))=0, NOT(ISERROR(FIND(\"?\",BD7)))),\"Y\",\"_\")","v":"Y"},{"$f":"IF(OR(AND(Settings!$B$14=\"Y\", NOT(ISERROR(FIND(\"DF\",BE7)))), LEN(TRIM(BE6))=0, NOT(ISERROR(FIND(\"?\",BE7)))),\"Y\",\"_\")","v":"Y"},{"$f":"IF(OR(AND(Settings!$B$14=\"Y\", NOT(ISERROR(FIND(\"DF\",BF7)))), LEN(TRIM(BF6))=0, NOT(ISERROR(FIND(\"?\",BF7)))),\"Y\",\"_\")","v":"Y"},{"$f":"IF(OR(AND(Settings!$B$14=\"Y\", NOT(ISERROR(FIND(\"DF\",BG7)))), LEN(TRIM(BG6))=0, NOT(ISERROR(FIND(\"?\",BG7)))),\"Y\",\"_\")","v":"Y"},{"$f":"IF(OR(AND(Settings!$B$14=\"Y\", NOT(ISERROR(FIND(\"DF\",BH7)))), LEN(TRIM(BH6))=0, NOT(ISERROR(FIND(\"?\",BH7)))),\"Y\",\"_\")","v":"Y"},{"$f":"IF(OR(AND(Settings!$B$14=\"Y\", NOT(ISERROR(FIND(\"DF\",BI7)))), LEN(TRIM(BI6))=0, NOT(ISERROR(FIND(\"?\",BI7)))),\"Y\",\"_\")","v":"Y"},{"$f":"IF(OR(AND(Settings!$B$14=\"Y\", NOT(ISERROR(FIND(\"DF\",BJ7)))), LEN(TRIM(BJ6))=0, NOT(ISERROR(FIND(\"?\",BJ7)))),\"Y\",\"_\")","v":"Y"},{"$f":"IF(OR(AND(Settings!$B$14=\"Y\", NOT(ISERROR(FIND(\"DF\",BK7)))), LEN(TRIM(BK6))=0, NOT(ISERROR(FIND(\"?\",BK7)))),\"Y\",\"_\")","v":"Y"},{"$f":"IF(OR(AND(Settings!$B$14=\"Y\", NOT(ISERROR(FIND(\"DF\",BL7)))), LEN(TRIM(BL6))=0, NOT(ISERROR(FIND(\"?\",BL7)))),\"Y\",\"_\")","v":"Y"},{"$f":"IF(OR(AND(Settings!$B$14=\"Y\", NOT(ISERROR(FIND(\"DF\",BM7)))), LEN(TRIM(BM6))=0, NOT(ISERROR(FIND(\"?\",BM7)))),\"Y\",\"_\")","v":"Y"},{"$f":"IF(OR(AND(Settings!$B$14=\"Y\", NOT(ISERROR(FIND(\"DF\",BN7)))), LEN(TRIM(BN6))=0, NOT(ISERROR(FIND(\"?\",BN7)))),\"Y\",\"_\")","v":"Y"},{"$f":"IF(OR(AND(Settings!$B$14=\"Y\", NOT(ISERROR(FIND(\"DF\",BO7)))), LEN(TRIM(BO6))=0, NOT(ISERROR(FIND(\"?\",BO7)))),\"Y\",\"_\")","v":"Y"},{"$f":"IF(OR(AND(Settings!$B$14=\"Y\", NOT(ISERROR(FIND(\"DF\",BP7)))), LEN(TRIM(BP6))=0, NOT(ISERROR(FIND(\"?\",BP7)))),\"Y\",\"_\")","v":"Y"},{"$f":"IF(OR(AND(Settings!$B$14=\"Y\", NOT(ISERROR(FIND(\"DF\",BQ7)))), LEN(TRIM(BQ6))=0, NOT(ISERROR(FIND(\"?\",BQ7)))),\"Y\",\"_\")","v":"Y"},{"$f":"IF(OR(AND(Settings!$B$14=\"Y\", NOT(ISERROR(FIND(\"DF\",BR7)))), LEN(TRIM(BR6))=0, NOT(ISERROR(FIND(\"?\",BR7)))),\"Y\",\"_\")","v":"Y"},{"$f":"IF(OR(AND(Settings!$B$14=\"Y\", NOT(ISERROR(FIND(\"DF\",BS7)))), LEN(TRIM(BS6))=0, NOT(ISERROR(FIND(\"?\",BS7)))),\"Y\",\"_\")","v":"Y"},{"$f":"IF(OR(AND(Settings!$B$14=\"Y\", NOT(ISERROR(FIND(\"DF\",BT7)))), LEN(TRIM(BT6))=0, NOT(ISERROR(FIND(\"?\",BT7)))),\"Y\",\"_\")","v":"Y"},{"$f":"IF(OR(AND(Settings!$B$14=\"Y\", NOT(ISERROR(FIND(\"DF\",BU7)))), LEN(TRIM(BU6))=0, NOT(ISERROR(FIND(\"?\",BU7)))),\"Y\",\"_\")","v":"Y"},{"$f":"IF(OR(AND(Settings!$B$14=\"Y\", NOT(ISERROR(FIND(\"DF\",BV7)))), LEN(TRIM(BV6))=0, NOT(ISERROR(FIND(\"?\",BV7)))),\"Y\",\"_\")","v":"Y"},{"$f":"IF(OR(AND(Settings!$B$14=\"Y\", NOT(ISERROR(FIND(\"DF\",BW7)))), LEN(TRIM(BW6))=0, NOT(ISERROR(FIND(\"?\",BW7)))),\"Y\",\"_\")","v":"Y"},{"$f":"IF(OR(AND(Settings!$B$14=\"Y\", NOT(ISERROR(FIND(\"DF\",BX7)))), LEN(TRIM(BX6))=0, NOT(ISERROR(FIND(\"?\",BX7)))),\"Y\",\"_\")","v":"Y"},{"$f":"IF(OR(AND(Settings!$B$14=\"Y\", NOT(ISERROR(FIND(\"DF\",BY7)))), LEN(TRIM(BY6))=0, NOT(ISERROR(FIND(\"?\",BY7)))),\"Y\",\"_\")","v":"Y"},{"$f":"IF(OR(AND(Settings!$B$14=\"Y\", NOT(ISERROR(FIND(\"DF\",BZ7)))), LEN(TRIM(BZ6))=0, NOT(ISERROR(FIND(\"?\",BZ7)))),\"Y\",\"_\")","v":"Y"},{"$f":"IF(OR(AND(Settings!$B$14=\"Y\", NOT(ISERROR(FIND(\"DF\",CA7)))), LEN(TRIM(CA6))=0, NOT(ISERROR(FIND(\"?\",CA7)))),\"Y\",\"_\")","v":"Y"},{"$f":"IF(OR(AND(Settings!$B$14=\"Y\", NOT(ISERROR(FIND(\"DF\",CB7)))), LEN(TRIM(CB6))=0, NOT(ISERROR(FIND(\"?\",CB7)))),\"Y\",\"_\")","v":"Y"},{"$f":"IF(OR(AND(Settings!$B$14=\"Y\", NOT(ISERROR(FIND(\"DF\",CC7)))), LEN(TRIM(CC6))=0, NOT(ISERROR(FIND(\"?\",CC7)))),\"Y\",\"_\")","v":"Y"},{"$f":"IF(OR(AND(Settings!$B$14=\"Y\", NOT(ISERROR(FIND(\"DF\",CD7)))), LEN(TRIM(CD6))=0, NOT(ISERROR(FIND(\"?\",CD7)))),\"Y\",\"_\")","v":"Y"},{"$f":"IF(OR(AND(Settings!$B$14=\"Y\", NOT(ISERROR(FIND(\"DF\",CE7)))), LEN(TRIM(CE6))=0, NOT(ISERROR(FIND(\"?\",CE7)))),\"Y\",\"_\")","v":"Y"},{"$f":"IF(OR(AND(Settings!$B$14=\"Y\", NOT(ISERROR(FIND(\"DF\",CF7)))), LEN(TRIM(CF6))=0, NOT(ISERROR(FIND(\"?\",CF7)))),\"Y\",\"_\")","v":"Y"},{"$f":"IF(OR(AND(Settings!$B$14=\"Y\", NOT(ISERROR(FIND(\"DF\",CG7)))), LEN(TRIM(CG6))=0, NOT(ISERROR(FIND(\"?\",CG7)))),\"Y\",\"_\")","v":"Y"},{"$f":"IF(OR(AND(Settings!$B$14=\"Y\", NOT(ISERROR(FIND(\"DF\",CH7)))), LEN(TRIM(CH6))=0, NOT(ISERROR(FIND(\"?\",CH7)))),\"Y\",\"_\")","v":"Y"},{"$f":"IF(OR(AND(Settings!$B$14=\"Y\", NOT(ISERROR(FIND(\"DF\",CI7)))), LEN(TRIM(CI6))=0, NOT(ISERROR(FIND(\"?\",CI7)))),\"Y\",\"_\")","v":"Y"},{"$f":"IF(OR(AND(Settings!$B$14=\"Y\", NOT(ISERROR(FIND(\"DF\",CJ7)))), LEN(TRIM(CJ6))=0, NOT(ISERROR(FIND(\"?\",CJ7)))),\"Y\",\"_\")","v":"Y"},{"$f":"IF(OR(AND(Settings!$B$14=\"Y\", NOT(ISERROR(FIND(\"DF\",CK7)))), LEN(TRIM(CK6))=0, NOT(ISERROR(FIND(\"?\",CK7)))),\"Y\",\"_\")","v":"Y"},{"$f":"IF(OR(AND(Settings!$B$14=\"Y\", NOT(ISERROR(FIND(\"DF\",CL7)))), LEN(TRIM(CL6))=0, NOT(ISERROR(FIND(\"?\",CL7)))),\"Y\",\"_\")","v":"Y"},{"$f":"IF(OR(AND(Settings!$B$14=\"Y\", NOT(ISERROR(FIND(\"DF\",CM7)))), LEN(TRIM(CM6))=0, NOT(ISERROR(FIND(\"?\",CM7)))),\"Y\",\"_\")","v":"Y"},{"$f":"IF(OR(AND(Settings!$B$14=\"Y\", NOT(ISERROR(FIND(\"DF\",CN7)))), LEN(TRIM(CN6))=0, NOT(ISERROR(FIND(\"?\",CN7)))),\"Y\",\"_\")","v":"Y"},{"$f":"IF(OR(AND(Settings!$B$14=\"Y\", NOT(ISERROR(FIND(\"DF\",CO7)))), LEN(TRIM(CO6))=0, NOT(ISERROR(FIND(\"?\",CO7)))),\"Y\",\"_\")","v":"Y"},{"$f":"IF(OR(AND(Settings!$B$14=\"Y\", NOT(ISERROR(FIND(\"DF\",CP7)))), LEN(TRIM(CP6))=0, NOT(ISERROR(FIND(\"?\",CP7)))),\"Y\",\"_\")","v":"Y"},{"$f":"IF(OR(AND(Settings!$B$14=\"Y\", NOT(ISERROR(FIND(\"DF\",CQ7)))), LEN(TRIM(CQ6))=0, NOT(ISERROR(FIND(\"?\",CQ7)))),\"Y\",\"_\")","v":"Y"},{"$f":"IF(OR(AND(Settings!$B$14=\"Y\", NOT(ISERROR(FIND(\"DF\",CR7)))), LEN(TRIM(CR6))=0, NOT(ISERROR(FIND(\"?\",CR7)))),\"Y\",\"_\")","v":"Y"},{"$f":"IF(OR(AND(Settings!$B$14=\"Y\", NOT(ISERROR(FIND(\"DF\",CS7)))), LEN(TRIM(CS6))=0, NOT(ISERROR(FIND(\"?\",CS7)))),\"Y\",\"_\")","v":"Y"},{"$f":"IF(OR(AND(Settings!$B$14=\"Y\", NOT(ISERROR(FIND(\"DF\",CT7)))), LEN(TRIM(CT6))=0, NOT(ISERROR(FIND(\"?\",CT7)))),\"Y\",\"_\")","v":"Y"},{"$f":"IF(OR(AND(Settings!$B$14=\"Y\", NOT(ISERROR(FIND(\"DF\",CU7)))), LEN(TRIM(CU6))=0, NOT(ISERROR(FIND(\"?\",CU7)))),\"Y\",\"_\")","v":"Y"},{"$f":"IF(OR(AND(Settings!$B$14=\"Y\", NOT(ISERROR(FIND(\"DF\",CV7)))), LEN(TRIM(CV6))=0, NOT(ISERROR(FIND(\"?\",CV7)))),\"Y\",\"_\")","v":"Y"},{"$f":"IF(OR(AND(Settings!$B$14=\"Y\", NOT(ISERROR(FIND(\"DF\",CW7)))), LEN(TRIM(CW6))=0, NOT(ISERROR(FIND(\"?\",CW7)))),\"Y\",\"_\")","v":"Y"},{"$f":"IF(OR(AND(Settings!$B$14=\"Y\", NOT(ISERROR(FIND(\"DF\",CX7)))), LEN(TRIM(CX6))=0, NOT(ISERROR(FIND(\"?\",CX7)))),\"Y\",\"_\")","v":"Y"},{"$f":"IF(OR(AND(Settings!$B$14=\"Y\", NOT(ISERROR(FIND(\"DF\",CY7)))), LEN(TRIM(CY6))=0, NOT(ISERROR(FIND(\"?\",CY7)))),\"Y\",\"_\")","v":"Y"},{"$f":"IF(OR(AND(Settings!$B$14=\"Y\", NOT(ISERROR(FIND(\"DF\",CZ7)))), LEN(TRIM(CZ6))=0, NOT(ISERROR(FIND(\"?\",CZ7)))),\"Y\",\"_\")","v":"Y"},{"$f":"IF(OR(AND(Settings!$B$14=\"Y\", NOT(ISERROR(FIND(\"DF\",DA7)))), LEN(TRIM(DA6))=0, NOT(ISERROR(FIND(\"?\",DA7)))),\"Y\",\"_\")","v":"Y"},{"$f":"IF(OR(AND(Settings!$B$14=\"Y\", NOT(ISERROR(FIND(\"DF\",DB7)))), LEN(TRIM(DB6))=0, NOT(ISERROR(FIND(\"?\",DB7)))),\"Y\",\"_\")","v":"Y"},{"$f":"IF(OR(AND(Settings!$B$14=\"Y\", NOT(ISERROR(FIND(\"DF\",DC7)))), LEN(TRIM(DC6))=0, NOT(ISERROR(FIND(\"?\",DC7)))),\"Y\",\"_\")","v":"Y"},{"$f":"IF(OR(AND(Settings!$B$14=\"Y\", NOT(ISERROR(FIND(\"DF\",DD7)))), LEN(TRIM(DD6))=0, NOT(ISERROR(FIND(\"?\",DD7)))),\"Y\",\"_\")","v":"Y"},{"$f":"IF(OR(AND(Settings!$B$14=\"Y\", NOT(ISERROR(FIND(\"DF\",DE7)))), LEN(TRIM(DE6))=0, NOT(ISERROR(FIND(\"?\",DE7)))),\"Y\",\"_\")","v":"Y"},{"$f":"IF(OR(AND(Settings!$B$14=\"Y\", NOT(ISERROR(FIND(\"DF\",DF7)))), LEN(TRIM(DF6))=0, NOT(ISERROR(FIND(\"?\",DF7)))),\"Y\",\"_\")","v":"Y"},{"$f":"IF(OR(AND(Settings!$B$14=\"Y\", NOT(ISERROR(FIND(\"DF\",DG7)))), LEN(TRIM(DG6))=0, NOT(ISERROR(FIND(\"?\",DG7)))),\"Y\",\"_\")","v":"Y"},{"$f":"IF(OR(AND(Settings!$B$14=\"Y\", NOT(ISERROR(FIND(\"DF\",DH7)))), LEN(TRIM(DH6))=0, NOT(ISERROR(FIND(\"?\",DH7)))),\"Y\",\"_\")","v":"Y"},{"$f":"IF(OR(AND(Settings!$B$14=\"Y\", NOT(ISERROR(FIND(\"DF\",DI7)))), LEN(TRIM(DI6))=0, NOT(ISERROR(FIND(\"?\",DI7)))),\"Y\",\"_\")","v":"Y"},{"$f":"IF(OR(AND(Settings!$B$14=\"Y\", NOT(ISERROR(FIND(\"DF\",DJ7)))), LEN(TRIM(DJ6))=0, NOT(ISERROR(FIND(\"?\",DJ7)))),\"Y\",\"_\")","v":"Y"},{"$f":"IF(OR(AND(Settings!$B$14=\"Y\", NOT(ISERROR(FIND(\"DF\",DK7)))), LEN(TRIM(DK6))=0, NOT(ISERROR(FIND(\"?\",DK7)))),\"Y\",\"_\")","v":"Y"},{"$f":"IF(OR(AND(Settings!$B$14=\"Y\", NOT(ISERROR(FIND(\"DF\",DL7)))), LEN(TRIM(DL6))=0, NOT(ISERROR(FIND(\"?\",DL7)))),\"Y\",\"_\")","v":"Y"},{"$f":"IF(OR(AND(Settings!$B$14=\"Y\", NOT(ISERROR(FIND(\"DF\",DM7)))), LEN(TRIM(DM6))=0, NOT(ISERROR(FIND(\"?\",DM7)))),\"Y\",\"_\")","v":"Y"},{"$f":"IF(OR(AND(Settings!$B$14=\"Y\", NOT(ISERROR(FIND(\"DF\",DN7)))), LEN(TRIM(DN6))=0, NOT(ISERROR(FIND(\"?\",DN7)))),\"Y\",\"_\")","v":"Y"},{"$f":"IF(OR(AND(Settings!$B$14=\"Y\", NOT(ISERROR(FIND(\"DF\",DO7)))), LEN(TRIM(DO6))=0, NOT(ISERROR(FIND(\"?\",DO7)))),\"Y\",\"_\")","v":"Y"},{"$f":"IF(OR(AND(Settings!$B$14=\"Y\", NOT(ISERROR(FIND(\"DF\",DP7)))), LEN(TRIM(DP6))=0, NOT(ISERROR(FIND(\"?\",DP7)))),\"Y\",\"_\")","v":"Y"},{"$f":"IF(OR(AND(Settings!$B$14=\"Y\", NOT(ISERROR(FIND(\"DF\",DQ7)))), LEN(TRIM(DQ6))=0, NOT(ISERROR(FIND(\"?\",DQ7)))),\"Y\",\"_\")","v":"Y"},{"$f":"IF(OR(AND(Settings!$B$14=\"Y\", NOT(ISERROR(FIND(\"DF\",DR7)))), LEN(TRIM(DR6))=0, NOT(ISERROR(FIND(\"?\",DR7)))),\"Y\",\"_\")","v":"Y"},{"$f":"IF(OR(AND(Settings!$B$14=\"Y\", NOT(ISERROR(FIND(\"DF\",DS7)))), LEN(TRIM(DS6))=0, NOT(ISERROR(FIND(\"?\",DS7)))),\"Y\",\"_\")","v":"Y"},{"$f":"IF(OR(AND(Settings!$B$14=\"Y\", NOT(ISERROR(FIND(\"DF\",DT7)))), LEN(TRIM(DT6))=0, NOT(ISERROR(FIND(\"?\",DT7)))),\"Y\",\"_\")","v":"Y"},{"$f":"IF(OR(AND(Settings!$B$14=\"Y\", NOT(ISERROR(FIND(\"DF\",DU7)))), LEN(TRIM(DU6))=0, NOT(ISERROR(FIND(\"?\",DU7)))),\"Y\",\"_\")","v":"Y"},{"$f":"IF(OR(AND(Settings!$B$14=\"Y\", NOT(ISERROR(FIND(\"DF\",DV7)))), LEN(TRIM(DV6))=0, NOT(ISERROR(FIND(\"?\",DV7)))),\"Y\",\"_\")","v":"Y"},{"$f":"IF(OR(AND(Settings!$B$14=\"Y\", NOT(ISERROR(FIND(\"DF\",DW7)))), LEN(TRIM(DW6))=0, NOT(ISERROR(FIND(\"?\",DW7)))),\"Y\",\"_\")","v":"Y"},{"$f":"IF(OR(AND(Settings!$B$14=\"Y\", NOT(ISERROR(FIND(\"DF\",DX7)))), LEN(TRIM(DX6))=0, NOT(ISERROR(FIND(\"?\",DX7)))),\"Y\",\"_\")","v":"Y"},{"$f":"IF(OR(AND(Settings!$B$14=\"Y\", NOT(ISERROR(FIND(\"DF\",DY7)))), LEN(TRIM(DY6))=0, NOT(ISERROR(FIND(\"?\",DY7)))),\"Y\",\"_\")","v":"Y"},{"$f":"IF(OR(AND(Settings!$B$14=\"Y\", NOT(ISERROR(FIND(\"DF\",DZ7)))), LEN(TRIM(DZ6))=0, NOT(ISERROR(FIND(\"?\",DZ7)))),\"Y\",\"_\")","v":"Y"},{"$f":"IF(OR(AND(Settings!$B$14=\"Y\", NOT(ISERROR(FIND(\"DF\",EA7)))), LEN(TRIM(EA6))=0, NOT(ISERROR(FIND(\"?\",EA7)))),\"Y\",\"_\")","v":"Y"},{"$f":"IF(OR(AND(Settings!$B$14=\"Y\", NOT(ISERROR(FIND(\"DF\",EB7)))), LEN(TRIM(EB6))=0, NOT(ISERROR(FIND(\"?\",EB7)))),\"Y\",\"_\")","v":"Y"},{"$f":"IF(OR(AND(Settings!$B$14=\"Y\", NOT(ISERROR(FIND(\"DF\",EC7)))), LEN(TRIM(EC6))=0, NOT(ISERROR(FIND(\"?\",EC7)))),\"Y\",\"_\")","v":"Y"},{"$f":"IF(OR(AND(Settings!$B$14=\"Y\", NOT(ISERROR(FIND(\"DF\",ED7)))), LEN(TRIM(ED6))=0, NOT(ISERROR(FIND(\"?\",ED7)))),\"Y\",\"_\")","v":"Y"},{"$f":"IF(OR(AND(Settings!$B$14=\"Y\", NOT(ISERROR(FIND(\"DF\",EE7)))), LEN(TRIM(EE6))=0, NOT(ISERROR(FIND(\"?\",EE7)))),\"Y\",\"_\")","v":"Y"},{"$f":"IF(OR(AND(Settings!$B$14=\"Y\", NOT(ISERROR(FIND(\"DF\",EF7)))), LEN(TRIM(EF6))=0, NOT(ISERROR(FIND(\"?\",EF7)))),\"Y\",\"_\")","v":"Y"},{"$f":"IF(OR(AND(Settings!$B$14=\"Y\", NOT(ISERROR(FIND(\"DF\",EG7)))), LEN(TRIM(EG6))=0, NOT(ISERROR(FIND(\"?\",EG7)))),\"Y\",\"_\")","v":"Y"},{"$f":"IF(OR(AND(Settings!$B$14=\"Y\", NOT(ISERROR(FIND(\"DF\",EH7)))), LEN(TRIM(EH6))=0, NOT(ISERROR(FIND(\"?\",EH7)))),\"Y\",\"_\")","v":"Y"},{"$f":"IF(OR(AND(Settings!$B$14=\"Y\", NOT(ISERROR(FIND(\"DF\",EI7)))), LEN(TRIM(EI6))=0, NOT(ISERROR(FIND(\"?\",EI7)))),\"Y\",\"_\")","v":"Y"},{"$f":"IF(OR(AND(Settings!$B$14=\"Y\", NOT(ISERROR(FIND(\"DF\",EJ7)))), LEN(TRIM(EJ6))=0, NOT(ISERROR(FIND(\"?\",EJ7)))),\"Y\",\"_\")","v":"Y"},{"$f":"IF(OR(AND(Settings!$B$14=\"Y\", NOT(ISERROR(FIND(\"DF\",EK7)))), LEN(TRIM(EK6))=0, NOT(ISERROR(FIND(\"?\",EK7)))),\"Y\",\"_\")","v":"Y"},{"$f":"IF(OR(AND(Settings!$B$14=\"Y\", NOT(ISERROR(FIND(\"DF\",EL7)))), LEN(TRIM(EL6))=0, NOT(ISERROR(FIND(\"?\",EL7)))),\"Y\",\"_\")","v":"Y"},{"$f":"IF(OR(AND(Settings!$B$14=\"Y\", NOT(ISERROR(FIND(\"DF\",EM7)))), LEN(TRIM(EM6))=0, NOT(ISERROR(FIND(\"?\",EM7)))),\"Y\",\"_\")","v":"Y"},{"$f":"IF(OR(AND(Settings!$B$14=\"Y\", NOT(ISERROR(FIND(\"DF\",EN7)))), LEN(TRIM(EN6))=0, NOT(ISERROR(FIND(\"?\",EN7)))),\"Y\",\"_\")","v":"Y"},{"$f":"IF(OR(AND(Settings!$B$14=\"Y\", NOT(ISERROR(FIND(\"DF\",EO7)))), LEN(TRIM(EO6))=0, NOT(ISERROR(FIND(\"?\",EO7)))),\"Y\",\"_\")","v":"Y"},{"$f":"IF(OR(AND(Settings!$B$14=\"Y\", NOT(ISERROR(FIND(\"DF\",EP7)))), LEN(TRIM(EP6))=0, NOT(ISERROR(FIND(\"?\",EP7)))),\"Y\",\"_\")","v":"Y"},{"$f":"IF(OR(AND(Settings!$B$14=\"Y\", NOT(ISERROR(FIND(\"DF\",EQ7)))), LEN(TRIM(EQ6))=0, NOT(ISERROR(FIND(\"?\",EQ7)))),\"Y\",\"_\")","v":"Y"},{"$f":"IF(OR(AND(Settings!$B$14=\"Y\", NOT(ISERROR(FIND(\"DF\",ER7)))), LEN(TRIM(ER6))=0, NOT(ISERROR(FIND(\"?\",ER7)))),\"Y\",\"_\")","v":"Y"},{"$f":"IF(OR(AND(Settings!$B$14=\"Y\", NOT(ISERROR(FIND(\"DF\",ES7)))), LEN(TRIM(ES6))=0, NOT(ISERROR(FIND(\"?\",ES7)))),\"Y\",\"_\")","v":"Y"},{"$f":"IF(OR(AND(Settings!$B$14=\"Y\", NOT(ISERROR(FIND(\"DF\",ET7)))), LEN(TRIM(ET6))=0, NOT(ISERROR(FIND(\"?\",ET7)))),\"Y\",\"_\")","v":"Y"},{"$f":"IF(OR(AND(Settings!$B$14=\"Y\", NOT(ISERROR(FIND(\"DF\",EU7)))), LEN(TRIM(EU6))=0, NOT(ISERROR(FIND(\"?\",EU7)))),\"Y\",\"_\")","v":"Y"},{"$f":"IF(OR(AND(Settings!$B$14=\"Y\", NOT(ISERROR(FIND(\"DF\",EV7)))), LEN(TRIM(EV6))=0, NOT(ISERROR(FIND(\"?\",EV7)))),\"Y\",\"_\")","v":"Y"},{"$f":"IF(OR(AND(Settings!$B$14=\"Y\", NOT(ISERROR(FIND(\"DF\",EW7)))), LEN(TRIM(EW6))=0, NOT(ISERROR(FIND(\"?\",EW7)))),\"Y\",\"_\")","v":"Y"},{"$f":"IF(OR(AND(Settings!$B$14=\"Y\", NOT(ISERROR(FIND(\"DF\",EX7)))), LEN(TRIM(EX6))=0, NOT(ISERROR(FIND(\"?\",EX7)))),\"Y\",\"_\")","v":"Y"},{"$f":"IF(OR(AND(Settings!$B$14=\"Y\", NOT(ISERROR(FIND(\"DF\",EY7)))), LEN(TRIM(EY6))=0, NOT(ISERROR(FIND(\"?\",EY7)))),\"Y\",\"_\")","v":"Y"}]
[null,null,"Hide Diagram Column",null,null,{"$f":"IF(OR(F57=\"Y\", AND(Settings!$B$42=\"Y\", F59=\"Y\"), AND(Settings!$B$43=\"Y\", ISERROR(FIND(\"!\",F7)))),\"Y\",\"_\")","v":"_"},{"$f":"IF(OR(G57=\"Y\", AND(Settings!$B$42=\"Y\", G59=\"Y\"), AND(Settings!$B$43=\"Y\", ISERROR(FIND(\"!\",G7)))),\"Y\",\"_\")","v":"_"},{"$f":"IF(OR(H57=\"Y\", AND(Settings!$B$42=\"Y\", H59=\"Y\"), AND(Settings!$B$43=\"Y\", ISERROR(FIND(\"!\",H7)))),\"Y\",\"_\")","v":"_"},{"$f":"IF(OR(I57=\"Y\", AND(Settings!$B$42=\"Y\", I59=\"Y\"), AND(Settings!$B$43=\"Y\", ISERROR(FIND(\"!\",I7)))),\"Y\",\"_\")","v":"Y"},{"$f":"IF(OR(J57=\"Y\", AND(Settings!$B$42=\"Y\", J59=\"Y\"), AND(Settings!$B$43=\"Y\", ISERROR(FIND(\"!\",J7)))),\"Y\",\"_\")","v":"Y"},{"$f":"IF(OR(K57=\"Y\", AND(Settings!$B$42=\"Y\", K59=\"Y\"), AND(Settings!$B$43=\"Y\", ISERROR(FIND(\"!\",K7)))),\"Y\",\"_\")","v":"Y"},{"$f":"IF(OR(L57=\"Y\", AND(Settings!$B$42=\"Y\", L59=\"Y\"), AND(Settings!$B$43=\"Y\", ISERROR(FIND(\"!\",L7)))),\"Y\",\"_\")","v":"Y"},{"$f":"IF(OR(M57=\"Y\", AND(Settings!$B$42=\"Y\", M59=\"Y\"), AND(Settings!$B$43=\"Y\", ISERROR(FIND(\"!\",M7)))),\"Y\",\"_\")","v":"Y"},{"$f":"IF(OR(N57=\"Y\", AND(Settings!$B$42=\"Y\", N59=\"Y\"), AND(Settings!$B$43=\"Y\", ISERROR(FIND(\"!\",N7)))),\"Y\",\"_\")","v":"Y"},{"$f":"IF(OR(O57=\"Y\", AND(Settings!$B$42=\"Y\", O59=\"Y\"), AND(Settings!$B$43=\"Y\", ISERROR(FIND(\"!\",O7)))),\"Y\",\"_\")","v":"Y"},{"$f":"IF(OR(P57=\"Y\", AND(Settings!$B$42=\"Y\", P59=\"Y\"), AND(Settings!$B$43=\"Y\", ISERROR(FIND(\"!\",P7)))),\"Y\",\"_\")","v":"Y"},{"$f":"IF(OR(Q57=\"Y\", AND(Settings!$B$42=\"Y\", Q59=\"Y\"), AND(Settings!$B$43=\"Y\", ISERROR(FIND(\"!\",Q7)))),\"Y\",\"_\")","v":"Y"},{"$f":"IF(OR(R57=\"Y\", AND(Settings!$B$42=\"Y\", R59=\"Y\"), AND(Settings!$B$43=\"Y\", ISERROR(FIND(\"!\",R7)))),\"Y\",\"_\")","v":"Y"},{"$f":"IF(OR(S57=\"Y\", AND(Settings!$B$42=\"Y\", S59=\"Y\"), AND(Settings!$B$43=\"Y\", ISERROR(FIND(\"!\",S7)))),\"Y\",\"_\")","v":"Y"},{"$f":"IF(OR(T57=\"Y\", AND(Settings!$B$42=\"Y\", T59=\"Y\"), AND(Settings!$B$43=\"Y\", ISERROR(FIND(\"!\",T7)))),\"Y\",\"_\")","v":"Y"},{"$f":"IF(OR(U57=\"Y\", AND(Settings!$B$42=\"Y\", U59=\"Y\"), AND(Settings!$B$43=\"Y\", ISERROR(FIND(\"!\",U7)))),\"Y\",\"_\")","v":"Y"},{"$f":"IF(OR(V57=\"Y\", AND(Settings!$B$42=\"Y\", V59=\"Y\"), AND(Settings!$B$43=\"Y\", ISERROR(FIND(\"!\",V7)))),\"Y\",\"_\")","v":"Y"},{"$f":"IF(OR(W57=\"Y\", AND(Settings!$B$42=\"Y\", W59=\"Y\"), AND(Settings!$B$43=\"Y\", ISERROR(FIND(\"!\",W7)))),\"Y\",\"_\")","v":"Y"},{"$f":"IF(OR(X57=\"Y\", AND(Settings!$B$42=\"Y\", X59=\"Y\"), AND(Settings!$B$43=\"Y\", ISERROR(FIND(\"!\",X7)))),\"Y\",\"_\")","v":"Y"},{"$f":"IF(OR(Y57=\"Y\", AND(Settings!$B$42=\"Y\", Y59=\"Y\"), AND(Settings!$B$43=\"Y\", ISERROR(FIND(\"!\",Y7)))),\"Y\",\"_\")","v":"Y"},{"$f":"IF(OR(Z57=\"Y\", AND(Settings!$B$42=\"Y\", Z59=\"Y\"), AND(Settings!$B$43=\"Y\", ISERROR(FIND(\"!\",Z7)))),\"Y\",\"_\")","v":"Y"},{"$f":"IF(OR(AA57=\"Y\", AND(Settings!$B$42=\"Y\", AA59=\"Y\"), AND(Settings!$B$43=\"Y\", ISERROR(FIND(\"!\",AA7)))),\"Y\",\"_\")","v":"Y"},{"$f":"IF(OR(AB57=\"Y\", AND(Settings!$B$42=\"Y\", AB59=\"Y\"), AND(Settings!$B$43=\"Y\", ISERROR(FIND(\"!\",AB7)))),\"Y\",\"_\")","v":"Y"},{"$f":"IF(OR(AC57=\"Y\", AND(Settings!$B$42=\"Y\", AC59=\"Y\"), AND(Settings!$B$43=\"Y\", ISERROR(FIND(\"!\",AC7)))),\"Y\",\"_\")","v":"Y"},{"$f":"IF(OR(AD57=\"Y\", AND(Settings!$B$42=\"Y\", AD59=\"Y\"), AND(Settings!$B$43=\"Y\", ISERROR(FIND(\"!\",AD7)))),\"Y\",\"_\")","v":"Y"},{"$f":"IF(OR(AE57=\"Y\", AND(Settings!$B$42=\"Y\", AE59=\"Y\"), AND(Settings!$B$43=\"Y\", ISERROR(FIND(\"!\",AE7)))),\"Y\",\"_\")","v":"Y"},{"$f":"IF(OR(AF57=\"Y\", AND(Settings!$B$42=\"Y\", AF59=\"Y\"), AND(Settings!$B$43=\"Y\", ISERROR(FIND(\"!\",AF7)))),\"Y\",\"_\")","v":"Y"},{"$f":"IF(OR(AG57=\"Y\", AND(Settings!$B$42=\"Y\", AG59=\"Y\"), AND(Settings!$B$43=\"Y\", ISERROR(FIND(\"!\",AG7)))),\"Y\",\"_\")","v":"Y"},{"$f":"IF(OR(AH57=\"Y\", AND(Settings!$B$42=\"Y\", AH59=\"Y\"), AND(Settings!$B$43=\"Y\", ISERROR(FIND(\"!\",AH7)))),\"Y\",\"_\")","v":"Y"},{"$f":"IF(OR(AI57=\"Y\", AND(Settings!$B$42=\"Y\", AI59=\"Y\"), AND(Settings!$B$43=\"Y\", ISERROR(FIND(\"!\",AI7)))),\"Y\",\"_\")","v":"Y"},{"$f":"IF(OR(AJ57=\"Y\", AND(Settings!$B$42=\"Y\", AJ59=\"Y\"), AND(Settings!$B$43=\"Y\", ISERROR(FIND(\"!\",AJ7)))),\"Y\",\"_\")","v":"Y"},{"$f":"IF(OR(AK57=\"Y\", AND(Settings!$B$42=\"Y\", AK59=\"Y\"), AND(Settings!$B$43=\"Y\", ISERROR(FIND(\"!\",AK7)))),\"Y\",\"_\")","v":"Y"},{"$f":"IF(OR(AL57=\"Y\", AND(Settings!$B$42=\"Y\", AL59=\"Y\"), AND(Settings!$B$43=\"Y\", ISERROR(FIND(\"!\",AL7)))),\"Y\",\"_\")","v":"Y"},{"$f":"IF(OR(AM57=\"Y\", AND(Settings!$B$42=\"Y\", AM59=\"Y\"), AND(Settings!$B$43=\"Y\", ISERROR(FIND(\"!\",AM7)))),\"Y\",\"_\")","v":"Y"},{"$f":"IF(OR(AN57=\"Y\", AND(Settings!$B$42=\"Y\", AN59=\"Y\"), AND(Settings!$B$43=\"Y\", ISERROR(FIND(\"!\",AN7)))),\"Y\",\"_\")","v":"Y"},{"$f":"IF(OR(AO57=\"Y\", AND(Settings!$B$42=\"Y\", AO59=\"Y\"), AND(Settings!$B$43=\"Y\", ISERROR(FIND(\"!\",AO7)))),\"Y\",\"_\")","v":"Y"},{"$f":"IF(OR(AP57=\"Y\", AND(Settings!$B$42=\"Y\", AP59=\"Y\"), AND(Settings!$B$43=\"Y\", ISERROR(FIND(\"!\",AP7)))),\"Y\",\"_\")","v":"Y"},{"$f":"IF(OR(AQ57=\"Y\", AND(Settings!$B$42=\"Y\", AQ59=\"Y\"), AND(Settings!$B$43=\"Y\", ISERROR(FIND(\"!\",AQ7)))),\"Y\",\"_\")","v":"Y"},{"$f":"IF(OR(AR57=\"Y\", AND(Settings!$B$42=\"Y\", AR59=\"Y\"), AND(Settings!$B$43=\"Y\", ISERROR(FIND(\"!\",AR7)))),\"Y\",\"_\")","v":"Y"},{"$f":"IF(OR(AS57=\"Y\", AND(Settings!$B$42=\"Y\", AS59=\"Y\"), AND(Settings!$B$43=\"Y\", ISERROR(FIND(\"!\",AS7)))),\"Y\",\"_\")","v":"Y"},{"$f":"IF(OR(AT57=\"Y\", AND(Settings!$B$42=\"Y\", AT59=\"Y\"), AND(Settings!$B$43=\"Y\", ISERROR(FIND(\"!\",AT7)))),\"Y\",\"_\")","v":"Y"},{"$f":"IF(OR(AU57=\"Y\", AND(Settings!$B$42=\"Y\", AU59=\"Y\"), AND(Settings!$B$43=\"Y\", ISERROR(FIND(\"!\",AU7)))),\"Y\",\"_\")","v":"Y"},{"$f":"IF(OR(AV57=\"Y\", AND(Settings!$B$42=\"Y\", AV59=\"Y\"), AND(Settings!$B$43=\"Y\", ISERROR(FIND(\"!\",AV7)))),\"Y\",\"_\")","v":"Y"},{"$f":"IF(OR(AW57=\"Y\", AND(Settings!$B$42=\"Y\", AW59=\"Y\"), AND(Settings!$B$43=\"Y\", ISERROR(FIND(\"!\",AW7)))),\"Y\",\"_\")","v":"Y"},{"$f":"IF(OR(AX57=\"Y\", AND(Settings!$B$42=\"Y\", AX59=\"Y\"), AND(Settings!$B$43=\"Y\", ISERROR(FIND(\"!\",AX7)))),\"Y\",\"_\")","v":"Y"},{"$f":"IF(OR(AY57=\"Y\", AND(Settings!$B$42=\"Y\", AY59=\"Y\"), AND(Settings!$B$43=\"Y\", ISERROR(FIND(\"!\",AY7)))),\"Y\",\"_\")","v":"Y"},{"$f":"IF(OR(AZ57=\"Y\", AND(Settings!$B$42=\"Y\", AZ59=\"Y\"), AND(Settings!$B$43=\"Y\", ISERROR(FIND(\"!\",AZ7)))),\"Y\",\"_\")","v":"Y"},{"$f":"IF(OR(BA57=\"Y\", AND(Settings!$B$42=\"Y\", BA59=\"Y\"), AND(Settings!$B$43=\"Y\", ISERROR(FIND(\"!\",BA7)))),\"Y\",\"_\")","v":"Y"},{"$f":"IF(OR(BB57=\"Y\", AND(Settings!$B$42=\"Y\", BB59=\"Y\"), AND(Settings!$B$43=\"Y\", ISERROR(FIND(\"!\",BB7)))),\"Y\",\"_\")","v":"Y"},{"$f":"IF(OR(BC57=\"Y\", AND(Settings!$B$42=\"Y\", BC59=\"Y\"), AND(Settings!$B$43=\"Y\", ISERROR(FIND(\"!\",BC7)))),\"Y\",\"_\")","v":"Y"},{"$f":"IF(OR(BD57=\"Y\", AND(Settings!$B$42=\"Y\", BD59=\"Y\"), AND(Settings!$B$43=\"Y\", ISERROR(FIND(\"!\",BD7)))),\"Y\",\"_\")","v":"Y"},{"$f":"IF(OR(BE57=\"Y\", AND(Settings!$B$42=\"Y\", BE59=\"Y\"), AND(Settings!$B$43=\"Y\", ISERROR(FIND(\"!\",BE7)))),\"Y\",\"_\")","v":"Y"},{"$f":"IF(OR(BF57=\"Y\", AND(Settings!$B$42=\"Y\", BF59=\"Y\"), AND(Settings!$B$43=\"Y\", ISERROR(FIND(\"!\",BF7)))),\"Y\",\"_\")","v":"Y"},{"$f":"IF(OR(BG57=\"Y\", AND(Settings!$B$42=\"Y\", BG59=\"Y\"), AND(Settings!$B$43=\"Y\", ISERROR(FIND(\"!\",BG7)))),\"Y\",\"_\")","v":"Y"},{"$f":"IF(OR(BH57=\"Y\", AND(Settings!$B$42=\"Y\", BH59=\"Y\"), AND(Settings!$B$43=\"Y\", ISERROR(FIND(\"!\",BH7)))),\"Y\",\"_\")","v":"Y"},{"$f":"IF(OR(BI57=\"Y\", AND(Settings!$B$42=\"Y\", BI59=\"Y\"), AND(Settings!$B$43=\"Y\", ISERROR(FIND(\"!\",BI7)))),\"Y\",\"_\")","v":"Y"},{"$f":"IF(OR(BJ57=\"Y\", AND(Settings!$B$42=\"Y\", BJ59=\"Y\"), AND(Settings!$B$43=\"Y\", ISERROR(FIND(\"!\",BJ7)))),\"Y\",\"_\")","v":"Y"},{"$f":"IF(OR(BK57=\"Y\", AND(Settings!$B$42=\"Y\", BK59=\"Y\"), AND(Settings!$B$43=\"Y\", ISERROR(FIND(\"!\",BK7)))),\"Y\",\"_\")","v":"Y"},{"$f":"IF(OR(BL57=\"Y\", AND(Settings!$B$42=\"Y\", BL59=\"Y\"), AND(Settings!$B$43=\"Y\", ISERROR(FIND(\"!\",BL7)))),\"Y\",\"_\")","v":"Y"},{"$f":"IF(OR(BM57=\"Y\", AND(Settings!$B$42=\"Y\", BM59=\"Y\"), AND(Settings!$B$43=\"Y\", ISERROR(FIND(\"!\",BM7)))),\"Y\",\"_\")","v":"Y"},{"$f":"IF(OR(BN57=\"Y\", AND(Settings!$B$42=\"Y\", BN59=\"Y\"), AND(Settings!$B$43=\"Y\", ISERROR(FIND(\"!\",BN7)))),\"Y\",\"_\")","v":"Y"},{"$f":"IF(OR(BO57=\"Y\", AND(Settings!$B$42=\"Y\", BO59=\"Y\"), AND(Settings!$B$43=\"Y\", ISERROR(FIND(\"!\",BO7)))),\"Y\",\"_\")","v":"Y"},{"$f":"IF(OR(BP57=\"Y\", AND(Settings!$B$42=\"Y\", BP59=\"Y\"), AND(Settings!$B$43=\"Y\", ISERROR(FIND(\"!\",BP7)))),\"Y\",\"_\")","v":"Y"},{"$f":"IF(OR(BQ57=\"Y\", AND(Settings!$B$42=\"Y\", BQ59=\"Y\"), AND(Settings!$B$43=\"Y\", ISERROR(FIND(\"!\",BQ7)))),\"Y\",\"_\")","v":"Y"},{"$f":"IF(OR(BR57=\"Y\", AND(Settings!$B$42=\"Y\", BR59=\"Y\"), AND(Settings!$B$43=\"Y\", ISERROR(FIND(\"!\",BR7)))),\"Y\",\"_\")","v":"Y"},{"$f":"IF(OR(BS57=\"Y\", AND(Settings!$B$42=\"Y\", BS59=\"Y\"), AND(Settings!$B$43=\"Y\", ISERROR(FIND(\"!\",BS7)))),\"Y\",\"_\")","v":"Y"},{"$f":"IF(OR(BT57=\"Y\", AND(Settings!$B$42=\"Y\", BT59=\"Y\"), AND(Settings!$B$43=\"Y\", ISERROR(FIND(\"!\",BT7)))),\"Y\",\"_\")","v":"Y"},{"$f":"IF(OR(BU57=\"Y\", AND(Settings!$B$42=\"Y\", BU59=\"Y\"), AND(Settings!$B$43=\"Y\", ISERROR(FIND(\"!\",BU7)))),\"Y\",\"_\")","v":"Y"},{"$f":"IF(OR(BV57=\"Y\", AND(Settings!$B$42=\"Y\", BV59=\"Y\"), AND(Settings!$B$43=\"Y\", ISERROR(FIND(\"!\",BV7)))),\"Y\",\"_\")","v":"Y"},{"$f":"IF(OR(BW57=\"Y\", AND(Settings!$B$42=\"Y\", BW59=\"Y\"), AND(Settings!$B$43=\"Y\", ISERROR(FIND(\"!\",BW7)))),\"Y\",\"_\")","v":"Y"},{"$f":"IF(OR(BX57=\"Y\", AND(Settings!$B$42=\"Y\", BX59=\"Y\"), AND(Settings!$B$43=\"Y\", ISERROR(FIND(\"!\",BX7)))),\"Y\",\"_\")","v":"Y"},{"$f":"IF(OR(BY57=\"Y\", AND(Settings!$B$42=\"Y\", BY59=\"Y\"), AND(Settings!$B$43=\"Y\", ISERROR(FIND(\"!\",BY7)))),\"Y\",\"_\")","v":"Y"},{"$f":"IF(OR(BZ57=\"Y\", AND(Settings!$B$42=\"Y\", BZ59=\"Y\"), AND(Settings!$B$43=\"Y\", ISERROR(FIND(\"!\",BZ7)))),\"Y\",\"_\")","v":"Y"},{"$f":"IF(OR(CA57=\"Y\", AND(Settings!$B$42=\"Y\", CA59=\"Y\"), AND(Settings!$B$43=\"Y\", ISERROR(FIND(\"!\",CA7)))),\"Y\",\"_\")","v":"Y"},{"$f":"IF(OR(CB57=\"Y\", AND(Settings!$B$42=\"Y\", CB59=\"Y\"), AND(Settings!$B$43=\"Y\", ISERROR(FIND(\"!\",CB7)))),\"Y\",\"_\")","v":"Y"},{"$f":"IF(OR(CC57=\"Y\", AND(Settings!$B$42=\"Y\", CC59=\"Y\"), AND(Settings!$B$43=\"Y\", ISERROR(FIND(\"!\",CC7)))),\"Y\",\"_\")","v":"Y"},{"$f":"IF(OR(CD57=\"Y\", AND(Settings!$B$42=\"Y\", CD59=\"Y\"), AND(Settings!$B$43=\"Y\", ISERROR(FIND(\"!\",CD7)))),\"Y\",\"_\")","v":"Y"},{"$f":"IF(OR(CE57=\"Y\", AND(Settings!$B$42=\"Y\", CE59=\"Y\"), AND(Settings!$B$43=\"Y\", ISERROR(FIND(\"!\",CE7)))),\"Y\",\"_\")","v":"Y"},{"$f":"IF(OR(CF57=\"Y\", AND(Settings!$B$42=\"Y\", CF59=\"Y\"), AND(Settings!$B$43=\"Y\", ISERROR(FIND(\"!\",CF7)))),\"Y\",\"_\")","v":"Y"},{"$f":"IF(OR(CG57=\"Y\", AND(Settings!$B$42=\"Y\", CG59=\"Y\"), AND(Settings!$B$43=\"Y\", ISERROR(FIND(\"!\",CG7)))),\"Y\",\"_\")","v":"Y"},{"$f":"IF(OR(CH57=\"Y\", AND(Settings!$B$42=\"Y\", CH59=\"Y\"), AND(Settings!$B$43=\"Y\", ISERROR(FIND(\"!\",CH7)))),\"Y\",\"_\")","v":"Y"},{"$f":"IF(OR(CI57=\"Y\", AND(Settings!$B$42=\"Y\", CI59=\"Y\"), AND(Settings!$B$43=\"Y\", ISERROR(FIND(\"!\",CI7)))),\"Y\",\"_\")","v":"Y"},{"$f":"IF(OR(CJ57=\"Y\", AND(Settings!$B$42=\"Y\", CJ59=\"Y\"), AND(Settings!$B$43=\"Y\", ISERROR(FIND(\"!\",CJ7)))),\"Y\",\"_\")","v":"Y"},{"$f":"IF(OR(CK57=\"Y\", AND(Settings!$B$42=\"Y\", CK59=\"Y\"), AND(Settings!$B$43=\"Y\", ISERROR(FIND(\"!\",CK7)))),\"Y\",\"_\")","v":"Y"},{"$f":"IF(OR(CL57=\"Y\", AND(Settings!$B$42=\"Y\", CL59=\"Y\"), AND(Settings!$B$43=\"Y\", ISERROR(FIND(\"!\",CL7)))),\"Y\",\"_\")","v":"Y"},{"$f":"IF(OR(CM57=\"Y\", AND(Settings!$B$42=\"Y\", CM59=\"Y\"), AND(Settings!$B$43=\"Y\", ISERROR(FIND(\"!\",CM7)))),\"Y\",\"_\")","v":"Y"},{"$f":"IF(OR(CN57=\"Y\", AND(Settings!$B$42=\"Y\", CN59=\"Y\"), AND(Settings!$B$43=\"Y\", ISERROR(FIND(\"!\",CN7)))),\"Y\",\"_\")","v":"Y"},{"$f":"IF(OR(CO57=\"Y\", AND(Settings!$B$42=\"Y\", CO59=\"Y\"), AND(Settings!$B$43=\"Y\", ISERROR(FIND(\"!\",CO7)))),\"Y\",\"_\")","v":"Y"},{"$f":"IF(OR(CP57=\"Y\", AND(Settings!$B$42=\"Y\", CP59=\"Y\"), AND(Settings!$B$43=\"Y\", ISERROR(FIND(\"!\",CP7)))),\"Y\",\"_\")","v":"Y"},{"$f":"IF(OR(CQ57=\"Y\", AND(Settings!$B$42=\"Y\", CQ59=\"Y\"), AND(Settings!$B$43=\"Y\", ISERROR(FIND(\"!\",CQ7)))),\"Y\",\"_\")","v":"Y"},{"$f":"IF(OR(CR57=\"Y\", AND(Settings!$B$42=\"Y\", CR59=\"Y\"), AND(Settings!$B$43=\"Y\", ISERROR(FIND(\"!\",CR7)))),\"Y\",\"_\")","v":"Y"},{"$f":"IF(OR(CS57=\"Y\", AND(Settings!$B$42=\"Y\", CS59=\"Y\"), AND(Settings!$B$43=\"Y\", ISERROR(FIND(\"!\",CS7)))),\"Y\",\"_\")","v":"Y"},{"$f":"IF(OR(CT57=\"Y\", AND(Settings!$B$42=\"Y\", CT59=\"Y\"), AND(Settings!$B$43=\"Y\", ISERROR(FIND(\"!\",CT7)))),\"Y\",\"_\")","v":"Y"},{"$f":"IF(OR(CU57=\"Y\", AND(Settings!$B$42=\"Y\", CU59=\"Y\"), AND(Settings!$B$43=\"Y\", ISERROR(FIND(\"!\",CU7)))),\"Y\",\"_\")","v":"Y"},{"$f":"IF(OR(CV57=\"Y\", AND(Settings!$B$42=\"Y\", CV59=\"Y\"), AND(Settings!$B$43=\"Y\", ISERROR(FIND(\"!\",CV7)))),\"Y\",\"_\")","v":"Y"},{"$f":"IF(OR(CW57=\"Y\", AND(Settings!$B$42=\"Y\", CW59=\"Y\"), AND(Settings!$B$43=\"Y\", ISERROR(FIND(\"!\",CW7)))),\"Y\",\"_\")","v":"Y"},{"$f":"IF(OR(CX57=\"Y\", AND(Settings!$B$42=\"Y\", CX59=\"Y\"), AND(Settings!$B$43=\"Y\", ISERROR(FIND(\"!\",CX7)))),\"Y\",\"_\")","v":"Y"},{"$f":"IF(OR(CY57=\"Y\", AND(Settings!$B$42=\"Y\", CY59=\"Y\"), AND(Settings!$B$43=\"Y\", ISERROR(FIND(\"!\",CY7)))),\"Y\",\"_\")","v":"Y"},{"$f":"IF(OR(CZ57=\"Y\", AND(Settings!$B$42=\"Y\", CZ59=\"Y\"), AND(Settings!$B$43=\"Y\", ISERROR(FIND(\"!\",CZ7)))),\"Y\",\"_\")","v":"Y"},{"$f":"IF(OR(DA57=\"Y\", AND(Settings!$B$42=\"Y\", DA59=\"Y\"), AND(Settings!$B$43=\"Y\", ISERROR(FIND(\"!\",DA7)))),\"Y\",\"_\")","v":"Y"},{"$f":"IF(OR(DB57=\"Y\", AND(Settings!$B$42=\"Y\", DB59=\"Y\"), AND(Settings!$B$43=\"Y\", ISERROR(FIND(\"!\",DB7)))),\"Y\",\"_\")","v":"Y"},{"$f":"IF(OR(DC57=\"Y\", AND(Settings!$B$42=\"Y\", DC59=\"Y\"), AND(Settings!$B$43=\"Y\", ISERROR(FIND(\"!\",DC7)))),\"Y\",\"_\")","v":"Y"},{"$f":"IF(OR(DD57=\"Y\", AND(Settings!$B$42=\"Y\", DD59=\"Y\"), AND(Settings!$B$43=\"Y\", ISERROR(FIND(\"!\",DD7)))),\"Y\",\"_\")","v":"Y"},{"$f":"IF(OR(DE57=\"Y\", AND(Settings!$B$42=\"Y\", DE59=\"Y\"), AND(Settings!$B$43=\"Y\", ISERROR(FIND(\"!\",DE7)))),\"Y\",\"_\")","v":"Y"},{"$f":"IF(OR(DF57=\"Y\", AND(Settings!$B$42=\"Y\", DF59=\"Y\"), AND(Settings!$B$43=\"Y\", ISERROR(FIND(\"!\",DF7)))),\"Y\",\"_\")","v":"Y"},{"$f":"IF(OR(DG57=\"Y\", AND(Settings!$B$42=\"Y\", DG59=\"Y\"), AND(Settings!$B$43=\"Y\", ISERROR(FIND(\"!\",DG7)))),\"Y\",\"_\")","v":"Y"},{"$f":"IF(OR(DH57=\"Y\", AND(Settings!$B$42=\"Y\", DH59=\"Y\"), AND(Settings!$B$43=\"Y\", ISERROR(FIND(\"!\",DH7)))),\"Y\",\"_\")","v":"Y"},{"$f":"IF(OR(DI57=\"Y\", AND(Settings!$B$42=\"Y\", DI59=\"Y\"), AND(Settings!$B$43=\"Y\", ISERROR(FIND(\"!\",DI7)))),\"Y\",\"_\")","v":"Y"},{"$f":"IF(OR(DJ57=\"Y\", AND(Settings!$B$42=\"Y\", DJ59=\"Y\"), AND(Settings!$B$43=\"Y\", ISERROR(FIND(\"!\",DJ7)))),\"Y\",\"_\")","v":"Y"},{"$f":"IF(OR(DK57=\"Y\", AND(Settings!$B$42=\"Y\", DK59=\"Y\"), AND(Settings!$B$43=\"Y\", ISERROR(FIND(\"!\",DK7)))),\"Y\",\"_\")","v":"Y"},{"$f":"IF(OR(DL57=\"Y\", AND(Settings!$B$42=\"Y\", DL59=\"Y\"), AND(Settings!$B$43=\"Y\", ISERROR(FIND(\"!\",DL7)))),\"Y\",\"_\")","v":"Y"},{"$f":"IF(OR(DM57=\"Y\", AND(Settings!$B$42=\"Y\", DM59=\"Y\"), AND(Settings!$B$43=\"Y\", ISERROR(FIND(\"!\",DM7)))),\"Y\",\"_\")","v":"Y"},{"$f":"IF(OR(DN57=\"Y\", AND(Settings!$B$42=\"Y\", DN59=\"Y\"), AND(Settings!$B$43=\"Y\", ISERROR(FIND(\"!\",DN7)))),\"Y\",\"_\")","v":"Y"},{"$f":"IF(OR(DO57=\"Y\", AND(Settings!$B$42=\"Y\", DO59=\"Y\"), AND(Settings!$B$43=\"Y\", ISERROR(FIND(\"!\",DO7)))),\"Y\",\"_\")","v":"Y"},{"$f":"IF(OR(DP57=\"Y\", AND(Settings!$B$42=\"Y\", DP59=\"Y\"), AND(Settings!$B$43=\"Y\", ISERROR(FIND(\"!\",DP7)))),\"Y\",\"_\")","v":"Y"},{"$f":"IF(OR(DQ57=\"Y\", AND(Settings!$B$42=\"Y\", DQ59=\"Y\"), AND(Settings!$B$43=\"Y\", ISERROR(FIND(\"!\",DQ7)))),\"Y\",\"_\")","v":"Y"},{"$f":"IF(OR(DR57=\"Y\", AND(Settings!$B$42=\"Y\", DR59=\"Y\"), AND(Settings!$B$43=\"Y\", ISERROR(FIND(\"!\",DR7)))),\"Y\",\"_\")","v":"Y"},{"$f":"IF(OR(DS57=\"Y\", AND(Settings!$B$42=\"Y\", DS59=\"Y\"), AND(Settings!$B$43=\"Y\", ISERROR(FIND(\"!\",DS7)))),\"Y\",\"_\")","v":"Y"},{"$f":"IF(OR(DT57=\"Y\", AND(Settings!$B$42=\"Y\", DT59=\"Y\"), AND(Settings!$B$43=\"Y\", ISERROR(FIND(\"!\",DT7)))),\"Y\",\"_\")","v":"Y"},{"$f":"IF(OR(DU57=\"Y\", AND(Settings!$B$42=\"Y\", DU59=\"Y\"), AND(Settings!$B$43=\"Y\", ISERROR(FIND(\"!\",DU7)))),\"Y\",\"_\")","v":"Y"},{"$f":"IF(OR(DV57=\"Y\", AND(Settings!$B$42=\"Y\", DV59=\"Y\"), AND(Settings!$B$43=\"Y\", ISERROR(FIND(\"!\",DV7)))),\"Y\",\"_\")","v":"Y"},{"$f":"IF(OR(DW57=\"Y\", AND(Settings!$B$42=\"Y\", DW59=\"Y\"), AND(Settings!$B$43=\"Y\", ISERROR(FIND(\"!\",DW7)))),\"Y\",\"_\")","v":"Y"},{"$f":"IF(OR(DX57=\"Y\", AND(Settings!$B$42=\"Y\", DX59=\"Y\"), AND(Settings!$B$43=\"Y\", ISERROR(FIND(\"!\",DX7)))),\"Y\",\"_\")","v":"Y"},{"$f":"IF(OR(DY57=\"Y\", AND(Settings!$B$42=\"Y\", DY59=\"Y\"), AND(Settings!$B$43=\"Y\", ISERROR(FIND(\"!\",DY7)))),\"Y\",\"_\")","v":"Y"},{"$f":"IF(OR(DZ57=\"Y\", AND(Settings!$B$42=\"Y\", DZ59=\"Y\"), AND(Settings!$B$43=\"Y\", ISERROR(FIND(\"!\",DZ7)))),\"Y\",\"_\")","v":"Y"},{"$f":"IF(OR(EA57=\"Y\", AND(Settings!$B$42=\"Y\", EA59=\"Y\"), AND(Settings!$B$43=\"Y\", ISERROR(FIND(\"!\",EA7)))),\"Y\",\"_\")","v":"Y"},{"$f":"IF(OR(EB57=\"Y\", AND(Settings!$B$42=\"Y\", EB59=\"Y\"), AND(Settings!$B$43=\"Y\", ISERROR(FIND(\"!\",EB7)))),\"Y\",\"_\")","v":"Y"},{"$f":"IF(OR(EC57=\"Y\", AND(Settings!$B$42=\"Y\", EC59=\"Y\"), AND(Settings!$B$43=\"Y\", ISERROR(FIND(\"!\",EC7)))),\"Y\",\"_\")","v":"Y"},{"$f":"IF(OR(ED57=\"Y\", AND(Settings!$B$42=\"Y\", ED59=\"Y\"), AND(Settings!$B$43=\"Y\", ISERROR(FIND(\"!\",ED7)))),\"Y\",\"_\")","v":"Y"},{"$f":"IF(OR(EE57=\"Y\", AND(Settings!$B$42=\"Y\", EE59=\"Y\"), AND(Settings!$B$43=\"Y\", ISERROR(FIND(\"!\",EE7)))),\"Y\",\"_\")","v":"Y"},{"$f":"IF(OR(EF57=\"Y\", AND(Settings!$B$42=\"Y\", EF59=\"Y\"), AND(Settings!$B$43=\"Y\", ISERROR(FIND(\"!\",EF7)))),\"Y\",\"_\")","v":"Y"},{"$f":"IF(OR(EG57=\"Y\", AND(Settings!$B$42=\"Y\", EG59=\"Y\"), AND(Settings!$B$43=\"Y\", ISERROR(FIND(\"!\",EG7)))),\"Y\",\"_\")","v":"Y"},{"$f":"IF(OR(EH57=\"Y\", AND(Settings!$B$42=\"Y\", EH59=\"Y\"), AND(Settings!$B$43=\"Y\", ISERROR(FIND(\"!\",EH7)))),\"Y\",\"_\")","v":"Y"},{"$f":"IF(OR(EI57=\"Y\", AND(Settings!$B$42=\"Y\", EI59=\"Y\"), AND(Settings!$B$43=\"Y\", ISERROR(FIND(\"!\",EI7)))),\"Y\",\"_\")","v":"Y"},{"$f":"IF(OR(EJ57=\"Y\", AND(Settings!$B$42=\"Y\", EJ59=\"Y\"), AND(Settings!$B$43=\"Y\", ISERROR(FIND(\"!\",EJ7)))),\"Y\",\"_\")","v":"Y"},{"$f":"IF(OR(EK57=\"Y\", AND(Settings!$B$42=\"Y\", EK59=\"Y\"), AND(Settings!$B$43=\"Y\", ISERROR(FIND(\"!\",EK7)))),\"Y\",\"_\")","v":"Y"},{"$f":"IF(OR(EL57=\"Y\", AND(Settings!$B$42=\"Y\", EL59=\"Y\"), AND(Settings!$B$43=\"Y\", ISERROR(FIND(\"!\",EL7)))),\"Y\",\"_\")","v":"Y"},{"$f":"IF(OR(EM57=\"Y\", AND(Settings!$B$42=\"Y\", EM59=\"Y\"), AND(Settings!$B$43=\"Y\", ISERROR(FIND(\"!\",EM7)))),\"Y\",\"_\")","v":"Y"},{"$f":"IF(OR(EN57=\"Y\", AND(Settings!$B$42=\"Y\", EN59=\"Y\"), AND(Settings!$B$43=\"Y\", ISERROR(FIND(\"!\",EN7)))),\"Y\",\"_\")","v":"Y"},{"$f":"IF(OR(EO57=\"Y\", AND(Settings!$B$42=\"Y\", EO59=\"Y\"), AND(Settings!$B$43=\"Y\", ISERROR(FIND(\"!\",EO7)))),\"Y\",\"_\")","v":"Y"},{"$f":"IF(OR(EP57=\"Y\", AND(Settings!$B$42=\"Y\", EP59=\"Y\"), AND(Settings!$B$43=\"Y\", ISERROR(FIND(\"!\",EP7)))),\"Y\",\"_\")","v":"Y"},{"$f":"IF(OR(EQ57=\"Y\", AND(Settings!$B$42=\"Y\", EQ59=\"Y\"), AND(Settings!$B$43=\"Y\", ISERROR(FIND(\"!\",EQ7)))),\"Y\",\"_\")","v":"Y"},{"$f":"IF(OR(ER57=\"Y\", AND(Settings!$B$42=\"Y\", ER59=\"Y\"), AND(Settings!$B$43=\"Y\", ISERROR(FIND(\"!\",ER7)))),\"Y\",\"_\")","v":"Y"},{"$f":"IF(OR(ES57=\"Y\", AND(Settings!$B$42=\"Y\", ES59=\"Y\"), AND(Settings!$B$43=\"Y\", ISERROR(FIND(\"!\",ES7)))),\"Y\",\"_\")","v":"Y"},{"$f":"IF(OR(ET57=\"Y\", AND(Settings!$B$42=\"Y\", ET59=\"Y\"), AND(Settings!$B$43=\"Y\", ISERROR(FIND(\"!\",ET7)))),\"Y\",\"_\")","v":"Y"},{"$f":"IF(OR(EU57=\"Y\", AND(Settings!$B$42=\"Y\", EU59=\"Y\"), AND(Settings!$B$43=\"Y\", ISERROR(FIND(\"!\",EU7)))),\"Y\",\"_\")","v":"Y"},{"$f":"IF(OR(EV57=\"Y\", AND(Settings!$B$42=\"Y\", EV59=\"Y\"), AND(Settings!$B$43=\"Y\", ISERROR(FIND(\"!\",EV7)))),\"Y\",\"_\")","v":"Y"},{"$f":"IF(OR(EW57=\"Y\", AND(Settings!$B$42=\"Y\", EW59=\"Y\"), AND(Settings!$B$43=\"Y\", ISERROR(FIND(\"!\",EW7)))),\"Y\",\"_\")","v":"Y"},{"$f":"IF(OR(EX57=\"Y\", AND(Settings!$B$42=\"Y\", EX59=\"Y\"), AND(Settings!$B$43=\"Y\", ISERROR(FIND(\"!\",EX7)))),\"Y\",\"_\")","v":"Y"},{"$f":"IF(OR(EY57=\"Y\", AND(Settings!$B$42=\"Y\", EY59=\"Y\"), AND(Settings!$B$43=\"Y\", ISERROR(FIND(\"!\",EY7)))),\"Y\",\"_\")","v":"Y"}]
[null,null,"Surrogate Key (SK)",null,null,{"$f":"IF(ISERROR(FIND(\"SK\",F7)),\"_\",\"Y\")","v":"_"},{"$f":"IF(ISERROR(FIND(\"SK\",G7)),\"_\",\"Y\")","v":"_"},"_","_","_","_","_","_","_","_","_","_","_","_","_","_","_","_","_","_","_","_","_","_","_","_","_","_","_","_","_","_","_","_","_","_","_","_","_","_","_","_","_","_","_","_","_","_","_","_","_","_","_","_","_","_","_","_","_","_","_","_","_","_","_",{"$f":"IF(ISERROR(FIND(\"SK\",BS7)),\"_\",\"Y\")","v":"_"},"_","_","_","_","_","_","_","_","_","_","_","_","_","_","_","_","_","_","_","_","_","_","_","_","_","_","_","_","_","_","_","_","_","_","_","_","_","_","_","_","_","_","_","_","_","_","_","_","_","_","_","_","_","_","_","_","_","_","_","_","_","_","_",{"$f":"IF(ISERROR(FIND(\"SK\",EE7)),\"_\",\"Y\")","v":"_"},"_","_","_","_","_","_","_","_","_","_","_","_","_","_","_","_","_","_","_","_"]
[null,null,"PK or GD Column",null,null,{"$f":"IF(OR(NOT(ISERROR(FIND(\"PK\",F7))), NOT(ISERROR(FIND(\"GD\",F7)))),\"Y\",\"_\")","v":"_"},{"$f":"IF(OR(NOT(ISERROR(FIND(\"PK\",G7))), NOT(ISERROR(FIND(\"GD\",G7)))),\"Y\",\"_\")","v":"_"},"_","_","_","_","_","_","_","_","_","_","_","_","_","_","_","_","_","_","_","_","_","_","_","_","_","_","_","_","_","_","_","_","_","_","_","_","_","_","_","_","_","_","_","_","_","_","_","_","_","_","_","_","_","_","_","_","_","_","_","_","_","_","_",{"$f":"IF(OR(NOT(ISERROR(FIND(\"PK\",BS7))), NOT(ISERROR(FIND(\"GD\",BS7)))),\"Y\",\"_\")","v":"_"},"_","_","_","_","_","_","_","_","_","_","_","_","_","_","_","_","_","_","_","_","_","_","_","_","_","_","_","_","_","_","_","_","_","_","_","_","_","_","_","_","_","_","_","_","_","_","_","_","_","_","_","_","_","_","_","_","_","_","_","_","_","_","_",{"$f":"IF(OR(NOT(ISERROR(FIND(\"PK\",EE7))), NOT(ISERROR(FIND(\"GD\",EE7)))),\"Y\",\"_\")","v":"_"},"_","_","_","_","_","_","_","_","_","_","_","_","_","_","_","_","_","_","_","_"]
[null,null,"BK, NK or DD Column",null,null,{"$f":"IF(OR(NOT(ISERROR(FIND(\"BK\",F7))), NOT(ISERROR(FIND(\"NK\",F7))), NOT(ISERROR(FIND(\"DD\",F7)))),\"Y\",\"_\")","v":"_"},{"$f":"IF(OR(NOT(ISERROR(FIND(\"BK\",G7))), NOT(ISERROR(FIND(\"NK\",G7))), NOT(ISERROR(FIND(\"DD\",G7)))),\"Y\",\"_\")","v":"_"},"_","_","_","_","_","_","_","_","_","_","_","_","_","_","_","_","_","_","_","_","_","_","_","_","_","_","_","_","_","_","_","_","_","_","_","_","_","_","_","_","_","_","_","_","_","_","_","_","_","_","_","_","_","_","_","_","_","_","_","_","_","_","_",{"$f":"IF(OR(NOT(ISERROR(FIND(\"BK\",BS7))), NOT(ISERROR(FIND(\"NK\",BS7))), NOT(ISERROR(FIND(\"DD\",BS7)))),\"Y\",\"_\")","v":"_"},"_","_","_","_","_","_","_","_","_","_","_","_","_","_","_","_","_","_","_","_","_","_","_","_","_","_","_","_","_","_","_","_","_","_","_","_","_","_","_","_","_","_","_","_","_","_","_","_","_","_","_","_","_","_","_","_","_","_","_","_","_","_","_",{"$f":"IF(OR(NOT(ISERROR(FIND(\"BK\",EE7))), NOT(ISERROR(FIND(\"NK\",EE7))), NOT(ISERROR(FIND(\"DD\",EE7)))),\"Y\",\"_\")","v":"_"},"_","_","_","_","_","_","_","_","_","_","_","_","_","_","_","_","_","_","_","_"]
[null,null,"FK or RK Column",null,null,{"$f":"IF(OR(NOT(ISERROR(FIND(\"FK\",F7))), NOT(ISERROR(FIND(\"RK\",F7)))),\"Y\",\"_\")","v":"_"},{"$f":"IF(OR(NOT(ISERROR(FIND(\"FK\",G7))), NOT(ISERROR(FIND(\"RK\",G7)))),\"Y\",\"_\")","v":"_"},"_","_","_","_","_","_","_","_","_","_","_","_","_","_","_","_","_","_","_","_","_","_","_","_","_","_","_","_","_","_","_","_","_","_","_","_","_","_","_","_","_","_","_","_","_","_","_","_","_","_","_","_","_","_","_","_","_","_","_","_","_","_","_",{"$f":"IF(OR(NOT(ISERROR(FIND(\"FK\",BS7))), NOT(ISERROR(FIND(\"RK\",BS7)))),\"Y\",\"_\")","v":"_"},"_","_","_","_","_","_","_","_","_","_","_","_","_","_","_","_","_","_","_","_","_","_","_","_","_","_","_","_","_","_","_","_","_","_","_","_","_","_","_","_","_","_","_","_","_","_","_","_","_","_","_","_","_","_","_","_","_","_","_","_","_","_","_",{"$f":"IF(OR(NOT(ISERROR(FIND(\"FK\",EE7))), NOT(ISERROR(FIND(\"RK\",EE7)))),\"Y\",\"_\")","v":"_"},"_","_","_","_","_","_","_","_","_","_","_","_","_","_","_","_","_","_","_","_"]
[null,null,"Sort First Column",null,null,{"$f":"IF(OR(F59=\"Y\", F60=\"Y\", F61=\"Y\", F62=\"Y\"),\"Y\",\"_\")","v":"_"},{"$f":"IF(OR(G59=\"Y\", G60=\"Y\", G61=\"Y\", G62=\"Y\"),\"Y\",\"_\")","v":"_"},"_","_","_","_","_","_","_","_","_","_","_","_","_","_","_","_","_","_","_","_","_","_","_","_","_","_","_","_","_","_","_","_","_","_","_","_","_","_","_","_","_","_","_","_","_","_","_","_","_","_","_","_","_","_","_","_","_","_","_","_","_","_","_",{"$f":"IF(OR(BS59=\"Y\", BS60=\"Y\", BS61=\"Y\", BS62=\"Y\"),\"Y\",\"_\")","v":"_"},"_","_","_","_","_","_","_","_","_","_","_","_","_","_","_","_","_","_","_","_","_","_","_","_","_","_","_","_","_","_","_","_","_","_","_","_","_","_","_","_","_","_","_","_","_","_","_","_","_","_","_","_","_","_","_","_","_","_","_","_","_","_","_",{"$f":"IF(OR(EE59=\"Y\", EE60=\"Y\", EE61=\"Y\", EE62=\"Y\"),\"Y\",\"_\")","v":"_"},"_","_","_","_","_","_","_","_","_","_","_","_","_","_","_","_","_","_","_","_"]
[null,null,"Fact Column",null,null,{"$f":"IF(OR(NOT(ISERROR(FIND(\"FA\",F7))), NOT(ISERROR(FIND(\"SA\",F7))), NOT(ISERROR(FIND(\"NA\",F7))), NOT(ISERROR(FIND(\"DF\",F7))) ),\"Y\",\"_\")","v":"_"},{"$f":"IF(OR(NOT(ISERROR(FIND(\"FA\",G7))), NOT(ISERROR(FIND(\"SA\",G7))), NOT(ISERROR(FIND(\"NA\",G7))), NOT(ISERROR(FIND(\"DF\",G7))) ),\"Y\",\"_\")","v":"_"},"_","_","_","_","_","_","_","_","_","_","_","_","_","_","_","_","_","_","_","_","_","_","_","_","_","_","_","_","_","_","_","_","_","_","_","_","_","_","_","_","_","_","_","_","_","_","_","_","_","_","_","_","_","_","_","_","_","_","_","_","_","_","_",{"$f":"IF(OR(NOT(ISERROR(FIND(\"FA\",BS7))), NOT(ISERROR(FIND(\"SA\",BS7))), NOT(ISERROR(FIND(\"NA\",BS7))), NOT(ISERROR(FIND(\"DF\",BS7))) ),\"Y\",\"_\")","v":"_"},"_","_","_","_","_","_","_","_","_","_","_","_","_","_","_","_","_","_","_","_","_","_","_","_","_","_","_","_","_","_","_","_","_","_","_","_","_","_","_","_","_","_","_","_","_","_","_","_","_","_","_","_","_","_","_","_","_","_","_","_","_","_","_",{"$f":"IF(OR(NOT(ISERROR(FIND(\"FA\",EE7))), NOT(ISERROR(FIND(\"SA\",EE7))), NOT(ISERROR(FIND(\"NA\",EE7))), NOT(ISERROR(FIND(\"DF\",EE7))) ),\"Y\",\"_\")","v":"_"},"_","_","_","_","_","_","_","_","_","_","_","_","_","_","_","_","_","_","_","_"]
[null,null,"Not Null (NN or MD if enforced)",null,null,{"$f":"IF(OR(NOT(ISERROR(FIND(\"NN\",F7))), AND(NOT(ISERROR(FIND(\"MD\",F7))), Settings!$B$15=\"Y\")),\"Y\",\"_\")","v":"_"},{"$f":"IF(OR(NOT(ISERROR(FIND(\"NN\",G7))), AND(NOT(ISERROR(FIND(\"MD\",G7))), Settings!$B$15=\"Y\")),\"Y\",\"_\")","v":"_"},{"$f":"IF(OR(NOT(ISERROR(FIND(\"NN\",H7))), AND(NOT(ISERROR(FIND(\"MD\",H7))), Settings!$B$15=\"Y\")),\"Y\",\"_\")","v":"_"},{"$f":"IF(OR(NOT(ISERROR(FIND(\"NN\",I7))), AND(NOT(ISERROR(FIND(\"MD\",I7))), Settings!$B$15=\"Y\")),\"Y\",\"_\")","v":"_"},{"$f":"IF(OR(NOT(ISERROR(FIND(\"NN\",J7))), AND(NOT(ISERROR(FIND(\"MD\",J7))), Settings!$B$15=\"Y\")),\"Y\",\"_\")","v":"_"},{"$f":"IF(OR(NOT(ISERROR(FIND(\"NN\",K7))), AND(NOT(ISERROR(FIND(\"MD\",K7))), Settings!$B$15=\"Y\")),\"Y\",\"_\")","v":"_"},{"$f":"IF(OR(NOT(ISERROR(FIND(\"NN\",L7))), AND(NOT(ISERROR(FIND(\"MD\",L7))), Settings!$B$15=\"Y\")),\"Y\",\"_\")","v":"_"},{"$f":"IF(OR(NOT(ISERROR(FIND(\"NN\",M7))), AND(NOT(ISERROR(FIND(\"MD\",M7))), Settings!$B$15=\"Y\")),\"Y\",\"_\")","v":"_"},{"$f":"IF(OR(NOT(ISERROR(FIND(\"NN\",N7))), AND(NOT(ISERROR(FIND(\"MD\",N7))), Settings!$B$15=\"Y\")),\"Y\",\"_\")","v":"_"},{"$f":"IF(OR(NOT(ISERROR(FIND(\"NN\",O7))), AND(NOT(ISERROR(FIND(\"MD\",O7))), Settings!$B$15=\"Y\")),\"Y\",\"_\")","v":"_"},{"$f":"IF(OR(NOT(ISERROR(FIND(\"NN\",P7))), AND(NOT(ISERROR(FIND(\"MD\",P7))), Settings!$B$15=\"Y\")),\"Y\",\"_\")","v":"_"},{"$f":"IF(OR(NOT(ISERROR(FIND(\"NN\",Q7))), AND(NOT(ISERROR(FIND(\"MD\",Q7))), Settings!$B$15=\"Y\")),\"Y\",\"_\")","v":"_"},{"$f":"IF(OR(NOT(ISERROR(FIND(\"NN\",R7))), AND(NOT(ISERROR(FIND(\"MD\",R7))), Settings!$B$15=\"Y\")),\"Y\",\"_\")","v":"_"},{"$f":"IF(OR(NOT(ISERROR(FIND(\"NN\",S7))), AND(NOT(ISERROR(FIND(\"MD\",S7))), Settings!$B$15=\"Y\")),\"Y\",\"_\")","v":"_"},{"$f":"IF(OR(NOT(ISERROR(FIND(\"NN\",T7))), AND(NOT(ISERROR(FIND(\"MD\",T7))), Settings!$B$15=\"Y\")),\"Y\",\"_\")","v":"_"},{"$f":"IF(OR(NOT(ISERROR(FIND(\"NN\",U7))), AND(NOT(ISERROR(FIND(\"MD\",U7))), Settings!$B$15=\"Y\")),\"Y\",\"_\")","v":"_"},{"$f":"IF(OR(NOT(ISERROR(FIND(\"NN\",V7))), AND(NOT(ISERROR(FIND(\"MD\",V7))), Settings!$B$15=\"Y\")),\"Y\",\"_\")","v":"_"},{"$f":"IF(OR(NOT(ISERROR(FIND(\"NN\",W7))), AND(NOT(ISERROR(FIND(\"MD\",W7))), Settings!$B$15=\"Y\")),\"Y\",\"_\")","v":"_"},{"$f":"IF(OR(NOT(ISERROR(FIND(\"NN\",X7))), AND(NOT(ISERROR(FIND(\"MD\",X7))), Settings!$B$15=\"Y\")),\"Y\",\"_\")","v":"_"},{"$f":"IF(OR(NOT(ISERROR(FIND(\"NN\",Y7))), AND(NOT(ISERROR(FIND(\"MD\",Y7))), Settings!$B$15=\"Y\")),\"Y\",\"_\")","v":"_"},{"$f":"IF(OR(NOT(ISERROR(FIND(\"NN\",Z7))), AND(NOT(ISERROR(FIND(\"MD\",Z7))), Settings!$B$15=\"Y\")),\"Y\",\"_\")","v":"_"},{"$f":"IF(OR(NOT(ISERROR(FIND(\"NN\",AA7))), AND(NOT(ISERROR(FIND(\"MD\",AA7))), Settings!$B$15=\"Y\")),\"Y\",\"_\")","v":"_"},{"$f":"IF(OR(NOT(ISERROR(FIND(\"NN\",AB7))), AND(NOT(ISERROR(FIND(\"MD\",AB7))), Settings!$B$15=\"Y\")),\"Y\",\"_\")","v":"_"},{"$f":"IF(OR(NOT(ISERROR(FIND(\"NN\",AC7))), AND(NOT(ISERROR(FIND(\"MD\",AC7))), Settings!$B$15=\"Y\")),\"Y\",\"_\")","v":"_"},{"$f":"IF(OR(NOT(ISERROR(FIND(\"NN\",AD7))), AND(NOT(ISERROR(FIND(\"MD\",AD7))), Settings!$B$15=\"Y\")),\"Y\",\"_\")","v":"_"},{"$f":"IF(OR(NOT(ISERROR(FIND(\"NN\",AE7))), AND(NOT(ISERROR(FIND(\"MD\",AE7))), Settings!$B$15=\"Y\")),\"Y\",\"_\")","v":"_"},{"$f":"IF(OR(NOT(ISERROR(FIND(\"NN\",AF7))), AND(NOT(ISERROR(FIND(\"MD\",AF7))), Settings!$B$15=\"Y\")),\"Y\",\"_\")","v":"_"},{"$f":"IF(OR(NOT(ISERROR(FIND(\"NN\",AG7))), AND(NOT(ISERROR(FIND(\"MD\",AG7))), Settings!$B$15=\"Y\")),\"Y\",\"_\")","v":"_"},{"$f":"IF(OR(NOT(ISERROR(FIND(\"NN\",AH7))), AND(NOT(ISERROR(FIND(\"MD\",AH7))), Settings!$B$15=\"Y\")),\"Y\",\"_\")","v":"_"},{"$f":"IF(OR(NOT(ISERROR(FIND(\"NN\",AI7))), AND(NOT(ISERROR(FIND(\"MD\",AI7))), Settings!$B$15=\"Y\")),\"Y\",\"_\")","v":"_"},{"$f":"IF(OR(NOT(ISERROR(FIND(\"NN\",AJ7))), AND(NOT(ISERROR(FIND(\"MD\",AJ7))), Settings!$B$15=\"Y\")),\"Y\",\"_\")","v":"_"},{"$f":"IF(OR(NOT(ISERROR(FIND(\"NN\",AK7))), AND(NOT(ISERROR(FIND(\"MD\",AK7))), Settings!$B$15=\"Y\")),\"Y\",\"_\")","v":"_"},{"$f":"IF(OR(NOT(ISERROR(FIND(\"NN\",AL7))), AND(NOT(ISERROR(FIND(\"MD\",AL7))), Settings!$B$15=\"Y\")),\"Y\",\"_\")","v":"_"},{"$f":"IF(OR(NOT(ISERROR(FIND(\"NN\",AM7))), AND(NOT(ISERROR(FIND(\"MD\",AM7))), Settings!$B$15=\"Y\")),\"Y\",\"_\")","v":"_"},{"$f":"IF(OR(NOT(ISERROR(FIND(\"NN\",AN7))), AND(NOT(ISERROR(FIND(\"MD\",AN7))), Settings!$B$15=\"Y\")),\"Y\",\"_\")","v":"_"},{"$f":"IF(OR(NOT(ISERROR(FIND(\"NN\",AO7))), AND(NOT(ISERROR(FIND(\"MD\",AO7))), Settings!$B$15=\"Y\")),\"Y\",\"_\")","v":"_"},{"$f":"IF(OR(NOT(ISERROR(FIND(\"NN\",AP7))), AND(NOT(ISERROR(FIND(\"MD\",AP7))), Settings!$B$15=\"Y\")),\"Y\",\"_\")","v":"_"},{"$f":"IF(OR(NOT(ISERROR(FIND(\"NN\",AQ7))), AND(NOT(ISERROR(FIND(\"MD\",AQ7))), Settings!$B$15=\"Y\")),\"Y\",\"_\")","v":"_"},{"$f":"IF(OR(NOT(ISERROR(FIND(\"NN\",AR7))), AND(NOT(ISERROR(FIND(\"MD\",AR7))), Settings!$B$15=\"Y\")),\"Y\",\"_\")","v":"_"},{"$f":"IF(OR(NOT(ISERROR(FIND(\"NN\",AS7))), AND(NOT(ISERROR(FIND(\"MD\",AS7))), Settings!$B$15=\"Y\")),\"Y\",\"_\")","v":"_"},{"$f":"IF(OR(NOT(ISERROR(FIND(\"NN\",AT7))), AND(NOT(ISERROR(FIND(\"MD\",AT7))), Settings!$B$15=\"Y\")),\"Y\",\"_\")","v":"_"},{"$f":"IF(OR(NOT(ISERROR(FIND(\"NN\",AU7))), AND(NOT(ISERROR(FIND(\"MD\",AU7))), Settings!$B$15=\"Y\")),\"Y\",\"_\")","v":"_"},{"$f":"IF(OR(NOT(ISERROR(FIND(\"NN\",AV7))), AND(NOT(ISERROR(FIND(\"MD\",AV7))), Settings!$B$15=\"Y\")),\"Y\",\"_\")","v":"_"},{"$f":"IF(OR(NOT(ISERROR(FIND(\"NN\",AW7))), AND(NOT(ISERROR(FIND(\"MD\",AW7))), Settings!$B$15=\"Y\")),\"Y\",\"_\")","v":"_"},{"$f":"IF(OR(NOT(ISERROR(FIND(\"NN\",AX7))), AND(NOT(ISERROR(FIND(\"MD\",AX7))), Settings!$B$15=\"Y\")),\"Y\",\"_\")","v":"_"},{"$f":"IF(OR(NOT(ISERROR(FIND(\"NN\",AY7))), AND(NOT(ISERROR(FIND(\"MD\",AY7))), Settings!$B$15=\"Y\")),\"Y\",\"_\")","v":"_"},{"$f":"IF(OR(NOT(ISERROR(FIND(\"NN\",AZ7))), AND(NOT(ISERROR(FIND(\"MD\",AZ7))), Settings!$B$15=\"Y\")),\"Y\",\"_\")","v":"_"},{"$f":"IF(OR(NOT(ISERROR(FIND(\"NN\",BA7))), AND(NOT(ISERROR(FIND(\"MD\",BA7))), Settings!$B$15=\"Y\")),\"Y\",\"_\")","v":"_"},{"$f":"IF(OR(NOT(ISERROR(FIND(\"NN\",BB7))), AND(NOT(ISERROR(FIND(\"MD\",BB7))), Settings!$B$15=\"Y\")),\"Y\",\"_\")","v":"_"},{"$f":"IF(OR(NOT(ISERROR(FIND(\"NN\",BC7))), AND(NOT(ISERROR(FIND(\"MD\",BC7))), Settings!$B$15=\"Y\")),\"Y\",\"_\")","v":"_"},{"$f":"IF(OR(NOT(ISERROR(FIND(\"NN\",BD7))), AND(NOT(ISERROR(FIND(\"MD\",BD7))), Settings!$B$15=\"Y\")),\"Y\",\"_\")","v":"_"},{"$f":"IF(OR(NOT(ISERROR(FIND(\"NN\",BE7))), AND(NOT(ISERROR(FIND(\"MD\",BE7))), Settings!$B$15=\"Y\")),\"Y\",\"_\")","v":"_"},{"$f":"IF(OR(NOT(ISERROR(FIND(\"NN\",BF7))), AND(NOT(ISERROR(FIND(\"MD\",BF7))), Settings!$B$15=\"Y\")),\"Y\",\"_\")","v":"_"},{"$f":"IF(OR(NOT(ISERROR(FIND(\"NN\",BG7))), AND(NOT(ISERROR(FIND(\"MD\",BG7))), Settings!$B$15=\"Y\")),\"Y\",\"_\")","v":"_"},{"$f":"IF(OR(NOT(ISERROR(FIND(\"NN\",BH7))), AND(NOT(ISERROR(FIND(\"MD\",BH7))), Settings!$B$15=\"Y\")),\"Y\",\"_\")","v":"_"},{"$f":"IF(OR(NOT(ISERROR(FIND(\"NN\",BI7))), AND(NOT(ISERROR(FIND(\"MD\",BI7))), Settings!$B$15=\"Y\")),\"Y\",\"_\")","v":"_"},{"$f":"IF(OR(NOT(ISERROR(FIND(\"NN\",BJ7))), AND(NOT(ISERROR(FIND(\"MD\",BJ7))), Settings!$B$15=\"Y\")),\"Y\",\"_\")","v":"_"},{"$f":"IF(OR(NOT(ISERROR(FIND(\"NN\",BK7))), AND(NOT(ISERROR(FIND(\"MD\",BK7))), Settings!$B$15=\"Y\")),\"Y\",\"_\")","v":"_"},{"$f":"IF(OR(NOT(ISERROR(FIND(\"NN\",BL7))), AND(NOT(ISERROR(FIND(\"MD\",BL7))), Settings!$B$15=\"Y\")),\"Y\",\"_\")","v":"_"},{"$f":"IF(OR(NOT(ISERROR(FIND(\"NN\",BM7))), AND(NOT(ISERROR(FIND(\"MD\",BM7))), Settings!$B$15=\"Y\")),\"Y\",\"_\")","v":"_"},{"$f":"IF(OR(NOT(ISERROR(FIND(\"NN\",BN7))), AND(NOT(ISERROR(FIND(\"MD\",BN7))), Settings!$B$15=\"Y\")),\"Y\",\"_\")","v":"_"},{"$f":"IF(OR(NOT(ISERROR(FIND(\"NN\",BO7))), AND(NOT(ISERROR(FIND(\"MD\",BO7))), Settings!$B$15=\"Y\")),\"Y\",\"_\")","v":"_"},{"$f":"IF(OR(NOT(ISERROR(FIND(\"NN\",BP7))), AND(NOT(ISERROR(FIND(\"MD\",BP7))), Settings!$B$15=\"Y\")),\"Y\",\"_\")","v":"_"},{"$f":"IF(OR(NOT(ISERROR(FIND(\"NN\",BQ7))), AND(NOT(ISERROR(FIND(\"MD\",BQ7))), Settings!$B$15=\"Y\")),\"Y\",\"_\")","v":"_"},{"$f":"IF(OR(NOT(ISERROR(FIND(\"NN\",BR7))), AND(NOT(ISERROR(FIND(\"MD\",BR7))), Settings!$B$15=\"Y\")),\"Y\",\"_\")","v":"_"},{"$f":"IF(OR(NOT(ISERROR(FIND(\"NN\",BS7))), AND(NOT(ISERROR(FIND(\"MD\",BS7))), Settings!$B$15=\"Y\")),\"Y\",\"_\")","v":"_"},{"$f":"IF(OR(NOT(ISERROR(FIND(\"NN\",BT7))), AND(NOT(ISERROR(FIND(\"MD\",BT7))), Settings!$B$15=\"Y\")),\"Y\",\"_\")","v":"_"},{"$f":"IF(OR(NOT(ISERROR(FIND(\"NN\",BU7))), AND(NOT(ISERROR(FIND(\"MD\",BU7))), Settings!$B$15=\"Y\")),\"Y\",\"_\")","v":"_"},{"$f":"IF(OR(NOT(ISERROR(FIND(\"NN\",BV7))), AND(NOT(ISERROR(FIND(\"MD\",BV7))), Settings!$B$15=\"Y\")),\"Y\",\"_\")","v":"_"},{"$f":"IF(OR(NOT(ISERROR(FIND(\"NN\",BW7))), AND(NOT(ISERROR(FIND(\"MD\",BW7))), Settings!$B$15=\"Y\")),\"Y\",\"_\")","v":"_"},{"$f":"IF(OR(NOT(ISERROR(FIND(\"NN\",BX7))), AND(NOT(ISERROR(FIND(\"MD\",BX7))), Settings!$B$15=\"Y\")),\"Y\",\"_\")","v":"_"},{"$f":"IF(OR(NOT(ISERROR(FIND(\"NN\",BY7))), AND(NOT(ISERROR(FIND(\"MD\",BY7))), Settings!$B$15=\"Y\")),\"Y\",\"_\")","v":"_"},{"$f":"IF(OR(NOT(ISERROR(FIND(\"NN\",BZ7))), AND(NOT(ISERROR(FIND(\"MD\",BZ7))), Settings!$B$15=\"Y\")),\"Y\",\"_\")","v":"_"},{"$f":"IF(OR(NOT(ISERROR(FIND(\"NN\",CA7))), AND(NOT(ISERROR(FIND(\"MD\",CA7))), Settings!$B$15=\"Y\")),\"Y\",\"_\")","v":"_"},{"$f":"IF(OR(NOT(ISERROR(FIND(\"NN\",CB7))), AND(NOT(ISERROR(FIND(\"MD\",CB7))), Settings!$B$15=\"Y\")),\"Y\",\"_\")","v":"_"},{"$f":"IF(OR(NOT(ISERROR(FIND(\"NN\",CC7))), AND(NOT(ISERROR(FIND(\"MD\",CC7))), Settings!$B$15=\"Y\")),\"Y\",\"_\")","v":"_"},{"$f":"IF(OR(NOT(ISERROR(FIND(\"NN\",CD7))), AND(NOT(ISERROR(FIND(\"MD\",CD7))), Settings!$B$15=\"Y\")),\"Y\",\"_\")","v":"_"},{"$f":"IF(OR(NOT(ISERROR(FIND(\"NN\",CE7))), AND(NOT(ISERROR(FIND(\"MD\",CE7))), Settings!$B$15=\"Y\")),\"Y\",\"_\")","v":"_"},{"$f":"IF(OR(NOT(ISERROR(FIND(\"NN\",CF7))), AND(NOT(ISERROR(FIND(\"MD\",CF7))), Settings!$B$15=\"Y\")),\"Y\",\"_\")","v":"_"},{"$f":"IF(OR(NOT(ISERROR(FIND(\"NN\",CG7))), AND(NOT(ISERROR(FIND(\"MD\",CG7))), Settings!$B$15=\"Y\")),\"Y\",\"_\")","v":"_"},{"$f":"IF(OR(NOT(ISERROR(FIND(\"NN\",CH7))), AND(NOT(ISERROR(FIND(\"MD\",CH7))), Settings!$B$15=\"Y\")),\"Y\",\"_\")","v":"_"},{"$f":"IF(OR(NOT(ISERROR(FIND(\"NN\",CI7))), AND(NOT(ISERROR(FIND(\"MD\",CI7))), Settings!$B$15=\"Y\")),\"Y\",\"_\")","v":"_"},{"$f":"IF(OR(NOT(ISERROR(FIND(\"NN\",CJ7))), AND(NOT(ISERROR(FIND(\"MD\",CJ7))), Settings!$B$15=\"Y\")),\"Y\",\"_\")","v":"_"},{"$f":"IF(OR(NOT(ISERROR(FIND(\"NN\",CK7))), AND(NOT(ISERROR(FIND(\"MD\",CK7))), Settings!$B$15=\"Y\")),\"Y\",\"_\")","v":"_"},{"$f":"IF(OR(NOT(ISERROR(FIND(\"NN\",CL7))), AND(NOT(ISERROR(FIND(\"MD\",CL7))), Settings!$B$15=\"Y\")),\"Y\",\"_\")","v":"_"},{"$f":"IF(OR(NOT(ISERROR(FIND(\"NN\",CM7))), AND(NOT(ISERROR(FIND(\"MD\",CM7))), Settings!$B$15=\"Y\")),\"Y\",\"_\")","v":"_"},{"$f":"IF(OR(NOT(ISERROR(FIND(\"NN\",CN7))), AND(NOT(ISERROR(FIND(\"MD\",CN7))), Settings!$B$15=\"Y\")),\"Y\",\"_\")","v":"_"},{"$f":"IF(OR(NOT(ISERROR(FIND(\"NN\",CO7))), AND(NOT(ISERROR(FIND(\"MD\",CO7))), Settings!$B$15=\"Y\")),\"Y\",\"_\")","v":"_"},{"$f":"IF(OR(NOT(ISERROR(FIND(\"NN\",CP7))), AND(NOT(ISERROR(FIND(\"MD\",CP7))), Settings!$B$15=\"Y\")),\"Y\",\"_\")","v":"_"},{"$f":"IF(OR(NOT(ISERROR(FIND(\"NN\",CQ7))), AND(NOT(ISERROR(FIND(\"MD\",CQ7))), Settings!$B$15=\"Y\")),\"Y\",\"_\")","v":"_"},{"$f":"IF(OR(NOT(ISERROR(FIND(\"NN\",CR7))), AND(NOT(ISERROR(FIND(\"MD\",CR7))), Settings!$B$15=\"Y\")),\"Y\",\"_\")","v":"_"},{"$f":"IF(OR(NOT(ISERROR(FIND(\"NN\",CS7))), AND(NOT(ISERROR(FIND(\"MD\",CS7))), Settings!$B$15=\"Y\")),\"Y\",\"_\")","v":"_"},{"$f":"IF(OR(NOT(ISERROR(FIND(\"NN\",CT7))), AND(NOT(ISERROR(FIND(\"MD\",CT7))), Settings!$B$15=\"Y\")),\"Y\",\"_\")","v":"_"},{"$f":"IF(OR(NOT(ISERROR(FIND(\"NN\",CU7))), AND(NOT(ISERROR(FIND(\"MD\",CU7))), Settings!$B$15=\"Y\")),\"Y\",\"_\")","v":"_"},{"$f":"IF(OR(NOT(ISERROR(FIND(\"NN\",CV7))), AND(NOT(ISERROR(FIND(\"MD\",CV7))), Settings!$B$15=\"Y\")),\"Y\",\"_\")","v":"_"},{"$f":"IF(OR(NOT(ISERROR(FIND(\"NN\",CW7))), AND(NOT(ISERROR(FIND(\"MD\",CW7))), Settings!$B$15=\"Y\")),\"Y\",\"_\")","v":"_"},{"$f":"IF(OR(NOT(ISERROR(FIND(\"NN\",CX7))), AND(NOT(ISERROR(FIND(\"MD\",CX7))), Settings!$B$15=\"Y\")),\"Y\",\"_\")","v":"_"},{"$f":"IF(OR(NOT(ISERROR(FIND(\"NN\",CY7))), AND(NOT(ISERROR(FIND(\"MD\",CY7))), Settings!$B$15=\"Y\")),\"Y\",\"_\")","v":"_"},{"$f":"IF(OR(NOT(ISERROR(FIND(\"NN\",CZ7))), AND(NOT(ISERROR(FIND(\"MD\",CZ7))), Settings!$B$15=\"Y\")),\"Y\",\"_\")","v":"_"},{"$f":"IF(OR(NOT(ISERROR(FIND(\"NN\",DA7))), AND(NOT(ISERROR(FIND(\"MD\",DA7))), Settings!$B$15=\"Y\")),\"Y\",\"_\")","v":"_"},{"$f":"IF(OR(NOT(ISERROR(FIND(\"NN\",DB7))), AND(NOT(ISERROR(FIND(\"MD\",DB7))), Settings!$B$15=\"Y\")),\"Y\",\"_\")","v":"_"},{"$f":"IF(OR(NOT(ISERROR(FIND(\"NN\",DC7))), AND(NOT(ISERROR(FIND(\"MD\",DC7))), Settings!$B$15=\"Y\")),\"Y\",\"_\")","v":"_"},{"$f":"IF(OR(NOT(ISERROR(FIND(\"NN\",DD7))), AND(NOT(ISERROR(FIND(\"MD\",DD7))), Settings!$B$15=\"Y\")),\"Y\",\"_\")","v":"_"},{"$f":"IF(OR(NOT(ISERROR(FIND(\"NN\",DE7))), AND(NOT(ISERROR(FIND(\"MD\",DE7))), Settings!$B$15=\"Y\")),\"Y\",\"_\")","v":"_"},{"$f":"IF(OR(NOT(ISERROR(FIND(\"NN\",DF7))), AND(NOT(ISERROR(FIND(\"MD\",DF7))), Settings!$B$15=\"Y\")),\"Y\",\"_\")","v":"_"},{"$f":"IF(OR(NOT(ISERROR(FIND(\"NN\",DG7))), AND(NOT(ISERROR(FIND(\"MD\",DG7))), Settings!$B$15=\"Y\")),\"Y\",\"_\")","v":"_"},{"$f":"IF(OR(NOT(ISERROR(FIND(\"NN\",DH7))), AND(NOT(ISERROR(FIND(\"MD\",DH7))), Settings!$B$15=\"Y\")),\"Y\",\"_\")","v":"_"},{"$f":"IF(OR(NOT(ISERROR(FIND(\"NN\",DI7))), AND(NOT(ISERROR(FIND(\"MD\",DI7))), Settings!$B$15=\"Y\")),\"Y\",\"_\")","v":"_"},{"$f":"IF(OR(NOT(ISERROR(FIND(\"NN\",DJ7))), AND(NOT(ISERROR(FIND(\"MD\",DJ7))), Settings!$B$15=\"Y\")),\"Y\",\"_\")","v":"_"},{"$f":"IF(OR(NOT(ISERROR(FIND(\"NN\",DK7))), AND(NOT(ISERROR(FIND(\"MD\",DK7))), Settings!$B$15=\"Y\")),\"Y\",\"_\")","v":"_"},{"$f":"IF(OR(NOT(ISERROR(FIND(\"NN\",DL7))), AND(NOT(ISERROR(FIND(\"MD\",DL7))), Settings!$B$15=\"Y\")),\"Y\",\"_\")","v":"_"},{"$f":"IF(OR(NOT(ISERROR(FIND(\"NN\",DM7))), AND(NOT(ISERROR(FIND(\"MD\",DM7))), Settings!$B$15=\"Y\")),\"Y\",\"_\")","v":"_"},{"$f":"IF(OR(NOT(ISERROR(FIND(\"NN\",DN7))), AND(NOT(ISERROR(FIND(\"MD\",DN7))), Settings!$B$15=\"Y\")),\"Y\",\"_\")","v":"_"},{"$f":"IF(OR(NOT(ISERROR(FIND(\"NN\",DO7))), AND(NOT(ISERROR(FIND(\"MD\",DO7))), Settings!$B$15=\"Y\")),\"Y\",\"_\")","v":"_"},{"$f":"IF(OR(NOT(ISERROR(FIND(\"NN\",DP7))), AND(NOT(ISERROR(FIND(\"MD\",DP7))), Settings!$B$15=\"Y\")),\"Y\",\"_\")","v":"_"},{"$f":"IF(OR(NOT(ISERROR(FIND(\"NN\",DQ7))), AND(NOT(ISERROR(FIND(\"MD\",DQ7))), Settings!$B$15=\"Y\")),\"Y\",\"_\")","v":"_"},{"$f":"IF(OR(NOT(ISERROR(FIND(\"NN\",DR7))), AND(NOT(ISERROR(FIND(\"MD\",DR7))), Settings!$B$15=\"Y\")),\"Y\",\"_\")","v":"_"},{"$f":"IF(OR(NOT(ISERROR(FIND(\"NN\",DS7))), AND(NOT(ISERROR(FIND(\"MD\",DS7))), Settings!$B$15=\"Y\")),\"Y\",\"_\")","v":"_"},{"$f":"IF(OR(NOT(ISERROR(FIND(\"NN\",DT7))), AND(NOT(ISERROR(FIND(\"MD\",DT7))), Settings!$B$15=\"Y\")),\"Y\",\"_\")","v":"_"},{"$f":"IF(OR(NOT(ISERROR(FIND(\"NN\",DU7))), AND(NOT(ISERROR(FIND(\"MD\",DU7))), Settings!$B$15=\"Y\")),\"Y\",\"_\")","v":"_"},{"$f":"IF(OR(NOT(ISERROR(FIND(\"NN\",DV7))), AND(NOT(ISERROR(FIND(\"MD\",DV7))), Settings!$B$15=\"Y\")),\"Y\",\"_\")","v":"_"},{"$f":"IF(OR(NOT(ISERROR(FIND(\"NN\",DW7))), AND(NOT(ISERROR(FIND(\"MD\",DW7))), Settings!$B$15=\"Y\")),\"Y\",\"_\")","v":"_"},{"$f":"IF(OR(NOT(ISERROR(FIND(\"NN\",DX7))), AND(NOT(ISERROR(FIND(\"MD\",DX7))), Settings!$B$15=\"Y\")),\"Y\",\"_\")","v":"_"},{"$f":"IF(OR(NOT(ISERROR(FIND(\"NN\",DY7))), AND(NOT(ISERROR(FIND(\"MD\",DY7))), Settings!$B$15=\"Y\")),\"Y\",\"_\")","v":"_"},{"$f":"IF(OR(NOT(ISERROR(FIND(\"NN\",DZ7))), AND(NOT(ISERROR(FIND(\"MD\",DZ7))), Settings!$B$15=\"Y\")),\"Y\",\"_\")","v":"_"},{"$f":"IF(OR(NOT(ISERROR(FIND(\"NN\",EA7))), AND(NOT(ISERROR(FIND(\"MD\",EA7))), Settings!$B$15=\"Y\")),\"Y\",\"_\")","v":"_"},{"$f":"IF(OR(NOT(ISERROR(FIND(\"NN\",EB7))), AND(NOT(ISERROR(FIND(\"MD\",EB7))), Settings!$B$15=\"Y\")),\"Y\",\"_\")","v":"_"},{"$f":"IF(OR(NOT(ISERROR(FIND(\"NN\",EC7))), AND(NOT(ISERROR(FIND(\"MD\",EC7))), Settings!$B$15=\"Y\")),\"Y\",\"_\")","v":"_"},{"$f":"IF(OR(NOT(ISERROR(FIND(\"NN\",ED7))), AND(NOT(ISERROR(FIND(\"MD\",ED7))), Settings!$B$15=\"Y\")),\"Y\",\"_\")","v":"_"},{"$f":"IF(OR(NOT(ISERROR(FIND(\"NN\",EE7))), AND(NOT(ISERROR(FIND(\"MD\",EE7))), Settings!$B$15=\"Y\")),\"Y\",\"_\")","v":"_"},{"$f":"IF(OR(NOT(ISERROR(FIND(\"NN\",EF7))), AND(NOT(ISERROR(FIND(\"MD\",EF7))), Settings!$B$15=\"Y\")),\"Y\",\"_\")","v":"_"},{"$f":"IF(OR(NOT(ISERROR(FIND(\"NN\",EG7))), AND(NOT(ISERROR(FIND(\"MD\",EG7))), Settings!$B$15=\"Y\")),\"Y\",\"_\")","v":"_"},{"$f":"IF(OR(NOT(ISERROR(FIND(\"NN\",EH7))), AND(NOT(ISERROR(FIND(\"MD\",EH7))), Settings!$B$15=\"Y\")),\"Y\",\"_\")","v":"_"},{"$f":"IF(OR(NOT(ISERROR(FIND(\"NN\",EI7))), AND(NOT(ISERROR(FIND(\"MD\",EI7))), Settings!$B$15=\"Y\")),\"Y\",\"_\")","v":"_"},{"$f":"IF(OR(NOT(ISERROR(FIND(\"NN\",EJ7))), AND(NOT(ISERROR(FIND(\"MD\",EJ7))), Settings!$B$15=\"Y\")),\"Y\",\"_\")","v":"_"},{"$f":"IF(OR(NOT(ISERROR(FIND(\"NN\",EK7))), AND(NOT(ISERROR(FIND(\"MD\",EK7))), Settings!$B$15=\"Y\")),\"Y\",\"_\")","v":"_"},{"$f":"IF(OR(NOT(ISERROR(FIND(\"NN\",EL7))), AND(NOT(ISERROR(FIND(\"MD\",EL7))), Settings!$B$15=\"Y\")),\"Y\",\"_\")","v":"_"},{"$f":"IF(OR(NOT(ISERROR(FIND(\"NN\",EM7))), AND(NOT(ISERROR(FIND(\"MD\",EM7))), Settings!$B$15=\"Y\")),\"Y\",\"_\")","v":"_"},{"$f":"IF(OR(NOT(ISERROR(FIND(\"NN\",EN7))), AND(NOT(ISERROR(FIND(\"MD\",EN7))), Settings!$B$15=\"Y\")),\"Y\",\"_\")","v":"_"},{"$f":"IF(OR(NOT(ISERROR(FIND(\"NN\",EO7))), AND(NOT(ISERROR(FIND(\"MD\",EO7))), Settings!$B$15=\"Y\")),\"Y\",\"_\")","v":"_"},{"$f":"IF(OR(NOT(ISERROR(FIND(\"NN\",EP7))), AND(NOT(ISERROR(FIND(\"MD\",EP7))), Settings!$B$15=\"Y\")),\"Y\",\"_\")","v":"_"},{"$f":"IF(OR(NOT(ISERROR(FIND(\"NN\",EQ7))), AND(NOT(ISERROR(FIND(\"MD\",EQ7))), Settings!$B$15=\"Y\")),\"Y\",\"_\")","v":"_"},{"$f":"IF(OR(NOT(ISERROR(FIND(\"NN\",ER7))), AND(NOT(ISERROR(FIND(\"MD\",ER7))), Settings!$B$15=\"Y\")),\"Y\",\"_\")","v":"_"},{"$f":"IF(OR(NOT(ISERROR(FIND(\"NN\",ES7))), AND(NOT(ISERROR(FIND(\"MD\",ES7))), Settings!$B$15=\"Y\")),\"Y\",\"_\")","v":"_"},{"$f":"IF(OR(NOT(ISERROR(FIND(\"NN\",ET7))), AND(NOT(ISERROR(FIND(\"MD\",ET7))), Settings!$B$15=\"Y\")),\"Y\",\"_\")","v":"_"},{"$f":"IF(OR(NOT(ISERROR(FIND(\"NN\",EU7))), AND(NOT(ISERROR(FIND(\"MD\",EU7))), Settings!$B$15=\"Y\")),\"Y\",\"_\")","v":"_"},{"$f":"IF(OR(NOT(ISERROR(FIND(\"NN\",EV7))), AND(NOT(ISERROR(FIND(\"MD\",EV7))), Settings!$B$15=\"Y\")),\"Y\",\"_\")","v":"_"},{"$f":"IF(OR(NOT(ISERROR(FIND(\"NN\",EW7))), AND(NOT(ISERROR(FIND(\"MD\",EW7))), Settings!$B$15=\"Y\")),\"Y\",\"_\")","v":"_"},{"$f":"IF(OR(NOT(ISERROR(FIND(\"NN\",EX7))), AND(NOT(ISERROR(FIND(\"MD\",EX7))), Settings!$B$15=\"Y\")),\"Y\",\"_\")","v":"_"},{"$f":"IF(OR(NOT(ISERROR(FIND(\"NN\",EY7))), AND(NOT(ISERROR(FIND(\"MD\",EY7))), Settings!$B$15=\"Y\")),\"Y\",\"_\")","v":"_"}]
[null,null,"Unique (not currently used)"]
[null,null,"Data Type Code",null,null,{"$f":"IF(AND(F5=\"at\", NOT(ISERROR(FIND(\"when\",F7))), LEN(F9)=0), \"DT\", IF(AND(OR(NOT(ISERROR(FIND(\"when\",F7))), F5=\"on\", F5=\"every\"), LEN(F9)=0),\"D\", IF(F9=\"DT\",\"DT\",LEFT(UPPER(TRIM(F9)),1))))","v":""},{"$f":"IF(AND(G5=\"at\", NOT(ISERROR(FIND(\"when\",G7))), LEN(G9)=0), \"DT\", IF(AND(OR(NOT(ISERROR(FIND(\"when\",G7))), G5=\"on\", G5=\"every\"), LEN(G9)=0),\"D\", IF(G9=\"DT\",\"DT\",LEFT(UPPER(TRIM(G9)),1))))","v":""},"D","","","","","","","","","","","","","","","","","","","","","","","","","","","","","","","","","","","","","","","","","","","","","","","","","","","","","","","","","","","","","","",{"$f":"IF(AND(BS5=\"at\", NOT(ISERROR(FIND(\"when\",BS7))), LEN(BS9)=0), \"DT\", IF(AND(OR(NOT(ISERROR(FIND(\"when\",BS7))), BS5=\"on\", BS5=\"every\"), LEN(BS9)=0),\"D\", IF(BS9=\"DT\",\"DT\",LEFT(UPPER(TRIM(BS9)),1))))","v":""},"","","","","","","","","","","","","","","","","","","","","","","","","","","","","","","","","","","","","","","","","","","","","","","","","","","","","","","","","","","","","","","",{"$f":"IF(AND(EE5=\"at\", NOT(ISERROR(FIND(\"when\",EE7))), LEN(EE9)=0), \"DT\", IF(AND(OR(NOT(ISERROR(FIND(\"when\",EE7))), EE5=\"on\", EE5=\"every\"), LEN(EE9)=0),\"D\", IF(EE9=\"DT\",\"DT\",LEFT(UPPER(TRIM(EE9)),1))))","v":""},"","","","","","","","","","","","","","","","","","","",""]
[null,null,"Length.Precision",null,null,{"$f":"IF(F9=\"DT\",\"\",MID(SUBSTITUTE(F9,\".\",\",\"),2,10))","v":""},{"$f":"IF(G9=\"DT\",\"\",MID(SUBSTITUTE(G9,\".\",\",\"),2,10))","v":""},{"$f":"IF(H9=\"DT\",\"\",MID(SUBSTITUTE(H9,\".\",\",\"),2,10))","v":""},{"$f":"IF(I9=\"DT\",\"\",MID(SUBSTITUTE(I9,\".\",\",\"),2,10))","v":""},"","","","","","","","","","","","","","","","","","","","","","","","","","","","","","","","","","","","","","","","","","","","","","","","","","","","","","","","","","","","","","","",{"$f":"IF(BU9=\"DT\",\"\",MID(SUBSTITUTE(BU9,\".\",\",\"),2,10))","v":""},"","","","","","","","","","","","","","","","","","","","","","","","","","","","","","","","","","","","","","","","","","","","","","","","","","","","","","","","","","","","","","","",{"$f":"IF(EG9=\"DT\",\"\",MID(SUBSTITUTE(EG9,\".\",\",\"),2,10))","v":""},"","","","","","","","","","","","","","","","","",""]
[null,null,"Adjusted Length,Percision",null,null,{"$f":"IF( AND(F67=\"C\",LEN(F68)=0), Settings!$B$24, IF(AND(F67=\"N\",LEN(F68)=0), TRIM(Settings!$B$21),F68))","v":""},{"$f":"IF( AND(G67=\"C\",LEN(G68)=0), Settings!$B$24, IF(AND(G67=\"N\",LEN(G68)=0), TRIM(Settings!$B$21),G68))","v":""},{"$f":"IF( AND(H67=\"C\",LEN(H68)=0), Settings!$B$24, IF(AND(H67=\"N\",LEN(H68)=0), TRIM(Settings!$B$21),H68))","v":""},{"$f":"IF( AND(I67=\"C\",LEN(I68)=0), Settings!$B$24, IF(AND(I67=\"N\",LEN(I68)=0), TRIM(Settings!$B$21),I68))","v":""},{"$f":"IF( AND(J67=\"C\",LEN(J68)=0), Settings!$B$24, IF(AND(J67=\"N\",LEN(J68)=0), TRIM(Settings!$B$21),J68))","v":""},{"$f":"IF( AND(K67=\"C\",LEN(K68)=0), Settings!$B$24, IF(AND(K67=\"N\",LEN(K68)=0), TRIM(Settings!$B$21),K68))","v":""},{"$f":"IF( AND(L67=\"C\",LEN(L68)=0), Settings!$B$24, IF(AND(L67=\"N\",LEN(L68)=0), TRIM(Settings!$B$21),L68))","v":""},{"$f":"IF( AND(M67=\"C\",LEN(M68)=0), Settings!$B$24, IF(AND(M67=\"N\",LEN(M68)=0), TRIM(Settings!$B$21),M68))","v":""},{"$f":"IF( AND(N67=\"C\",LEN(N68)=0), Settings!$B$24, IF(AND(N67=\"N\",LEN(N68)=0), TRIM(Settings!$B$21),N68))","v":""},{"$f":"IF( AND(O67=\"C\",LEN(O68)=0), Settings!$B$24, IF(AND(O67=\"N\",LEN(O68)=0), TRIM(Settings!$B$21),O68))","v":""},{"$f":"IF( AND(P67=\"C\",LEN(P68)=0), Settings!$B$24, IF(AND(P67=\"N\",LEN(P68)=0), TRIM(Settings!$B$21),P68))","v":""},{"$f":"IF( AND(Q67=\"C\",LEN(Q68)=0), Settings!$B$24, IF(AND(Q67=\"N\",LEN(Q68)=0), TRIM(Settings!$B$21),Q68))","v":""},{"$f":"IF( AND(R67=\"C\",LEN(R68)=0), Settings!$B$24, IF(AND(R67=\"N\",LEN(R68)=0), TRIM(Settings!$B$21),R68))","v":""},{"$f":"IF( AND(S67=\"C\",LEN(S68)=0), Settings!$B$24, IF(AND(S67=\"N\",LEN(S68)=0), TRIM(Settings!$B$21),S68))","v":""},{"$f":"IF( AND(T67=\"C\",LEN(T68)=0), Settings!$B$24, IF(AND(T67=\"N\",LEN(T68)=0), TRIM(Settings!$B$21),T68))","v":""},{"$f":"IF( AND(U67=\"C\",LEN(U68)=0), Settings!$B$24, IF(AND(U67=\"N\",LEN(U68)=0), TRIM(Settings!$B$21),U68))","v":""},{"$f":"IF( AND(V67=\"C\",LEN(V68)=0), Settings!$B$24, IF(AND(V67=\"N\",LEN(V68)=0), TRIM(Settings!$B$21),V68))","v":""},{"$f":"IF( AND(W67=\"C\",LEN(W68)=0), Settings!$B$24, IF(AND(W67=\"N\",LEN(W68)=0), TRIM(Settings!$B$21),W68))","v":""},{"$f":"IF( AND(X67=\"C\",LEN(X68)=0), Settings!$B$24, IF(AND(X67=\"N\",LEN(X68)=0), TRIM(Settings!$B$21),X68))","v":""},{"$f":"IF( AND(Y67=\"C\",LEN(Y68)=0), Settings!$B$24, IF(AND(Y67=\"N\",LEN(Y68)=0), TRIM(Settings!$B$21),Y68))","v":""},{"$f":"IF( AND(Z67=\"C\",LEN(Z68)=0), Settings!$B$24, IF(AND(Z67=\"N\",LEN(Z68)=0), TRIM(Settings!$B$21),Z68))","v":""},{"$f":"IF( AND(AA67=\"C\",LEN(AA68)=0), Settings!$B$24, IF(AND(AA67=\"N\",LEN(AA68)=0), TRIM(Settings!$B$21),AA68))","v":""},{"$f":"IF( AND(AB67=\"C\",LEN(AB68)=0), Settings!$B$24, IF(AND(AB67=\"N\",LEN(AB68)=0), TRIM(Settings!$B$21),AB68))","v":""},{"$f":"IF( AND(AC67=\"C\",LEN(AC68)=0), Settings!$B$24, IF(AND(AC67=\"N\",LEN(AC68)=0), TRIM(Settings!$B$21),AC68))","v":""},{"$f":"IF( AND(AD67=\"C\",LEN(AD68)=0), Settings!$B$24, IF(AND(AD67=\"N\",LEN(AD68)=0), TRIM(Settings!$B$21),AD68))","v":""},{"$f":"IF( AND(AE67=\"C\",LEN(AE68)=0), Settings!$B$24, IF(AND(AE67=\"N\",LEN(AE68)=0), TRIM(Settings!$B$21),AE68))","v":""},{"$f":"IF( AND(AF67=\"C\",LEN(AF68)=0), Settings!$B$24, IF(AND(AF67=\"N\",LEN(AF68)=0), TRIM(Settings!$B$21),AF68))","v":""},{"$f":"IF( AND(AG67=\"C\",LEN(AG68)=0), Settings!$B$24, IF(AND(AG67=\"N\",LEN(AG68)=0), TRIM(Settings!$B$21),AG68))","v":""},{"$f":"IF( AND(AH67=\"C\",LEN(AH68)=0), Settings!$B$24, IF(AND(AH67=\"N\",LEN(AH68)=0), TRIM(Settings!$B$21),AH68))","v":""},{"$f":"IF( AND(AI67=\"C\",LEN(AI68)=0), Settings!$B$24, IF(AND(AI67=\"N\",LEN(AI68)=0), TRIM(Settings!$B$21),AI68))","v":""},{"$f":"IF( AND(AJ67=\"C\",LEN(AJ68)=0), Settings!$B$24, IF(AND(AJ67=\"N\",LEN(AJ68)=0), TRIM(Settings!$B$21),AJ68))","v":""},{"$f":"IF( AND(AK67=\"C\",LEN(AK68)=0), Settings!$B$24, IF(AND(AK67=\"N\",LEN(AK68)=0), TRIM(Settings!$B$21),AK68))","v":""},{"$f":"IF( AND(AL67=\"C\",LEN(AL68)=0), Settings!$B$24, IF(AND(AL67=\"N\",LEN(AL68)=0), TRIM(Settings!$B$21),AL68))","v":""},{"$f":"IF( AND(AM67=\"C\",LEN(AM68)=0), Settings!$B$24, IF(AND(AM67=\"N\",LEN(AM68)=0), TRIM(Settings!$B$21),AM68))","v":""},{"$f":"IF( AND(AN67=\"C\",LEN(AN68)=0), Settings!$B$24, IF(AND(AN67=\"N\",LEN(AN68)=0), TRIM(Settings!$B$21),AN68))","v":""},{"$f":"IF( AND(AO67=\"C\",LEN(AO68)=0), Settings!$B$24, IF(AND(AO67=\"N\",LEN(AO68)=0), TRIM(Settings!$B$21),AO68))","v":""},{"$f":"IF( AND(AP67=\"C\",LEN(AP68)=0), Settings!$B$24, IF(AND(AP67=\"N\",LEN(AP68)=0), TRIM(Settings!$B$21),AP68))","v":""},{"$f":"IF( AND(AQ67=\"C\",LEN(AQ68)=0), Settings!$B$24, IF(AND(AQ67=\"N\",LEN(AQ68)=0), TRIM(Settings!$B$21),AQ68))","v":""},{"$f":"IF( AND(AR67=\"C\",LEN(AR68)=0), Settings!$B$24, IF(AND(AR67=\"N\",LEN(AR68)=0), TRIM(Settings!$B$21),AR68))","v":""},{"$f":"IF( AND(AS67=\"C\",LEN(AS68)=0), Settings!$B$24, IF(AND(AS67=\"N\",LEN(AS68)=0), TRIM(Settings!$B$21),AS68))","v":""},{"$f":"IF( AND(AT67=\"C\",LEN(AT68)=0), Settings!$B$24, IF(AND(AT67=\"N\",LEN(AT68)=0), TRIM(Settings!$B$21),AT68))","v":""},{"$f":"IF( AND(AU67=\"C\",LEN(AU68)=0), Settings!$B$24, IF(AND(AU67=\"N\",LEN(AU68)=0), TRIM(Settings!$B$21),AU68))","v":""},{"$f":"IF( AND(AV67=\"C\",LEN(AV68)=0), Settings!$B$24, IF(AND(AV67=\"N\",LEN(AV68)=0), TRIM(Settings!$B$21),AV68))","v":""},{"$f":"IF( AND(AW67=\"C\",LEN(AW68)=0), Settings!$B$24, IF(AND(AW67=\"N\",LEN(AW68)=0), TRIM(Settings!$B$21),AW68))","v":""},{"$f":"IF( AND(AX67=\"C\",LEN(AX68)=0), Settings!$B$24, IF(AND(AX67=\"N\",LEN(AX68)=0), TRIM(Settings!$B$21),AX68))","v":""},{"$f":"IF( AND(AY67=\"C\",LEN(AY68)=0), Settings!$B$24, IF(AND(AY67=\"N\",LEN(AY68)=0), TRIM(Settings!$B$21),AY68))","v":""},{"$f":"IF( AND(AZ67=\"C\",LEN(AZ68)=0), Settings!$B$24, IF(AND(AZ67=\"N\",LEN(AZ68)=0), TRIM(Settings!$B$21),AZ68))","v":""},{"$f":"IF( AND(BA67=\"C\",LEN(BA68)=0), Settings!$B$24, IF(AND(BA67=\"N\",LEN(BA68)=0), TRIM(Settings!$B$21),BA68))","v":""},{"$f":"IF( AND(BB67=\"C\",LEN(BB68)=0), Settings!$B$24, IF(AND(BB67=\"N\",LEN(BB68)=0), TRIM(Settings!$B$21),BB68))","v":""},{"$f":"IF( AND(BC67=\"C\",LEN(BC68)=0), Settings!$B$24, IF(AND(BC67=\"N\",LEN(BC68)=0), TRIM(Settings!$B$21),BC68))","v":""},{"$f":"IF( AND(BD67=\"C\",LEN(BD68)=0), Settings!$B$24, IF(AND(BD67=\"N\",LEN(BD68)=0), TRIM(Settings!$B$21),BD68))","v":""},{"$f":"IF( AND(BE67=\"C\",LEN(BE68)=0), Settings!$B$24, IF(AND(BE67=\"N\",LEN(BE68)=0), TRIM(Settings!$B$21),BE68))","v":""},{"$f":"IF( AND(BF67=\"C\",LEN(BF68)=0), Settings!$B$24, IF(AND(BF67=\"N\",LEN(BF68)=0), TRIM(Settings!$B$21),BF68))","v":""},{"$f":"IF( AND(BG67=\"C\",LEN(BG68)=0), Settings!$B$24, IF(AND(BG67=\"N\",LEN(BG68)=0), TRIM(Settings!$B$21),BG68))","v":""},{"$f":"IF( AND(BH67=\"C\",LEN(BH68)=0), Settings!$B$24, IF(AND(BH67=\"N\",LEN(BH68)=0), TRIM(Settings!$B$21),BH68))","v":""},{"$f":"IF( AND(BI67=\"C\",LEN(BI68)=0), Settings!$B$24, IF(AND(BI67=\"N\",LEN(BI68)=0), TRIM(Settings!$B$21),BI68))","v":""},{"$f":"IF( AND(BJ67=\"C\",LEN(BJ68)=0), Settings!$B$24, IF(AND(BJ67=\"N\",LEN(BJ68)=0), TRIM(Settings!$B$21),BJ68))","v":""},{"$f":"IF( AND(BK67=\"C\",LEN(BK68)=0), Settings!$B$24, IF(AND(BK67=\"N\",LEN(BK68)=0), TRIM(Settings!$B$21),BK68))","v":""},{"$f":"IF( AND(BL67=\"C\",LEN(BL68)=0), Settings!$B$24, IF(AND(BL67=\"N\",LEN(BL68)=0), TRIM(Settings!$B$21),BL68))","v":""},{"$f":"IF( AND(BM67=\"C\",LEN(BM68)=0), Settings!$B$24, IF(AND(BM67=\"N\",LEN(BM68)=0), TRIM(Settings!$B$21),BM68))","v":""},{"$f":"IF( AND(BN67=\"C\",LEN(BN68)=0), Settings!$B$24, IF(AND(BN67=\"N\",LEN(BN68)=0), TRIM(Settings!$B$21),BN68))","v":""},{"$f":"IF( AND(BO67=\"C\",LEN(BO68)=0), Settings!$B$24, IF(AND(BO67=\"N\",LEN(BO68)=0), TRIM(Settings!$B$21),BO68))","v":""},{"$f":"IF( AND(BP67=\"C\",LEN(BP68)=0), Settings!$B$24, IF(AND(BP67=\"N\",LEN(BP68)=0), TRIM(Settings!$B$21),BP68))","v":""},{"$f":"IF( AND(BQ67=\"C\",LEN(BQ68)=0), Settings!$B$24, IF(AND(BQ67=\"N\",LEN(BQ68)=0), TRIM(Settings!$B$21),BQ68))","v":""},{"$f":"IF( AND(BR67=\"C\",LEN(BR68)=0), Settings!$B$24, IF(AND(BR67=\"N\",LEN(BR68)=0), TRIM(Settings!$B$21),BR68))","v":""},{"$f":"IF( AND(BS67=\"C\",LEN(BS68)=0), Settings!$B$24, IF(AND(BS67=\"N\",LEN(BS68)=0), TRIM(Settings!$B$21),BS68))","v":""},{"$f":"IF( AND(BT67=\"C\",LEN(BT68)=0), Settings!$B$24, IF(AND(BT67=\"N\",LEN(BT68)=0), TRIM(Settings!$B$21),BT68))","v":""},{"$f":"IF( AND(BU67=\"C\",LEN(BU68)=0), Settings!$B$24, IF(AND(BU67=\"N\",LEN(BU68)=0), TRIM(Settings!$B$21),BU68))","v":""},{"$f":"IF( AND(BV67=\"C\",LEN(BV68)=0), Settings!$B$24, IF(AND(BV67=\"N\",LEN(BV68)=0), TRIM(Settings!$B$21),BV68))","v":""},{"$f":"IF( AND(BW67=\"C\",LEN(BW68)=0), Settings!$B$24, IF(AND(BW67=\"N\",LEN(BW68)=0), TRIM(Settings!$B$21),BW68))","v":""},{"$f":"IF( AND(BX67=\"C\",LEN(BX68)=0), Settings!$B$24, IF(AND(BX67=\"N\",LEN(BX68)=0), TRIM(Settings!$B$21),BX68))","v":""},{"$f":"IF( AND(BY67=\"C\",LEN(BY68)=0), Settings!$B$24, IF(AND(BY67=\"N\",LEN(BY68)=0), TRIM(Settings!$B$21),BY68))","v":""},{"$f":"IF( AND(BZ67=\"C\",LEN(BZ68)=0), Settings!$B$24, IF(AND(BZ67=\"N\",LEN(BZ68)=0), TRIM(Settings!$B$21),BZ68))","v":""},{"$f":"IF( AND(CA67=\"C\",LEN(CA68)=0), Settings!$B$24, IF(AND(CA67=\"N\",LEN(CA68)=0), TRIM(Settings!$B$21),CA68))","v":""},{"$f":"IF( AND(CB67=\"C\",LEN(CB68)=0), Settings!$B$24, IF(AND(CB67=\"N\",LEN(CB68)=0), TRIM(Settings!$B$21),CB68))","v":""},{"$f":"IF( AND(CC67=\"C\",LEN(CC68)=0), Settings!$B$24, IF(AND(CC67=\"N\",LEN(CC68)=0), TRIM(Settings!$B$21),CC68))","v":""},{"$f":"IF( AND(CD67=\"C\",LEN(CD68)=0), Settings!$B$24, IF(AND(CD67=\"N\",LEN(CD68)=0), TRIM(Settings!$B$21),CD68))","v":""},{"$f":"IF( AND(CE67=\"C\",LEN(CE68)=0), Settings!$B$24, IF(AND(CE67=\"N\",LEN(CE68)=0), TRIM(Settings!$B$21),CE68))","v":""},{"$f":"IF( AND(CF67=\"C\",LEN(CF68)=0), Settings!$B$24, IF(AND(CF67=\"N\",LEN(CF68)=0), TRIM(Settings!$B$21),CF68))","v":""},{"$f":"IF( AND(CG67=\"C\",LEN(CG68)=0), Settings!$B$24, IF(AND(CG67=\"N\",LEN(CG68)=0), TRIM(Settings!$B$21),CG68))","v":""},{"$f":"IF( AND(CH67=\"C\",LEN(CH68)=0), Settings!$B$24, IF(AND(CH67=\"N\",LEN(CH68)=0), TRIM(Settings!$B$21),CH68))","v":""},{"$f":"IF( AND(CI67=\"C\",LEN(CI68)=0), Settings!$B$24, IF(AND(CI67=\"N\",LEN(CI68)=0), TRIM(Settings!$B$21),CI68))","v":""},{"$f":"IF( AND(CJ67=\"C\",LEN(CJ68)=0), Settings!$B$24, IF(AND(CJ67=\"N\",LEN(CJ68)=0), TRIM(Settings!$B$21),CJ68))","v":""},{"$f":"IF( AND(CK67=\"C\",LEN(CK68)=0), Settings!$B$24, IF(AND(CK67=\"N\",LEN(CK68)=0), TRIM(Settings!$B$21),CK68))","v":""},{"$f":"IF( AND(CL67=\"C\",LEN(CL68)=0), Settings!$B$24, IF(AND(CL67=\"N\",LEN(CL68)=0), TRIM(Settings!$B$21),CL68))","v":""},{"$f":"IF( AND(CM67=\"C\",LEN(CM68)=0), Settings!$B$24, IF(AND(CM67=\"N\",LEN(CM68)=0), TRIM(Settings!$B$21),CM68))","v":""},{"$f":"IF( AND(CN67=\"C\",LEN(CN68)=0), Settings!$B$24, IF(AND(CN67=\"N\",LEN(CN68)=0), TRIM(Settings!$B$21),CN68))","v":""},{"$f":"IF( AND(CO67=\"C\",LEN(CO68)=0), Settings!$B$24, IF(AND(CO67=\"N\",LEN(CO68)=0), TRIM(Settings!$B$21),CO68))","v":""},{"$f":"IF( AND(CP67=\"C\",LEN(CP68)=0), Settings!$B$24, IF(AND(CP67=\"N\",LEN(CP68)=0), TRIM(Settings!$B$21),CP68))","v":""},{"$f":"IF( AND(CQ67=\"C\",LEN(CQ68)=0), Settings!$B$24, IF(AND(CQ67=\"N\",LEN(CQ68)=0), TRIM(Settings!$B$21),CQ68))","v":""},{"$f":"IF( AND(CR67=\"C\",LEN(CR68)=0), Settings!$B$24, IF(AND(CR67=\"N\",LEN(CR68)=0), TRIM(Settings!$B$21),CR68))","v":""},{"$f":"IF( AND(CS67=\"C\",LEN(CS68)=0), Settings!$B$24, IF(AND(CS67=\"N\",LEN(CS68)=0), TRIM(Settings!$B$21),CS68))","v":""},{"$f":"IF( AND(CT67=\"C\",LEN(CT68)=0), Settings!$B$24, IF(AND(CT67=\"N\",LEN(CT68)=0), TRIM(Settings!$B$21),CT68))","v":""},{"$f":"IF( AND(CU67=\"C\",LEN(CU68)=0), Settings!$B$24, IF(AND(CU67=\"N\",LEN(CU68)=0), TRIM(Settings!$B$21),CU68))","v":""},{"$f":"IF( AND(CV67=\"C\",LEN(CV68)=0), Settings!$B$24, IF(AND(CV67=\"N\",LEN(CV68)=0), TRIM(Settings!$B$21),CV68))","v":""},{"$f":"IF( AND(CW67=\"C\",LEN(CW68)=0), Settings!$B$24, IF(AND(CW67=\"N\",LEN(CW68)=0), TRIM(Settings!$B$21),CW68))","v":""},{"$f":"IF( AND(CX67=\"C\",LEN(CX68)=0), Settings!$B$24, IF(AND(CX67=\"N\",LEN(CX68)=0), TRIM(Settings!$B$21),CX68))","v":""},{"$f":"IF( AND(CY67=\"C\",LEN(CY68)=0), Settings!$B$24, IF(AND(CY67=\"N\",LEN(CY68)=0), TRIM(Settings!$B$21),CY68))","v":""},{"$f":"IF( AND(CZ67=\"C\",LEN(CZ68)=0), Settings!$B$24, IF(AND(CZ67=\"N\",LEN(CZ68)=0), TRIM(Settings!$B$21),CZ68))","v":""},{"$f":"IF( AND(DA67=\"C\",LEN(DA68)=0), Settings!$B$24, IF(AND(DA67=\"N\",LEN(DA68)=0), TRIM(Settings!$B$21),DA68))","v":""},{"$f":"IF( AND(DB67=\"C\",LEN(DB68)=0), Settings!$B$24, IF(AND(DB67=\"N\",LEN(DB68)=0), TRIM(Settings!$B$21),DB68))","v":""},{"$f":"IF( AND(DC67=\"C\",LEN(DC68)=0), Settings!$B$24, IF(AND(DC67=\"N\",LEN(DC68)=0), TRIM(Settings!$B$21),DC68))","v":""},{"$f":"IF( AND(DD67=\"C\",LEN(DD68)=0), Settings!$B$24, IF(AND(DD67=\"N\",LEN(DD68)=0), TRIM(Settings!$B$21),DD68))","v":""},{"$f":"IF( AND(DE67=\"C\",LEN(DE68)=0), Settings!$B$24, IF(AND(DE67=\"N\",LEN(DE68)=0), TRIM(Settings!$B$21),DE68))","v":""},{"$f":"IF( AND(DF67=\"C\",LEN(DF68)=0), Settings!$B$24, IF(AND(DF67=\"N\",LEN(DF68)=0), TRIM(Settings!$B$21),DF68))","v":""},{"$f":"IF( AND(DG67=\"C\",LEN(DG68)=0), Settings!$B$24, IF(AND(DG67=\"N\",LEN(DG68)=0), TRIM(Settings!$B$21),DG68))","v":""},{"$f":"IF( AND(DH67=\"C\",LEN(DH68)=0), Settings!$B$24, IF(AND(DH67=\"N\",LEN(DH68)=0), TRIM(Settings!$B$21),DH68))","v":""},{"$f":"IF( AND(DI67=\"C\",LEN(DI68)=0), Settings!$B$24, IF(AND(DI67=\"N\",LEN(DI68)=0), TRIM(Settings!$B$21),DI68))","v":""},{"$f":"IF( AND(DJ67=\"C\",LEN(DJ68)=0), Settings!$B$24, IF(AND(DJ67=\"N\",LEN(DJ68)=0), TRIM(Settings!$B$21),DJ68))","v":""},{"$f":"IF( AND(DK67=\"C\",LEN(DK68)=0), Settings!$B$24, IF(AND(DK67=\"N\",LEN(DK68)=0), TRIM(Settings!$B$21),DK68))","v":""},{"$f":"IF( AND(DL67=\"C\",LEN(DL68)=0), Settings!$B$24, IF(AND(DL67=\"N\",LEN(DL68)=0), TRIM(Settings!$B$21),DL68))","v":""},{"$f":"IF( AND(DM67=\"C\",LEN(DM68)=0), Settings!$B$24, IF(AND(DM67=\"N\",LEN(DM68)=0), TRIM(Settings!$B$21),DM68))","v":""},{"$f":"IF( AND(DN67=\"C\",LEN(DN68)=0), Settings!$B$24, IF(AND(DN67=\"N\",LEN(DN68)=0), TRIM(Settings!$B$21),DN68))","v":""},{"$f":"IF( AND(DO67=\"C\",LEN(DO68)=0), Settings!$B$24, IF(AND(DO67=\"N\",LEN(DO68)=0), TRIM(Settings!$B$21),DO68))","v":""},{"$f":"IF( AND(DP67=\"C\",LEN(DP68)=0), Settings!$B$24, IF(AND(DP67=\"N\",LEN(DP68)=0), TRIM(Settings!$B$21),DP68))","v":""},{"$f":"IF( AND(DQ67=\"C\",LEN(DQ68)=0), Settings!$B$24, IF(AND(DQ67=\"N\",LEN(DQ68)=0), TRIM(Settings!$B$21),DQ68))","v":""},{"$f":"IF( AND(DR67=\"C\",LEN(DR68)=0), Settings!$B$24, IF(AND(DR67=\"N\",LEN(DR68)=0), TRIM(Settings!$B$21),DR68))","v":""},{"$f":"IF( AND(DS67=\"C\",LEN(DS68)=0), Settings!$B$24, IF(AND(DS67=\"N\",LEN(DS68)=0), TRIM(Settings!$B$21),DS68))","v":""},{"$f":"IF( AND(DT67=\"C\",LEN(DT68)=0), Settings!$B$24, IF(AND(DT67=\"N\",LEN(DT68)=0), TRIM(Settings!$B$21),DT68))","v":""},{"$f":"IF( AND(DU67=\"C\",LEN(DU68)=0), Settings!$B$24, IF(AND(DU67=\"N\",LEN(DU68)=0), TRIM(Settings!$B$21),DU68))","v":""},{"$f":"IF( AND(DV67=\"C\",LEN(DV68)=0), Settings!$B$24, IF(AND(DV67=\"N\",LEN(DV68)=0), TRIM(Settings!$B$21),DV68))","v":""},{"$f":"IF( AND(DW67=\"C\",LEN(DW68)=0), Settings!$B$24, IF(AND(DW67=\"N\",LEN(DW68)=0), TRIM(Settings!$B$21),DW68))","v":""},{"$f":"IF( AND(DX67=\"C\",LEN(DX68)=0), Settings!$B$24, IF(AND(DX67=\"N\",LEN(DX68)=0), TRIM(Settings!$B$21),DX68))","v":""},{"$f":"IF( AND(DY67=\"C\",LEN(DY68)=0), Settings!$B$24, IF(AND(DY67=\"N\",LEN(DY68)=0), TRIM(Settings!$B$21),DY68))","v":""},{"$f":"IF( AND(DZ67=\"C\",LEN(DZ68)=0), Settings!$B$24, IF(AND(DZ67=\"N\",LEN(DZ68)=0), TRIM(Settings!$B$21),DZ68))","v":""},{"$f":"IF( AND(EA67=\"C\",LEN(EA68)=0), Settings!$B$24, IF(AND(EA67=\"N\",LEN(EA68)=0), TRIM(Settings!$B$21),EA68))","v":""},{"$f":"IF( AND(EB67=\"C\",LEN(EB68)=0), Settings!$B$24, IF(AND(EB67=\"N\",LEN(EB68)=0), TRIM(Settings!$B$21),EB68))","v":""},{"$f":"IF( AND(EC67=\"C\",LEN(EC68)=0), Settings!$B$24, IF(AND(EC67=\"N\",LEN(EC68)=0), TRIM(Settings!$B$21),EC68))","v":""},{"$f":"IF( AND(ED67=\"C\",LEN(ED68)=0), Settings!$B$24, IF(AND(ED67=\"N\",LEN(ED68)=0), TRIM(Settings!$B$21),ED68))","v":""},{"$f":"IF( AND(EE67=\"C\",LEN(EE68)=0), Settings!$B$24, IF(AND(EE67=\"N\",LEN(EE68)=0), TRIM(Settings!$B$21),EE68))","v":""},{"$f":"IF( AND(EF67=\"C\",LEN(EF68)=0), Settings!$B$24, IF(AND(EF67=\"N\",LEN(EF68)=0), TRIM(Settings!$B$21),EF68))","v":""},{"$f":"IF( AND(EG67=\"C\",LEN(EG68)=0), Settings!$B$24, IF(AND(EG67=\"N\",LEN(EG68)=0), TRIM(Settings!$B$21),EG68))","v":""},{"$f":"IF( AND(EH67=\"C\",LEN(EH68)=0), Settings!$B$24, IF(AND(EH67=\"N\",LEN(EH68)=0), TRIM(Settings!$B$21),EH68))","v":""},{"$f":"IF( AND(EI67=\"C\",LEN(EI68)=0), Settings!$B$24, IF(AND(EI67=\"N\",LEN(EI68)=0), TRIM(Settings!$B$21),EI68))","v":""},{"$f":"IF( AND(EJ67=\"C\",LEN(EJ68)=0), Settings!$B$24, IF(AND(EJ67=\"N\",LEN(EJ68)=0), TRIM(Settings!$B$21),EJ68))","v":""},{"$f":"IF( AND(EK67=\"C\",LEN(EK68)=0), Settings!$B$24, IF(AND(EK67=\"N\",LEN(EK68)=0), TRIM(Settings!$B$21),EK68))","v":""},{"$f":"IF( AND(EL67=\"C\",LEN(EL68)=0), Settings!$B$24, IF(AND(EL67=\"N\",LEN(EL68)=0), TRIM(Settings!$B$21),EL68))","v":""},{"$f":"IF( AND(EM67=\"C\",LEN(EM68)=0), Settings!$B$24, IF(AND(EM67=\"N\",LEN(EM68)=0), TRIM(Settings!$B$21),EM68))","v":""},{"$f":"IF( AND(EN67=\"C\",LEN(EN68)=0), Settings!$B$24, IF(AND(EN67=\"N\",LEN(EN68)=0), TRIM(Settings!$B$21),EN68))","v":""},{"$f":"IF( AND(EO67=\"C\",LEN(EO68)=0), Settings!$B$24, IF(AND(EO67=\"N\",LEN(EO68)=0), TRIM(Settings!$B$21),EO68))","v":""},{"$f":"IF( AND(EP67=\"C\",LEN(EP68)=0), Settings!$B$24, IF(AND(EP67=\"N\",LEN(EP68)=0), TRIM(Settings!$B$21),EP68))","v":""},{"$f":"IF( AND(EQ67=\"C\",LEN(EQ68)=0), Settings!$B$24, IF(AND(EQ67=\"N\",LEN(EQ68)=0), TRIM(Settings!$B$21),EQ68))","v":""},{"$f":"IF( AND(ER67=\"C\",LEN(ER68)=0), Settings!$B$24, IF(AND(ER67=\"N\",LEN(ER68)=0), TRIM(Settings!$B$21),ER68))","v":""},{"$f":"IF( AND(ES67=\"C\",LEN(ES68)=0), Settings!$B$24, IF(AND(ES67=\"N\",LEN(ES68)=0), TRIM(Settings!$B$21),ES68))","v":""},{"$f":"IF( AND(ET67=\"C\",LEN(ET68)=0), Settings!$B$24, IF(AND(ET67=\"N\",LEN(ET68)=0), TRIM(Settings!$B$21),ET68))","v":""},{"$f":"IF( AND(EU67=\"C\",LEN(EU68)=0), Settings!$B$24, IF(AND(EU67=\"N\",LEN(EU68)=0), TRIM(Settings!$B$21),EU68))","v":""},{"$f":"IF( AND(EV67=\"C\",LEN(EV68)=0), Settings!$B$24, IF(AND(EV67=\"N\",LEN(EV68)=0), TRIM(Settings!$B$21),EV68))","v":""},{"$f":"IF( AND(EW67=\"C\",LEN(EW68)=0), Settings!$B$24, IF(AND(EW67=\"N\",LEN(EW68)=0), TRIM(Settings!$B$21),EW68))","v":""},{"$f":"IF( AND(EX67=\"C\",LEN(EX68)=0), Settings!$B$24, IF(AND(EX67=\"N\",LEN(EX68)=0), TRIM(Settings!$B$21),EX68))","v":""},{"$f":"IF( AND(EY67=\"C\",LEN(EY68)=0), Settings!$B$24, IF(AND(EY67=\"N\",LEN(EY68)=0), TRIM(Settings!$B$21),EY68))","v":""}]
[null,null,"Column Order",null,null,1,{"$f":"INDIRECT(ADDRESS(ROW(),COLUMN()-1))+1","v":2},{"$f":"INDIRECT(ADDRESS(ROW(),COLUMN()-1))+1","v":3},4,5,6,7,8,9,10,11,12,13,14,15,16,17,18,19,20,21,22,23,24,25,26,27,28,29,30,31,32,33,34,35,36,37,38,39,40,41,42,43,44,45,46,47,48,49,50,51,52,53,54,55,56,57,58,59,60,61,62,63,64,65,66,{"$f":"INDIRECT(ADDRESS(ROW(),COLUMN()-1))+1","v":67},68,69,70,71,72,73,74,75,76,77,78,79,80,81,82,83,84,85,86,87,88,89,90,91,92,93,94,95,96,97,98,99,100,101,102,103,104,105,106,107,108,109,110,111,112,113,114,115,116,117,118,119,120,121,122,123,124,125,126,127,128,129,130,{"$f":"INDIRECT(ADDRESS(ROW(),COLUMN()-1))+1","v":131},132,133,134,135,136,137,138,139,140,141,142,143,144,145,146,147,148,149,150]
[null,null,"BEAM SQL Column",null,null,{"$f":"UPPER(IF(F57=\"Y\",\"\",SUBSTITUTE(TRIM(SUBSTITUTE(F6, CHAR(13),\" \")),\" \",\"_\")))","v":"SUBJECT"},{"$f":"UPPER(IF(G57=\"Y\",\"\",SUBSTITUTE(TRIM(SUBSTITUTE(G6, CHAR(13),\" \")),\" \",\"_\")))","v":"OBJECT"},"EVENT_DATE","","","","","","","","","","","","","","","","","","","","","","","","","","","","","","","","","","","","","","","","","","","","","","","","","","","","","","","","","","","","","","",{"$f":"UPPER(IF(BS57=\"Y\",\"\",SUBSTITUTE(TRIM(SUBSTITUTE(BS6, CHAR(13),\" \")),\" \",\"_\")))","v":""},"","","","","","","","","","","","","","","","","","","","","","","","","","","","","","","","","","","","","","","","","","","","","","","","","","","","","","","","","","","","","","","",{"$f":"UPPER(IF(EE57=\"Y\",\"\",SUBSTITUTE(TRIM(SUBSTITUTE(EE6, CHAR(13),\" \")),\" \",\"_\")))","v":""},"","","","","","","","","","","","","","","","","","","",""]
[null,null,"DDL SQL Column",null,null,{"$f":"IF(LEN(F71)=0,\"\",TRIM(IF(AND($F$55=\"Fact\",F59=\"Y\"),SUBSTITUTE(Settings!$B$13,\"&BEAMColumn\",F71),F71)))","v":"SUBJECT"},{"$f":"IF(LEN(G71)=0,\"\",TRIM(IF(AND($F$55=\"Fact\",G59=\"Y\"),SUBSTITUTE(Settings!$B$13,\"&BEAMColumn\",G71),G71)))","v":"OBJECT"},{"$f":"IF(LEN(H71)=0,\"\",TRIM(IF(AND($F$55=\"Fact\",H59=\"Y\"),SUBSTITUTE(Settings!$B$13,\"&BEAMColumn\",H71),H71)))","v":"EVENT_DATE"},{"$f":"IF(LEN(I71)=0,\"\",TRIM(IF(AND($F$55=\"Fact\",I59=\"Y\"),SUBSTITUTE(Settings!$B$13,\"&BEAMColumn\",I71),I71)))","v":""},{"$f":"IF(LEN(J71)=0,\"\",TRIM(IF(AND($F$55=\"Fact\",J59=\"Y\"),SUBSTITUTE(Settings!$B$13,\"&BEAMColumn\",J71),J71)))","v":""},{"$f":"IF(LEN(K71)=0,\"\",TRIM(IF(AND($F$55=\"Fact\",K59=\"Y\"),SUBSTITUTE(Settings!$B$13,\"&BEAMColumn\",K71),K71)))","v":""},{"$f":"IF(LEN(L71)=0,\"\",TRIM(IF(AND($F$55=\"Fact\",L59=\"Y\"),SUBSTITUTE(Settings!$B$13,\"&BEAMColumn\",L71),L71)))","v":""},{"$f":"IF(LEN(M71)=0,\"\",TRIM(IF(AND($F$55=\"Fact\",M59=\"Y\"),SUBSTITUTE(Settings!$B$13,\"&BEAMColumn\",M71),M71)))","v":""},{"$f":"IF(LEN(N71)=0,\"\",TRIM(IF(AND($F$55=\"Fact\",N59=\"Y\"),SUBSTITUTE(Settings!$B$13,\"&BEAMColumn\",N71),N71)))","v":""},{"$f":"IF(LEN(O71)=0,\"\",TRIM(IF(AND($F$55=\"Fact\",O59=\"Y\"),SUBSTITUTE(Settings!$B$13,\"&BEAMColumn\",O71),O71)))","v":""},{"$f":"IF(LEN(P71)=0,\"\",TRIM(IF(AND($F$55=\"Fact\",P59=\"Y\"),SUBSTITUTE(Settings!$B$13,\"&BEAMColumn\",P71),P71)))","v":""},{"$f":"IF(LEN(Q71)=0,\"\",TRIM(IF(AND($F$55=\"Fact\",Q59=\"Y\"),SUBSTITUTE(Settings!$B$13,\"&BEAMColumn\",Q71),Q71)))","v":""},{"$f":"IF(LEN(R71)=0,\"\",TRIM(IF(AND($F$55=\"Fact\",R59=\"Y\"),SUBSTITUTE(Settings!$B$13,\"&BEAMColumn\",R71),R71)))","v":""},{"$f":"IF(LEN(S71)=0,\"\",TRIM(IF(AND($F$55=\"Fact\",S59=\"Y\"),SUBSTITUTE(Settings!$B$13,\"&BEAMColumn\",S71),S71)))","v":""},{"$f":"IF(LEN(T71)=0,\"\",TRIM(IF(AND($F$55=\"Fact\",T59=\"Y\"),SUBSTITUTE(Settings!$B$13,\"&BEAMColumn\",T71),T71)))","v":""},{"$f":"IF(LEN(U71)=0,\"\",TRIM(IF(AND($F$55=\"Fact\",U59=\"Y\"),SUBSTITUTE(Settings!$B$13,\"&BEAMColumn\",U71),U71)))","v":""},{"$f":"IF(LEN(V71)=0,\"\",TRIM(IF(AND($F$55=\"Fact\",V59=\"Y\"),SUBSTITUTE(Settings!$B$13,\"&BEAMColumn\",V71),V71)))","v":""},{"$f":"IF(LEN(W71)=0,\"\",TRIM(IF(AND($F$55=\"Fact\",W59=\"Y\"),SUBSTITUTE(Settings!$B$13,\"&BEAMColumn\",W71),W71)))","v":""},{"$f":"IF(LEN(X71)=0,\"\",TRIM(IF(AND($F$55=\"Fact\",X59=\"Y\"),SUBSTITUTE(Settings!$B$13,\"&BEAMColumn\",X71),X71)))","v":""},{"$f":"IF(LEN(Y71)=0,\"\",TRIM(IF(AND($F$55=\"Fact\",Y59=\"Y\"),SUBSTITUTE(Settings!$B$13,\"&BEAMColumn\",Y71),Y71)))","v":""},{"$f":"IF(LEN(Z71)=0,\"\",TRIM(IF(AND($F$55=\"Fact\",Z59=\"Y\"),SUBSTITUTE(Settings!$B$13,\"&BEAMColumn\",Z71),Z71)))","v":""},{"$f":"IF(LEN(AA71)=0,\"\",TRIM(IF(AND($F$55=\"Fact\",AA59=\"Y\"),SUBSTITUTE(Settings!$B$13,\"&BEAMColumn\",AA71),AA71)))","v":""},{"$f":"IF(LEN(AB71)=0,\"\",TRIM(IF(AND($F$55=\"Fact\",AB59=\"Y\"),SUBSTITUTE(Settings!$B$13,\"&BEAMColumn\",AB71),AB71)))","v":""},{"$f":"IF(LEN(AC71)=0,\"\",TRIM(IF(AND($F$55=\"Fact\",AC59=\"Y\"),SUBSTITUTE(Settings!$B$13,\"&BEAMColumn\",AC71),AC71)))","v":""},{"$f":"IF(LEN(AD71)=0,\"\",TRIM(IF(AND($F$55=\"Fact\",AD59=\"Y\"),SUBSTITUTE(Settings!$B$13,\"&BEAMColumn\",AD71),AD71)))","v":""},{"$f":"IF(LEN(AE71)=0,\"\",TRIM(IF(AND($F$55=\"Fact\",AE59=\"Y\"),SUBSTITUTE(Settings!$B$13,\"&BEAMColumn\",AE71),AE71)))","v":""},{"$f":"IF(LEN(AF71)=0,\"\",TRIM(IF(AND($F$55=\"Fact\",AF59=\"Y\"),SUBSTITUTE(Settings!$B$13,\"&BEAMColumn\",AF71),AF71)))","v":""},{"$f":"IF(LEN(AG71)=0,\"\",TRIM(IF(AND($F$55=\"Fact\",AG59=\"Y\"),SUBSTITUTE(Settings!$B$13,\"&BEAMColumn\",AG71),AG71)))","v":""},{"$f":"IF(LEN(AH71)=0,\"\",TRIM(IF(AND($F$55=\"Fact\",AH59=\"Y\"),SUBSTITUTE(Settings!$B$13,\"&BEAMColumn\",AH71),AH71)))","v":""},{"$f":"IF(LEN(AI71)=0,\"\",TRIM(IF(AND($F$55=\"Fact\",AI59=\"Y\"),SUBSTITUTE(Settings!$B$13,\"&BEAMColumn\",AI71),AI71)))","v":""},{"$f":"IF(LEN(AJ71)=0,\"\",TRIM(IF(AND($F$55=\"Fact\",AJ59=\"Y\"),SUBSTITUTE(Settings!$B$13,\"&BEAMColumn\",AJ71),AJ71)))","v":""},{"$f":"IF(LEN(AK71)=0,\"\",TRIM(IF(AND($F$55=\"Fact\",AK59=\"Y\"),SUBSTITUTE(Settings!$B$13,\"&BEAMColumn\",AK71),AK71)))","v":""},{"$f":"IF(LEN(AL71)=0,\"\",TRIM(IF(AND($F$55=\"Fact\",AL59=\"Y\"),SUBSTITUTE(Settings!$B$13,\"&BEAMColumn\",AL71),AL71)))","v":""},{"$f":"IF(LEN(AM71)=0,\"\",TRIM(IF(AND($F$55=\"Fact\",AM59=\"Y\"),SUBSTITUTE(Settings!$B$13,\"&BEAMColumn\",AM71),AM71)))","v":""},{"$f":"IF(LEN(AN71)=0,\"\",TRIM(IF(AND($F$55=\"Fact\",AN59=\"Y\"),SUBSTITUTE(Settings!$B$13,\"&BEAMColumn\",AN71),AN71)))","v":""},{"$f":"IF(LEN(AO71)=0,\"\",TRIM(IF(AND($F$55=\"Fact\",AO59=\"Y\"),SUBSTITUTE(Settings!$B$13,\"&BEAMColumn\",AO71),AO71)))","v":""},{"$f":"IF(LEN(AP71)=0,\"\",TRIM(IF(AND($F$55=\"Fact\",AP59=\"Y\"),SUBSTITUTE(Settings!$B$13,\"&BEAMColumn\",AP71),AP71)))","v":""},{"$f":"IF(LEN(AQ71)=0,\"\",TRIM(IF(AND($F$55=\"Fact\",AQ59=\"Y\"),SUBSTITUTE(Settings!$B$13,\"&BEAMColumn\",AQ71),AQ71)))","v":""},{"$f":"IF(LEN(AR71)=0,\"\",TRIM(IF(AND($F$55=\"Fact\",AR59=\"Y\"),SUBSTITUTE(Settings!$B$13,\"&BEAMColumn\",AR71),AR71)))","v":""},{"$f":"IF(LEN(AS71)=0,\"\",TRIM(IF(AND($F$55=\"Fact\",AS59=\"Y\"),SUBSTITUTE(Settings!$B$13,\"&BEAMColumn\",AS71),AS71)))","v":""},{"$f":"IF(LEN(AT71)=0,\"\",TRIM(IF(AND($F$55=\"Fact\",AT59=\"Y\"),SUBSTITUTE(Settings!$B$13,\"&BEAMColumn\",AT71),AT71)))","v":""},{"$f":"IF(LEN(AU71)=0,\"\",TRIM(IF(AND($F$55=\"Fact\",AU59=\"Y\"),SUBSTITUTE(Settings!$B$13,\"&BEAMColumn\",AU71),AU71)))","v":""},{"$f":"IF(LEN(AV71)=0,\"\",TRIM(IF(AND($F$55=\"Fact\",AV59=\"Y\"),SUBSTITUTE(Settings!$B$13,\"&BEAMColumn\",AV71),AV71)))","v":""},{"$f":"IF(LEN(AW71)=0,\"\",TRIM(IF(AND($F$55=\"Fact\",AW59=\"Y\"),SUBSTITUTE(Settings!$B$13,\"&BEAMColumn\",AW71),AW71)))","v":""},{"$f":"IF(LEN(AX71)=0,\"\",TRIM(IF(AND($F$55=\"Fact\",AX59=\"Y\"),SUBSTITUTE(Settings!$B$13,\"&BEAMColumn\",AX71),AX71)))","v":""},{"$f":"IF(LEN(AY71)=0,\"\",TRIM(IF(AND($F$55=\"Fact\",AY59=\"Y\"),SUBSTITUTE(Settings!$B$13,\"&BEAMColumn\",AY71),AY71)))","v":""},{"$f":"IF(LEN(AZ71)=0,\"\",TRIM(IF(AND($F$55=\"Fact\",AZ59=\"Y\"),SUBSTITUTE(Settings!$B$13,\"&BEAMColumn\",AZ71),AZ71)))","v":""},{"$f":"IF(LEN(BA71)=0,\"\",TRIM(IF(AND($F$55=\"Fact\",BA59=\"Y\"),SUBSTITUTE(Settings!$B$13,\"&BEAMColumn\",BA71),BA71)))","v":""},{"$f":"IF(LEN(BB71)=0,\"\",TRIM(IF(AND($F$55=\"Fact\",BB59=\"Y\"),SUBSTITUTE(Settings!$B$13,\"&BEAMColumn\",BB71),BB71)))","v":""},{"$f":"IF(LEN(BC71)=0,\"\",TRIM(IF(AND($F$55=\"Fact\",BC59=\"Y\"),SUBSTITUTE(Settings!$B$13,\"&BEAMColumn\",BC71),BC71)))","v":""},{"$f":"IF(LEN(BD71)=0,\"\",TRIM(IF(AND($F$55=\"Fact\",BD59=\"Y\"),SUBSTITUTE(Settings!$B$13,\"&BEAMColumn\",BD71),BD71)))","v":""},{"$f":"IF(LEN(BE71)=0,\"\",TRIM(IF(AND($F$55=\"Fact\",BE59=\"Y\"),SUBSTITUTE(Settings!$B$13,\"&BEAMColumn\",BE71),BE71)))","v":""},{"$f":"IF(LEN(BF71)=0,\"\",TRIM(IF(AND($F$55=\"Fact\",BF59=\"Y\"),SUBSTITUTE(Settings!$B$13,\"&BEAMColumn\",BF71),BF71)))","v":""},{"$f":"IF(LEN(BG71)=0,\"\",TRIM(IF(AND($F$55=\"Fact\",BG59=\"Y\"),SUBSTITUTE(Settings!$B$13,\"&BEAMColumn\",BG71),BG71)))","v":""},{"$f":"IF(LEN(BH71)=0,\"\",TRIM(IF(AND($F$55=\"Fact\",BH59=\"Y\"),SUBSTITUTE(Settings!$B$13,\"&BEAMColumn\",BH71),BH71)))","v":""},{"$f":"IF(LEN(BI71)=0,\"\",TRIM(IF(AND($F$55=\"Fact\",BI59=\"Y\"),SUBSTITUTE(Settings!$B$13,\"&BEAMColumn\",BI71),BI71)))","v":""},{"$f":"IF(LEN(BJ71)=0,\"\",TRIM(IF(AND($F$55=\"Fact\",BJ59=\"Y\"),SUBSTITUTE(Settings!$B$13,\"&BEAMColumn\",BJ71),BJ71)))","v":""},{"$f":"IF(LEN(BK71)=0,\"\",TRIM(IF(AND($F$55=\"Fact\",BK59=\"Y\"),SUBSTITUTE(Settings!$B$13,\"&BEAMColumn\",BK71),BK71)))","v":""},{"$f":"IF(LEN(BL71)=0,\"\",TRIM(IF(AND($F$55=\"Fact\",BL59=\"Y\"),SUBSTITUTE(Settings!$B$13,\"&BEAMColumn\",BL71),BL71)))","v":""},{"$f":"IF(LEN(BM71)=0,\"\",TRIM(IF(AND($F$55=\"Fact\",BM59=\"Y\"),SUBSTITUTE(Settings!$B$13,\"&BEAMColumn\",BM71),BM71)))","v":""},{"$f":"IF(LEN(BN71)=0,\"\",TRIM(IF(AND($F$55=\"Fact\",BN59=\"Y\"),SUBSTITUTE(Settings!$B$13,\"&BEAMColumn\",BN71),BN71)))","v":""},{"$f":"IF(LEN(BO71)=0,\"\",TRIM(IF(AND($F$55=\"Fact\",BO59=\"Y\"),SUBSTITUTE(Settings!$B$13,\"&BEAMColumn\",BO71),BO71)))","v":""},{"$f":"IF(LEN(BP71)=0,\"\",TRIM(IF(AND($F$55=\"Fact\",BP59=\"Y\"),SUBSTITUTE(Settings!$B$13,\"&BEAMColumn\",BP71),BP71)))","v":""},{"$f":"IF(LEN(BQ71)=0,\"\",TRIM(IF(AND($F$55=\"Fact\",BQ59=\"Y\"),SUBSTITUTE(Settings!$B$13,\"&BEAMColumn\",BQ71),BQ71)))","v":""},{"$f":"IF(LEN(BR71)=0,\"\",TRIM(IF(AND($F$55=\"Fact\",BR59=\"Y\"),SUBSTITUTE(Settings!$B$13,\"&BEAMColumn\",BR71),BR71)))","v":""},{"$f":"IF(LEN(BS71)=0,\"\",TRIM(IF(AND($F$55=\"Fact\",BS59=\"Y\"),SUBSTITUTE(Settings!$B$13,\"&BEAMColumn\",BS71),BS71)))","v":""},{"$f":"IF(LEN(BT71)=0,\"\",TRIM(IF(AND($F$55=\"Fact\",BT59=\"Y\"),SUBSTITUTE(Settings!$B$13,\"&BEAMColumn\",BT71),BT71)))","v":""},{"$f":"IF(LEN(BU71)=0,\"\",TRIM(IF(AND($F$55=\"Fact\",BU59=\"Y\"),SUBSTITUTE(Settings!$B$13,\"&BEAMColumn\",BU71),BU71)))","v":""},{"$f":"IF(LEN(BV71)=0,\"\",TRIM(IF(AND($F$55=\"Fact\",BV59=\"Y\"),SUBSTITUTE(Settings!$B$13,\"&BEAMColumn\",BV71),BV71)))","v":""},{"$f":"IF(LEN(BW71)=0,\"\",TRIM(IF(AND($F$55=\"Fact\",BW59=\"Y\"),SUBSTITUTE(Settings!$B$13,\"&BEAMColumn\",BW71),BW71)))","v":""},{"$f":"IF(LEN(BX71)=0,\"\",TRIM(IF(AND($F$55=\"Fact\",BX59=\"Y\"),SUBSTITUTE(Settings!$B$13,\"&BEAMColumn\",BX71),BX71)))","v":""},{"$f":"IF(LEN(BY71)=0,\"\",TRIM(IF(AND($F$55=\"Fact\",BY59=\"Y\"),SUBSTITUTE(Settings!$B$13,\"&BEAMColumn\",BY71),BY71)))","v":""},{"$f":"IF(LEN(BZ71)=0,\"\",TRIM(IF(AND($F$55=\"Fact\",BZ59=\"Y\"),SUBSTITUTE(Settings!$B$13,\"&BEAMColumn\",BZ71),BZ71)))","v":""},{"$f":"IF(LEN(CA71)=0,\"\",TRIM(IF(AND($F$55=\"Fact\",CA59=\"Y\"),SUBSTITUTE(Settings!$B$13,\"&BEAMColumn\",CA71),CA71)))","v":""},{"$f":"IF(LEN(CB71)=0,\"\",TRIM(IF(AND($F$55=\"Fact\",CB59=\"Y\"),SUBSTITUTE(Settings!$B$13,\"&BEAMColumn\",CB71),CB71)))","v":""},{"$f":"IF(LEN(CC71)=0,\"\",TRIM(IF(AND($F$55=\"Fact\",CC59=\"Y\"),SUBSTITUTE(Settings!$B$13,\"&BEAMColumn\",CC71),CC71)))","v":""},{"$f":"IF(LEN(CD71)=0,\"\",TRIM(IF(AND($F$55=\"Fact\",CD59=\"Y\"),SUBSTITUTE(Settings!$B$13,\"&BEAMColumn\",CD71),CD71)))","v":""},{"$f":"IF(LEN(CE71)=0,\"\",TRIM(IF(AND($F$55=\"Fact\",CE59=\"Y\"),SUBSTITUTE(Settings!$B$13,\"&BEAMColumn\",CE71),CE71)))","v":""},{"$f":"IF(LEN(CF71)=0,\"\",TRIM(IF(AND($F$55=\"Fact\",CF59=\"Y\"),SUBSTITUTE(Settings!$B$13,\"&BEAMColumn\",CF71),CF71)))","v":""},{"$f":"IF(LEN(CG71)=0,\"\",TRIM(IF(AND($F$55=\"Fact\",CG59=\"Y\"),SUBSTITUTE(Settings!$B$13,\"&BEAMColumn\",CG71),CG71)))","v":""},{"$f":"IF(LEN(CH71)=0,\"\",TRIM(IF(AND($F$55=\"Fact\",CH59=\"Y\"),SUBSTITUTE(Settings!$B$13,\"&BEAMColumn\",CH71),CH71)))","v":""},{"$f":"IF(LEN(CI71)=0,\"\",TRIM(IF(AND($F$55=\"Fact\",CI59=\"Y\"),SUBSTITUTE(Settings!$B$13,\"&BEAMColumn\",CI71),CI71)))","v":""},{"$f":"IF(LEN(CJ71)=0,\"\",TRIM(IF(AND($F$55=\"Fact\",CJ59=\"Y\"),SUBSTITUTE(Settings!$B$13,\"&BEAMColumn\",CJ71),CJ71)))","v":""},{"$f":"IF(LEN(CK71)=0,\"\",TRIM(IF(AND($F$55=\"Fact\",CK59=\"Y\"),SUBSTITUTE(Settings!$B$13,\"&BEAMColumn\",CK71),CK71)))","v":""},{"$f":"IF(LEN(CL71)=0,\"\",TRIM(IF(AND($F$55=\"Fact\",CL59=\"Y\"),SUBSTITUTE(Settings!$B$13,\"&BEAMColumn\",CL71),CL71)))","v":""},{"$f":"IF(LEN(CM71)=0,\"\",TRIM(IF(AND($F$55=\"Fact\",CM59=\"Y\"),SUBSTITUTE(Settings!$B$13,\"&BEAMColumn\",CM71),CM71)))","v":""},{"$f":"IF(LEN(CN71)=0,\"\",TRIM(IF(AND($F$55=\"Fact\",CN59=\"Y\"),SUBSTITUTE(Settings!$B$13,\"&BEAMColumn\",CN71),CN71)))","v":""},{"$f":"IF(LEN(CO71)=0,\"\",TRIM(IF(AND($F$55=\"Fact\",CO59=\"Y\"),SUBSTITUTE(Settings!$B$13,\"&BEAMColumn\",CO71),CO71)))","v":""},{"$f":"IF(LEN(CP71)=0,\"\",TRIM(IF(AND($F$55=\"Fact\",CP59=\"Y\"),SUBSTITUTE(Settings!$B$13,\"&BEAMColumn\",CP71),CP71)))","v":""},{"$f":"IF(LEN(CQ71)=0,\"\",TRIM(IF(AND($F$55=\"Fact\",CQ59=\"Y\"),SUBSTITUTE(Settings!$B$13,\"&BEAMColumn\",CQ71),CQ71)))","v":""},{"$f":"IF(LEN(CR71)=0,\"\",TRIM(IF(AND($F$55=\"Fact\",CR59=\"Y\"),SUBSTITUTE(Settings!$B$13,\"&BEAMColumn\",CR71),CR71)))","v":""},{"$f":"IF(LEN(CS71)=0,\"\",TRIM(IF(AND($F$55=\"Fact\",CS59=\"Y\"),SUBSTITUTE(Settings!$B$13,\"&BEAMColumn\",CS71),CS71)))","v":""},{"$f":"IF(LEN(CT71)=0,\"\",TRIM(IF(AND($F$55=\"Fact\",CT59=\"Y\"),SUBSTITUTE(Settings!$B$13,\"&BEAMColumn\",CT71),CT71)))","v":""},{"$f":"IF(LEN(CU71)=0,\"\",TRIM(IF(AND($F$55=\"Fact\",CU59=\"Y\"),SUBSTITUTE(Settings!$B$13,\"&BEAMColumn\",CU71),CU71)))","v":""},{"$f":"IF(LEN(CV71)=0,\"\",TRIM(IF(AND($F$55=\"Fact\",CV59=\"Y\"),SUBSTITUTE(Settings!$B$13,\"&BEAMColumn\",CV71),CV71)))","v":""},{"$f":"IF(LEN(CW71)=0,\"\",TRIM(IF(AND($F$55=\"Fact\",CW59=\"Y\"),SUBSTITUTE(Settings!$B$13,\"&BEAMColumn\",CW71),CW71)))","v":""},{"$f":"IF(LEN(CX71)=0,\"\",TRIM(IF(AND($F$55=\"Fact\",CX59=\"Y\"),SUBSTITUTE(Settings!$B$13,\"&BEAMColumn\",CX71),CX71)))","v":""},{"$f":"IF(LEN(CY71)=0,\"\",TRIM(IF(AND($F$55=\"Fact\",CY59=\"Y\"),SUBSTITUTE(Settings!$B$13,\"&BEAMColumn\",CY71),CY71)))","v":""},{"$f":"IF(LEN(CZ71)=0,\"\",TRIM(IF(AND($F$55=\"Fact\",CZ59=\"Y\"),SUBSTITUTE(Settings!$B$13,\"&BEAMColumn\",CZ71),CZ71)))","v":""},{"$f":"IF(LEN(DA71)=0,\"\",TRIM(IF(AND($F$55=\"Fact\",DA59=\"Y\"),SUBSTITUTE(Settings!$B$13,\"&BEAMColumn\",DA71),DA71)))","v":""},{"$f":"IF(LEN(DB71)=0,\"\",TRIM(IF(AND($F$55=\"Fact\",DB59=\"Y\"),SUBSTITUTE(Settings!$B$13,\"&BEAMColumn\",DB71),DB71)))","v":""},{"$f":"IF(LEN(DC71)=0,\"\",TRIM(IF(AND($F$55=\"Fact\",DC59=\"Y\"),SUBSTITUTE(Settings!$B$13,\"&BEAMColumn\",DC71),DC71)))","v":""},{"$f":"IF(LEN(DD71)=0,\"\",TRIM(IF(AND($F$55=\"Fact\",DD59=\"Y\"),SUBSTITUTE(Settings!$B$13,\"&BEAMColumn\",DD71),DD71)))","v":""},{"$f":"IF(LEN(DE71)=0,\"\",TRIM(IF(AND($F$55=\"Fact\",DE59=\"Y\"),SUBSTITUTE(Settings!$B$13,\"&BEAMColumn\",DE71),DE71)))","v":""},{"$f":"IF(LEN(DF71)=0,\"\",TRIM(IF(AND($F$55=\"Fact\",DF59=\"Y\"),SUBSTITUTE(Settings!$B$13,\"&BEAMColumn\",DF71),DF71)))","v":""},{"$f":"IF(LEN(DG71)=0,\"\",TRIM(IF(AND($F$55=\"Fact\",DG59=\"Y\"),SUBSTITUTE(Settings!$B$13,\"&BEAMColumn\",DG71),DG71)))","v":""},{"$f":"IF(LEN(DH71)=0,\"\",TRIM(IF(AND($F$55=\"Fact\",DH59=\"Y\"),SUBSTITUTE(Settings!$B$13,\"&BEAMColumn\",DH71),DH71)))","v":""},{"$f":"IF(LEN(DI71)=0,\"\",TRIM(IF(AND($F$55=\"Fact\",DI59=\"Y\"),SUBSTITUTE(Settings!$B$13,\"&BEAMColumn\",DI71),DI71)))","v":""},{"$f":"IF(LEN(DJ71)=0,\"\",TRIM(IF(AND($F$55=\"Fact\",DJ59=\"Y\"),SUBSTITUTE(Settings!$B$13,\"&BEAMColumn\",DJ71),DJ71)))","v":""},{"$f":"IF(LEN(DK71)=0,\"\",TRIM(IF(AND($F$55=\"Fact\",DK59=\"Y\"),SUBSTITUTE(Settings!$B$13,\"&BEAMColumn\",DK71),DK71)))","v":""},{"$f":"IF(LEN(DL71)=0,\"\",TRIM(IF(AND($F$55=\"Fact\",DL59=\"Y\"),SUBSTITUTE(Settings!$B$13,\"&BEAMColumn\",DL71),DL71)))","v":""},{"$f":"IF(LEN(DM71)=0,\"\",TRIM(IF(AND($F$55=\"Fact\",DM59=\"Y\"),SUBSTITUTE(Settings!$B$13,\"&BEAMColumn\",DM71),DM71)))","v":""},{"$f":"IF(LEN(DN71)=0,\"\",TRIM(IF(AND($F$55=\"Fact\",DN59=\"Y\"),SUBSTITUTE(Settings!$B$13,\"&BEAMColumn\",DN71),DN71)))","v":""},{"$f":"IF(LEN(DO71)=0,\"\",TRIM(IF(AND($F$55=\"Fact\",DO59=\"Y\"),SUBSTITUTE(Settings!$B$13,\"&BEAMColumn\",DO71),DO71)))","v":""},{"$f":"IF(LEN(DP71)=0,\"\",TRIM(IF(AND($F$55=\"Fact\",DP59=\"Y\"),SUBSTITUTE(Settings!$B$13,\"&BEAMColumn\",DP71),DP71)))","v":""},{"$f":"IF(LEN(DQ71)=0,\"\",TRIM(IF(AND($F$55=\"Fact\",DQ59=\"Y\"),SUBSTITUTE(Settings!$B$13,\"&BEAMColumn\",DQ71),DQ71)))","v":""},{"$f":"IF(LEN(DR71)=0,\"\",TRIM(IF(AND($F$55=\"Fact\",DR59=\"Y\"),SUBSTITUTE(Settings!$B$13,\"&BEAMColumn\",DR71),DR71)))","v":""},{"$f":"IF(LEN(DS71)=0,\"\",TRIM(IF(AND($F$55=\"Fact\",DS59=\"Y\"),SUBSTITUTE(Settings!$B$13,\"&BEAMColumn\",DS71),DS71)))","v":""},{"$f":"IF(LEN(DT71)=0,\"\",TRIM(IF(AND($F$55=\"Fact\",DT59=\"Y\"),SUBSTITUTE(Settings!$B$13,\"&BEAMColumn\",DT71),DT71)))","v":""},{"$f":"IF(LEN(DU71)=0,\"\",TRIM(IF(AND($F$55=\"Fact\",DU59=\"Y\"),SUBSTITUTE(Settings!$B$13,\"&BEAMColumn\",DU71),DU71)))","v":""},{"$f":"IF(LEN(DV71)=0,\"\",TRIM(IF(AND($F$55=\"Fact\",DV59=\"Y\"),SUBSTITUTE(Settings!$B$13,\"&BEAMColumn\",DV71),DV71)))","v":""},{"$f":"IF(LEN(DW71)=0,\"\",TRIM(IF(AND($F$55=\"Fact\",DW59=\"Y\"),SUBSTITUTE(Settings!$B$13,\"&BEAMColumn\",DW71),DW71)))","v":""},{"$f":"IF(LEN(DX71)=0,\"\",TRIM(IF(AND($F$55=\"Fact\",DX59=\"Y\"),SUBSTITUTE(Settings!$B$13,\"&BEAMColumn\",DX71),DX71)))","v":""},{"$f":"IF(LEN(DY71)=0,\"\",TRIM(IF(AND($F$55=\"Fact\",DY59=\"Y\"),SUBSTITUTE(Settings!$B$13,\"&BEAMColumn\",DY71),DY71)))","v":""},{"$f":"IF(LEN(DZ71)=0,\"\",TRIM(IF(AND($F$55=\"Fact\",DZ59=\"Y\"),SUBSTITUTE(Settings!$B$13,\"&BEAMColumn\",DZ71),DZ71)))","v":""},{"$f":"IF(LEN(EA71)=0,\"\",TRIM(IF(AND($F$55=\"Fact\",EA59=\"Y\"),SUBSTITUTE(Settings!$B$13,\"&BEAMColumn\",EA71),EA71)))","v":""},{"$f":"IF(LEN(EB71)=0,\"\",TRIM(IF(AND($F$55=\"Fact\",EB59=\"Y\"),SUBSTITUTE(Settings!$B$13,\"&BEAMColumn\",EB71),EB71)))","v":""},{"$f":"IF(LEN(EC71)=0,\"\",TRIM(IF(AND($F$55=\"Fact\",EC59=\"Y\"),SUBSTITUTE(Settings!$B$13,\"&BEAMColumn\",EC71),EC71)))","v":""},{"$f":"IF(LEN(ED71)=0,\"\",TRIM(IF(AND($F$55=\"Fact\",ED59=\"Y\"),SUBSTITUTE(Settings!$B$13,\"&BEAMColumn\",ED71),ED71)))","v":""},{"$f":"IF(LEN(EE71)=0,\"\",TRIM(IF(AND($F$55=\"Fact\",EE59=\"Y\"),SUBSTITUTE(Settings!$B$13,\"&BEAMColumn\",EE71),EE71)))","v":""},{"$f":"IF(LEN(EF71)=0,\"\",TRIM(IF(AND($F$55=\"Fact\",EF59=\"Y\"),SUBSTITUTE(Settings!$B$13,\"&BEAMColumn\",EF71),EF71)))","v":""},{"$f":"IF(LEN(EG71)=0,\"\",TRIM(IF(AND($F$55=\"Fact\",EG59=\"Y\"),SUBSTITUTE(Settings!$B$13,\"&BEAMColumn\",EG71),EG71)))","v":""},{"$f":"IF(LEN(EH71)=0,\"\",TRIM(IF(AND($F$55=\"Fact\",EH59=\"Y\"),SUBSTITUTE(Settings!$B$13,\"&BEAMColumn\",EH71),EH71)))","v":""},{"$f":"IF(LEN(EI71)=0,\"\",TRIM(IF(AND($F$55=\"Fact\",EI59=\"Y\"),SUBSTITUTE(Settings!$B$13,\"&BEAMColumn\",EI71),EI71)))","v":""},{"$f":"IF(LEN(EJ71)=0,\"\",TRIM(IF(AND($F$55=\"Fact\",EJ59=\"Y\"),SUBSTITUTE(Settings!$B$13,\"&BEAMColumn\",EJ71),EJ71)))","v":""},{"$f":"IF(LEN(EK71)=0,\"\",TRIM(IF(AND($F$55=\"Fact\",EK59=\"Y\"),SUBSTITUTE(Settings!$B$13,\"&BEAMColumn\",EK71),EK71)))","v":""},{"$f":"IF(LEN(EL71)=0,\"\",TRIM(IF(AND($F$55=\"Fact\",EL59=\"Y\"),SUBSTITUTE(Settings!$B$13,\"&BEAMColumn\",EL71),EL71)))","v":""},{"$f":"IF(LEN(EM71)=0,\"\",TRIM(IF(AND($F$55=\"Fact\",EM59=\"Y\"),SUBSTITUTE(Settings!$B$13,\"&BEAMColumn\",EM71),EM71)))","v":""},{"$f":"IF(LEN(EN71)=0,\"\",TRIM(IF(AND($F$55=\"Fact\",EN59=\"Y\"),SUBSTITUTE(Settings!$B$13,\"&BEAMColumn\",EN71),EN71)))","v":""},{"$f":"IF(LEN(EO71)=0,\"\",TRIM(IF(AND($F$55=\"Fact\",EO59=\"Y\"),SUBSTITUTE(Settings!$B$13,\"&BEAMColumn\",EO71),EO71)))","v":""},{"$f":"IF(LEN(EP71)=0,\"\",TRIM(IF(AND($F$55=\"Fact\",EP59=\"Y\"),SUBSTITUTE(Settings!$B$13,\"&BEAMColumn\",EP71),EP71)))","v":""},{"$f":"IF(LEN(EQ71)=0,\"\",TRIM(IF(AND($F$55=\"Fact\",EQ59=\"Y\"),SUBSTITUTE(Settings!$B$13,\"&BEAMColumn\",EQ71),EQ71)))","v":""},{"$f":"IF(LEN(ER71)=0,\"\",TRIM(IF(AND($F$55=\"Fact\",ER59=\"Y\"),SUBSTITUTE(Settings!$B$13,\"&BEAMColumn\",ER71),ER71)))","v":""},{"$f":"IF(LEN(ES71)=0,\"\",TRIM(IF(AND($F$55=\"Fact\",ES59=\"Y\"),SUBSTITUTE(Settings!$B$13,\"&BEAMColumn\",ES71),ES71)))","v":""},{"$f":"IF(LEN(ET71)=0,\"\",TRIM(IF(AND($F$55=\"Fact\",ET59=\"Y\"),SUBSTITUTE(Settings!$B$13,\"&BEAMColumn\",ET71),ET71)))","v":""},{"$f":"IF(LEN(EU71)=0,\"\",TRIM(IF(AND($F$55=\"Fact\",EU59=\"Y\"),SUBSTITUTE(Settings!$B$13,\"&BEAMColumn\",EU71),EU71)))","v":""},{"$f":"IF(LEN(EV71)=0,\"\",TRIM(IF(AND($F$55=\"Fact\",EV59=\"Y\"),SUBSTITUTE(Settings!$B$13,\"&BEAMColumn\",EV71),EV71)))","v":""},{"$f":"IF(LEN(EW71)=0,\"\",TRIM(IF(AND($F$55=\"Fact\",EW59=\"Y\"),SUBSTITUTE(Settings!$B$13,\"&BEAMColumn\",EW71),EW71)))","v":""},{"$f":"IF(LEN(EX71)=0,\"\",TRIM(IF(AND($F$55=\"Fact\",EX59=\"Y\"),SUBSTITUTE(Settings!$B$13,\"&BEAMColumn\",EX71),EX71)))","v":""},{"$f":"IF(LEN(EY71)=0,\"\",TRIM(IF(AND($F$55=\"Fact\",EY59=\"Y\"),SUBSTITUTE(Settings!$B$13,\"&BEAMColumn\",EY71),EY71)))","v":""}]
[null,null,"Max Column Name Length",null,null,{"$f":"MAX(MAX(LEN(F72:AX72)),LEN(F45))","v":10}]
[]
[null,null,"Diagram Column Name <CR>",null,null,{"$f":"IF(OR(LEN(F72)=0,F58=\"Y\"),\"\",CONCATENATE(F72, CHAR(13)))","v":"SUBJECT\r"},{"$f":"IF(OR(LEN(G72)=0,G58=\"Y\"),\"\",CONCATENATE(G72, CHAR(13)))","v":"OBJECT\r"},"EVENT_DATE\r","","","","","","","","","","","","","","","","","","","","","","","","","","","","","","","","","","","","","","","","","","","","","","","","","","","","","","","","","","","","","","",{"$f":"IF(OR(LEN(BS72)=0,BS58=\"Y\"),\"\",CONCATENATE(BS72, CHAR(13)))","v":""},"","","","","","","","","","","","","","","","","","","","","","","","","","","","","","","","","","","","","","","","","","","","","","","","","","","","","","","","","","","","","","","",{"$f":"IF(OR(LEN(EE72)=0,EE58=\"Y\"),\"\",CONCATENATE(EE72, CHAR(13)))","v":""},"","","","","","","","","","","","","","","","","","","",""]
[null,null,"Diagram Key Column",null,null,{"$f":"IF(F63=\"Y\",F75,\"\")","v":""},{"$f":"IF(G63=\"Y\",G75,\"\")","v":""},"","","","","","","","","","","","","","","","","","","","","","","","","","","","","","","","","","","","","","","","","","","","","","","","","","","","","","","","","","","","","","","",{"$f":"IF(BS63=\"Y\",BS75,\"\")","v":""},"","","","","","","","","","","","","","","","","","","","","","","","","","","","","","","","","","","","","","","","","","","","","","","","","","","","","","","","","","","","","","","",{"$f":"IF(EE63=\"Y\",EE75,\"\")","v":""},"","","","","","","","","","","","","","","","","","","",""]
[null,null,"Diagram Key Column List \n(previous columns)",{"$nulls":3},{"$f":"INDIRECT(ADDRESS(ROW()+1,COLUMN()-1))","v":""},{"$f":"INDIRECT(ADDRESS(ROW()+1,COLUMN()-1))","v":""},"","","","","","","","","","","","","","","","","","","","","","","","","","","","","","","","","","","","","","","","","","","","","","","","","","","","","","","","","","","","","","","",{"$f":"INDIRECT(ADDRESS(ROW()+1,COLUMN()-1))","v":""},"","","","","","","","","","","","","","","","","","","","","","","","","","","","","","","","","","","","","","","","","","","","","","","","","","","","","","","","","","","","","","","",{"$f":"INDIRECT(ADDRESS(ROW()+1,COLUMN()-1))","v":""},"","","","","","","","","","","","","","","","","","",""]
[null,null,"Diagram Key Column List",null,null,{"$f":"F76","v":""},{"$f":"IF(NOT(ISERROR(FIND(\"...\",G77))),G77,IF(LEN(G77)>226,G77&\"...\"&CHAR(13),G77&G76))","v":""},"","","","","","","","","","","","","","","","","","","","","","","","","","","","","","","","","","","","","","","","","","","","","","","","","","","","","","","","","","","","","","","",{"$f":"IF(NOT(ISERROR(FIND(\"...\",BS77))),BS77,IF(LEN(BS77)>226,BS77&\"...\"&CHAR(13),BS77&BS76))","v":""},"","","","","","","","","","","","","","","","","","","","","","","","","","","","","","","","","","","","","","","","","","","","","","","","","","","","","","","","","","","","","","","",{"$f":"IF(NOT(ISERROR(FIND(\"...\",EE77))),EE77,IF(LEN(EE77)>226,EE77&\"...\"&CHAR(13),EE77&EE76))","v":""},"","","","","","","","","","","","","","","","","","","",""]
[]
[null,null,"Diagram Non-Key Column",null,null,{"$f":"IF(F63=\"Y\",\"\", F75)","v":"SUBJECT\r"},{"$f":"IF(G63=\"Y\",\"\", G75)","v":"OBJECT\r"},"EVENT_DATE\r","","","","","","","","","","","","","","","","","","","","","","","","","","","","","","","","","","","","","","","","","","","","","","","","","","","","","","","","","","","","","","",{"$f":"IF(BS63=\"Y\",\"\", BS75)","v":""},"","","","","","","","","","","","","","","","","","","","","","","","","","","","","","","","","","","","","","","","","","","","","","","","","","","","","","","","","","","","","","","",{"$f":"IF(EE63=\"Y\",\"\", EE75)","v":""},"","","","","","","","","","","","","","","","","","","",""]
[null,null,"Column List\n (up to previous column)",null,null,{"$f":"IF(LEN(G117)=0,\"\",G117 & CHAR(13))","v":""},{"$f":"INDIRECT(ADDRESS(ROW()+1,COLUMN()-1))","v":"SUBJECT\r"},{"$f":"INDIRECT(ADDRESS(ROW()+1,COLUMN()-1))","v":"SUBJECT\rOBJECT\r"},"SUBJECT\rOBJECT\rEVENT_DATE\r","SUBJECT\rOBJECT\rEVENT_DATE\r","SUBJECT\rOBJECT\rEVENT_DATE\r","SUBJECT\rOBJECT\rEVENT_DATE\r","SUBJECT\rOBJECT\rEVENT_DATE\r","SUBJECT\rOBJECT\rEVENT_DATE\r","SUBJECT\rOBJECT\rEVENT_DATE\r","SUBJECT\rOBJECT\rEVENT_DATE\r","SUBJECT\rOBJECT\rEVENT_DATE\r","SUBJECT\rOBJECT\rEVENT_DATE\r","SUBJECT\rOBJECT\rEVENT_DATE\r","SUBJECT\rOBJECT\rEVENT_DATE\r","SUBJECT\rOBJECT\rEVENT_DATE\r","SUBJECT\rOBJECT\rEVENT_DATE\r","SUBJECT\rOBJECT\rEVENT_DATE\r","SUBJECT\rOBJECT\rEVENT_DATE\r","SUBJECT\rOBJECT\rEVENT_DATE\r","SUBJECT\rOBJECT\rEVENT_DATE\r","SUBJECT\rOBJECT\rEVENT_DATE\r","SUBJECT\rOBJECT\rEVENT_DATE\r","SUBJECT\rOBJECT\rEVENT_DATE\r","SUBJECT\rOBJECT\rEVENT_DATE\r","SUBJECT\rOBJECT\rEVENT_DATE\r","SUBJECT\rOBJECT\rEVENT_DATE\r","SUBJECT\rOBJECT\rEVENT_DATE\r","SUBJECT\rOBJECT\rEVENT_DATE\r","SUBJECT\rOBJECT\rEVENT_DATE\r","SUBJECT\rOBJECT\rEVENT_DATE\r","SUBJECT\rOBJECT\rEVENT_DATE\r","SUBJECT\rOBJECT\rEVENT_DATE\r","SUBJECT\rOBJECT\rEVENT_DATE\r","SUBJECT\rOBJECT\rEVENT_DATE\r","SUBJECT\rOBJECT\rEVENT_DATE\r","SUBJECT\rOBJECT\rEVENT_DATE\r","SUBJECT\rOBJECT\rEVENT_DATE\r","SUBJECT\rOBJECT\rEVENT_DATE\r","SUBJECT\rOBJECT\rEVENT_DATE\r","SUBJECT\rOBJECT\rEVENT_DATE\r","SUBJECT\rOBJECT\rEVENT_DATE\r","SUBJECT\rOBJECT\rEVENT_DATE\r","SUBJECT\rOBJECT\rEVENT_DATE\r","SUBJECT\rOBJECT\rEVENT_DATE\r","SUBJECT\rOBJECT\rEVENT_DATE\r","SUBJECT\rOBJECT\rEVENT_DATE\r","SUBJECT\rOBJECT\rEVENT_DATE\r","SUBJECT\rOBJECT\rEVENT_DATE\r","SUBJECT\rOBJECT\rEVENT_DATE\r","SUBJECT\rOBJECT\rEVENT_DATE\r","SUBJECT\rOBJECT\rEVENT_DATE\r","SUBJECT\rOBJECT\rEVENT_DATE\r","SUBJECT\rOBJECT\rEVENT_DATE\r","SUBJECT\rOBJECT\rEVENT_DATE\r","SUBJECT\rOBJECT\rEVENT_DATE\r","SUBJECT\rOBJECT\rEVENT_DATE\r","SUBJECT\rOBJECT\rEVENT_DATE\r","SUBJECT\rOBJECT\rEVENT_DATE\r","SUBJECT\rOBJECT\rEVENT_DATE\r","SUBJECT\rOBJECT\rEVENT_DATE\r","SUBJECT\rOBJECT\rEVENT_DATE\r","SUBJECT\rOBJECT\rEVENT_DATE\r","SUBJECT\rOBJECT\rEVENT_DATE\r","SUBJECT\rOBJECT\rEVENT_DATE\r","SUBJECT\rOBJECT\rEVENT_DATE\r",{"$f":"INDIRECT(ADDRESS(ROW()+1,COLUMN()-1))","v":"SUBJECT\rOBJECT\rEVENT_DATE\r"},"SUBJECT\rOBJECT\rEVENT_DATE\r","SUBJECT\rOBJECT\rEVENT_DATE\r","SUBJECT\rOBJECT\rEVENT_DATE\r","SUBJECT\rOBJECT\rEVENT_DATE\r","SUBJECT\rOBJECT\rEVENT_DATE\r","SUBJECT\rOBJECT\rEVENT_DATE\r","SUBJECT\rOBJECT\rEVENT_DATE\r","SUBJECT\rOBJECT\rEVENT_DATE\r","SUBJECT\rOBJECT\rEVENT_DATE\r","SUBJECT\rOBJECT\rEVENT_DATE\r","SUBJECT\rOBJECT\rEVENT_DATE\r","SUBJECT\rOBJECT\rEVENT_DATE\r","SUBJECT\rOBJECT\rEVENT_DATE\r","SUBJECT\rOBJECT\rEVENT_DATE\r","SUBJECT\rOBJECT\rEVENT_DATE\r","SUBJECT\rOBJECT\rEVENT_DATE\r","SUBJECT\rOBJECT\rEVENT_DATE\r","SUBJECT\rOBJECT\rEVENT_DATE\r","SUBJECT\rOBJECT\rEVENT_DATE\r","SUBJECT\rOBJECT\rEVENT_DATE\r","SUBJECT\rOBJECT\rEVENT_DATE\r","SUBJECT\rOBJECT\rEVENT_DATE\r","SUBJECT\rOBJECT\rEVENT_DATE\r","SUBJECT\rOBJECT\rEVENT_DATE\r","SUBJECT\rOBJECT\rEVENT_DATE\r","SUBJECT\rOBJECT\rEVENT_DATE\r","SUBJECT\rOBJECT\rEVENT_DATE\r","SUBJECT\rOBJECT\rEVENT_DATE\r","SUBJECT\rOBJECT\rEVENT_DATE\r","SUBJECT\rOBJECT\rEVENT_DATE\r","SUBJECT\rOBJECT\rEVENT_DATE\r","SUBJECT\rOBJECT\rEVENT_DATE\r","SUBJECT\rOBJECT\rEVENT_DATE\r","SUBJECT\rOBJECT\rEVENT_DATE\r","SUBJECT\rOBJECT\rEVENT_DATE\r","SUBJECT\rOBJECT\rEVENT_DATE\r","SUBJECT\rOBJECT\rEVENT_DATE\r","SUBJECT\rOBJECT\rEVENT_DATE\r","SUBJECT\rOBJECT\rEVENT_DATE\r","SUBJECT\rOBJECT\rEVENT_DATE\r","SUBJECT\rOBJECT\rEVENT_DATE\r","SUBJECT\rOBJECT\rEVENT_DATE\r","SUBJECT\rOBJECT\rEVENT_DATE\r","SUBJECT\rOBJECT\rEVENT_DATE\r","SUBJECT\rOBJECT\rEVENT_DATE\r","SUBJECT\rOBJECT\rEVENT_DATE\r","SUBJECT\rOBJECT\rEVENT_DATE\r","SUBJECT\rOBJECT\rEVENT_DATE\r","SUBJECT\rOBJECT\rEVENT_DATE\r","SUBJECT\rOBJECT\rEVENT_DATE\r","SUBJECT\rOBJECT\rEVENT_DATE\r","SUBJECT\rOBJECT\rEVENT_DATE\r","SUBJECT\rOBJECT\rEVENT_DATE\r","SUBJECT\rOBJECT\rEVENT_DATE\r","SUBJECT\rOBJECT\rEVENT_DATE\r","SUBJECT\rOBJECT\rEVENT_DATE\r","SUBJECT\rOBJECT\rEVENT_DATE\r","SUBJECT\rOBJECT\rEVENT_DATE\r","SUBJECT\rOBJECT\rEVENT_DATE\r","SUBJECT\rOBJECT\rEVENT_DATE\r","SUBJECT\rOBJECT\rEVENT_DATE\r","SUBJECT\rOBJECT\rEVENT_DATE\r","SUBJECT\rOBJECT\rEVENT_DATE\r",{"$f":"INDIRECT(ADDRESS(ROW()+1,COLUMN()-1))","v":"SUBJECT\rOBJECT\rEVENT_DATE\r"},"SUBJECT\rOBJECT\rEVENT_DATE\r","SUBJECT\rOBJECT\rEVENT_DATE\r","SUBJECT\rOBJECT\rEVENT_DATE\r","SUBJECT\rOBJECT\rEVENT_DATE\r","SUBJECT\rOBJECT\rEVENT_DATE\r","SUBJECT\rOBJECT\rEVENT_DATE\r","SUBJECT\rOBJECT\rEVENT_DATE\r","SUBJECT\rOBJECT\rEVENT_DATE\r","SUBJECT\rOBJECT\rEVENT_DATE\r","SUBJECT\rOBJECT\rEVENT_DATE\r","SUBJECT\rOBJECT\rEVENT_DATE\r","SUBJECT\rOBJECT\rEVENT_DATE\r","SUBJECT\rOBJECT\rEVENT_DATE\r","SUBJECT\rOBJECT\rEVENT_DATE\r","SUBJECT\rOBJECT\rEVENT_DATE\r","SUBJECT\rOBJECT\rEVENT_DATE\r","SUBJECT\rOBJECT\rEVENT_DATE\r","SUBJECT\rOBJECT\rEVENT_DATE\r","SUBJECT\rOBJECT\rEVENT_DATE\r"]
[null,null,"Column List",null,null,{"$f":"IF(NOT(ISERROR(FIND(\"...\",F81))),F81,IF(LEN(F81)>226, F81 & \"...\" & CHAR(13), F81 & F80))","v":"SUBJECT\r"},{"$f":"IF(NOT(ISERROR(FIND(\"...\",G81))),G81,IF(LEN(G81)>226, G81 & \"...\" & CHAR(13), G81 & G80))","v":"SUBJECT\rOBJECT\r"},{"$f":"IF(NOT(ISERROR(FIND(\"...\",H81))),H81,IF(LEN(H81)>226, H81 & \"...\" & CHAR(13), H81 & H80))","v":"SUBJECT\rOBJECT\rEVENT_DATE\r"},"SUBJECT\rOBJECT\rEVENT_DATE\r","SUBJECT\rOBJECT\rEVENT_DATE\r","SUBJECT\rOBJECT\rEVENT_DATE\r","SUBJECT\rOBJECT\rEVENT_DATE\r","SUBJECT\rOBJECT\rEVENT_DATE\r","SUBJECT\rOBJECT\rEVENT_DATE\r","SUBJECT\rOBJECT\rEVENT_DATE\r","SUBJECT\rOBJECT\rEVENT_DATE\r","SUBJECT\rOBJECT\rEVENT_DATE\r","SUBJECT\rOBJECT\rEVENT_DATE\r","SUBJECT\rOBJECT\rEVENT_DATE\r","SUBJECT\rOBJECT\rEVENT_DATE\r","SUBJECT\rOBJECT\rEVENT_DATE\r","SUBJECT\rOBJECT\rEVENT_DATE\r","SUBJECT\rOBJECT\rEVENT_DATE\r","SUBJECT\rOBJECT\rEVENT_DATE\r","SUBJECT\rOBJECT\rEVENT_DATE\r","SUBJECT\rOBJECT\rEVENT_DATE\r","SUBJECT\rOBJECT\rEVENT_DATE\r","SUBJECT\rOBJECT\rEVENT_DATE\r","SUBJECT\rOBJECT\rEVENT_DATE\r","SUBJECT\rOBJECT\rEVENT_DATE\r","SUBJECT\rOBJECT\rEVENT_DATE\r","SUBJECT\rOBJECT\rEVENT_DATE\r","SUBJECT\rOBJECT\rEVENT_DATE\r","SUBJECT\rOBJECT\rEVENT_DATE\r","SUBJECT\rOBJECT\rEVENT_DATE\r","SUBJECT\rOBJECT\rEVENT_DATE\r","SUBJECT\rOBJECT\rEVENT_DATE\r","SUBJECT\rOBJECT\rEVENT_DATE\r","SUBJECT\rOBJECT\rEVENT_DATE\r","SUBJECT\rOBJECT\rEVENT_DATE\r","SUBJECT\rOBJECT\rEVENT_DATE\r","SUBJECT\rOBJECT\rEVENT_DATE\r","SUBJECT\rOBJECT\rEVENT_DATE\r","SUBJECT\rOBJECT\rEVENT_DATE\r","SUBJECT\rOBJECT\rEVENT_DATE\r","SUBJECT\rOBJECT\rEVENT_DATE\r","SUBJECT\rOBJECT\rEVENT_DATE\r","SUBJECT\rOBJECT\rEVENT_DATE\r","SUBJECT\rOBJECT\rEVENT_DATE\r","SUBJECT\rOBJECT\rEVENT_DATE\r","SUBJECT\rOBJECT\rEVENT_DATE\r","SUBJECT\rOBJECT\rEVENT_DATE\r","SUBJECT\rOBJECT\rEVENT_DATE\r","SUBJECT\rOBJECT\rEVENT_DATE\r","SUBJECT\rOBJECT\rEVENT_DATE\r","SUBJECT\rOBJECT\rEVENT_DATE\r","SUBJECT\rOBJECT\rEVENT_DATE\r","SUBJECT\rOBJECT\rEVENT_DATE\r","SUBJECT\rOBJECT\rEVENT_DATE\r","SUBJECT\rOBJECT\rEVENT_DATE\r","SUBJECT\rOBJECT\rEVENT_DATE\r","SUBJECT\rOBJECT\rEVENT_DATE\r","SUBJECT\rOBJECT\rEVENT_DATE\r","SUBJECT\rOBJECT\rEVENT_DATE\r","SUBJECT\rOBJECT\rEVENT_DATE\r","SUBJECT\rOBJECT\rEVENT_DATE\r","SUBJECT\rOBJECT\rEVENT_DATE\r","SUBJECT\rOBJECT\rEVENT_DATE\r","SUBJECT\rOBJECT\rEVENT_DATE\r","SUBJECT\rOBJECT\rEVENT_DATE\r","SUBJECT\rOBJECT\rEVENT_DATE\r",{"$f":"IF(NOT(ISERROR(FIND(\"...\",BT81))),BT81,IF(LEN(BT81)>226, BT81 & \"...\" & CHAR(13), BT81 & BT80))","v":"SUBJECT\rOBJECT\rEVENT_DATE\r"},"SUBJECT\rOBJECT\rEVENT_DATE\r","SUBJECT\rOBJECT\rEVENT_DATE\r","SUBJECT\rOBJECT\rEVENT_DATE\r","SUBJECT\rOBJECT\rEVENT_DATE\r","SUBJECT\rOBJECT\rEVENT_DATE\r","SUBJECT\rOBJECT\rEVENT_DATE\r","SUBJECT\rOBJECT\rEVENT_DATE\r","SUBJECT\rOBJECT\rEVENT_DATE\r","SUBJECT\rOBJECT\rEVENT_DATE\r","SUBJECT\rOBJECT\rEVENT_DATE\r","SUBJECT\rOBJECT\rEVENT_DATE\r","SUBJECT\rOBJECT\rEVENT_DATE\r","SUBJECT\rOBJECT\rEVENT_DATE\r","SUBJECT\rOBJECT\rEVENT_DATE\r","SUBJECT\rOBJECT\rEVENT_DATE\r","SUBJECT\rOBJECT\rEVENT_DATE\r","SUBJECT\rOBJECT\rEVENT_DATE\r","SUBJECT\rOBJECT\rEVENT_DATE\r","SUBJECT\rOBJECT\rEVENT_DATE\r","SUBJECT\rOBJECT\rEVENT_DATE\r","SUBJECT\rOBJECT\rEVENT_DATE\r","SUBJECT\rOBJECT\rEVENT_DATE\r","SUBJECT\rOBJECT\rEVENT_DATE\r","SUBJECT\rOBJECT\rEVENT_DATE\r","SUBJECT\rOBJECT\rEVENT_DATE\r","SUBJECT\rOBJECT\rEVENT_DATE\r","SUBJECT\rOBJECT\rEVENT_DATE\r","SUBJECT\rOBJECT\rEVENT_DATE\r","SUBJECT\rOBJECT\rEVENT_DATE\r","SUBJECT\rOBJECT\rEVENT_DATE\r","SUBJECT\rOBJECT\rEVENT_DATE\r","SUBJECT\rOBJECT\rEVENT_DATE\r","SUBJECT\rOBJECT\rEVENT_DATE\r","SUBJECT\rOBJECT\rEVENT_DATE\r","SUBJECT\rOBJECT\rEVENT_DATE\r","SUBJECT\rOBJECT\rEVENT_DATE\r","SUBJECT\rOBJECT\rEVENT_DATE\r","SUBJECT\rOBJECT\rEVENT_DATE\r","SUBJECT\rOBJECT\rEVENT_DATE\r","SUBJECT\rOBJECT\rEVENT_DATE\r","SUBJECT\rOBJECT\rEVENT_DATE\r","SUBJECT\rOBJECT\rEVENT_DATE\r","SUBJECT\rOBJECT\rEVENT_DATE\r","SUBJECT\rOBJECT\rEVENT_DATE\r","SUBJECT\rOBJECT\rEVENT_DATE\r","SUBJECT\rOBJECT\rEVENT_DATE\r","SUBJECT\rOBJECT\rEVENT_DATE\r","SUBJECT\rOBJECT\rEVENT_DATE\r","SUBJECT\rOBJECT\rEVENT_DATE\r","SUBJECT\rOBJECT\rEVENT_DATE\r","SUBJECT\rOBJECT\rEVENT_DATE\r","SUBJECT\rOBJECT\rEVENT_DATE\r","SUBJECT\rOBJECT\rEVENT_DATE\r","SUBJECT\rOBJECT\rEVENT_DATE\r","SUBJECT\rOBJECT\rEVENT_DATE\r","SUBJECT\rOBJECT\rEVENT_DATE\r","SUBJECT\rOBJECT\rEVENT_DATE\r","SUBJECT\rOBJECT\rEVENT_DATE\r","SUBJECT\rOBJECT\rEVENT_DATE\r","SUBJECT\rOBJECT\rEVENT_DATE\r","SUBJECT\rOBJECT\rEVENT_DATE\r","SUBJECT\rOBJECT\rEVENT_DATE\r","SUBJECT\rOBJECT\rEVENT_DATE\r",{"$f":"IF(NOT(ISERROR(FIND(\"...\",EF81))),EF81,IF(LEN(EF81)>226, EF81 & \"...\" & CHAR(13), EF81 & EF80))","v":"SUBJECT\rOBJECT\rEVENT_DATE\r"},"SUBJECT\rOBJECT\rEVENT_DATE\r","SUBJECT\rOBJECT\rEVENT_DATE\r","SUBJECT\rOBJECT\rEVENT_DATE\r","SUBJECT\rOBJECT\rEVENT_DATE\r","SUBJECT\rOBJECT\rEVENT_DATE\r","SUBJECT\rOBJECT\rEVENT_DATE\r","SUBJECT\rOBJECT\rEVENT_DATE\r","SUBJECT\rOBJECT\rEVENT_DATE\r","SUBJECT\rOBJECT\rEVENT_DATE\r","SUBJECT\rOBJECT\rEVENT_DATE\r","SUBJECT\rOBJECT\rEVENT_DATE\r","SUBJECT\rOBJECT\rEVENT_DATE\r","SUBJECT\rOBJECT\rEVENT_DATE\r","SUBJECT\rOBJECT\rEVENT_DATE\r","SUBJECT\rOBJECT\rEVENT_DATE\r","SUBJECT\rOBJECT\rEVENT_DATE\r","SUBJECT\rOBJECT\rEVENT_DATE\r","SUBJECT\rOBJECT\rEVENT_DATE\r","SUBJECT\rOBJECT\rEVENT_DATE\r"]
[null,null,"Column Code",null,null,{"$f":"IF(LEN(F72)=0,\"\",TRIM(SUBSTITUTE(F7, \"!\", \"\")))","v":""},"","[when]","","","","","","","","","","","","","","","","","","","","","","","","","","","","","","","","","","","","","","","","","","","","","","","","","","","","","","","","","","","","","",{"$f":"IF(LEN(BR72)=0,\"\",TRIM(SUBSTITUTE(BR7, \"!\", \"\")))","v":""},"","","","","","","","","","","","","","","","","","","","","","","","","","","","","","","","","","","","","","","","","","","","","","","","","","","","","","","","","","","","","","","",{"$f":"IF(LEN(ED72)=0,\"\",TRIM(SUBSTITUTE(ED7, \"!\", \"\")))","v":""},"","","","","","","","","","","","","","","","","","","","",""]
[null,null,"All Code List",null,null,{"$f":"F83","v":""},{"$f":"CONCATENATE(INDIRECT(ADDRESS(ROW(),COLUMN()-1)),\", \", G83)","v":", "},{"$f":"CONCATENATE(INDIRECT(ADDRESS(ROW(),COLUMN()-1)),\", \", H83)","v":", , [when]"},", , [when], ",", , [when], , ",", , [when], , , ",", , [when], , , , ",", , [when], , , , , ",", , [when], , , , , , ",", , [when], , , , , , , ",", , [when], , , , , , , , ",", , [when], , , , , , , , , ",", , [when], , , , , , , , , , ",", , [when], , , , , , , , , , , ",", , [when], , , , , , , , , , , , ",", , [when], , , , , , , , , , , , , ",", , [when], , , , , , , , , , , , , , ",", , [when], , , , , , , , , , , , , , , ",", , [when], , , , , , , , , , , , , , , , ",", , [when], , , , , , , , , , , , , , , , , ",", , [when], , , , , , , , , , , , , , , , , , ",", , [when], , , , , , , , , , , , , , , , , , , ",", , [when], , , , , , , , , , , , , , , , , , , , ",", , [when], , , , , , , , , , , , , , , , , , , , , ",", , [when], , , , , , , , , , , , , , , , , , , , , , ",", , [when], , , , , , , , , , , , , , , , , , , , , , , ",", , [when], , , , , , , , , , , , , , , , , , , , , , , , ",", , [when], , , , , , , , , , , , , , , , , , , , , , , , , ",", , [when], , , , , , , , , , , , , , , , , , , , , , , , , , ",", , [when], , , , , , , , , , , , , , , , , , , , , , , , , , , ",", , [when], , , , , , , , , , , , , , , , , , , , , , , , , , , , ",", , [when], , , , , , , , , , , , , , , , , , , , , , , , , , , , , ",", , [when], , , , , , , , , , , , , , , , , , , , , , , , , , , , , , ",", , [when], , , , , , , , , , , , , , , , , , , , , , , , , , , , , , , ",", , [when], , , , , , , , , , , , , , , , , , , , , , , , , , , , , , , , ",", , [when], , , , , , , , , , , , , , , , , , , , , , , , , , , , , , , , , ",", , [when], , , , , , , , , , , , , , , , , , , , , , , , , , , , , , , , , , ",", , [when], , , , , , , , , , , , , , , , , , , , , , , , , , , , , , , , , , , ",", , [when], , , , , , , , , , , , , , , , , , , , , , , , , , , , , , , , , , , , ",", , [when], , , , , , , , , , , , , , , , , , , , , , , , , , , , , , , , , , , , , ",", , [when], , , , , , , , , , , , , , , , , , , , , , , , , , , , , , , , , , , , , , ",", , [when], , , , , , , , , , , , , , , , , , , , , , , , , , , , , , , , , , , , , , , ",", , [when], , , , , , , , , , , , , , , , , , , , , , , , , , , , , , , , , , , , , , , , ",", , [when], , , , , , , , , , , , , , , , , , , , , , , , , , , , , , , , , , , , , , , , , ",", , [when], , , , , , , , , , , , , , , , , , , , , , , , , , , , , , , , , , , , , , , , , , ",", , [when], , , , , , , , , , , , , , , , , , , , , , , , , , , , , , , , , , , , , , , , , , , ",", , [when], , , , , , , , , , , , , , , , , , , , , , , , , , , , , , , , , , , , , , , , , , , , ",", , [when], , , , , , , , , , , , , , , , , , , , , , , , , , , , , , , , , , , , , , , , , , , , , ",", , [when], , , , , , , , , , , , , , , , , , , , , , , , , , , , , , , , , , , , , , , , , , , , , , ",", , [when], , , , , , , , , , , , , , , , , , , , , , , , , , , , , , , , , , , , , , , , , , , , , , , ",", , [when], , , , , , , , , , , , , , , , , , , , , , , , , , , , , , , , , , , , , , , , , , , , , , , , ",", , [when], , , , , , , , , , , , , , , , , , , , , , , , , , , , , , , , , , , , , , , , , , , , , , , , , ",", , [when], , , , , , , , , , , , , , , , , , , , , , , , , , , , , , , , , , , , , , , , , , , , , , , , , , ",", , [when], , , , , , , , , , , , , , , , , , , , , , , , , , , , , , , , , , , , , , , , , , , , , , , , , , , ",", , [when], , , , , , , , , , , , , , , , , , , , , , , , , , , , , , , , , , , , , , , , , , , , , , , , , , , , ",", , [when], , , , , , , , , , , , , , , , , , , , , , , , , , , , , , , , , , , , , , , , , , , , , , , , , , , , , ",", , [when], , , , , , , , , , , , , , , , , , , , , , , , , , , , , , , , , , , , , , , , , , , , , , , , , , , , , , ",", , [when], , , , , , , , , , , , , , , , , , , , , , , , , , , , , , , , , , , , , , , , , , , , , , , , , , , , , , , ",", , [when], , , , , , , , , , , , , , , , , , , , , , , , , , , , , , , , , , , , , , , , , , , , , , , , , , , , , , , , ",", , [when], , , , , , , , , , , , , , , , , , , , , , , , , , , , , , , , , , , , , , , , , , , , , , , , , , , , , , , , , ",", , [when], , , , , , , , , , , , , , , , , , , , , , , , , , , , , , , , , , , , , , , , , , , , , , , , , , , , , , , , , , ",", , [when], , , , , , , , , , , , , , , , , , , , , , , , , , , , , , , , , , , , , , , , , , , , , , , , , , , , , , , , , , , ",", , [when], , , , , , , , , , , , , , , , , , , , , , , , , , , , , , , , , , , , , , , , , , , , , , , , , , , , , , , , , , , , ",", , [when], , , , , , , , , , , , , , , , , , , , , , , , , , , , , , , , , , , , , , , , , , , , , , , , , , , , , , , , , , , , , ",", , [when], , , , , , , , , , , , , , , , , , , , , , , , , , , , , , , , , , , , , , , , , , , , , , , , , , , , , , , , , , , , , , ",", , [when], , , , , , , , , , , , , , , , , , , , , , , , , , , , , , , , , , , , , , , , , , , , , , , , , , , , , , , , , , , , , , , ",{"$f":"CONCATENATE(INDIRECT(ADDRESS(ROW(),COLUMN()-1)),\", \", BT83)","v":", , [when], , , , , , , , , , , , , , , , , , , , , , , , , , , , , , , , , , , , , , , , , , , , , , , , , , , , , , , , , , , , , , , , "},", , [when], , , , , , , , , , , , , , , , , , , , , , , , , , , , , , , , , , , , , , , , , , , , , , , , , , , , , , , , , , , , , , , , , ",", , [when], , , , , , , , , , , , , , , , , , , , , , , , , , , , , , , , , , , , , , , , , , , , , , , , , , , , , , , , , , , , , , , , , , ",", , [when], , , , , , , , , , , , , , , , , , , , , , , , , , , , , , , , , , , , , , , , , , , , , , , , , , , , , , , , , , , , , , , , , , , ",", , [when], , , , , , , , , , , , , , , , , , , , , , , , , , , , , , , , , , , , , , , , , , , , , , , , , , , , , , , , , , , , , , , , , , , , ",", , [when], , , , , , , , , , , , , , , , , , , , , , , , , , , , , , , , , , , , , , , , , , , , , , , , , , , , , , , , , , , , , , , , , , , , , ",", , [when], , , , , , , , , , , , , , , , , , , , , , , , , , , , , , , , , , , , , , , , , , , , , , , , , , , , , , , , , , , , , , , , , , , , , , ",", , [when], , , , , , , , , , , , , , , , , , , , , , , , , , , , , , , , , , , , , , , , , , , , , , , , , , , , , , , , , , , , , , , , , , , , , , , ",", , [when], , , , , , , , , , , , , , , , , , , , , , , , , , , , , , , , , , , , , , , , , , , , , , , , , , , , , , , , , , , , , , , , , , , , , , , , ",", , [when], , , , , , , , , , , , , , , , , , , , , , , , , , , , , , , , , , , , , , , , , , , , , , , , , , , , , , , , , , , , , , , , , , , , , , , , , ",", , [when], , , , , , , , , , , , , , , , , , , , , , , , , , , , , , , , , , , , , , , , , , , , , , , , , , , , , , , , , , , , , , , , , , , , , , , , , , ",", , [when], , , , , , , , , , , , , , , , , , , , , , , , , , , , , , , , , , , , , , , , , , , , , , , , , , , , , , , , , , , , , , , , , , , , , , , , , , , ",", , [when], , , , , , , , , , , , , , , , , , , , , , , , , , , , , , , , , , , , , , , , , , , , , , , , , , , , , , , , , , , , , , , , , , , , , , , , , , , , ",", , [when], , , , , , , , , , , , , , , , , , , , , , , , , , , , , , , , , , , , , , , , , , , , , , , , , , , , , , , , , , , , , , , , , , , , , , , , , , , , , ",", , [when], , , , , , , , , , , , , , , , , , , , , , , , , , , , , , , , , , , , , , , , , , , , , , , , , , , , , , , , , , , , , , , , , , , , , , , , , , , , , , ",", , [when], , , , , , , , , , , , , , , , , , , , , , , , , , , , , , , , , , , , , , , , , , , , , , , , , , , , , , , , , , , , , , , , , , , , , , , , , , , , , , , ",", , [when], , , , , , , , , , , , , , , , , , , , , , , , , , , , , , , , , , , , , , , , , , , , , , , , , , , , , , , , , , , , , , , , , , , , , , , , , , , , , , , , ",", , [when], , , , , , , , , , , , , , , , , , , , , , , , , , , , , , , , , , , , , , , , , , , , , , , , , , , , , , , , , , , , , , , , , , , , , , , , , , , , , , , , , ",", , [when], , , , , , , , , , , , , , , , , , , , , , , , , , , , , , , , , , , , , , , , , , , , , , , , , , , , , , , , , , , , , , , , , , , , , , , , , , , , , , , , , , ",", , [when], , , , , , , , , , , , , , , , , , , , , , , , , , , , , , , , , , , , , , , , , , , , , , , , , , , , , , , , , , , , , , , , , , , , , , , , , , , , , , , , , , , ",", , [when], , , , , , , , , , , , , , , , , , , , , , , , , , , , , , , , , , , , , , , , , , , , , , , , , , , , , , , , , , , , , , , , , , , , , , , , , , , , , , , , , , , , ",", , [when], , , , , , , , , , , , , , , , , , , , , , , , , , , , , , , , , , , , , , , , , , , , , , , , , , , , , , , , , , , , , , , , , , , , , , , , , , , , , , , , , , , , , ",", , [when], , , , , , , , , , , , , , , , , , , , , , , , , , , , , , , , , , , , , , , , , , , , , , , , , , , , , , , , , , , , , , , , , , , , , , , , , , , , , , , , , , , , , , ",", , [when], , , , , , , , , , , , , , , , , , , , , , , , , , , , , , , , , , , , , , , , , , , , , , , , , , , , , , , , , , , , , , , , , , , , , , , , , , , , , , , , , , , , , , , ",", , [when], , , , , , , , , , , , , , , , , , , , , , , , , , , , , , , , , , , , , , , , , , , , , , , , , , , , , , , , , , , , , , , , , , , , , , , , , , , , , , , , , , , , , , , , ",", , [when], , , , , , , , , , , , , , , , , , , , , , , , , , , , , , , , , , , , , , , , , , , , , , , , , , , , , , , , , , , , , , , , , , , , , , , , , , , , , , , , , , , , , , , , , ",", , [when], , , , , , , , , , , , , , , , , , , , , , , , , , , , , , , , , , , , , , , , , , , , , , , , , , , , , , , , , , , , , , , , , , , , , , , , , , , , , , , , , , , , , , , , , , ",", , [when], , , , , , , , , , , , , , , , , , , , , , , , , , , , , , , , , , , , , , , , , , , , , , , , , , , , , , , , , , , , , , , , , , , , , , , , , , , , , , , , , , , , , , , , , , , ",", , [when], , , , , , , , , , , , , , , , , , , , , , , , , , , , , , , , , , , , , , , , , , , , , , , , , , , , , , , , , , , , , , , , , , , , , , , , , , , , , , , , , , , , , , , , , , , , ",", , [when], , , , , , , , , , , , , , , , , , , , , , , , , , , , , , , , , , , , , , , , , , , , , , , , , , , , , , , , , , , , , , , , , , , , , , , , , , , , , , , , , , , , , , , , , , , , , ",", , [when], , , , , , , , , , , , , , , , , , , , , , , , , , , , , , , , , , , , , , , , , , , , , , , , , , , , , , , , , , , , , , , , , , , , , , , , , , , , , , , , , , , , , , , , , , , , , , ",", , [when], , , , , , , , , , , , , , , , , , , , , , , , , , , , , , , , , , , , , , , , , , , , , , , , , , , , , , , , , , , , , , , , , , , , , , , , , , , , , , , , , , , , , , , , , , , , , , , ",", , [when], , , , , , , , , , , , , , , , , , , , , , , , , , , , , , , , , , , , , , , , , , , , , , , , , , , , , , , , , , , , , , , , , , , , , , , , , , , , , , , , , , , , , , , , , , , , , , , , ",", , [when], , , , , , , , , , , , , , , , , , , , , , , , , , , , , , , , , , , , , , , , , , , , , , , , , , , , , , , , , , , , , , , , , , , , , , , , , , , , , , , , , , , , , , , , , , , , , , , , , ",", , [when], , , , , , , , , , , , , , , , , , , , , , , , , , , , , , , , , , , , , , , , , , , , , , , , , , , , , , , , , , , , , , , , , , , , , , , , , , , , , , , , , , , , , , , , , , , , , , , , , , ",", , [when], , , , , , , , , , , , , , , , , , , , , , , , , , , , , , , , , , , , , , , , , , , , , , , , , , , , , , , , , , , , , , , , , , , , , , , , , , , , , , , , , , , , , , , , , , , , , , , , , , , ",", , [when], , , , , , , , , , , , , , , , , , , , , , , , , , , , , , , , , , , , , , , , , , , , , , , , , , , , , , , , , , , , , , , , , , , , , , , , , , , , , , , , , , , , , , , , , , , , , , , , , , , , ",", , [when], , , , , , , , , , , , , , , , , , , , , , , , , , , , , , , , , , , , , , , , , , , , , , , , , , , , , , , , , , , , , , , , , , , , , , , , , , , , , , , , , , , , , , , , , , , , , , , , , , , , , ",", , [when], , , , , , , , , , , , , , , , , , , , , , , , , , , , , , , , , , , , , , , , , , , , , , , , , , , , , , , , , , , , , , , , , , , , , , , , , , , , , , , , , , , , , , , , , , , , , , , , , , , , , , ",", , [when], , , , , , , , , , , , , , , , , , , , , , , , , , , , , , , , , , , , , , , , , , , , , , , , , , , , , , , , , , , , , , , , , , , , , , , , , , , , , , , , , , , , , , , , , , , , , , , , , , , , , , , ",", , [when], , , , , , , , , , , , , , , , , , , , , , , , , , , , , , , , , , , , , , , , , , , , , , , , , , , , , , , , , , , , , , , , , , , , , , , , , , , , , , , , , , , , , , , , , , , , , , , , , , , , , , , , ",", , [when], , , , , , , , , , , , , , , , , , , , , , , , , , , , , , , , , , , , , , , , , , , , , , , , , , , , , , , , , , , , , , , , , , , , , , , , , , , , , , , , , , , , , , , , , , , , , , , , , , , , , , , , , ",", , [when], , , , , , , , , , , , , , , , , , , , , , , , , , , , , , , , , , , , , , , , , , , , , , , , , , , , , , , , , , , , , , , , , , , , , , , , , , , , , , , , , , , , , , , , , , , , , , , , , , , , , , , , , , ",", , [when], , , , , , , , , , , , , , , , , , , , , , , , , , , , , , , , , , , , , , , , , , , , , , , , , , , , , , , , , , , , , , , , , , , , , , , , , , , , , , , , , , , , , , , , , , , , , , , , , , , , , , , , , , , ",", , [when], , , , , , , , , , , , , , , , , , , , , , , , , , , , , , , , , , , , , , , , , , , , , , , , , , , , , , , , , , , , , , , , , , , , , , , , , , , , , , , , , , , , , , , , , , , , , , , , , , , , , , , , , , , , ",", , [when], , , , , , , , , , , , , , , , , , , , , , , , , , , , , , , , , , , , , , , , , , , , , , , , , , , , , , , , , , , , , , , , , , , , , , , , , , , , , , , , , , , , , , , , , , , , , , , , , , , , , , , , , , , , , ",", , [when], , , , , , , , , , , , , , , , , , , , , , , , , , , , , , , , , , , , , , , , , , , , , , , , , , , , , , , , , , , , , , , , , , , , , , , , , , , , , , , , , , , , , , , , , , , , , , , , , , , , , , , , , , , , , , ",", , [when], , , , , , , , , , , , , , , , , , , , , , , , , , , , , , , , , , , , , , , , , , , , , , , , , , , , , , , , , , , , , , , , , , , , , , , , , , , , , , , , , , , , , , , , , , , , , , , , , , , , , , , , , , , , , , , ",", , [when], , , , , , , , , , , , , , , , , , , , , , , , , , , , , , , , , , , , , , , , , , , , , , , , , , , , , , , , , , , , , , , , , , , , , , , , , , , , , , , , , , , , , , , , , , , , , , , , , , , , , , , , , , , , , , , , ",", , [when], , , , , , , , , , , , , , , , , , , , , , , , , , , , , , , , , , , , , , , , , , , , , , , , , , , , , , , , , , , , , , , , , , , , , , , , , , , , , , , , , , , , , , , , , , , , , , , , , , , , , , , , , , , , , , , , , ",", , [when], , , , , , , , , , , , , , , , , , , , , , , , , , , , , , , , , , , , , , , , , , , , , , , , , , , , , , , , , , , , , , , , , , , , , , , , , , , , , , , , , , , , , , , , , , , , , , , , , , , , , , , , , , , , , , , , , , ",", , [when], , , , , , , , , , , , , , , , , , , , , , , , , , , , , , , , , , , , , , , , , , , , , , , , , , , , , , , , , , , , , , , , , , , , , , , , , , , , , , , , , , , , , , , , , , , , , , , , , , , , , , , , , , , , , , , , , , , ",", , [when], , , , , , , , , , , , , , , , , , , , , , , , , , , , , , , , , , , , , , , , , , , , , , , , , , , , , , , , , , , , , , , , , , , , , , , , , , , , , , , , , , , , , , , , , , , , , , , , , , , , , , , , , , , , , , , , , , , , ",", , [when], , , , , , , , , , , , , , , , , , , , , , , , , , , , , , , , , , , , , , , , , , , , , , , , , , , , , , , , , , , , , , , , , , , , , , , , , , , , , , , , , , , , , , , , , , , , , , , , , , , , , , , , , , , , , , , , , , , , , ",", , [when], , , , , , , , , , , , , , , , , , , , , , , , , , , , , , , , , , , , , , , , , , , , , , , , , , , , , , , , , , , , , , , , , , , , , , , , , , , , , , , , , , , , , , , , , , , , , , , , , , , , , , , , , , , , , , , , , , , , , , ",", , [when], , , , , , , , , , , , , , , , , , , , , , , , , , , , , , , , , , , , , , , , , , , , , , , , , , , , , , , , , , , , , , , , , , , , , , , , , , , , , , , , , , , , , , , , , , , , , , , , , , , , , , , , , , , , , , , , , , , , , , , ",", , [when], , , , , , , , , , , , , , , , , , , , , , , , , , , , , , , , , , , , , , , , , , , , , , , , , , , , , , , , , , , , , , , , , , , , , , , , , , , , , , , , , , , , , , , , , , , , , , , , , , , , , , , , , , , , , , , , , , , , , , , , ",", , [when], , , , , , , , , , , , , , , , , , , , , , , , , , , , , , , , , , , , , , , , , , , , , , , , , , , , , , , , , , , , , , , , , , , , , , , , , , , , , , , , , , , , , , , , , , , , , , , , , , , , , , , , , , , , , , , , , , , , , , , , , ",", , [when], , , , , , , , , , , , , , , , , , , , , , , , , , , , , , , , , , , , , , , , , , , , , , , , , , , , , , , , , , , , , , , , , , , , , , , , , , , , , , , , , , , , , , , , , , , , , , , , , , , , , , , , , , , , , , , , , , , , , , , , , , ",", , [when], , , , , , , , , , , , , , , , , , , , , , , , , , , , , , , , , , , , , , , , , , , , , , , , , , , , , , , , , , , , , , , , , , , , , , , , , , , , , , , , , , , , , , , , , , , , , , , , , , , , , , , , , , , , , , , , , , , , , , , , , , , ",", , [when], , , , , , , , , , , , , , , , , , , , , , , , , , , , , , , , , , , , , , , , , , , , , , , , , , , , , , , , , , , , , , , , , , , , , , , , , , , , , , , , , , , , , , , , , , , , , , , , , , , , , , , , , , , , , , , , , , , , , , , , , , , , ",", , [when], , , , , , , , , , , , , , , , , , , , , , , , , , , , , , , , , , , , , , , , , , , , , , , , , , , , , , , , , , , , , , , , , , , , , , , , , , , , , , , , , , , , , , , , , , , , , , , , , , , , , , , , , , , , , , , , , , , , , , , , , , , , , ",", , [when], , , , , , , , , , , , , , , , , , , , , , , , , , , , , , , , , , , , , , , , , , , , , , , , , , , , , , , , , , , , , , , , , , , , , , , , , , , , , , , , , , , , , , , , , , , , , , , , , , , , , , , , , , , , , , , , , , , , , , , , , , , , , , ",", , [when], , , , , , , , , , , , , , , , , , , , , , , , , , , , , , , , , , , , , , , , , , , , , , , , , , , , , , , , , , , , , , , , , , , , , , , , , , , , , , , , , , , , , , , , , , , , , , , , , , , , , , , , , , , , , , , , , , , , , , , , , , , , , , , ",{"$f":"CONCATENATE(INDIRECT(ADDRESS(ROW(),COLUMN()-1)),\", \", EF83)","v":", , [when], , , , , , , , , , , , , , , , , , , , , , , , , , , , , , , , , , , , , , , , , , , , , , , , , , , , , , , , , , , , , , , , , , , , , , , , , , , , , , , , , , , , , , , , , , , , , , , , , , , , , , , , , , , , , , , , , , , , , , , , , , , , , , , , "},", , [when], , , , , , , , , , , , , , , , , , , , , , , , , , , , , , , , , , , , , , , , , , , , , , , , , , , , , , , , , , , , , , , , , , , , , , , , , , , , , , , , , , , , , , , , , , , , , , , , , , , , , , , , , , , , , , , , , , , , , , , , , , , , , , , , , ",", , [when], , , , , , , , , , , , , , , , , , , , , , , , , , , , , , , , , , , , , , , , , , , , , , , , , , , , , , , , , , , , , , , , , , , , , , , , , , , , , , , , , , , , , , , , , , , , , , , , , , , , , , , , , , , , , , , , , , , , , , , , , , , , , , , , , , ",", , [when], , , , , , , , , , , , , , , , , , , , , , , , , , , , , , , , , , , , , , , , , , , , , , , , , , , , , , , , , , , , , , , , , , , , , , , , , , , , , , , , , , , , , , , , , , , , , , , , , , , , , , , , , , , , , , , , , , , , , , , , , , , , , , , , , , , ",", , [when], , , , , , , , , , , , , , , , , , , , , , , , , , , , , , , , , , , , , , , , , , , , , , , , , , , , , , , , , , , , , , , , , , , , , , , , , , , , , , , , , , , , , , , , , , , , , , , , , , , , , , , , , , , , , , , , , , , , , , , , , , , , , , , , , , , , ",", , [when], , , , , , , , , , , , , , , , , , , , , , , , , , , , , , , , , , , , , , , , , , , , , , , , , , , , , , , , , , , , , , , , , , , , , , , , , , , , , , , , , , , , , , , , , , , , , , , , , , , , , , , , , , , , , , , , , , , , , , , , , , , , , , , , , , , , , ",", , [when], , , , , , , , , , , , , , , , , , , , , , , , , , , , , , , , , , , , , , , , , , , , , , , , , , , , , , , , , , , , , , , , , , , , , , , , , , , , , , , , , , , , , , , , , , , , , , , , , , , , , , , , , , , , , , , , , , , , , , , , , , , , , , , , , , , , , , ",", , [when], , , , , , , , , , , , , , , , , , , , , , , , , , , , , , , , , , , , , , , , , , , , , , , , , , , , , , , , , , , , , , , , , , , , , , , , , , , , , , , , , , , , , , , , , , , , , , , , , , , , , , , , , , , , , , , , , , , , , , , , , , , , , , , , , , , , , , , ",", , [when], , , , , , , , , , , , , , , , , , , , , , , , , , , , , , , , , , , , , , , , , , , , , , , , , , , , , , , , , , , , , , , , , , , , , , , , , , , , , , , , , , , , , , , , , , , , , , , , , , , , , , , , , , , , , , , , , , , , , , , , , , , , , , , , , , , , , , , , ",", , [when], , , , , , , , , , , , , , , , , , , , , , , , , , , , , , , , , , , , , , , , , , , , , , , , , , , , , , , , , , , , , , , , , , , , , , , , , , , , , , , , , , , , , , , , , , , , , , , , , , , , , , , , , , , , , , , , , , , , , , , , , , , , , , , , , , , , , , , , , ",", , [when], , , , , , , , , , , , , , , , , , , , , , , , , , , , , , , , , , , , , , , , , , , , , , , , , , , , , , , , , , , , , , , , , , , , , , , , , , , , , , , , , , , , , , , , , , , , , , , , , , , , , , , , , , , , , , , , , , , , , , , , , , , , , , , , , , , , , , , , , , ",", , [when], , , , , , , , , , , , , , , , , , , , , , , , , , , , , , , , , , , , , , , , , , , , , , , , , , , , , , , , , , , , , , , , , , , , , , , , , , , , , , , , , , , , , , , , , , , , , , , , , , , , , , , , , , , , , , , , , , , , , , , , , , , , , , , , , , , , , , , , , , , ",", , [when], , , , , , , , , , , , , , , , , , , , , , , , , , , , , , , , , , , , , , , , , , , , , , , , , , , , , , , , , , , , , , , , , , , , , , , , , , , , , , , , , , , , , , , , , , , , , , , , , , , , , , , , , , , , , , , , , , , , , , , , , , , , , , , , , , , , , , , , , , , , ",", , [when], , , , , , , , , , , , , , , , , , , , , , , , , , , , , , , , , , , , , , , , , , , , , , , , , , , , , , , , , , , , , , , , , , , , , , , , , , , , , , , , , , , , , , , , , , , , , , , , , , , , , , , , , , , , , , , , , , , , , , , , , , , , , , , , , , , , , , , , , , , , , ",", , [when], , , , , , , , , , , , , , , , , , , , , , , , , , , , , , , , , , , , , , , , , , , , , , , , , , , , , , , , , , , , , , , , , , , , , , , , , , , , , , , , , , , , , , , , , , , , , , , , , , , , , , , , , , , , , , , , , , , , , , , , , , , , , , , , , , , , , , , , , , , , , , ",", , [when], , , , , , , , , , , , , , , , , , , , , , , , , , , , , , , , , , , , , , , , , , , , , , , , , , , , , , , , , , , , , , , , , , , , , , , , , , , , , , , , , , , , , , , , , , , , , , , , , , , , , , , , , , , , , , , , , , , , , , , , , , , , , , , , , , , , , , , , , , , , , , , ",", , [when], , , , , , , , , , , , , , , , , , , , , , , , , , , , , , , , , , , , , , , , , , , , , , , , , , , , , , , , , , , , , , , , , , , , , , , , , , , , , , , , , , , , , , , , , , , , , , , , , , , , , , , , , , , , , , , , , , , , , , , , , , , , , , , , , , , , , , , , , , , , , , , , ",", , [when], , , , , , , , , , , , , , , , , , , , , , , , , , , , , , , , , , , , , , , , , , , , , , , , , , , , , , , , , , , , , , , , , , , , , , , , , , , , , , , , , , , , , , , , , , , , , , , , , , , , , , , , , , , , , , , , , , , , , , , , , , , , , , , , , , , , , , , , , , , , , , , , , ",", , [when], , , , , , , , , , , , , , , , , , , , , , , , , , , , , , , , , , , , , , , , , , , , , , , , , , , , , , , , , , , , , , , , , , , , , , , , , , , , , , , , , , , , , , , , , , , , , , , , , , , , , , , , , , , , , , , , , , , , , , , , , , , , , , , , , , , , , , , , , , , , , , , , , , ",", , [when], , , , , , , , , , , , , , , , , , , , , , , , , , , , , , , , , , , , , , , , , , , , , , , , , , , , , , , , , , , , , , , , , , , , , , , , , , , , , , , , , , , , , , , , , , , , , , , , , , , , , , , , , , , , , , , , , , , , , , , , , , , , , , , , , , , , , , , , , , , , , , , , , , , "]
[]
[null,null,"SK Column",null,null,{"$f":"IF(F59=\"Y\",F72 & \", \",\"\")","v":""},{"$f":"IF(G59=\"Y\",G72 & \", \",\"\")","v":""},"","","","","","","","","","","","","","","","","","","","","","","","","","","","","","","","","","","","","","","","","","","","","","","","","","","","","","","","","","","","","","","",{"$f":"IF(BS59=\"Y\",BS72 & \", \",\"\")","v":""},"","","","","","","","","","","","","","","","","","","","","","","","","","","","","","","","","","","","","","","","","","","","","","","","","","","","","","","","","","","","","","","",{"$f":"IF(EE59=\"Y\",EE72 & \", \",\"\")","v":""},"","","","","","","","","","","","","","","","","","","",""]
[null,null,"SK Column List",null,null,{"$f":"F86","v":""},{"$f":"CONCATENATE(INDIRECT(ADDRESS(ROW(),COLUMN()-1)), G86)","v":""},{"$f":"CONCATENATE(INDIRECT(ADDRESS(ROW(),COLUMN()-1)), H86)","v":""},"","","","","","","","","","","","","","","","","","","","","","","","","","","","","","","","","","","","","","","","","","","","","","","","","","","","","","","","","","","","","","","",{"$f":"CONCATENATE(INDIRECT(ADDRESS(ROW(),COLUMN()-1)), BT86)","v":""},"","","","","","","","","","","","","","","","","","","","","","","","","","","","","","","","","","","","","","","","","","","","","","","","","","","","","","","","","","","","","","","",{"$f":"CONCATENATE(INDIRECT(ADDRESS(ROW(),COLUMN()-1)), EF86)","v":""},"","","","","","","","","","","","","","","","","","",""]
[null,null,"Visable Column Code",null,null,{"$f":"IF(F58=\"Y\",\"\",F83)","v":""},"","[when]","","","","","","","","","","","","","","","","","","","","","","","","","","","","","","","","","","","","","","","","","","","","","","","","","","","","","","","","","","","","","",{"$f":"IF(BR58=\"Y\",\"\",BR83)","v":""},"","","","","","","","","","","","","","","","","","","","","","","","","","","","","","","","","","","","","","","","","","","","","","","","","","","","","","","","","","","","","","","",{"$f":"IF(ED58=\"Y\",\"\",ED83)","v":""},"","","","","","","","","","","","","","","","","","","","",""]
[null,null,"Column Code <CR>",null,null,{"$f":"IF(OR(LEN(F72)=0,F58=\"Y\"),\"\",CONCATENATE(IF(LEN(F88)=0,\"\",SUBSTITUTE(Settings!$B$41,\"&BEAMColumnCodes\",F88)),CHAR(13)))","v":"\r"},{"$f":"IF(OR(LEN(G72)=0,G58=\"Y\"),\"\",CONCATENATE(IF(LEN(G88)=0,\"\",SUBSTITUTE(Settings!$B$41,\"&BEAMColumnCodes\",G88)),CHAR(13)))","v":"\r"},{"$f":"IF(OR(LEN(H72)=0,H58=\"Y\"),\"\",CONCATENATE(IF(LEN(H88)=0,\"\",SUBSTITUTE(Settings!$B$41,\"&BEAMColumnCodes\",H88)),CHAR(13)))","v":" [when] \r"},{"$f":"IF(OR(LEN(I72)=0,I58=\"Y\"),\"\",CONCATENATE(IF(LEN(I88)=0,\"\",SUBSTITUTE(Settings!$B$41,\"&BEAMColumnCodes\",I88)),CHAR(13)))","v":""},{"$f":"IF(OR(LEN(J72)=0,J58=\"Y\"),\"\",CONCATENATE(IF(LEN(J88)=0,\"\",SUBSTITUTE(Settings!$B$41,\"&BEAMColumnCodes\",J88)),CHAR(13)))","v":""},{"$f":"IF(OR(LEN(K72)=0,K58=\"Y\"),\"\",CONCATENATE(IF(LEN(K88)=0,\"\",SUBSTITUTE(Settings!$B$41,\"&BEAMColumnCodes\",K88)),CHAR(13)))","v":""},{"$f":"IF(OR(LEN(L72)=0,L58=\"Y\"),\"\",CONCATENATE(IF(LEN(L88)=0,\"\",SUBSTITUTE(Settings!$B$41,\"&BEAMColumnCodes\",L88)),CHAR(13)))","v":""},{"$f":"IF(OR(LEN(M72)=0,M58=\"Y\"),\"\",CONCATENATE(IF(LEN(M88)=0,\"\",SUBSTITUTE(Settings!$B$41,\"&BEAMColumnCodes\",M88)),CHAR(13)))","v":""},{"$f":"IF(OR(LEN(N72)=0,N58=\"Y\"),\"\",CONCATENATE(IF(LEN(N88)=0,\"\",SUBSTITUTE(Settings!$B$41,\"&BEAMColumnCodes\",N88)),CHAR(13)))","v":""},{"$f":"IF(OR(LEN(O72)=0,O58=\"Y\"),\"\",CONCATENATE(IF(LEN(O88)=0,\"\",SUBSTITUTE(Settings!$B$41,\"&BEAMColumnCodes\",O88)),CHAR(13)))","v":""},{"$f":"IF(OR(LEN(P72)=0,P58=\"Y\"),\"\",CONCATENATE(IF(LEN(P88)=0,\"\",SUBSTITUTE(Settings!$B$41,\"&BEAMColumnCodes\",P88)),CHAR(13)))","v":""},{"$f":"IF(OR(LEN(Q72)=0,Q58=\"Y\"),\"\",CONCATENATE(IF(LEN(Q88)=0,\"\",SUBSTITUTE(Settings!$B$41,\"&BEAMColumnCodes\",Q88)),CHAR(13)))","v":""},{"$f":"IF(OR(LEN(R72)=0,R58=\"Y\"),\"\",CONCATENATE(IF(LEN(R88)=0,\"\",SUBSTITUTE(Settings!$B$41,\"&BEAMColumnCodes\",R88)),CHAR(13)))","v":""},{"$f":"IF(OR(LEN(S72)=0,S58=\"Y\"),\"\",CONCATENATE(IF(LEN(S88)=0,\"\",SUBSTITUTE(Settings!$B$41,\"&BEAMColumnCodes\",S88)),CHAR(13)))","v":""},{"$f":"IF(OR(LEN(T72)=0,T58=\"Y\"),\"\",CONCATENATE(IF(LEN(T88)=0,\"\",SUBSTITUTE(Settings!$B$41,\"&BEAMColumnCodes\",T88)),CHAR(13)))","v":""},{"$f":"IF(OR(LEN(U72)=0,U58=\"Y\"),\"\",CONCATENATE(IF(LEN(U88)=0,\"\",SUBSTITUTE(Settings!$B$41,\"&BEAMColumnCodes\",U88)),CHAR(13)))","v":""},{"$f":"IF(OR(LEN(V72)=0,V58=\"Y\"),\"\",CONCATENATE(IF(LEN(V88)=0,\"\",SUBSTITUTE(Settings!$B$41,\"&BEAMColumnCodes\",V88)),CHAR(13)))","v":""},{"$f":"IF(OR(LEN(W72)=0,W58=\"Y\"),\"\",CONCATENATE(IF(LEN(W88)=0,\"\",SUBSTITUTE(Settings!$B$41,\"&BEAMColumnCodes\",W88)),CHAR(13)))","v":""},{"$f":"IF(OR(LEN(X72)=0,X58=\"Y\"),\"\",CONCATENATE(IF(LEN(X88)=0,\"\",SUBSTITUTE(Settings!$B$41,\"&BEAMColumnCodes\",X88)),CHAR(13)))","v":""},{"$f":"IF(OR(LEN(Y72)=0,Y58=\"Y\"),\"\",CONCATENATE(IF(LEN(Y88)=0,\"\",SUBSTITUTE(Settings!$B$41,\"&BEAMColumnCodes\",Y88)),CHAR(13)))","v":""},{"$f":"IF(OR(LEN(Z72)=0,Z58=\"Y\"),\"\",CONCATENATE(IF(LEN(Z88)=0,\"\",SUBSTITUTE(Settings!$B$41,\"&BEAMColumnCodes\",Z88)),CHAR(13)))","v":""},{"$f":"IF(OR(LEN(AA72)=0,AA58=\"Y\"),\"\",CONCATENATE(IF(LEN(AA88)=0,\"\",SUBSTITUTE(Settings!$B$41,\"&BEAMColumnCodes\",AA88)),CHAR(13)))","v":""},{"$f":"IF(OR(LEN(AB72)=0,AB58=\"Y\"),\"\",CONCATENATE(IF(LEN(AB88)=0,\"\",SUBSTITUTE(Settings!$B$41,\"&BEAMColumnCodes\",AB88)),CHAR(13)))","v":""},{"$f":"IF(OR(LEN(AC72)=0,AC58=\"Y\"),\"\",CONCATENATE(IF(LEN(AC88)=0,\"\",SUBSTITUTE(Settings!$B$41,\"&BEAMColumnCodes\",AC88)),CHAR(13)))","v":""},{"$f":"IF(OR(LEN(AD72)=0,AD58=\"Y\"),\"\",CONCATENATE(IF(LEN(AD88)=0,\"\",SUBSTITUTE(Settings!$B$41,\"&BEAMColumnCodes\",AD88)),CHAR(13)))","v":""},{"$f":"IF(OR(LEN(AE72)=0,AE58=\"Y\"),\"\",CONCATENATE(IF(LEN(AE88)=0,\"\",SUBSTITUTE(Settings!$B$41,\"&BEAMColumnCodes\",AE88)),CHAR(13)))","v":""},{"$f":"IF(OR(LEN(AF72)=0,AF58=\"Y\"),\"\",CONCATENATE(IF(LEN(AF88)=0,\"\",SUBSTITUTE(Settings!$B$41,\"&BEAMColumnCodes\",AF88)),CHAR(13)))","v":""},{"$f":"IF(OR(LEN(AG72)=0,AG58=\"Y\"),\"\",CONCATENATE(IF(LEN(AG88)=0,\"\",SUBSTITUTE(Settings!$B$41,\"&BEAMColumnCodes\",AG88)),CHAR(13)))","v":""},{"$f":"IF(OR(LEN(AH72)=0,AH58=\"Y\"),\"\",CONCATENATE(IF(LEN(AH88)=0,\"\",SUBSTITUTE(Settings!$B$41,\"&BEAMColumnCodes\",AH88)),CHAR(13)))","v":""},{"$f":"IF(OR(LEN(AI72)=0,AI58=\"Y\"),\"\",CONCATENATE(IF(LEN(AI88)=0,\"\",SUBSTITUTE(Settings!$B$41,\"&BEAMColumnCodes\",AI88)),CHAR(13)))","v":""},{"$f":"IF(OR(LEN(AJ72)=0,AJ58=\"Y\"),\"\",CONCATENATE(IF(LEN(AJ88)=0,\"\",SUBSTITUTE(Settings!$B$41,\"&BEAMColumnCodes\",AJ88)),CHAR(13)))","v":""},{"$f":"IF(OR(LEN(AK72)=0,AK58=\"Y\"),\"\",CONCATENATE(IF(LEN(AK88)=0,\"\",SUBSTITUTE(Settings!$B$41,\"&BEAMColumnCodes\",AK88)),CHAR(13)))","v":""},{"$f":"IF(OR(LEN(AL72)=0,AL58=\"Y\"),\"\",CONCATENATE(IF(LEN(AL88)=0,\"\",SUBSTITUTE(Settings!$B$41,\"&BEAMColumnCodes\",AL88)),CHAR(13)))","v":""},{"$f":"IF(OR(LEN(AM72)=0,AM58=\"Y\"),\"\",CONCATENATE(IF(LEN(AM88)=0,\"\",SUBSTITUTE(Settings!$B$41,\"&BEAMColumnCodes\",AM88)),CHAR(13)))","v":""},{"$f":"IF(OR(LEN(AN72)=0,AN58=\"Y\"),\"\",CONCATENATE(IF(LEN(AN88)=0,\"\",SUBSTITUTE(Settings!$B$41,\"&BEAMColumnCodes\",AN88)),CHAR(13)))","v":""},{"$f":"IF(OR(LEN(AO72)=0,AO58=\"Y\"),\"\",CONCATENATE(IF(LEN(AO88)=0,\"\",SUBSTITUTE(Settings!$B$41,\"&BEAMColumnCodes\",AO88)),CHAR(13)))","v":""},{"$f":"IF(OR(LEN(AP72)=0,AP58=\"Y\"),\"\",CONCATENATE(IF(LEN(AP88)=0,\"\",SUBSTITUTE(Settings!$B$41,\"&BEAMColumnCodes\",AP88)),CHAR(13)))","v":""},{"$f":"IF(OR(LEN(AQ72)=0,AQ58=\"Y\"),\"\",CONCATENATE(IF(LEN(AQ88)=0,\"\",SUBSTITUTE(Settings!$B$41,\"&BEAMColumnCodes\",AQ88)),CHAR(13)))","v":""},{"$f":"IF(OR(LEN(AR72)=0,AR58=\"Y\"),\"\",CONCATENATE(IF(LEN(AR88)=0,\"\",SUBSTITUTE(Settings!$B$41,\"&BEAMColumnCodes\",AR88)),CHAR(13)))","v":""},{"$f":"IF(OR(LEN(AS72)=0,AS58=\"Y\"),\"\",CONCATENATE(IF(LEN(AS88)=0,\"\",SUBSTITUTE(Settings!$B$41,\"&BEAMColumnCodes\",AS88)),CHAR(13)))","v":""},{"$f":"IF(OR(LEN(AT72)=0,AT58=\"Y\"),\"\",CONCATENATE(IF(LEN(AT88)=0,\"\",SUBSTITUTE(Settings!$B$41,\"&BEAMColumnCodes\",AT88)),CHAR(13)))","v":""},{"$f":"IF(OR(LEN(AU72)=0,AU58=\"Y\"),\"\",CONCATENATE(IF(LEN(AU88)=0,\"\",SUBSTITUTE(Settings!$B$41,\"&BEAMColumnCodes\",AU88)),CHAR(13)))","v":""},{"$f":"IF(OR(LEN(AV72)=0,AV58=\"Y\"),\"\",CONCATENATE(IF(LEN(AV88)=0,\"\",SUBSTITUTE(Settings!$B$41,\"&BEAMColumnCodes\",AV88)),CHAR(13)))","v":""},{"$f":"IF(OR(LEN(AW72)=0,AW58=\"Y\"),\"\",CONCATENATE(IF(LEN(AW88)=0,\"\",SUBSTITUTE(Settings!$B$41,\"&BEAMColumnCodes\",AW88)),CHAR(13)))","v":""},{"$f":"IF(OR(LEN(AX72)=0,AX58=\"Y\"),\"\",CONCATENATE(IF(LEN(AX88)=0,\"\",SUBSTITUTE(Settings!$B$41,\"&BEAMColumnCodes\",AX88)),CHAR(13)))","v":""},{"$f":"IF(OR(LEN(AY72)=0,AY58=\"Y\"),\"\",CONCATENATE(IF(LEN(AY88)=0,\"\",SUBSTITUTE(Settings!$B$41,\"&BEAMColumnCodes\",AY88)),CHAR(13)))","v":""},{"$f":"IF(OR(LEN(AZ72)=0,AZ58=\"Y\"),\"\",CONCATENATE(IF(LEN(AZ88)=0,\"\",SUBSTITUTE(Settings!$B$41,\"&BEAMColumnCodes\",AZ88)),CHAR(13)))","v":""},{"$f":"IF(OR(LEN(BA72)=0,BA58=\"Y\"),\"\",CONCATENATE(IF(LEN(BA88)=0,\"\",SUBSTITUTE(Settings!$B$41,\"&BEAMColumnCodes\",BA88)),CHAR(13)))","v":""},{"$f":"IF(OR(LEN(BB72)=0,BB58=\"Y\"),\"\",CONCATENATE(IF(LEN(BB88)=0,\"\",SUBSTITUTE(Settings!$B$41,\"&BEAMColumnCodes\",BB88)),CHAR(13)))","v":""},{"$f":"IF(OR(LEN(BC72)=0,BC58=\"Y\"),\"\",CONCATENATE(IF(LEN(BC88)=0,\"\",SUBSTITUTE(Settings!$B$41,\"&BEAMColumnCodes\",BC88)),CHAR(13)))","v":""},{"$f":"IF(OR(LEN(BD72)=0,BD58=\"Y\"),\"\",CONCATENATE(IF(LEN(BD88)=0,\"\",SUBSTITUTE(Settings!$B$41,\"&BEAMColumnCodes\",BD88)),CHAR(13)))","v":""},{"$f":"IF(OR(LEN(BE72)=0,BE58=\"Y\"),\"\",CONCATENATE(IF(LEN(BE88)=0,\"\",SUBSTITUTE(Settings!$B$41,\"&BEAMColumnCodes\",BE88)),CHAR(13)))","v":""},{"$f":"IF(OR(LEN(BF72)=0,BF58=\"Y\"),\"\",CONCATENATE(IF(LEN(BF88)=0,\"\",SUBSTITUTE(Settings!$B$41,\"&BEAMColumnCodes\",BF88)),CHAR(13)))","v":""},{"$f":"IF(OR(LEN(BG72)=0,BG58=\"Y\"),\"\",CONCATENATE(IF(LEN(BG88)=0,\"\",SUBSTITUTE(Settings!$B$41,\"&BEAMColumnCodes\",BG88)),CHAR(13)))","v":""},{"$f":"IF(OR(LEN(BH72)=0,BH58=\"Y\"),\"\",CONCATENATE(IF(LEN(BH88)=0,\"\",SUBSTITUTE(Settings!$B$41,\"&BEAMColumnCodes\",BH88)),CHAR(13)))","v":""},{"$f":"IF(OR(LEN(BI72)=0,BI58=\"Y\"),\"\",CONCATENATE(IF(LEN(BI88)=0,\"\",SUBSTITUTE(Settings!$B$41,\"&BEAMColumnCodes\",BI88)),CHAR(13)))","v":""},{"$f":"IF(OR(LEN(BJ72)=0,BJ58=\"Y\"),\"\",CONCATENATE(IF(LEN(BJ88)=0,\"\",SUBSTITUTE(Settings!$B$41,\"&BEAMColumnCodes\",BJ88)),CHAR(13)))","v":""},{"$f":"IF(OR(LEN(BK72)=0,BK58=\"Y\"),\"\",CONCATENATE(IF(LEN(BK88)=0,\"\",SUBSTITUTE(Settings!$B$41,\"&BEAMColumnCodes\",BK88)),CHAR(13)))","v":""},{"$f":"IF(OR(LEN(BL72)=0,BL58=\"Y\"),\"\",CONCATENATE(IF(LEN(BL88)=0,\"\",SUBSTITUTE(Settings!$B$41,\"&BEAMColumnCodes\",BL88)),CHAR(13)))","v":""},{"$f":"IF(OR(LEN(BM72)=0,BM58=\"Y\"),\"\",CONCATENATE(IF(LEN(BM88)=0,\"\",SUBSTITUTE(Settings!$B$41,\"&BEAMColumnCodes\",BM88)),CHAR(13)))","v":""},{"$f":"IF(OR(LEN(BN72)=0,BN58=\"Y\"),\"\",CONCATENATE(IF(LEN(BN88)=0,\"\",SUBSTITUTE(Settings!$B$41,\"&BEAMColumnCodes\",BN88)),CHAR(13)))","v":""},{"$f":"IF(OR(LEN(BO72)=0,BO58=\"Y\"),\"\",CONCATENATE(IF(LEN(BO88)=0,\"\",SUBSTITUTE(Settings!$B$41,\"&BEAMColumnCodes\",BO88)),CHAR(13)))","v":""},{"$f":"IF(OR(LEN(BP72)=0,BP58=\"Y\"),\"\",CONCATENATE(IF(LEN(BP88)=0,\"\",SUBSTITUTE(Settings!$B$41,\"&BEAMColumnCodes\",BP88)),CHAR(13)))","v":""},{"$f":"IF(OR(LEN(BQ72)=0,BQ58=\"Y\"),\"\",CONCATENATE(IF(LEN(BQ88)=0,\"\",SUBSTITUTE(Settings!$B$41,\"&BEAMColumnCodes\",BQ88)),CHAR(13)))","v":""},{"$f":"IF(OR(LEN(BR72)=0,BR58=\"Y\"),\"\",CONCATENATE(IF(LEN(BR88)=0,\"\",SUBSTITUTE(Settings!$B$41,\"&BEAMColumnCodes\",BR88)),CHAR(13)))","v":""},{"$f":"IF(OR(LEN(BS72)=0,BS58=\"Y\"),\"\",CONCATENATE(IF(LEN(BS88)=0,\"\",SUBSTITUTE(Settings!$B$41,\"&BEAMColumnCodes\",BS88)),CHAR(13)))","v":""},{"$f":"IF(OR(LEN(BT72)=0,BT58=\"Y\"),\"\",CONCATENATE(IF(LEN(BT88)=0,\"\",SUBSTITUTE(Settings!$B$41,\"&BEAMColumnCodes\",BT88)),CHAR(13)))","v":""},{"$f":"IF(OR(LEN(BU72)=0,BU58=\"Y\"),\"\",CONCATENATE(IF(LEN(BU88)=0,\"\",SUBSTITUTE(Settings!$B$41,\"&BEAMColumnCodes\",BU88)),CHAR(13)))","v":""},{"$f":"IF(OR(LEN(BV72)=0,BV58=\"Y\"),\"\",CONCATENATE(IF(LEN(BV88)=0,\"\",SUBSTITUTE(Settings!$B$41,\"&BEAMColumnCodes\",BV88)),CHAR(13)))","v":""},{"$f":"IF(OR(LEN(BW72)=0,BW58=\"Y\"),\"\",CONCATENATE(IF(LEN(BW88)=0,\"\",SUBSTITUTE(Settings!$B$41,\"&BEAMColumnCodes\",BW88)),CHAR(13)))","v":""},{"$f":"IF(OR(LEN(BX72)=0,BX58=\"Y\"),\"\",CONCATENATE(IF(LEN(BX88)=0,\"\",SUBSTITUTE(Settings!$B$41,\"&BEAMColumnCodes\",BX88)),CHAR(13)))","v":""},{"$f":"IF(OR(LEN(BY72)=0,BY58=\"Y\"),\"\",CONCATENATE(IF(LEN(BY88)=0,\"\",SUBSTITUTE(Settings!$B$41,\"&BEAMColumnCodes\",BY88)),CHAR(13)))","v":""},{"$f":"IF(OR(LEN(BZ72)=0,BZ58=\"Y\"),\"\",CONCATENATE(IF(LEN(BZ88)=0,\"\",SUBSTITUTE(Settings!$B$41,\"&BEAMColumnCodes\",BZ88)),CHAR(13)))","v":""},{"$f":"IF(OR(LEN(CA72)=0,CA58=\"Y\"),\"\",CONCATENATE(IF(LEN(CA88)=0,\"\",SUBSTITUTE(Settings!$B$41,\"&BEAMColumnCodes\",CA88)),CHAR(13)))","v":""},{"$f":"IF(OR(LEN(CB72)=0,CB58=\"Y\"),\"\",CONCATENATE(IF(LEN(CB88)=0,\"\",SUBSTITUTE(Settings!$B$41,\"&BEAMColumnCodes\",CB88)),CHAR(13)))","v":""},{"$f":"IF(OR(LEN(CC72)=0,CC58=\"Y\"),\"\",CONCATENATE(IF(LEN(CC88)=0,\"\",SUBSTITUTE(Settings!$B$41,\"&BEAMColumnCodes\",CC88)),CHAR(13)))","v":""},{"$f":"IF(OR(LEN(CD72)=0,CD58=\"Y\"),\"\",CONCATENATE(IF(LEN(CD88)=0,\"\",SUBSTITUTE(Settings!$B$41,\"&BEAMColumnCodes\",CD88)),CHAR(13)))","v":""},{"$f":"IF(OR(LEN(CE72)=0,CE58=\"Y\"),\"\",CONCATENATE(IF(LEN(CE88)=0,\"\",SUBSTITUTE(Settings!$B$41,\"&BEAMColumnCodes\",CE88)),CHAR(13)))","v":""},{"$f":"IF(OR(LEN(CF72)=0,CF58=\"Y\"),\"\",CONCATENATE(IF(LEN(CF88)=0,\"\",SUBSTITUTE(Settings!$B$41,\"&BEAMColumnCodes\",CF88)),CHAR(13)))","v":""},{"$f":"IF(OR(LEN(CG72)=0,CG58=\"Y\"),\"\",CONCATENATE(IF(LEN(CG88)=0,\"\",SUBSTITUTE(Settings!$B$41,\"&BEAMColumnCodes\",CG88)),CHAR(13)))","v":""},{"$f":"IF(OR(LEN(CH72)=0,CH58=\"Y\"),\"\",CONCATENATE(IF(LEN(CH88)=0,\"\",SUBSTITUTE(Settings!$B$41,\"&BEAMColumnCodes\",CH88)),CHAR(13)))","v":""},{"$f":"IF(OR(LEN(CI72)=0,CI58=\"Y\"),\"\",CONCATENATE(IF(LEN(CI88)=0,\"\",SUBSTITUTE(Settings!$B$41,\"&BEAMColumnCodes\",CI88)),CHAR(13)))","v":""},{"$f":"IF(OR(LEN(CJ72)=0,CJ58=\"Y\"),\"\",CONCATENATE(IF(LEN(CJ88)=0,\"\",SUBSTITUTE(Settings!$B$41,\"&BEAMColumnCodes\",CJ88)),CHAR(13)))","v":""},{"$f":"IF(OR(LEN(CK72)=0,CK58=\"Y\"),\"\",CONCATENATE(IF(LEN(CK88)=0,\"\",SUBSTITUTE(Settings!$B$41,\"&BEAMColumnCodes\",CK88)),CHAR(13)))","v":""},{"$f":"IF(OR(LEN(CL72)=0,CL58=\"Y\"),\"\",CONCATENATE(IF(LEN(CL88)=0,\"\",SUBSTITUTE(Settings!$B$41,\"&BEAMColumnCodes\",CL88)),CHAR(13)))","v":""},{"$f":"IF(OR(LEN(CM72)=0,CM58=\"Y\"),\"\",CONCATENATE(IF(LEN(CM88)=0,\"\",SUBSTITUTE(Settings!$B$41,\"&BEAMColumnCodes\",CM88)),CHAR(13)))","v":""},{"$f":"IF(OR(LEN(CN72)=0,CN58=\"Y\"),\"\",CONCATENATE(IF(LEN(CN88)=0,\"\",SUBSTITUTE(Settings!$B$41,\"&BEAMColumnCodes\",CN88)),CHAR(13)))","v":""},{"$f":"IF(OR(LEN(CO72)=0,CO58=\"Y\"),\"\",CONCATENATE(IF(LEN(CO88)=0,\"\",SUBSTITUTE(Settings!$B$41,\"&BEAMColumnCodes\",CO88)),CHAR(13)))","v":""},{"$f":"IF(OR(LEN(CP72)=0,CP58=\"Y\"),\"\",CONCATENATE(IF(LEN(CP88)=0,\"\",SUBSTITUTE(Settings!$B$41,\"&BEAMColumnCodes\",CP88)),CHAR(13)))","v":""},{"$f":"IF(OR(LEN(CQ72)=0,CQ58=\"Y\"),\"\",CONCATENATE(IF(LEN(CQ88)=0,\"\",SUBSTITUTE(Settings!$B$41,\"&BEAMColumnCodes\",CQ88)),CHAR(13)))","v":""},{"$f":"IF(OR(LEN(CR72)=0,CR58=\"Y\"),\"\",CONCATENATE(IF(LEN(CR88)=0,\"\",SUBSTITUTE(Settings!$B$41,\"&BEAMColumnCodes\",CR88)),CHAR(13)))","v":""},{"$f":"IF(OR(LEN(CS72)=0,CS58=\"Y\"),\"\",CONCATENATE(IF(LEN(CS88)=0,\"\",SUBSTITUTE(Settings!$B$41,\"&BEAMColumnCodes\",CS88)),CHAR(13)))","v":""},{"$f":"IF(OR(LEN(CT72)=0,CT58=\"Y\"),\"\",CONCATENATE(IF(LEN(CT88)=0,\"\",SUBSTITUTE(Settings!$B$41,\"&BEAMColumnCodes\",CT88)),CHAR(13)))","v":""},{"$f":"IF(OR(LEN(CU72)=0,CU58=\"Y\"),\"\",CONCATENATE(IF(LEN(CU88)=0,\"\",SUBSTITUTE(Settings!$B$41,\"&BEAMColumnCodes\",CU88)),CHAR(13)))","v":""},{"$f":"IF(OR(LEN(CV72)=0,CV58=\"Y\"),\"\",CONCATENATE(IF(LEN(CV88)=0,\"\",SUBSTITUTE(Settings!$B$41,\"&BEAMColumnCodes\",CV88)),CHAR(13)))","v":""},{"$f":"IF(OR(LEN(CW72)=0,CW58=\"Y\"),\"\",CONCATENATE(IF(LEN(CW88)=0,\"\",SUBSTITUTE(Settings!$B$41,\"&BEAMColumnCodes\",CW88)),CHAR(13)))","v":""},{"$f":"IF(OR(LEN(CX72)=0,CX58=\"Y\"),\"\",CONCATENATE(IF(LEN(CX88)=0,\"\",SUBSTITUTE(Settings!$B$41,\"&BEAMColumnCodes\",CX88)),CHAR(13)))","v":""},{"$f":"IF(OR(LEN(CY72)=0,CY58=\"Y\"),\"\",CONCATENATE(IF(LEN(CY88)=0,\"\",SUBSTITUTE(Settings!$B$41,\"&BEAMColumnCodes\",CY88)),CHAR(13)))","v":""},{"$f":"IF(OR(LEN(CZ72)=0,CZ58=\"Y\"),\"\",CONCATENATE(IF(LEN(CZ88)=0,\"\",SUBSTITUTE(Settings!$B$41,\"&BEAMColumnCodes\",CZ88)),CHAR(13)))","v":""},{"$f":"IF(OR(LEN(DA72)=0,DA58=\"Y\"),\"\",CONCATENATE(IF(LEN(DA88)=0,\"\",SUBSTITUTE(Settings!$B$41,\"&BEAMColumnCodes\",DA88)),CHAR(13)))","v":""},{"$f":"IF(OR(LEN(DB72)=0,DB58=\"Y\"),\"\",CONCATENATE(IF(LEN(DB88)=0,\"\",SUBSTITUTE(Settings!$B$41,\"&BEAMColumnCodes\",DB88)),CHAR(13)))","v":""},{"$f":"IF(OR(LEN(DC72)=0,DC58=\"Y\"),\"\",CONCATENATE(IF(LEN(DC88)=0,\"\",SUBSTITUTE(Settings!$B$41,\"&BEAMColumnCodes\",DC88)),CHAR(13)))","v":""},{"$f":"IF(OR(LEN(DD72)=0,DD58=\"Y\"),\"\",CONCATENATE(IF(LEN(DD88)=0,\"\",SUBSTITUTE(Settings!$B$41,\"&BEAMColumnCodes\",DD88)),CHAR(13)))","v":""},{"$f":"IF(OR(LEN(DE72)=0,DE58=\"Y\"),\"\",CONCATENATE(IF(LEN(DE88)=0,\"\",SUBSTITUTE(Settings!$B$41,\"&BEAMColumnCodes\",DE88)),CHAR(13)))","v":""},{"$f":"IF(OR(LEN(DF72)=0,DF58=\"Y\"),\"\",CONCATENATE(IF(LEN(DF88)=0,\"\",SUBSTITUTE(Settings!$B$41,\"&BEAMColumnCodes\",DF88)),CHAR(13)))","v":""},{"$f":"IF(OR(LEN(DG72)=0,DG58=\"Y\"),\"\",CONCATENATE(IF(LEN(DG88)=0,\"\",SUBSTITUTE(Settings!$B$41,\"&BEAMColumnCodes\",DG88)),CHAR(13)))","v":""},{"$f":"IF(OR(LEN(DH72)=0,DH58=\"Y\"),\"\",CONCATENATE(IF(LEN(DH88)=0,\"\",SUBSTITUTE(Settings!$B$41,\"&BEAMColumnCodes\",DH88)),CHAR(13)))","v":""},{"$f":"IF(OR(LEN(DI72)=0,DI58=\"Y\"),\"\",CONCATENATE(IF(LEN(DI88)=0,\"\",SUBSTITUTE(Settings!$B$41,\"&BEAMColumnCodes\",DI88)),CHAR(13)))","v":""},{"$f":"IF(OR(LEN(DJ72)=0,DJ58=\"Y\"),\"\",CONCATENATE(IF(LEN(DJ88)=0,\"\",SUBSTITUTE(Settings!$B$41,\"&BEAMColumnCodes\",DJ88)),CHAR(13)))","v":""},{"$f":"IF(OR(LEN(DK72)=0,DK58=\"Y\"),\"\",CONCATENATE(IF(LEN(DK88)=0,\"\",SUBSTITUTE(Settings!$B$41,\"&BEAMColumnCodes\",DK88)),CHAR(13)))","v":""},{"$f":"IF(OR(LEN(DL72)=0,DL58=\"Y\"),\"\",CONCATENATE(IF(LEN(DL88)=0,\"\",SUBSTITUTE(Settings!$B$41,\"&BEAMColumnCodes\",DL88)),CHAR(13)))","v":""},{"$f":"IF(OR(LEN(DM72)=0,DM58=\"Y\"),\"\",CONCATENATE(IF(LEN(DM88)=0,\"\",SUBSTITUTE(Settings!$B$41,\"&BEAMColumnCodes\",DM88)),CHAR(13)))","v":""},{"$f":"IF(OR(LEN(DN72)=0,DN58=\"Y\"),\"\",CONCATENATE(IF(LEN(DN88)=0,\"\",SUBSTITUTE(Settings!$B$41,\"&BEAMColumnCodes\",DN88)),CHAR(13)))","v":""},{"$f":"IF(OR(LEN(DO72)=0,DO58=\"Y\"),\"\",CONCATENATE(IF(LEN(DO88)=0,\"\",SUBSTITUTE(Settings!$B$41,\"&BEAMColumnCodes\",DO88)),CHAR(13)))","v":""},{"$f":"IF(OR(LEN(DP72)=0,DP58=\"Y\"),\"\",CONCATENATE(IF(LEN(DP88)=0,\"\",SUBSTITUTE(Settings!$B$41,\"&BEAMColumnCodes\",DP88)),CHAR(13)))","v":""},{"$f":"IF(OR(LEN(DQ72)=0,DQ58=\"Y\"),\"\",CONCATENATE(IF(LEN(DQ88)=0,\"\",SUBSTITUTE(Settings!$B$41,\"&BEAMColumnCodes\",DQ88)),CHAR(13)))","v":""},{"$f":"IF(OR(LEN(DR72)=0,DR58=\"Y\"),\"\",CONCATENATE(IF(LEN(DR88)=0,\"\",SUBSTITUTE(Settings!$B$41,\"&BEAMColumnCodes\",DR88)),CHAR(13)))","v":""},{"$f":"IF(OR(LEN(DS72)=0,DS58=\"Y\"),\"\",CONCATENATE(IF(LEN(DS88)=0,\"\",SUBSTITUTE(Settings!$B$41,\"&BEAMColumnCodes\",DS88)),CHAR(13)))","v":""},{"$f":"IF(OR(LEN(DT72)=0,DT58=\"Y\"),\"\",CONCATENATE(IF(LEN(DT88)=0,\"\",SUBSTITUTE(Settings!$B$41,\"&BEAMColumnCodes\",DT88)),CHAR(13)))","v":""},{"$f":"IF(OR(LEN(DU72)=0,DU58=\"Y\"),\"\",CONCATENATE(IF(LEN(DU88)=0,\"\",SUBSTITUTE(Settings!$B$41,\"&BEAMColumnCodes\",DU88)),CHAR(13)))","v":""},{"$f":"IF(OR(LEN(DV72)=0,DV58=\"Y\"),\"\",CONCATENATE(IF(LEN(DV88)=0,\"\",SUBSTITUTE(Settings!$B$41,\"&BEAMColumnCodes\",DV88)),CHAR(13)))","v":""},{"$f":"IF(OR(LEN(DW72)=0,DW58=\"Y\"),\"\",CONCATENATE(IF(LEN(DW88)=0,\"\",SUBSTITUTE(Settings!$B$41,\"&BEAMColumnCodes\",DW88)),CHAR(13)))","v":""},{"$f":"IF(OR(LEN(DX72)=0,DX58=\"Y\"),\"\",CONCATENATE(IF(LEN(DX88)=0,\"\",SUBSTITUTE(Settings!$B$41,\"&BEAMColumnCodes\",DX88)),CHAR(13)))","v":""},{"$f":"IF(OR(LEN(DY72)=0,DY58=\"Y\"),\"\",CONCATENATE(IF(LEN(DY88)=0,\"\",SUBSTITUTE(Settings!$B$41,\"&BEAMColumnCodes\",DY88)),CHAR(13)))","v":""},{"$f":"IF(OR(LEN(DZ72)=0,DZ58=\"Y\"),\"\",CONCATENATE(IF(LEN(DZ88)=0,\"\",SUBSTITUTE(Settings!$B$41,\"&BEAMColumnCodes\",DZ88)),CHAR(13)))","v":""},{"$f":"IF(OR(LEN(EA72)=0,EA58=\"Y\"),\"\",CONCATENATE(IF(LEN(EA88)=0,\"\",SUBSTITUTE(Settings!$B$41,\"&BEAMColumnCodes\",EA88)),CHAR(13)))","v":""},{"$f":"IF(OR(LEN(EB72)=0,EB58=\"Y\"),\"\",CONCATENATE(IF(LEN(EB88)=0,\"\",SUBSTITUTE(Settings!$B$41,\"&BEAMColumnCodes\",EB88)),CHAR(13)))","v":""},{"$f":"IF(OR(LEN(EC72)=0,EC58=\"Y\"),\"\",CONCATENATE(IF(LEN(EC88)=0,\"\",SUBSTITUTE(Settings!$B$41,\"&BEAMColumnCodes\",EC88)),CHAR(13)))","v":""},{"$f":"IF(OR(LEN(ED72)=0,ED58=\"Y\"),\"\",CONCATENATE(IF(LEN(ED88)=0,\"\",SUBSTITUTE(Settings!$B$41,\"&BEAMColumnCodes\",ED88)),CHAR(13)))","v":""},{"$f":"IF(OR(LEN(EE72)=0,EE58=\"Y\"),\"\",CONCATENATE(IF(LEN(EE88)=0,\"\",SUBSTITUTE(Settings!$B$41,\"&BEAMColumnCodes\",EE88)),CHAR(13)))","v":""},{"$f":"IF(OR(LEN(EF72)=0,EF58=\"Y\"),\"\",CONCATENATE(IF(LEN(EF88)=0,\"\",SUBSTITUTE(Settings!$B$41,\"&BEAMColumnCodes\",EF88)),CHAR(13)))","v":""},{"$f":"IF(OR(LEN(EG72)=0,EG58=\"Y\"),\"\",CONCATENATE(IF(LEN(EG88)=0,\"\",SUBSTITUTE(Settings!$B$41,\"&BEAMColumnCodes\",EG88)),CHAR(13)))","v":""},{"$f":"IF(OR(LEN(EH72)=0,EH58=\"Y\"),\"\",CONCATENATE(IF(LEN(EH88)=0,\"\",SUBSTITUTE(Settings!$B$41,\"&BEAMColumnCodes\",EH88)),CHAR(13)))","v":""},{"$f":"IF(OR(LEN(EI72)=0,EI58=\"Y\"),\"\",CONCATENATE(IF(LEN(EI88)=0,\"\",SUBSTITUTE(Settings!$B$41,\"&BEAMColumnCodes\",EI88)),CHAR(13)))","v":""},{"$f":"IF(OR(LEN(EJ72)=0,EJ58=\"Y\"),\"\",CONCATENATE(IF(LEN(EJ88)=0,\"\",SUBSTITUTE(Settings!$B$41,\"&BEAMColumnCodes\",EJ88)),CHAR(13)))","v":""},{"$f":"IF(OR(LEN(EK72)=0,EK58=\"Y\"),\"\",CONCATENATE(IF(LEN(EK88)=0,\"\",SUBSTITUTE(Settings!$B$41,\"&BEAMColumnCodes\",EK88)),CHAR(13)))","v":""},{"$f":"IF(OR(LEN(EL72)=0,EL58=\"Y\"),\"\",CONCATENATE(IF(LEN(EL88)=0,\"\",SUBSTITUTE(Settings!$B$41,\"&BEAMColumnCodes\",EL88)),CHAR(13)))","v":""},{"$f":"IF(OR(LEN(EM72)=0,EM58=\"Y\"),\"\",CONCATENATE(IF(LEN(EM88)=0,\"\",SUBSTITUTE(Settings!$B$41,\"&BEAMColumnCodes\",EM88)),CHAR(13)))","v":""},{"$f":"IF(OR(LEN(EN72)=0,EN58=\"Y\"),\"\",CONCATENATE(IF(LEN(EN88)=0,\"\",SUBSTITUTE(Settings!$B$41,\"&BEAMColumnCodes\",EN88)),CHAR(13)))","v":""},{"$f":"IF(OR(LEN(EO72)=0,EO58=\"Y\"),\"\",CONCATENATE(IF(LEN(EO88)=0,\"\",SUBSTITUTE(Settings!$B$41,\"&BEAMColumnCodes\",EO88)),CHAR(13)))","v":""},{"$f":"IF(OR(LEN(EP72)=0,EP58=\"Y\"),\"\",CONCATENATE(IF(LEN(EP88)=0,\"\",SUBSTITUTE(Settings!$B$41,\"&BEAMColumnCodes\",EP88)),CHAR(13)))","v":""},{"$f":"IF(OR(LEN(EQ72)=0,EQ58=\"Y\"),\"\",CONCATENATE(IF(LEN(EQ88)=0,\"\",SUBSTITUTE(Settings!$B$41,\"&BEAMColumnCodes\",EQ88)),CHAR(13)))","v":""},{"$f":"IF(OR(LEN(ER72)=0,ER58=\"Y\"),\"\",CONCATENATE(IF(LEN(ER88)=0,\"\",SUBSTITUTE(Settings!$B$41,\"&BEAMColumnCodes\",ER88)),CHAR(13)))","v":""},{"$f":"IF(OR(LEN(ES72)=0,ES58=\"Y\"),\"\",CONCATENATE(IF(LEN(ES88)=0,\"\",SUBSTITUTE(Settings!$B$41,\"&BEAMColumnCodes\",ES88)),CHAR(13)))","v":""},{"$f":"IF(OR(LEN(ET72)=0,ET58=\"Y\"),\"\",CONCATENATE(IF(LEN(ET88)=0,\"\",SUBSTITUTE(Settings!$B$41,\"&BEAMColumnCodes\",ET88)),CHAR(13)))","v":""},{"$f":"IF(OR(LEN(EU72)=0,EU58=\"Y\"),\"\",CONCATENATE(IF(LEN(EU88)=0,\"\",SUBSTITUTE(Settings!$B$41,\"&BEAMColumnCodes\",EU88)),CHAR(13)))","v":""},{"$f":"IF(OR(LEN(EV72)=0,EV58=\"Y\"),\"\",CONCATENATE(IF(LEN(EV88)=0,\"\",SUBSTITUTE(Settings!$B$41,\"&BEAMColumnCodes\",EV88)),CHAR(13)))","v":""},{"$f":"IF(OR(LEN(EW72)=0,EW58=\"Y\"),\"\",CONCATENATE(IF(LEN(EW88)=0,\"\",SUBSTITUTE(Settings!$B$41,\"&BEAMColumnCodes\",EW88)),CHAR(13)))","v":""},{"$f":"IF(OR(LEN(EX72)=0,EX58=\"Y\"),\"\",CONCATENATE(IF(LEN(EX88)=0,\"\",SUBSTITUTE(Settings!$B$41,\"&BEAMColumnCodes\",EX88)),CHAR(13)))","v":""},{"$f":"IF(OR(LEN(EY72)=0,EY58=\"Y\"),\"\",CONCATENATE(IF(LEN(EY88)=0,\"\",SUBSTITUTE(Settings!$B$41,\"&BEAMColumnCodes\",EY88)),CHAR(13)))","v":""}]
[null,null,"Key Code",null,null,{"$f":"IF(F63=\"Y\",F89,\"\")","v":""},{"$f":"IF(G63=\"Y\",G89,\"\")","v":""},"","","","","","","","","","","","","","","","","","","","","","","","","","","","","","","","","","","","","","","","","","","","","","","","","","","","","","","","","","","","","","","",{"$f":"IF(BS63=\"Y\",BS89,\"\")","v":""},"","","","","","","","","","","","","","","","","","","","","","","","","","","","","","","","","","","","","","","","","","","","","","","","","","","","","","","","","","","","","","","",{"$f":"IF(EE63=\"Y\",EE89,\"\")","v":""},"","","","","","","","","","","","","","","","","","","",""]
[null,null,"Key Code List",null,null,{"$f":"F90","v":""},{"$f":"CONCATENATE(INDIRECT(ADDRESS(ROW(),COLUMN()-1)),IF(ISERROR(FIND(\"...\",G78)),G90,\"\"))","v":""},{"$f":"CONCATENATE(INDIRECT(ADDRESS(ROW(),COLUMN()-1)),IF(ISERROR(FIND(\"...\",H78)),H90,\"\"))","v":""},"","","","","","","","","","","","","","","","","","","","","","","","","","","","","","","","","","","","","","","","","","","","","","","","","","","","","","","","","","","","","","","",{"$f":"CONCATENATE(INDIRECT(ADDRESS(ROW(),COLUMN()-1)),IF(ISERROR(FIND(\"...\",BT78)),BT90,\"\"))","v":""},"","","","","","","","","","","","","","","","","","","","","","","","","","","","","","","","","","","","","","","","","","","","","","","","","","","","","","","","","","","","","","","",{"$f":"CONCATENATE(INDIRECT(ADDRESS(ROW(),COLUMN()-1)),IF(ISERROR(FIND(\"...\",EF78)),EF90,\"\"))","v":""},"","","","","","","","","","","","","","","","","","",""]
[null,null,"Non-key Code",null,null,{"$f":"IF(F63=\"Y\",\"\",F89)","v":"\r"},{"$f":"IF(G63=\"Y\",\"\",G89)","v":"\r"}," [when] \r","","","","","","","","","","","","","","","","","","","","","","","","","","","","","","","","","","","","","","","","","","","","","","","","","","","","","","","","","","","","","","",{"$f":"IF(BS63=\"Y\",\"\",BS89)","v":""},"","","","","","","","","","","","","","","","","","","","","","","","","","","","","","","","","","","","","","","","","","","","","","","","","","","","","","","","","","","","","","","",{"$f":"IF(EE63=\"Y\",\"\",EE89)","v":""},"","","","","","","","","","","","","","","","","","","",""]
[null,null,"Key Code List + Non-key Code List",null,null,{"$f":"IF(LEN($H$117)=0, $F$92, $H$117 & CHAR(13) & $F$92)","v":"\r"},{"$f":"CONCATENATE(INDIRECT(ADDRESS(ROW(),COLUMN()-1)),IF(ISERROR(FIND(\"...\",G82)),G92,\"\"))","v":"\r\r"},{"$f":"CONCATENATE(INDIRECT(ADDRESS(ROW(),COLUMN()-1)),IF(ISERROR(FIND(\"...\",H82)),H92,\"\"))","v":"\r\r [when] \r"},"\r\r [when] \r","\r\r [when] \r","\r\r [when] \r","\r\r [when] \r","\r\r [when] \r","\r\r [when] \r","\r\r [when] \r","\r\r [when] \r","\r\r [when] \r","\r\r [when] \r","\r\r [when] \r","\r\r [when] \r","\r\r [when] \r","\r\r [when] \r","\r\r [when] \r","\r\r [when] \r","\r\r [when] \r","\r\r [when] \r","\r\r [when] \r","\r\r [when] \r","\r\r [when] \r","\r\r [when] \r","\r\r [when] \r","\r\r [when] \r","\r\r [when] \r","\r\r [when] \r","\r\r [when] \r","\r\r [when] \r","\r\r [when] \r","\r\r [when] \r","\r\r [when] \r","\r\r [when] \r","\r\r [when] \r","\r\r [when] \r","\r\r [when] \r","\r\r [when] \r","\r\r [when] \r","\r\r [when] \r","\r\r [when] \r","\r\r [when] \r","\r\r [when] \r","\r\r [when] \r","\r\r [when] \r","\r\r [when] \r","\r\r [when] \r","\r\r [when] \r","\r\r [when] \r","\r\r [when] \r","\r\r [when] \r","\r\r [when] \r","\r\r [when] \r","\r\r [when] \r","\r\r [when] \r","\r\r [when] \r","\r\r [when] \r","\r\r [when] \r","\r\r [when] \r","\r\r [when] \r","\r\r [when] \r","\r\r [when] \r","\r\r [when] \r","\r\r [when] \r","\r\r [when] \r",{"$f":"CONCATENATE(INDIRECT(ADDRESS(ROW(),COLUMN()-1)),IF(ISERROR(FIND(\"...\",BT82)),BT92,\"\"))","v":"\r\r [when] \r"},"\r\r [when] \r","\r\r [when] \r","\r\r [when] \r","\r\r [when] \r","\r\r [when] \r","\r\r [when] \r","\r\r [when] \r","\r\r [when] \r","\r\r [when] \r","\r\r [when] \r","\r\r [when] \r","\r\r [when] \r","\r\r [when] \r","\r\r [when] \r","\r\r [when] \r","\r\r [when] \r","\r\r [when] \r","\r\r [when] \r","\r\r [when] \r","\r\r [when] \r","\r\r [when] \r","\r\r [when] \r","\r\r [when] \r","\r\r [when] \r","\r\r [when] \r","\r\r [when] \r","\r\r [when] \r","\r\r [when] \r","\r\r [when] \r","\r\r [when] \r","\r\r [when] \r","\r\r [when] \r","\r\r [when] \r","\r\r [when] \r","\r\r [when] \r","\r\r [when] \r","\r\r [when] \r","\r\r [when] \r","\r\r [when] \r","\r\r [when] \r","\r\r [when] \r","\r\r [when] \r","\r\r [when] \r","\r\r [when] \r","\r\r [when] \r","\r\r [when] \r","\r\r [when] \r","\r\r [when] \r","\r\r [when] \r","\r\r [when] \r","\r\r [when] \r","\r\r [when] \r","\r\r [when] \r","\r\r [when] \r","\r\r [when] \r","\r\r [when] \r","\r\r [when] \r","\r\r [when] \r","\r\r [when] \r","\r\r [when] \r","\r\r [when] \r","\r\r [when] \r","\r\r [when] \r",{"$f":"CONCATENATE(INDIRECT(ADDRESS(ROW(),COLUMN()-1)),IF(ISERROR(FIND(\"...\",EF82)),EF92,\"\"))","v":"\r\r [when] \r"},"\r\r [when] \r","\r\r [when] \r","\r\r [when] \r","\r\r [when] \r","\r\r [when] \r","\r\r [when] \r","\r\r [when] \r","\r\r [when] \r","\r\r [when] \r","\r\r [when] \r","\r\r [when] \r","\r\r [when] \r","\r\r [when] \r","\r\r [when] \r","\r\r [when] \r","\r\r [when] \r","\r\r [when] \r","\r\r [when] \r","\r\r [when] \r"]
[]
[null,null," SQL Data Type",null,null,{"$f":"IF(LEN(F72)=0,\"\", \" \" & IF(F59=\"Y\", Settings!$B$19, IF(IFERROR(SEARCH(\"N\",F67,1),0)=1,Settings!$B$20,IF(IFERROR(SEARCH(\"C\",F67,1),0)=1,Settings!$B$23,IF(IFERROR(SEARCH(\"DT\",F67,1),0)=1,Settings!$B$26,IF(IFERROR(SEARCH(\"D\",F67,1),0)=1,Settings!$B$25,IF(IFERROR(SEARCH(\"I\",F67,1),0)=1,Settings!$B$22, IF(F64=\"Y\", Settings!$B$18, Settings!$B$17))))))))","v":" VARCHAR2(40)"},{"$f":"IF(LEN(G72)=0,\"\", \" \" & IF(G59=\"Y\", Settings!$B$19, IF(IFERROR(SEARCH(\"N\",G67,1),0)=1,Settings!$B$20,IF(IFERROR(SEARCH(\"C\",G67,1),0)=1,Settings!$B$23,IF(IFERROR(SEARCH(\"DT\",G67,1),0)=1,Settings!$B$26,IF(IFERROR(SEARCH(\"D\",G67,1),0)=1,Settings!$B$25,IF(IFERROR(SEARCH(\"I\",G67,1),0)=1,Settings!$B$22, IF(G64=\"Y\", Settings!$B$18, Settings!$B$17))))))))","v":" VARCHAR2(40)"},{"$f":"IF(LEN(H72)=0,\"\", \" \" & IF(H59=\"Y\", Settings!$B$19, IF(IFERROR(SEARCH(\"N\",H67,1),0)=1,Settings!$B$20,IF(IFERROR(SEARCH(\"C\",H67,1),0)=1,Settings!$B$23,IF(IFERROR(SEARCH(\"DT\",H67,1),0)=1,Settings!$B$26,IF(IFERROR(SEARCH(\"D\",H67,1),0)=1,Settings!$B$25,IF(IFERROR(SEARCH(\"I\",H67,1),0)=1,Settings!$B$22, IF(H64=\"Y\", Settings!$B$18, Settings!$B$17))))))))","v":" DATE"},{"$f":"IF(LEN(I72)=0,\"\", \" \" & IF(I59=\"Y\", Settings!$B$19, IF(IFERROR(SEARCH(\"N\",I67,1),0)=1,Settings!$B$20,IF(IFERROR(SEARCH(\"C\",I67,1),0)=1,Settings!$B$23,IF(IFERROR(SEARCH(\"DT\",I67,1),0)=1,Settings!$B$26,IF(IFERROR(SEARCH(\"D\",I67,1),0)=1,Settings!$B$25,IF(IFERROR(SEARCH(\"I\",I67,1),0)=1,Settings!$B$22, IF(I64=\"Y\", Settings!$B$18, Settings!$B$17))))))))","v":""},{"$f":"IF(LEN(J72)=0,\"\", \" \" & IF(J59=\"Y\", Settings!$B$19, IF(IFERROR(SEARCH(\"N\",J67,1),0)=1,Settings!$B$20,IF(IFERROR(SEARCH(\"C\",J67,1),0)=1,Settings!$B$23,IF(IFERROR(SEARCH(\"DT\",J67,1),0)=1,Settings!$B$26,IF(IFERROR(SEARCH(\"D\",J67,1),0)=1,Settings!$B$25,IF(IFERROR(SEARCH(\"I\",J67,1),0)=1,Settings!$B$22, IF(J64=\"Y\", Settings!$B$18, Settings!$B$17))))))))","v":""},{"$f":"IF(LEN(K72)=0,\"\", \" \" & IF(K59=\"Y\", Settings!$B$19, IF(IFERROR(SEARCH(\"N\",K67,1),0)=1,Settings!$B$20,IF(IFERROR(SEARCH(\"C\",K67,1),0)=1,Settings!$B$23,IF(IFERROR(SEARCH(\"DT\",K67,1),0)=1,Settings!$B$26,IF(IFERROR(SEARCH(\"D\",K67,1),0)=1,Settings!$B$25,IF(IFERROR(SEARCH(\"I\",K67,1),0)=1,Settings!$B$22, IF(K64=\"Y\", Settings!$B$18, Settings!$B$17))))))))","v":""},{"$f":"IF(LEN(L72)=0,\"\", \" \" & IF(L59=\"Y\", Settings!$B$19, IF(IFERROR(SEARCH(\"N\",L67,1),0)=1,Settings!$B$20,IF(IFERROR(SEARCH(\"C\",L67,1),0)=1,Settings!$B$23,IF(IFERROR(SEARCH(\"DT\",L67,1),0)=1,Settings!$B$26,IF(IFERROR(SEARCH(\"D\",L67,1),0)=1,Settings!$B$25,IF(IFERROR(SEARCH(\"I\",L67,1),0)=1,Settings!$B$22, IF(L64=\"Y\", Settings!$B$18, Settings!$B$17))))))))","v":""},{"$f":"IF(LEN(M72)=0,\"\", \" \" & IF(M59=\"Y\", Settings!$B$19, IF(IFERROR(SEARCH(\"N\",M67,1),0)=1,Settings!$B$20,IF(IFERROR(SEARCH(\"C\",M67,1),0)=1,Settings!$B$23,IF(IFERROR(SEARCH(\"DT\",M67,1),0)=1,Settings!$B$26,IF(IFERROR(SEARCH(\"D\",M67,1),0)=1,Settings!$B$25,IF(IFERROR(SEARCH(\"I\",M67,1),0)=1,Settings!$B$22, IF(M64=\"Y\", Settings!$B$18, Settings!$B$17))))))))","v":""},{"$f":"IF(LEN(N72)=0,\"\", \" \" & IF(N59=\"Y\", Settings!$B$19, IF(IFERROR(SEARCH(\"N\",N67,1),0)=1,Settings!$B$20,IF(IFERROR(SEARCH(\"C\",N67,1),0)=1,Settings!$B$23,IF(IFERROR(SEARCH(\"DT\",N67,1),0)=1,Settings!$B$26,IF(IFERROR(SEARCH(\"D\",N67,1),0)=1,Settings!$B$25,IF(IFERROR(SEARCH(\"I\",N67,1),0)=1,Settings!$B$22, IF(N64=\"Y\", Settings!$B$18, Settings!$B$17))))))))","v":""},{"$f":"IF(LEN(O72)=0,\"\", \" \" & IF(O59=\"Y\", Settings!$B$19, IF(IFERROR(SEARCH(\"N\",O67,1),0)=1,Settings!$B$20,IF(IFERROR(SEARCH(\"C\",O67,1),0)=1,Settings!$B$23,IF(IFERROR(SEARCH(\"DT\",O67,1),0)=1,Settings!$B$26,IF(IFERROR(SEARCH(\"D\",O67,1),0)=1,Settings!$B$25,IF(IFERROR(SEARCH(\"I\",O67,1),0)=1,Settings!$B$22, IF(O64=\"Y\", Settings!$B$18, Settings!$B$17))))))))","v":""},{"$f":"IF(LEN(P72)=0,\"\", \" \" & IF(P59=\"Y\", Settings!$B$19, IF(IFERROR(SEARCH(\"N\",P67,1),0)=1,Settings!$B$20,IF(IFERROR(SEARCH(\"C\",P67,1),0)=1,Settings!$B$23,IF(IFERROR(SEARCH(\"DT\",P67,1),0)=1,Settings!$B$26,IF(IFERROR(SEARCH(\"D\",P67,1),0)=1,Settings!$B$25,IF(IFERROR(SEARCH(\"I\",P67,1),0)=1,Settings!$B$22, IF(P64=\"Y\", Settings!$B$18, Settings!$B$17))))))))","v":""},{"$f":"IF(LEN(Q72)=0,\"\", \" \" & IF(Q59=\"Y\", Settings!$B$19, IF(IFERROR(SEARCH(\"N\",Q67,1),0)=1,Settings!$B$20,IF(IFERROR(SEARCH(\"C\",Q67,1),0)=1,Settings!$B$23,IF(IFERROR(SEARCH(\"DT\",Q67,1),0)=1,Settings!$B$26,IF(IFERROR(SEARCH(\"D\",Q67,1),0)=1,Settings!$B$25,IF(IFERROR(SEARCH(\"I\",Q67,1),0)=1,Settings!$B$22, IF(Q64=\"Y\", Settings!$B$18, Settings!$B$17))))))))","v":""},{"$f":"IF(LEN(R72)=0,\"\", \" \" & IF(R59=\"Y\", Settings!$B$19, IF(IFERROR(SEARCH(\"N\",R67,1),0)=1,Settings!$B$20,IF(IFERROR(SEARCH(\"C\",R67,1),0)=1,Settings!$B$23,IF(IFERROR(SEARCH(\"DT\",R67,1),0)=1,Settings!$B$26,IF(IFERROR(SEARCH(\"D\",R67,1),0)=1,Settings!$B$25,IF(IFERROR(SEARCH(\"I\",R67,1),0)=1,Settings!$B$22, IF(R64=\"Y\", Settings!$B$18, Settings!$B$17))))))))","v":""},{"$f":"IF(LEN(S72)=0,\"\", \" \" & IF(S59=\"Y\", Settings!$B$19, IF(IFERROR(SEARCH(\"N\",S67,1),0)=1,Settings!$B$20,IF(IFERROR(SEARCH(\"C\",S67,1),0)=1,Settings!$B$23,IF(IFERROR(SEARCH(\"DT\",S67,1),0)=1,Settings!$B$26,IF(IFERROR(SEARCH(\"D\",S67,1),0)=1,Settings!$B$25,IF(IFERROR(SEARCH(\"I\",S67,1),0)=1,Settings!$B$22, IF(S64=\"Y\", Settings!$B$18, Settings!$B$17))))))))","v":""},{"$f":"IF(LEN(T72)=0,\"\", \" \" & IF(T59=\"Y\", Settings!$B$19, IF(IFERROR(SEARCH(\"N\",T67,1),0)=1,Settings!$B$20,IF(IFERROR(SEARCH(\"C\",T67,1),0)=1,Settings!$B$23,IF(IFERROR(SEARCH(\"DT\",T67,1),0)=1,Settings!$B$26,IF(IFERROR(SEARCH(\"D\",T67,1),0)=1,Settings!$B$25,IF(IFERROR(SEARCH(\"I\",T67,1),0)=1,Settings!$B$22, IF(T64=\"Y\", Settings!$B$18, Settings!$B$17))))))))","v":""},{"$f":"IF(LEN(U72)=0,\"\", \" \" & IF(U59=\"Y\", Settings!$B$19, IF(IFERROR(SEARCH(\"N\",U67,1),0)=1,Settings!$B$20,IF(IFERROR(SEARCH(\"C\",U67,1),0)=1,Settings!$B$23,IF(IFERROR(SEARCH(\"DT\",U67,1),0)=1,Settings!$B$26,IF(IFERROR(SEARCH(\"D\",U67,1),0)=1,Settings!$B$25,IF(IFERROR(SEARCH(\"I\",U67,1),0)=1,Settings!$B$22, IF(U64=\"Y\", Settings!$B$18, Settings!$B$17))))))))","v":""},{"$f":"IF(LEN(V72)=0,\"\", \" \" & IF(V59=\"Y\", Settings!$B$19, IF(IFERROR(SEARCH(\"N\",V67,1),0)=1,Settings!$B$20,IF(IFERROR(SEARCH(\"C\",V67,1),0)=1,Settings!$B$23,IF(IFERROR(SEARCH(\"DT\",V67,1),0)=1,Settings!$B$26,IF(IFERROR(SEARCH(\"D\",V67,1),0)=1,Settings!$B$25,IF(IFERROR(SEARCH(\"I\",V67,1),0)=1,Settings!$B$22, IF(V64=\"Y\", Settings!$B$18, Settings!$B$17))))))))","v":""},{"$f":"IF(LEN(W72)=0,\"\", \" \" & IF(W59=\"Y\", Settings!$B$19, IF(IFERROR(SEARCH(\"N\",W67,1),0)=1,Settings!$B$20,IF(IFERROR(SEARCH(\"C\",W67,1),0)=1,Settings!$B$23,IF(IFERROR(SEARCH(\"DT\",W67,1),0)=1,Settings!$B$26,IF(IFERROR(SEARCH(\"D\",W67,1),0)=1,Settings!$B$25,IF(IFERROR(SEARCH(\"I\",W67,1),0)=1,Settings!$B$22, IF(W64=\"Y\", Settings!$B$18, Settings!$B$17))))))))","v":""},{"$f":"IF(LEN(X72)=0,\"\", \" \" & IF(X59=\"Y\", Settings!$B$19, IF(IFERROR(SEARCH(\"N\",X67,1),0)=1,Settings!$B$20,IF(IFERROR(SEARCH(\"C\",X67,1),0)=1,Settings!$B$23,IF(IFERROR(SEARCH(\"DT\",X67,1),0)=1,Settings!$B$26,IF(IFERROR(SEARCH(\"D\",X67,1),0)=1,Settings!$B$25,IF(IFERROR(SEARCH(\"I\",X67,1),0)=1,Settings!$B$22, IF(X64=\"Y\", Settings!$B$18, Settings!$B$17))))))))","v":""},{"$f":"IF(LEN(Y72)=0,\"\", \" \" & IF(Y59=\"Y\", Settings!$B$19, IF(IFERROR(SEARCH(\"N\",Y67,1),0)=1,Settings!$B$20,IF(IFERROR(SEARCH(\"C\",Y67,1),0)=1,Settings!$B$23,IF(IFERROR(SEARCH(\"DT\",Y67,1),0)=1,Settings!$B$26,IF(IFERROR(SEARCH(\"D\",Y67,1),0)=1,Settings!$B$25,IF(IFERROR(SEARCH(\"I\",Y67,1),0)=1,Settings!$B$22, IF(Y64=\"Y\", Settings!$B$18, Settings!$B$17))))))))","v":""},{"$f":"IF(LEN(Z72)=0,\"\", \" \" & IF(Z59=\"Y\", Settings!$B$19, IF(IFERROR(SEARCH(\"N\",Z67,1),0)=1,Settings!$B$20,IF(IFERROR(SEARCH(\"C\",Z67,1),0)=1,Settings!$B$23,IF(IFERROR(SEARCH(\"DT\",Z67,1),0)=1,Settings!$B$26,IF(IFERROR(SEARCH(\"D\",Z67,1),0)=1,Settings!$B$25,IF(IFERROR(SEARCH(\"I\",Z67,1),0)=1,Settings!$B$22, IF(Z64=\"Y\", Settings!$B$18, Settings!$B$17))))))))","v":""},{"$f":"IF(LEN(AA72)=0,\"\", \" \" & IF(AA59=\"Y\", Settings!$B$19, IF(IFERROR(SEARCH(\"N\",AA67,1),0)=1,Settings!$B$20,IF(IFERROR(SEARCH(\"C\",AA67,1),0)=1,Settings!$B$23,IF(IFERROR(SEARCH(\"DT\",AA67,1),0)=1,Settings!$B$26,IF(IFERROR(SEARCH(\"D\",AA67,1),0)=1,Settings!$B$25,IF(IFERROR(SEARCH(\"I\",AA67,1),0)=1,Settings!$B$22, IF(AA64=\"Y\", Settings!$B$18, Settings!$B$17))))))))","v":""},{"$f":"IF(LEN(AB72)=0,\"\", \" \" & IF(AB59=\"Y\", Settings!$B$19, IF(IFERROR(SEARCH(\"N\",AB67,1),0)=1,Settings!$B$20,IF(IFERROR(SEARCH(\"C\",AB67,1),0)=1,Settings!$B$23,IF(IFERROR(SEARCH(\"DT\",AB67,1),0)=1,Settings!$B$26,IF(IFERROR(SEARCH(\"D\",AB67,1),0)=1,Settings!$B$25,IF(IFERROR(SEARCH(\"I\",AB67,1),0)=1,Settings!$B$22, IF(AB64=\"Y\", Settings!$B$18, Settings!$B$17))))))))","v":""},{"$f":"IF(LEN(AC72)=0,\"\", \" \" & IF(AC59=\"Y\", Settings!$B$19, IF(IFERROR(SEARCH(\"N\",AC67,1),0)=1,Settings!$B$20,IF(IFERROR(SEARCH(\"C\",AC67,1),0)=1,Settings!$B$23,IF(IFERROR(SEARCH(\"DT\",AC67,1),0)=1,Settings!$B$26,IF(IFERROR(SEARCH(\"D\",AC67,1),0)=1,Settings!$B$25,IF(IFERROR(SEARCH(\"I\",AC67,1),0)=1,Settings!$B$22, IF(AC64=\"Y\", Settings!$B$18, Settings!$B$17))))))))","v":""},{"$f":"IF(LEN(AD72)=0,\"\", \" \" & IF(AD59=\"Y\", Settings!$B$19, IF(IFERROR(SEARCH(\"N\",AD67,1),0)=1,Settings!$B$20,IF(IFERROR(SEARCH(\"C\",AD67,1),0)=1,Settings!$B$23,IF(IFERROR(SEARCH(\"DT\",AD67,1),0)=1,Settings!$B$26,IF(IFERROR(SEARCH(\"D\",AD67,1),0)=1,Settings!$B$25,IF(IFERROR(SEARCH(\"I\",AD67,1),0)=1,Settings!$B$22, IF(AD64=\"Y\", Settings!$B$18, Settings!$B$17))))))))","v":""},{"$f":"IF(LEN(AE72)=0,\"\", \" \" & IF(AE59=\"Y\", Settings!$B$19, IF(IFERROR(SEARCH(\"N\",AE67,1),0)=1,Settings!$B$20,IF(IFERROR(SEARCH(\"C\",AE67,1),0)=1,Settings!$B$23,IF(IFERROR(SEARCH(\"DT\",AE67,1),0)=1,Settings!$B$26,IF(IFERROR(SEARCH(\"D\",AE67,1),0)=1,Settings!$B$25,IF(IFERROR(SEARCH(\"I\",AE67,1),0)=1,Settings!$B$22, IF(AE64=\"Y\", Settings!$B$18, Settings!$B$17))))))))","v":""},{"$f":"IF(LEN(AF72)=0,\"\", \" \" & IF(AF59=\"Y\", Settings!$B$19, IF(IFERROR(SEARCH(\"N\",AF67,1),0)=1,Settings!$B$20,IF(IFERROR(SEARCH(\"C\",AF67,1),0)=1,Settings!$B$23,IF(IFERROR(SEARCH(\"DT\",AF67,1),0)=1,Settings!$B$26,IF(IFERROR(SEARCH(\"D\",AF67,1),0)=1,Settings!$B$25,IF(IFERROR(SEARCH(\"I\",AF67,1),0)=1,Settings!$B$22, IF(AF64=\"Y\", Settings!$B$18, Settings!$B$17))))))))","v":""},{"$f":"IF(LEN(AG72)=0,\"\", \" \" & IF(AG59=\"Y\", Settings!$B$19, IF(IFERROR(SEARCH(\"N\",AG67,1),0)=1,Settings!$B$20,IF(IFERROR(SEARCH(\"C\",AG67,1),0)=1,Settings!$B$23,IF(IFERROR(SEARCH(\"DT\",AG67,1),0)=1,Settings!$B$26,IF(IFERROR(SEARCH(\"D\",AG67,1),0)=1,Settings!$B$25,IF(IFERROR(SEARCH(\"I\",AG67,1),0)=1,Settings!$B$22, IF(AG64=\"Y\", Settings!$B$18, Settings!$B$17))))))))","v":""},{"$f":"IF(LEN(AH72)=0,\"\", \" \" & IF(AH59=\"Y\", Settings!$B$19, IF(IFERROR(SEARCH(\"N\",AH67,1),0)=1,Settings!$B$20,IF(IFERROR(SEARCH(\"C\",AH67,1),0)=1,Settings!$B$23,IF(IFERROR(SEARCH(\"DT\",AH67,1),0)=1,Settings!$B$26,IF(IFERROR(SEARCH(\"D\",AH67,1),0)=1,Settings!$B$25,IF(IFERROR(SEARCH(\"I\",AH67,1),0)=1,Settings!$B$22, IF(AH64=\"Y\", Settings!$B$18, Settings!$B$17))))))))","v":""},{"$f":"IF(LEN(AI72)=0,\"\", \" \" & IF(AI59=\"Y\", Settings!$B$19, IF(IFERROR(SEARCH(\"N\",AI67,1),0)=1,Settings!$B$20,IF(IFERROR(SEARCH(\"C\",AI67,1),0)=1,Settings!$B$23,IF(IFERROR(SEARCH(\"DT\",AI67,1),0)=1,Settings!$B$26,IF(IFERROR(SEARCH(\"D\",AI67,1),0)=1,Settings!$B$25,IF(IFERROR(SEARCH(\"I\",AI67,1),0)=1,Settings!$B$22, IF(AI64=\"Y\", Settings!$B$18, Settings!$B$17))))))))","v":""},{"$f":"IF(LEN(AJ72)=0,\"\", \" \" & IF(AJ59=\"Y\", Settings!$B$19, IF(IFERROR(SEARCH(\"N\",AJ67,1),0)=1,Settings!$B$20,IF(IFERROR(SEARCH(\"C\",AJ67,1),0)=1,Settings!$B$23,IF(IFERROR(SEARCH(\"DT\",AJ67,1),0)=1,Settings!$B$26,IF(IFERROR(SEARCH(\"D\",AJ67,1),0)=1,Settings!$B$25,IF(IFERROR(SEARCH(\"I\",AJ67,1),0)=1,Settings!$B$22, IF(AJ64=\"Y\", Settings!$B$18, Settings!$B$17))))))))","v":""},{"$f":"IF(LEN(AK72)=0,\"\", \" \" & IF(AK59=\"Y\", Settings!$B$19, IF(IFERROR(SEARCH(\"N\",AK67,1),0)=1,Settings!$B$20,IF(IFERROR(SEARCH(\"C\",AK67,1),0)=1,Settings!$B$23,IF(IFERROR(SEARCH(\"DT\",AK67,1),0)=1,Settings!$B$26,IF(IFERROR(SEARCH(\"D\",AK67,1),0)=1,Settings!$B$25,IF(IFERROR(SEARCH(\"I\",AK67,1),0)=1,Settings!$B$22, IF(AK64=\"Y\", Settings!$B$18, Settings!$B$17))))))))","v":""},{"$f":"IF(LEN(AL72)=0,\"\", \" \" & IF(AL59=\"Y\", Settings!$B$19, IF(IFERROR(SEARCH(\"N\",AL67,1),0)=1,Settings!$B$20,IF(IFERROR(SEARCH(\"C\",AL67,1),0)=1,Settings!$B$23,IF(IFERROR(SEARCH(\"DT\",AL67,1),0)=1,Settings!$B$26,IF(IFERROR(SEARCH(\"D\",AL67,1),0)=1,Settings!$B$25,IF(IFERROR(SEARCH(\"I\",AL67,1),0)=1,Settings!$B$22, IF(AL64=\"Y\", Settings!$B$18, Settings!$B$17))))))))","v":""},{"$f":"IF(LEN(AM72)=0,\"\", \" \" & IF(AM59=\"Y\", Settings!$B$19, IF(IFERROR(SEARCH(\"N\",AM67,1),0)=1,Settings!$B$20,IF(IFERROR(SEARCH(\"C\",AM67,1),0)=1,Settings!$B$23,IF(IFERROR(SEARCH(\"DT\",AM67,1),0)=1,Settings!$B$26,IF(IFERROR(SEARCH(\"D\",AM67,1),0)=1,Settings!$B$25,IF(IFERROR(SEARCH(\"I\",AM67,1),0)=1,Settings!$B$22, IF(AM64=\"Y\", Settings!$B$18, Settings!$B$17))))))))","v":""},{"$f":"IF(LEN(AN72)=0,\"\", \" \" & IF(AN59=\"Y\", Settings!$B$19, IF(IFERROR(SEARCH(\"N\",AN67,1),0)=1,Settings!$B$20,IF(IFERROR(SEARCH(\"C\",AN67,1),0)=1,Settings!$B$23,IF(IFERROR(SEARCH(\"DT\",AN67,1),0)=1,Settings!$B$26,IF(IFERROR(SEARCH(\"D\",AN67,1),0)=1,Settings!$B$25,IF(IFERROR(SEARCH(\"I\",AN67,1),0)=1,Settings!$B$22, IF(AN64=\"Y\", Settings!$B$18, Settings!$B$17))))))))","v":""},{"$f":"IF(LEN(AO72)=0,\"\", \" \" & IF(AO59=\"Y\", Settings!$B$19, IF(IFERROR(SEARCH(\"N\",AO67,1),0)=1,Settings!$B$20,IF(IFERROR(SEARCH(\"C\",AO67,1),0)=1,Settings!$B$23,IF(IFERROR(SEARCH(\"DT\",AO67,1),0)=1,Settings!$B$26,IF(IFERROR(SEARCH(\"D\",AO67,1),0)=1,Settings!$B$25,IF(IFERROR(SEARCH(\"I\",AO67,1),0)=1,Settings!$B$22, IF(AO64=\"Y\", Settings!$B$18, Settings!$B$17))))))))","v":""},{"$f":"IF(LEN(AP72)=0,\"\", \" \" & IF(AP59=\"Y\", Settings!$B$19, IF(IFERROR(SEARCH(\"N\",AP67,1),0)=1,Settings!$B$20,IF(IFERROR(SEARCH(\"C\",AP67,1),0)=1,Settings!$B$23,IF(IFERROR(SEARCH(\"DT\",AP67,1),0)=1,Settings!$B$26,IF(IFERROR(SEARCH(\"D\",AP67,1),0)=1,Settings!$B$25,IF(IFERROR(SEARCH(\"I\",AP67,1),0)=1,Settings!$B$22, IF(AP64=\"Y\", Settings!$B$18, Settings!$B$17))))))))","v":""},{"$f":"IF(LEN(AQ72)=0,\"\", \" \" & IF(AQ59=\"Y\", Settings!$B$19, IF(IFERROR(SEARCH(\"N\",AQ67,1),0)=1,Settings!$B$20,IF(IFERROR(SEARCH(\"C\",AQ67,1),0)=1,Settings!$B$23,IF(IFERROR(SEARCH(\"DT\",AQ67,1),0)=1,Settings!$B$26,IF(IFERROR(SEARCH(\"D\",AQ67,1),0)=1,Settings!$B$25,IF(IFERROR(SEARCH(\"I\",AQ67,1),0)=1,Settings!$B$22, IF(AQ64=\"Y\", Settings!$B$18, Settings!$B$17))))))))","v":""},{"$f":"IF(LEN(AR72)=0,\"\", \" \" & IF(AR59=\"Y\", Settings!$B$19, IF(IFERROR(SEARCH(\"N\",AR67,1),0)=1,Settings!$B$20,IF(IFERROR(SEARCH(\"C\",AR67,1),0)=1,Settings!$B$23,IF(IFERROR(SEARCH(\"DT\",AR67,1),0)=1,Settings!$B$26,IF(IFERROR(SEARCH(\"D\",AR67,1),0)=1,Settings!$B$25,IF(IFERROR(SEARCH(\"I\",AR67,1),0)=1,Settings!$B$22, IF(AR64=\"Y\", Settings!$B$18, Settings!$B$17))))))))","v":""},{"$f":"IF(LEN(AS72)=0,\"\", \" \" & IF(AS59=\"Y\", Settings!$B$19, IF(IFERROR(SEARCH(\"N\",AS67,1),0)=1,Settings!$B$20,IF(IFERROR(SEARCH(\"C\",AS67,1),0)=1,Settings!$B$23,IF(IFERROR(SEARCH(\"DT\",AS67,1),0)=1,Settings!$B$26,IF(IFERROR(SEARCH(\"D\",AS67,1),0)=1,Settings!$B$25,IF(IFERROR(SEARCH(\"I\",AS67,1),0)=1,Settings!$B$22, IF(AS64=\"Y\", Settings!$B$18, Settings!$B$17))))))))","v":""},{"$f":"IF(LEN(AT72)=0,\"\", \" \" & IF(AT59=\"Y\", Settings!$B$19, IF(IFERROR(SEARCH(\"N\",AT67,1),0)=1,Settings!$B$20,IF(IFERROR(SEARCH(\"C\",AT67,1),0)=1,Settings!$B$23,IF(IFERROR(SEARCH(\"DT\",AT67,1),0)=1,Settings!$B$26,IF(IFERROR(SEARCH(\"D\",AT67,1),0)=1,Settings!$B$25,IF(IFERROR(SEARCH(\"I\",AT67,1),0)=1,Settings!$B$22, IF(AT64=\"Y\", Settings!$B$18, Settings!$B$17))))))))","v":""},{"$f":"IF(LEN(AU72)=0,\"\", \" \" & IF(AU59=\"Y\", Settings!$B$19, IF(IFERROR(SEARCH(\"N\",AU67,1),0)=1,Settings!$B$20,IF(IFERROR(SEARCH(\"C\",AU67,1),0)=1,Settings!$B$23,IF(IFERROR(SEARCH(\"DT\",AU67,1),0)=1,Settings!$B$26,IF(IFERROR(SEARCH(\"D\",AU67,1),0)=1,Settings!$B$25,IF(IFERROR(SEARCH(\"I\",AU67,1),0)=1,Settings!$B$22, IF(AU64=\"Y\", Settings!$B$18, Settings!$B$17))))))))","v":""},{"$f":"IF(LEN(AV72)=0,\"\", \" \" & IF(AV59=\"Y\", Settings!$B$19, IF(IFERROR(SEARCH(\"N\",AV67,1),0)=1,Settings!$B$20,IF(IFERROR(SEARCH(\"C\",AV67,1),0)=1,Settings!$B$23,IF(IFERROR(SEARCH(\"DT\",AV67,1),0)=1,Settings!$B$26,IF(IFERROR(SEARCH(\"D\",AV67,1),0)=1,Settings!$B$25,IF(IFERROR(SEARCH(\"I\",AV67,1),0)=1,Settings!$B$22, IF(AV64=\"Y\", Settings!$B$18, Settings!$B$17))))))))","v":""},{"$f":"IF(LEN(AW72)=0,\"\", \" \" & IF(AW59=\"Y\", Settings!$B$19, IF(IFERROR(SEARCH(\"N\",AW67,1),0)=1,Settings!$B$20,IF(IFERROR(SEARCH(\"C\",AW67,1),0)=1,Settings!$B$23,IF(IFERROR(SEARCH(\"DT\",AW67,1),0)=1,Settings!$B$26,IF(IFERROR(SEARCH(\"D\",AW67,1),0)=1,Settings!$B$25,IF(IFERROR(SEARCH(\"I\",AW67,1),0)=1,Settings!$B$22, IF(AW64=\"Y\", Settings!$B$18, Settings!$B$17))))))))","v":""},{"$f":"IF(LEN(AX72)=0,\"\", \" \" & IF(AX59=\"Y\", Settings!$B$19, IF(IFERROR(SEARCH(\"N\",AX67,1),0)=1,Settings!$B$20,IF(IFERROR(SEARCH(\"C\",AX67,1),0)=1,Settings!$B$23,IF(IFERROR(SEARCH(\"DT\",AX67,1),0)=1,Settings!$B$26,IF(IFERROR(SEARCH(\"D\",AX67,1),0)=1,Settings!$B$25,IF(IFERROR(SEARCH(\"I\",AX67,1),0)=1,Settings!$B$22, IF(AX64=\"Y\", Settings!$B$18, Settings!$B$17))))))))","v":""},{"$f":"IF(LEN(AY72)=0,\"\", \" \" & IF(AY59=\"Y\", Settings!$B$19, IF(IFERROR(SEARCH(\"N\",AY67,1),0)=1,Settings!$B$20,IF(IFERROR(SEARCH(\"C\",AY67,1),0)=1,Settings!$B$23,IF(IFERROR(SEARCH(\"DT\",AY67,1),0)=1,Settings!$B$26,IF(IFERROR(SEARCH(\"D\",AY67,1),0)=1,Settings!$B$25,IF(IFERROR(SEARCH(\"I\",AY67,1),0)=1,Settings!$B$22, IF(AY64=\"Y\", Settings!$B$18, Settings!$B$17))))))))","v":""},{"$f":"IF(LEN(AZ72)=0,\"\", \" \" & IF(AZ59=\"Y\", Settings!$B$19, IF(IFERROR(SEARCH(\"N\",AZ67,1),0)=1,Settings!$B$20,IF(IFERROR(SEARCH(\"C\",AZ67,1),0)=1,Settings!$B$23,IF(IFERROR(SEARCH(\"DT\",AZ67,1),0)=1,Settings!$B$26,IF(IFERROR(SEARCH(\"D\",AZ67,1),0)=1,Settings!$B$25,IF(IFERROR(SEARCH(\"I\",AZ67,1),0)=1,Settings!$B$22, IF(AZ64=\"Y\", Settings!$B$18, Settings!$B$17))))))))","v":""},{"$f":"IF(LEN(BA72)=0,\"\", \" \" & IF(BA59=\"Y\", Settings!$B$19, IF(IFERROR(SEARCH(\"N\",BA67,1),0)=1,Settings!$B$20,IF(IFERROR(SEARCH(\"C\",BA67,1),0)=1,Settings!$B$23,IF(IFERROR(SEARCH(\"DT\",BA67,1),0)=1,Settings!$B$26,IF(IFERROR(SEARCH(\"D\",BA67,1),0)=1,Settings!$B$25,IF(IFERROR(SEARCH(\"I\",BA67,1),0)=1,Settings!$B$22, IF(BA64=\"Y\", Settings!$B$18, Settings!$B$17))))))))","v":""},{"$f":"IF(LEN(BB72)=0,\"\", \" \" & IF(BB59=\"Y\", Settings!$B$19, IF(IFERROR(SEARCH(\"N\",BB67,1),0)=1,Settings!$B$20,IF(IFERROR(SEARCH(\"C\",BB67,1),0)=1,Settings!$B$23,IF(IFERROR(SEARCH(\"DT\",BB67,1),0)=1,Settings!$B$26,IF(IFERROR(SEARCH(\"D\",BB67,1),0)=1,Settings!$B$25,IF(IFERROR(SEARCH(\"I\",BB67,1),0)=1,Settings!$B$22, IF(BB64=\"Y\", Settings!$B$18, Settings!$B$17))))))))","v":""},{"$f":"IF(LEN(BC72)=0,\"\", \" \" & IF(BC59=\"Y\", Settings!$B$19, IF(IFERROR(SEARCH(\"N\",BC67,1),0)=1,Settings!$B$20,IF(IFERROR(SEARCH(\"C\",BC67,1),0)=1,Settings!$B$23,IF(IFERROR(SEARCH(\"DT\",BC67,1),0)=1,Settings!$B$26,IF(IFERROR(SEARCH(\"D\",BC67,1),0)=1,Settings!$B$25,IF(IFERROR(SEARCH(\"I\",BC67,1),0)=1,Settings!$B$22, IF(BC64=\"Y\", Settings!$B$18, Settings!$B$17))))))))","v":""},{"$f":"IF(LEN(BD72)=0,\"\", \" \" & IF(BD59=\"Y\", Settings!$B$19, IF(IFERROR(SEARCH(\"N\",BD67,1),0)=1,Settings!$B$20,IF(IFERROR(SEARCH(\"C\",BD67,1),0)=1,Settings!$B$23,IF(IFERROR(SEARCH(\"DT\",BD67,1),0)=1,Settings!$B$26,IF(IFERROR(SEARCH(\"D\",BD67,1),0)=1,Settings!$B$25,IF(IFERROR(SEARCH(\"I\",BD67,1),0)=1,Settings!$B$22, IF(BD64=\"Y\", Settings!$B$18, Settings!$B$17))))))))","v":""},{"$f":"IF(LEN(BE72)=0,\"\", \" \" & IF(BE59=\"Y\", Settings!$B$19, IF(IFERROR(SEARCH(\"N\",BE67,1),0)=1,Settings!$B$20,IF(IFERROR(SEARCH(\"C\",BE67,1),0)=1,Settings!$B$23,IF(IFERROR(SEARCH(\"DT\",BE67,1),0)=1,Settings!$B$26,IF(IFERROR(SEARCH(\"D\",BE67,1),0)=1,Settings!$B$25,IF(IFERROR(SEARCH(\"I\",BE67,1),0)=1,Settings!$B$22, IF(BE64=\"Y\", Settings!$B$18, Settings!$B$17))))))))","v":""},{"$f":"IF(LEN(BF72)=0,\"\", \" \" & IF(BF59=\"Y\", Settings!$B$19, IF(IFERROR(SEARCH(\"N\",BF67,1),0)=1,Settings!$B$20,IF(IFERROR(SEARCH(\"C\",BF67,1),0)=1,Settings!$B$23,IF(IFERROR(SEARCH(\"DT\",BF67,1),0)=1,Settings!$B$26,IF(IFERROR(SEARCH(\"D\",BF67,1),0)=1,Settings!$B$25,IF(IFERROR(SEARCH(\"I\",BF67,1),0)=1,Settings!$B$22, IF(BF64=\"Y\", Settings!$B$18, Settings!$B$17))))))))","v":""},{"$f":"IF(LEN(BG72)=0,\"\", \" \" & IF(BG59=\"Y\", Settings!$B$19, IF(IFERROR(SEARCH(\"N\",BG67,1),0)=1,Settings!$B$20,IF(IFERROR(SEARCH(\"C\",BG67,1),0)=1,Settings!$B$23,IF(IFERROR(SEARCH(\"DT\",BG67,1),0)=1,Settings!$B$26,IF(IFERROR(SEARCH(\"D\",BG67,1),0)=1,Settings!$B$25,IF(IFERROR(SEARCH(\"I\",BG67,1),0)=1,Settings!$B$22, IF(BG64=\"Y\", Settings!$B$18, Settings!$B$17))))))))","v":""},{"$f":"IF(LEN(BH72)=0,\"\", \" \" & IF(BH59=\"Y\", Settings!$B$19, IF(IFERROR(SEARCH(\"N\",BH67,1),0)=1,Settings!$B$20,IF(IFERROR(SEARCH(\"C\",BH67,1),0)=1,Settings!$B$23,IF(IFERROR(SEARCH(\"DT\",BH67,1),0)=1,Settings!$B$26,IF(IFERROR(SEARCH(\"D\",BH67,1),0)=1,Settings!$B$25,IF(IFERROR(SEARCH(\"I\",BH67,1),0)=1,Settings!$B$22, IF(BH64=\"Y\", Settings!$B$18, Settings!$B$17))))))))","v":""},{"$f":"IF(LEN(BI72)=0,\"\", \" \" & IF(BI59=\"Y\", Settings!$B$19, IF(IFERROR(SEARCH(\"N\",BI67,1),0)=1,Settings!$B$20,IF(IFERROR(SEARCH(\"C\",BI67,1),0)=1,Settings!$B$23,IF(IFERROR(SEARCH(\"DT\",BI67,1),0)=1,Settings!$B$26,IF(IFERROR(SEARCH(\"D\",BI67,1),0)=1,Settings!$B$25,IF(IFERROR(SEARCH(\"I\",BI67,1),0)=1,Settings!$B$22, IF(BI64=\"Y\", Settings!$B$18, Settings!$B$17))))))))","v":""},{"$f":"IF(LEN(BJ72)=0,\"\", \" \" & IF(BJ59=\"Y\", Settings!$B$19, IF(IFERROR(SEARCH(\"N\",BJ67,1),0)=1,Settings!$B$20,IF(IFERROR(SEARCH(\"C\",BJ67,1),0)=1,Settings!$B$23,IF(IFERROR(SEARCH(\"DT\",BJ67,1),0)=1,Settings!$B$26,IF(IFERROR(SEARCH(\"D\",BJ67,1),0)=1,Settings!$B$25,IF(IFERROR(SEARCH(\"I\",BJ67,1),0)=1,Settings!$B$22, IF(BJ64=\"Y\", Settings!$B$18, Settings!$B$17))))))))","v":""},{"$f":"IF(LEN(BK72)=0,\"\", \" \" & IF(BK59=\"Y\", Settings!$B$19, IF(IFERROR(SEARCH(\"N\",BK67,1),0)=1,Settings!$B$20,IF(IFERROR(SEARCH(\"C\",BK67,1),0)=1,Settings!$B$23,IF(IFERROR(SEARCH(\"DT\",BK67,1),0)=1,Settings!$B$26,IF(IFERROR(SEARCH(\"D\",BK67,1),0)=1,Settings!$B$25,IF(IFERROR(SEARCH(\"I\",BK67,1),0)=1,Settings!$B$22, IF(BK64=\"Y\", Settings!$B$18, Settings!$B$17))))))))","v":""},{"$f":"IF(LEN(BL72)=0,\"\", \" \" & IF(BL59=\"Y\", Settings!$B$19, IF(IFERROR(SEARCH(\"N\",BL67,1),0)=1,Settings!$B$20,IF(IFERROR(SEARCH(\"C\",BL67,1),0)=1,Settings!$B$23,IF(IFERROR(SEARCH(\"DT\",BL67,1),0)=1,Settings!$B$26,IF(IFERROR(SEARCH(\"D\",BL67,1),0)=1,Settings!$B$25,IF(IFERROR(SEARCH(\"I\",BL67,1),0)=1,Settings!$B$22, IF(BL64=\"Y\", Settings!$B$18, Settings!$B$17))))))))","v":""},{"$f":"IF(LEN(BM72)=0,\"\", \" \" & IF(BM59=\"Y\", Settings!$B$19, IF(IFERROR(SEARCH(\"N\",BM67,1),0)=1,Settings!$B$20,IF(IFERROR(SEARCH(\"C\",BM67,1),0)=1,Settings!$B$23,IF(IFERROR(SEARCH(\"DT\",BM67,1),0)=1,Settings!$B$26,IF(IFERROR(SEARCH(\"D\",BM67,1),0)=1,Settings!$B$25,IF(IFERROR(SEARCH(\"I\",BM67,1),0)=1,Settings!$B$22, IF(BM64=\"Y\", Settings!$B$18, Settings!$B$17))))))))","v":""},{"$f":"IF(LEN(BN72)=0,\"\", \" \" & IF(BN59=\"Y\", Settings!$B$19, IF(IFERROR(SEARCH(\"N\",BN67,1),0)=1,Settings!$B$20,IF(IFERROR(SEARCH(\"C\",BN67,1),0)=1,Settings!$B$23,IF(IFERROR(SEARCH(\"DT\",BN67,1),0)=1,Settings!$B$26,IF(IFERROR(SEARCH(\"D\",BN67,1),0)=1,Settings!$B$25,IF(IFERROR(SEARCH(\"I\",BN67,1),0)=1,Settings!$B$22, IF(BN64=\"Y\", Settings!$B$18, Settings!$B$17))))))))","v":""},{"$f":"IF(LEN(BO72)=0,\"\", \" \" & IF(BO59=\"Y\", Settings!$B$19, IF(IFERROR(SEARCH(\"N\",BO67,1),0)=1,Settings!$B$20,IF(IFERROR(SEARCH(\"C\",BO67,1),0)=1,Settings!$B$23,IF(IFERROR(SEARCH(\"DT\",BO67,1),0)=1,Settings!$B$26,IF(IFERROR(SEARCH(\"D\",BO67,1),0)=1,Settings!$B$25,IF(IFERROR(SEARCH(\"I\",BO67,1),0)=1,Settings!$B$22, IF(BO64=\"Y\", Settings!$B$18, Settings!$B$17))))))))","v":""},{"$f":"IF(LEN(BP72)=0,\"\", \" \" & IF(BP59=\"Y\", Settings!$B$19, IF(IFERROR(SEARCH(\"N\",BP67,1),0)=1,Settings!$B$20,IF(IFERROR(SEARCH(\"C\",BP67,1),0)=1,Settings!$B$23,IF(IFERROR(SEARCH(\"DT\",BP67,1),0)=1,Settings!$B$26,IF(IFERROR(SEARCH(\"D\",BP67,1),0)=1,Settings!$B$25,IF(IFERROR(SEARCH(\"I\",BP67,1),0)=1,Settings!$B$22, IF(BP64=\"Y\", Settings!$B$18, Settings!$B$17))))))))","v":""},{"$f":"IF(LEN(BQ72)=0,\"\", \" \" & IF(BQ59=\"Y\", Settings!$B$19, IF(IFERROR(SEARCH(\"N\",BQ67,1),0)=1,Settings!$B$20,IF(IFERROR(SEARCH(\"C\",BQ67,1),0)=1,Settings!$B$23,IF(IFERROR(SEARCH(\"DT\",BQ67,1),0)=1,Settings!$B$26,IF(IFERROR(SEARCH(\"D\",BQ67,1),0)=1,Settings!$B$25,IF(IFERROR(SEARCH(\"I\",BQ67,1),0)=1,Settings!$B$22, IF(BQ64=\"Y\", Settings!$B$18, Settings!$B$17))))))))","v":""},{"$f":"IF(LEN(BR72)=0,\"\", \" \" & IF(BR59=\"Y\", Settings!$B$19, IF(IFERROR(SEARCH(\"N\",BR67,1),0)=1,Settings!$B$20,IF(IFERROR(SEARCH(\"C\",BR67,1),0)=1,Settings!$B$23,IF(IFERROR(SEARCH(\"DT\",BR67,1),0)=1,Settings!$B$26,IF(IFERROR(SEARCH(\"D\",BR67,1),0)=1,Settings!$B$25,IF(IFERROR(SEARCH(\"I\",BR67,1),0)=1,Settings!$B$22, IF(BR64=\"Y\", Settings!$B$18, Settings!$B$17))))))))","v":""},{"$f":"IF(LEN(BS72)=0,\"\", \" \" & IF(BS59=\"Y\", Settings!$B$19, IF(IFERROR(SEARCH(\"N\",BS67,1),0)=1,Settings!$B$20,IF(IFERROR(SEARCH(\"C\",BS67,1),0)=1,Settings!$B$23,IF(IFERROR(SEARCH(\"DT\",BS67,1),0)=1,Settings!$B$26,IF(IFERROR(SEARCH(\"D\",BS67,1),0)=1,Settings!$B$25,IF(IFERROR(SEARCH(\"I\",BS67,1),0)=1,Settings!$B$22, IF(BS64=\"Y\", Settings!$B$18, Settings!$B$17))))))))","v":""},{"$f":"IF(LEN(BT72)=0,\"\", \" \" & IF(BT59=\"Y\", Settings!$B$19, IF(IFERROR(SEARCH(\"N\",BT67,1),0)=1,Settings!$B$20,IF(IFERROR(SEARCH(\"C\",BT67,1),0)=1,Settings!$B$23,IF(IFERROR(SEARCH(\"DT\",BT67,1),0)=1,Settings!$B$26,IF(IFERROR(SEARCH(\"D\",BT67,1),0)=1,Settings!$B$25,IF(IFERROR(SEARCH(\"I\",BT67,1),0)=1,Settings!$B$22, IF(BT64=\"Y\", Settings!$B$18, Settings!$B$17))))))))","v":""},{"$f":"IF(LEN(BU72)=0,\"\", \" \" & IF(BU59=\"Y\", Settings!$B$19, IF(IFERROR(SEARCH(\"N\",BU67,1),0)=1,Settings!$B$20,IF(IFERROR(SEARCH(\"C\",BU67,1),0)=1,Settings!$B$23,IF(IFERROR(SEARCH(\"DT\",BU67,1),0)=1,Settings!$B$26,IF(IFERROR(SEARCH(\"D\",BU67,1),0)=1,Settings!$B$25,IF(IFERROR(SEARCH(\"I\",BU67,1),0)=1,Settings!$B$22, IF(BU64=\"Y\", Settings!$B$18, Settings!$B$17))))))))","v":""},{"$f":"IF(LEN(BV72)=0,\"\", \" \" & IF(BV59=\"Y\", Settings!$B$19, IF(IFERROR(SEARCH(\"N\",BV67,1),0)=1,Settings!$B$20,IF(IFERROR(SEARCH(\"C\",BV67,1),0)=1,Settings!$B$23,IF(IFERROR(SEARCH(\"DT\",BV67,1),0)=1,Settings!$B$26,IF(IFERROR(SEARCH(\"D\",BV67,1),0)=1,Settings!$B$25,IF(IFERROR(SEARCH(\"I\",BV67,1),0)=1,Settings!$B$22, IF(BV64=\"Y\", Settings!$B$18, Settings!$B$17))))))))","v":""},{"$f":"IF(LEN(BW72)=0,\"\", \" \" & IF(BW59=\"Y\", Settings!$B$19, IF(IFERROR(SEARCH(\"N\",BW67,1),0)=1,Settings!$B$20,IF(IFERROR(SEARCH(\"C\",BW67,1),0)=1,Settings!$B$23,IF(IFERROR(SEARCH(\"DT\",BW67,1),0)=1,Settings!$B$26,IF(IFERROR(SEARCH(\"D\",BW67,1),0)=1,Settings!$B$25,IF(IFERROR(SEARCH(\"I\",BW67,1),0)=1,Settings!$B$22, IF(BW64=\"Y\", Settings!$B$18, Settings!$B$17))))))))","v":""},{"$f":"IF(LEN(BX72)=0,\"\", \" \" & IF(BX59=\"Y\", Settings!$B$19, IF(IFERROR(SEARCH(\"N\",BX67,1),0)=1,Settings!$B$20,IF(IFERROR(SEARCH(\"C\",BX67,1),0)=1,Settings!$B$23,IF(IFERROR(SEARCH(\"DT\",BX67,1),0)=1,Settings!$B$26,IF(IFERROR(SEARCH(\"D\",BX67,1),0)=1,Settings!$B$25,IF(IFERROR(SEARCH(\"I\",BX67,1),0)=1,Settings!$B$22, IF(BX64=\"Y\", Settings!$B$18, Settings!$B$17))))))))","v":""},{"$f":"IF(LEN(BY72)=0,\"\", \" \" & IF(BY59=\"Y\", Settings!$B$19, IF(IFERROR(SEARCH(\"N\",BY67,1),0)=1,Settings!$B$20,IF(IFERROR(SEARCH(\"C\",BY67,1),0)=1,Settings!$B$23,IF(IFERROR(SEARCH(\"DT\",BY67,1),0)=1,Settings!$B$26,IF(IFERROR(SEARCH(\"D\",BY67,1),0)=1,Settings!$B$25,IF(IFERROR(SEARCH(\"I\",BY67,1),0)=1,Settings!$B$22, IF(BY64=\"Y\", Settings!$B$18, Settings!$B$17))))))))","v":""},{"$f":"IF(LEN(BZ72)=0,\"\", \" \" & IF(BZ59=\"Y\", Settings!$B$19, IF(IFERROR(SEARCH(\"N\",BZ67,1),0)=1,Settings!$B$20,IF(IFERROR(SEARCH(\"C\",BZ67,1),0)=1,Settings!$B$23,IF(IFERROR(SEARCH(\"DT\",BZ67,1),0)=1,Settings!$B$26,IF(IFERROR(SEARCH(\"D\",BZ67,1),0)=1,Settings!$B$25,IF(IFERROR(SEARCH(\"I\",BZ67,1),0)=1,Settings!$B$22, IF(BZ64=\"Y\", Settings!$B$18, Settings!$B$17))))))))","v":""},{"$f":"IF(LEN(CA72)=0,\"\", \" \" & IF(CA59=\"Y\", Settings!$B$19, IF(IFERROR(SEARCH(\"N\",CA67,1),0)=1,Settings!$B$20,IF(IFERROR(SEARCH(\"C\",CA67,1),0)=1,Settings!$B$23,IF(IFERROR(SEARCH(\"DT\",CA67,1),0)=1,Settings!$B$26,IF(IFERROR(SEARCH(\"D\",CA67,1),0)=1,Settings!$B$25,IF(IFERROR(SEARCH(\"I\",CA67,1),0)=1,Settings!$B$22, IF(CA64=\"Y\", Settings!$B$18, Settings!$B$17))))))))","v":""},{"$f":"IF(LEN(CB72)=0,\"\", \" \" & IF(CB59=\"Y\", Settings!$B$19, IF(IFERROR(SEARCH(\"N\",CB67,1),0)=1,Settings!$B$20,IF(IFERROR(SEARCH(\"C\",CB67,1),0)=1,Settings!$B$23,IF(IFERROR(SEARCH(\"DT\",CB67,1),0)=1,Settings!$B$26,IF(IFERROR(SEARCH(\"D\",CB67,1),0)=1,Settings!$B$25,IF(IFERROR(SEARCH(\"I\",CB67,1),0)=1,Settings!$B$22, IF(CB64=\"Y\", Settings!$B$18, Settings!$B$17))))))))","v":""},{"$f":"IF(LEN(CC72)=0,\"\", \" \" & IF(CC59=\"Y\", Settings!$B$19, IF(IFERROR(SEARCH(\"N\",CC67,1),0)=1,Settings!$B$20,IF(IFERROR(SEARCH(\"C\",CC67,1),0)=1,Settings!$B$23,IF(IFERROR(SEARCH(\"DT\",CC67,1),0)=1,Settings!$B$26,IF(IFERROR(SEARCH(\"D\",CC67,1),0)=1,Settings!$B$25,IF(IFERROR(SEARCH(\"I\",CC67,1),0)=1,Settings!$B$22, IF(CC64=\"Y\", Settings!$B$18, Settings!$B$17))))))))","v":""},{"$f":"IF(LEN(CD72)=0,\"\", \" \" & IF(CD59=\"Y\", Settings!$B$19, IF(IFERROR(SEARCH(\"N\",CD67,1),0)=1,Settings!$B$20,IF(IFERROR(SEARCH(\"C\",CD67,1),0)=1,Settings!$B$23,IF(IFERROR(SEARCH(\"DT\",CD67,1),0)=1,Settings!$B$26,IF(IFERROR(SEARCH(\"D\",CD67,1),0)=1,Settings!$B$25,IF(IFERROR(SEARCH(\"I\",CD67,1),0)=1,Settings!$B$22, IF(CD64=\"Y\", Settings!$B$18, Settings!$B$17))))))))","v":""},{"$f":"IF(LEN(CE72)=0,\"\", \" \" & IF(CE59=\"Y\", Settings!$B$19, IF(IFERROR(SEARCH(\"N\",CE67,1),0)=1,Settings!$B$20,IF(IFERROR(SEARCH(\"C\",CE67,1),0)=1,Settings!$B$23,IF(IFERROR(SEARCH(\"DT\",CE67,1),0)=1,Settings!$B$26,IF(IFERROR(SEARCH(\"D\",CE67,1),0)=1,Settings!$B$25,IF(IFERROR(SEARCH(\"I\",CE67,1),0)=1,Settings!$B$22, IF(CE64=\"Y\", Settings!$B$18, Settings!$B$17))))))))","v":""},{"$f":"IF(LEN(CF72)=0,\"\", \" \" & IF(CF59=\"Y\", Settings!$B$19, IF(IFERROR(SEARCH(\"N\",CF67,1),0)=1,Settings!$B$20,IF(IFERROR(SEARCH(\"C\",CF67,1),0)=1,Settings!$B$23,IF(IFERROR(SEARCH(\"DT\",CF67,1),0)=1,Settings!$B$26,IF(IFERROR(SEARCH(\"D\",CF67,1),0)=1,Settings!$B$25,IF(IFERROR(SEARCH(\"I\",CF67,1),0)=1,Settings!$B$22, IF(CF64=\"Y\", Settings!$B$18, Settings!$B$17))))))))","v":""},{"$f":"IF(LEN(CG72)=0,\"\", \" \" & IF(CG59=\"Y\", Settings!$B$19, IF(IFERROR(SEARCH(\"N\",CG67,1),0)=1,Settings!$B$20,IF(IFERROR(SEARCH(\"C\",CG67,1),0)=1,Settings!$B$23,IF(IFERROR(SEARCH(\"DT\",CG67,1),0)=1,Settings!$B$26,IF(IFERROR(SEARCH(\"D\",CG67,1),0)=1,Settings!$B$25,IF(IFERROR(SEARCH(\"I\",CG67,1),0)=1,Settings!$B$22, IF(CG64=\"Y\", Settings!$B$18, Settings!$B$17))))))))","v":""},{"$f":"IF(LEN(CH72)=0,\"\", \" \" & IF(CH59=\"Y\", Settings!$B$19, IF(IFERROR(SEARCH(\"N\",CH67,1),0)=1,Settings!$B$20,IF(IFERROR(SEARCH(\"C\",CH67,1),0)=1,Settings!$B$23,IF(IFERROR(SEARCH(\"DT\",CH67,1),0)=1,Settings!$B$26,IF(IFERROR(SEARCH(\"D\",CH67,1),0)=1,Settings!$B$25,IF(IFERROR(SEARCH(\"I\",CH67,1),0)=1,Settings!$B$22, IF(CH64=\"Y\", Settings!$B$18, Settings!$B$17))))))))","v":""},{"$f":"IF(LEN(CI72)=0,\"\", \" \" & IF(CI59=\"Y\", Settings!$B$19, IF(IFERROR(SEARCH(\"N\",CI67,1),0)=1,Settings!$B$20,IF(IFERROR(SEARCH(\"C\",CI67,1),0)=1,Settings!$B$23,IF(IFERROR(SEARCH(\"DT\",CI67,1),0)=1,Settings!$B$26,IF(IFERROR(SEARCH(\"D\",CI67,1),0)=1,Settings!$B$25,IF(IFERROR(SEARCH(\"I\",CI67,1),0)=1,Settings!$B$22, IF(CI64=\"Y\", Settings!$B$18, Settings!$B$17))))))))","v":""},{"$f":"IF(LEN(CJ72)=0,\"\", \" \" & IF(CJ59=\"Y\", Settings!$B$19, IF(IFERROR(SEARCH(\"N\",CJ67,1),0)=1,Settings!$B$20,IF(IFERROR(SEARCH(\"C\",CJ67,1),0)=1,Settings!$B$23,IF(IFERROR(SEARCH(\"DT\",CJ67,1),0)=1,Settings!$B$26,IF(IFERROR(SEARCH(\"D\",CJ67,1),0)=1,Settings!$B$25,IF(IFERROR(SEARCH(\"I\",CJ67,1),0)=1,Settings!$B$22, IF(CJ64=\"Y\", Settings!$B$18, Settings!$B$17))))))))","v":""},{"$f":"IF(LEN(CK72)=0,\"\", \" \" & IF(CK59=\"Y\", Settings!$B$19, IF(IFERROR(SEARCH(\"N\",CK67,1),0)=1,Settings!$B$20,IF(IFERROR(SEARCH(\"C\",CK67,1),0)=1,Settings!$B$23,IF(IFERROR(SEARCH(\"DT\",CK67,1),0)=1,Settings!$B$26,IF(IFERROR(SEARCH(\"D\",CK67,1),0)=1,Settings!$B$25,IF(IFERROR(SEARCH(\"I\",CK67,1),0)=1,Settings!$B$22, IF(CK64=\"Y\", Settings!$B$18, Settings!$B$17))))))))","v":""},{"$f":"IF(LEN(CL72)=0,\"\", \" \" & IF(CL59=\"Y\", Settings!$B$19, IF(IFERROR(SEARCH(\"N\",CL67,1),0)=1,Settings!$B$20,IF(IFERROR(SEARCH(\"C\",CL67,1),0)=1,Settings!$B$23,IF(IFERROR(SEARCH(\"DT\",CL67,1),0)=1,Settings!$B$26,IF(IFERROR(SEARCH(\"D\",CL67,1),0)=1,Settings!$B$25,IF(IFERROR(SEARCH(\"I\",CL67,1),0)=1,Settings!$B$22, IF(CL64=\"Y\", Settings!$B$18, Settings!$B$17))))))))","v":""},{"$f":"IF(LEN(CM72)=0,\"\", \" \" & IF(CM59=\"Y\", Settings!$B$19, IF(IFERROR(SEARCH(\"N\",CM67,1),0)=1,Settings!$B$20,IF(IFERROR(SEARCH(\"C\",CM67,1),0)=1,Settings!$B$23,IF(IFERROR(SEARCH(\"DT\",CM67,1),0)=1,Settings!$B$26,IF(IFERROR(SEARCH(\"D\",CM67,1),0)=1,Settings!$B$25,IF(IFERROR(SEARCH(\"I\",CM67,1),0)=1,Settings!$B$22, IF(CM64=\"Y\", Settings!$B$18, Settings!$B$17))))))))","v":""},{"$f":"IF(LEN(CN72)=0,\"\", \" \" & IF(CN59=\"Y\", Settings!$B$19, IF(IFERROR(SEARCH(\"N\",CN67,1),0)=1,Settings!$B$20,IF(IFERROR(SEARCH(\"C\",CN67,1),0)=1,Settings!$B$23,IF(IFERROR(SEARCH(\"DT\",CN67,1),0)=1,Settings!$B$26,IF(IFERROR(SEARCH(\"D\",CN67,1),0)=1,Settings!$B$25,IF(IFERROR(SEARCH(\"I\",CN67,1),0)=1,Settings!$B$22, IF(CN64=\"Y\", Settings!$B$18, Settings!$B$17))))))))","v":""},{"$f":"IF(LEN(CO72)=0,\"\", \" \" & IF(CO59=\"Y\", Settings!$B$19, IF(IFERROR(SEARCH(\"N\",CO67,1),0)=1,Settings!$B$20,IF(IFERROR(SEARCH(\"C\",CO67,1),0)=1,Settings!$B$23,IF(IFERROR(SEARCH(\"DT\",CO67,1),0)=1,Settings!$B$26,IF(IFERROR(SEARCH(\"D\",CO67,1),0)=1,Settings!$B$25,IF(IFERROR(SEARCH(\"I\",CO67,1),0)=1,Settings!$B$22, IF(CO64=\"Y\", Settings!$B$18, Settings!$B$17))))))))","v":""},{"$f":"IF(LEN(CP72)=0,\"\", \" \" & IF(CP59=\"Y\", Settings!$B$19, IF(IFERROR(SEARCH(\"N\",CP67,1),0)=1,Settings!$B$20,IF(IFERROR(SEARCH(\"C\",CP67,1),0)=1,Settings!$B$23,IF(IFERROR(SEARCH(\"DT\",CP67,1),0)=1,Settings!$B$26,IF(IFERROR(SEARCH(\"D\",CP67,1),0)=1,Settings!$B$25,IF(IFERROR(SEARCH(\"I\",CP67,1),0)=1,Settings!$B$22, IF(CP64=\"Y\", Settings!$B$18, Settings!$B$17))))))))","v":""},{"$f":"IF(LEN(CQ72)=0,\"\", \" \" & IF(CQ59=\"Y\", Settings!$B$19, IF(IFERROR(SEARCH(\"N\",CQ67,1),0)=1,Settings!$B$20,IF(IFERROR(SEARCH(\"C\",CQ67,1),0)=1,Settings!$B$23,IF(IFERROR(SEARCH(\"DT\",CQ67,1),0)=1,Settings!$B$26,IF(IFERROR(SEARCH(\"D\",CQ67,1),0)=1,Settings!$B$25,IF(IFERROR(SEARCH(\"I\",CQ67,1),0)=1,Settings!$B$22, IF(CQ64=\"Y\", Settings!$B$18, Settings!$B$17))))))))","v":""},{"$f":"IF(LEN(CR72)=0,\"\", \" \" & IF(CR59=\"Y\", Settings!$B$19, IF(IFERROR(SEARCH(\"N\",CR67,1),0)=1,Settings!$B$20,IF(IFERROR(SEARCH(\"C\",CR67,1),0)=1,Settings!$B$23,IF(IFERROR(SEARCH(\"DT\",CR67,1),0)=1,Settings!$B$26,IF(IFERROR(SEARCH(\"D\",CR67,1),0)=1,Settings!$B$25,IF(IFERROR(SEARCH(\"I\",CR67,1),0)=1,Settings!$B$22, IF(CR64=\"Y\", Settings!$B$18, Settings!$B$17))))))))","v":""},{"$f":"IF(LEN(CS72)=0,\"\", \" \" & IF(CS59=\"Y\", Settings!$B$19, IF(IFERROR(SEARCH(\"N\",CS67,1),0)=1,Settings!$B$20,IF(IFERROR(SEARCH(\"C\",CS67,1),0)=1,Settings!$B$23,IF(IFERROR(SEARCH(\"DT\",CS67,1),0)=1,Settings!$B$26,IF(IFERROR(SEARCH(\"D\",CS67,1),0)=1,Settings!$B$25,IF(IFERROR(SEARCH(\"I\",CS67,1),0)=1,Settings!$B$22, IF(CS64=\"Y\", Settings!$B$18, Settings!$B$17))))))))","v":""},{"$f":"IF(LEN(CT72)=0,\"\", \" \" & IF(CT59=\"Y\", Settings!$B$19, IF(IFERROR(SEARCH(\"N\",CT67,1),0)=1,Settings!$B$20,IF(IFERROR(SEARCH(\"C\",CT67,1),0)=1,Settings!$B$23,IF(IFERROR(SEARCH(\"DT\",CT67,1),0)=1,Settings!$B$26,IF(IFERROR(SEARCH(\"D\",CT67,1),0)=1,Settings!$B$25,IF(IFERROR(SEARCH(\"I\",CT67,1),0)=1,Settings!$B$22, IF(CT64=\"Y\", Settings!$B$18, Settings!$B$17))))))))","v":""},{"$f":"IF(LEN(CU72)=0,\"\", \" \" & IF(CU59=\"Y\", Settings!$B$19, IF(IFERROR(SEARCH(\"N\",CU67,1),0)=1,Settings!$B$20,IF(IFERROR(SEARCH(\"C\",CU67,1),0)=1,Settings!$B$23,IF(IFERROR(SEARCH(\"DT\",CU67,1),0)=1,Settings!$B$26,IF(IFERROR(SEARCH(\"D\",CU67,1),0)=1,Settings!$B$25,IF(IFERROR(SEARCH(\"I\",CU67,1),0)=1,Settings!$B$22, IF(CU64=\"Y\", Settings!$B$18, Settings!$B$17))))))))","v":""},{"$f":"IF(LEN(CV72)=0,\"\", \" \" & IF(CV59=\"Y\", Settings!$B$19, IF(IFERROR(SEARCH(\"N\",CV67,1),0)=1,Settings!$B$20,IF(IFERROR(SEARCH(\"C\",CV67,1),0)=1,Settings!$B$23,IF(IFERROR(SEARCH(\"DT\",CV67,1),0)=1,Settings!$B$26,IF(IFERROR(SEARCH(\"D\",CV67,1),0)=1,Settings!$B$25,IF(IFERROR(SEARCH(\"I\",CV67,1),0)=1,Settings!$B$22, IF(CV64=\"Y\", Settings!$B$18, Settings!$B$17))))))))","v":""},{"$f":"IF(LEN(CW72)=0,\"\", \" \" & IF(CW59=\"Y\", Settings!$B$19, IF(IFERROR(SEARCH(\"N\",CW67,1),0)=1,Settings!$B$20,IF(IFERROR(SEARCH(\"C\",CW67,1),0)=1,Settings!$B$23,IF(IFERROR(SEARCH(\"DT\",CW67,1),0)=1,Settings!$B$26,IF(IFERROR(SEARCH(\"D\",CW67,1),0)=1,Settings!$B$25,IF(IFERROR(SEARCH(\"I\",CW67,1),0)=1,Settings!$B$22, IF(CW64=\"Y\", Settings!$B$18, Settings!$B$17))))))))","v":""},{"$f":"IF(LEN(CX72)=0,\"\", \" \" & IF(CX59=\"Y\", Settings!$B$19, IF(IFERROR(SEARCH(\"N\",CX67,1),0)=1,Settings!$B$20,IF(IFERROR(SEARCH(\"C\",CX67,1),0)=1,Settings!$B$23,IF(IFERROR(SEARCH(\"DT\",CX67,1),0)=1,Settings!$B$26,IF(IFERROR(SEARCH(\"D\",CX67,1),0)=1,Settings!$B$25,IF(IFERROR(SEARCH(\"I\",CX67,1),0)=1,Settings!$B$22, IF(CX64=\"Y\", Settings!$B$18, Settings!$B$17))))))))","v":""},{"$f":"IF(LEN(CY72)=0,\"\", \" \" & IF(CY59=\"Y\", Settings!$B$19, IF(IFERROR(SEARCH(\"N\",CY67,1),0)=1,Settings!$B$20,IF(IFERROR(SEARCH(\"C\",CY67,1),0)=1,Settings!$B$23,IF(IFERROR(SEARCH(\"DT\",CY67,1),0)=1,Settings!$B$26,IF(IFERROR(SEARCH(\"D\",CY67,1),0)=1,Settings!$B$25,IF(IFERROR(SEARCH(\"I\",CY67,1),0)=1,Settings!$B$22, IF(CY64=\"Y\", Settings!$B$18, Settings!$B$17))))))))","v":""},{"$f":"IF(LEN(CZ72)=0,\"\", \" \" & IF(CZ59=\"Y\", Settings!$B$19, IF(IFERROR(SEARCH(\"N\",CZ67,1),0)=1,Settings!$B$20,IF(IFERROR(SEARCH(\"C\",CZ67,1),0)=1,Settings!$B$23,IF(IFERROR(SEARCH(\"DT\",CZ67,1),0)=1,Settings!$B$26,IF(IFERROR(SEARCH(\"D\",CZ67,1),0)=1,Settings!$B$25,IF(IFERROR(SEARCH(\"I\",CZ67,1),0)=1,Settings!$B$22, IF(CZ64=\"Y\", Settings!$B$18, Settings!$B$17))))))))","v":""},{"$f":"IF(LEN(DA72)=0,\"\", \" \" & IF(DA59=\"Y\", Settings!$B$19, IF(IFERROR(SEARCH(\"N\",DA67,1),0)=1,Settings!$B$20,IF(IFERROR(SEARCH(\"C\",DA67,1),0)=1,Settings!$B$23,IF(IFERROR(SEARCH(\"DT\",DA67,1),0)=1,Settings!$B$26,IF(IFERROR(SEARCH(\"D\",DA67,1),0)=1,Settings!$B$25,IF(IFERROR(SEARCH(\"I\",DA67,1),0)=1,Settings!$B$22, IF(DA64=\"Y\", Settings!$B$18, Settings!$B$17))))))))","v":""},{"$f":"IF(LEN(DB72)=0,\"\", \" \" & IF(DB59=\"Y\", Settings!$B$19, IF(IFERROR(SEARCH(\"N\",DB67,1),0)=1,Settings!$B$20,IF(IFERROR(SEARCH(\"C\",DB67,1),0)=1,Settings!$B$23,IF(IFERROR(SEARCH(\"DT\",DB67,1),0)=1,Settings!$B$26,IF(IFERROR(SEARCH(\"D\",DB67,1),0)=1,Settings!$B$25,IF(IFERROR(SEARCH(\"I\",DB67,1),0)=1,Settings!$B$22, IF(DB64=\"Y\", Settings!$B$18, Settings!$B$17))))))))","v":""},{"$f":"IF(LEN(DC72)=0,\"\", \" \" & IF(DC59=\"Y\", Settings!$B$19, IF(IFERROR(SEARCH(\"N\",DC67,1),0)=1,Settings!$B$20,IF(IFERROR(SEARCH(\"C\",DC67,1),0)=1,Settings!$B$23,IF(IFERROR(SEARCH(\"DT\",DC67,1),0)=1,Settings!$B$26,IF(IFERROR(SEARCH(\"D\",DC67,1),0)=1,Settings!$B$25,IF(IFERROR(SEARCH(\"I\",DC67,1),0)=1,Settings!$B$22, IF(DC64=\"Y\", Settings!$B$18, Settings!$B$17))))))))","v":""},{"$f":"IF(LEN(DD72)=0,\"\", \" \" & IF(DD59=\"Y\", Settings!$B$19, IF(IFERROR(SEARCH(\"N\",DD67,1),0)=1,Settings!$B$20,IF(IFERROR(SEARCH(\"C\",DD67,1),0)=1,Settings!$B$23,IF(IFERROR(SEARCH(\"DT\",DD67,1),0)=1,Settings!$B$26,IF(IFERROR(SEARCH(\"D\",DD67,1),0)=1,Settings!$B$25,IF(IFERROR(SEARCH(\"I\",DD67,1),0)=1,Settings!$B$22, IF(DD64=\"Y\", Settings!$B$18, Settings!$B$17))))))))","v":""},{"$f":"IF(LEN(DE72)=0,\"\", \" \" & IF(DE59=\"Y\", Settings!$B$19, IF(IFERROR(SEARCH(\"N\",DE67,1),0)=1,Settings!$B$20,IF(IFERROR(SEARCH(\"C\",DE67,1),0)=1,Settings!$B$23,IF(IFERROR(SEARCH(\"DT\",DE67,1),0)=1,Settings!$B$26,IF(IFERROR(SEARCH(\"D\",DE67,1),0)=1,Settings!$B$25,IF(IFERROR(SEARCH(\"I\",DE67,1),0)=1,Settings!$B$22, IF(DE64=\"Y\", Settings!$B$18, Settings!$B$17))))))))","v":""},{"$f":"IF(LEN(DF72)=0,\"\", \" \" & IF(DF59=\"Y\", Settings!$B$19, IF(IFERROR(SEARCH(\"N\",DF67,1),0)=1,Settings!$B$20,IF(IFERROR(SEARCH(\"C\",DF67,1),0)=1,Settings!$B$23,IF(IFERROR(SEARCH(\"DT\",DF67,1),0)=1,Settings!$B$26,IF(IFERROR(SEARCH(\"D\",DF67,1),0)=1,Settings!$B$25,IF(IFERROR(SEARCH(\"I\",DF67,1),0)=1,Settings!$B$22, IF(DF64=\"Y\", Settings!$B$18, Settings!$B$17))))))))","v":""},{"$f":"IF(LEN(DG72)=0,\"\", \" \" & IF(DG59=\"Y\", Settings!$B$19, IF(IFERROR(SEARCH(\"N\",DG67,1),0)=1,Settings!$B$20,IF(IFERROR(SEARCH(\"C\",DG67,1),0)=1,Settings!$B$23,IF(IFERROR(SEARCH(\"DT\",DG67,1),0)=1,Settings!$B$26,IF(IFERROR(SEARCH(\"D\",DG67,1),0)=1,Settings!$B$25,IF(IFERROR(SEARCH(\"I\",DG67,1),0)=1,Settings!$B$22, IF(DG64=\"Y\", Settings!$B$18, Settings!$B$17))))))))","v":""},{"$f":"IF(LEN(DH72)=0,\"\", \" \" & IF(DH59=\"Y\", Settings!$B$19, IF(IFERROR(SEARCH(\"N\",DH67,1),0)=1,Settings!$B$20,IF(IFERROR(SEARCH(\"C\",DH67,1),0)=1,Settings!$B$23,IF(IFERROR(SEARCH(\"DT\",DH67,1),0)=1,Settings!$B$26,IF(IFERROR(SEARCH(\"D\",DH67,1),0)=1,Settings!$B$25,IF(IFERROR(SEARCH(\"I\",DH67,1),0)=1,Settings!$B$22, IF(DH64=\"Y\", Settings!$B$18, Settings!$B$17))))))))","v":""},{"$f":"IF(LEN(DI72)=0,\"\", \" \" & IF(DI59=\"Y\", Settings!$B$19, IF(IFERROR(SEARCH(\"N\",DI67,1),0)=1,Settings!$B$20,IF(IFERROR(SEARCH(\"C\",DI67,1),0)=1,Settings!$B$23,IF(IFERROR(SEARCH(\"DT\",DI67,1),0)=1,Settings!$B$26,IF(IFERROR(SEARCH(\"D\",DI67,1),0)=1,Settings!$B$25,IF(IFERROR(SEARCH(\"I\",DI67,1),0)=1,Settings!$B$22, IF(DI64=\"Y\", Settings!$B$18, Settings!$B$17))))))))","v":""},{"$f":"IF(LEN(DJ72)=0,\"\", \" \" & IF(DJ59=\"Y\", Settings!$B$19, IF(IFERROR(SEARCH(\"N\",DJ67,1),0)=1,Settings!$B$20,IF(IFERROR(SEARCH(\"C\",DJ67,1),0)=1,Settings!$B$23,IF(IFERROR(SEARCH(\"DT\",DJ67,1),0)=1,Settings!$B$26,IF(IFERROR(SEARCH(\"D\",DJ67,1),0)=1,Settings!$B$25,IF(IFERROR(SEARCH(\"I\",DJ67,1),0)=1,Settings!$B$22, IF(DJ64=\"Y\", Settings!$B$18, Settings!$B$17))))))))","v":""},{"$f":"IF(LEN(DK72)=0,\"\", \" \" & IF(DK59=\"Y\", Settings!$B$19, IF(IFERROR(SEARCH(\"N\",DK67,1),0)=1,Settings!$B$20,IF(IFERROR(SEARCH(\"C\",DK67,1),0)=1,Settings!$B$23,IF(IFERROR(SEARCH(\"DT\",DK67,1),0)=1,Settings!$B$26,IF(IFERROR(SEARCH(\"D\",DK67,1),0)=1,Settings!$B$25,IF(IFERROR(SEARCH(\"I\",DK67,1),0)=1,Settings!$B$22, IF(DK64=\"Y\", Settings!$B$18, Settings!$B$17))))))))","v":""},{"$f":"IF(LEN(DL72)=0,\"\", \" \" & IF(DL59=\"Y\", Settings!$B$19, IF(IFERROR(SEARCH(\"N\",DL67,1),0)=1,Settings!$B$20,IF(IFERROR(SEARCH(\"C\",DL67,1),0)=1,Settings!$B$23,IF(IFERROR(SEARCH(\"DT\",DL67,1),0)=1,Settings!$B$26,IF(IFERROR(SEARCH(\"D\",DL67,1),0)=1,Settings!$B$25,IF(IFERROR(SEARCH(\"I\",DL67,1),0)=1,Settings!$B$22, IF(DL64=\"Y\", Settings!$B$18, Settings!$B$17))))))))","v":""},{"$f":"IF(LEN(DM72)=0,\"\", \" \" & IF(DM59=\"Y\", Settings!$B$19, IF(IFERROR(SEARCH(\"N\",DM67,1),0)=1,Settings!$B$20,IF(IFERROR(SEARCH(\"C\",DM67,1),0)=1,Settings!$B$23,IF(IFERROR(SEARCH(\"DT\",DM67,1),0)=1,Settings!$B$26,IF(IFERROR(SEARCH(\"D\",DM67,1),0)=1,Settings!$B$25,IF(IFERROR(SEARCH(\"I\",DM67,1),0)=1,Settings!$B$22, IF(DM64=\"Y\", Settings!$B$18, Settings!$B$17))))))))","v":""},{"$f":"IF(LEN(DN72)=0,\"\", \" \" & IF(DN59=\"Y\", Settings!$B$19, IF(IFERROR(SEARCH(\"N\",DN67,1),0)=1,Settings!$B$20,IF(IFERROR(SEARCH(\"C\",DN67,1),0)=1,Settings!$B$23,IF(IFERROR(SEARCH(\"DT\",DN67,1),0)=1,Settings!$B$26,IF(IFERROR(SEARCH(\"D\",DN67,1),0)=1,Settings!$B$25,IF(IFERROR(SEARCH(\"I\",DN67,1),0)=1,Settings!$B$22, IF(DN64=\"Y\", Settings!$B$18, Settings!$B$17))))))))","v":""},{"$f":"IF(LEN(DO72)=0,\"\", \" \" & IF(DO59=\"Y\", Settings!$B$19, IF(IFERROR(SEARCH(\"N\",DO67,1),0)=1,Settings!$B$20,IF(IFERROR(SEARCH(\"C\",DO67,1),0)=1,Settings!$B$23,IF(IFERROR(SEARCH(\"DT\",DO67,1),0)=1,Settings!$B$26,IF(IFERROR(SEARCH(\"D\",DO67,1),0)=1,Settings!$B$25,IF(IFERROR(SEARCH(\"I\",DO67,1),0)=1,Settings!$B$22, IF(DO64=\"Y\", Settings!$B$18, Settings!$B$17))))))))","v":""},{"$f":"IF(LEN(DP72)=0,\"\", \" \" & IF(DP59=\"Y\", Settings!$B$19, IF(IFERROR(SEARCH(\"N\",DP67,1),0)=1,Settings!$B$20,IF(IFERROR(SEARCH(\"C\",DP67,1),0)=1,Settings!$B$23,IF(IFERROR(SEARCH(\"DT\",DP67,1),0)=1,Settings!$B$26,IF(IFERROR(SEARCH(\"D\",DP67,1),0)=1,Settings!$B$25,IF(IFERROR(SEARCH(\"I\",DP67,1),0)=1,Settings!$B$22, IF(DP64=\"Y\", Settings!$B$18, Settings!$B$17))))))))","v":""},{"$f":"IF(LEN(DQ72)=0,\"\", \" \" & IF(DQ59=\"Y\", Settings!$B$19, IF(IFERROR(SEARCH(\"N\",DQ67,1),0)=1,Settings!$B$20,IF(IFERROR(SEARCH(\"C\",DQ67,1),0)=1,Settings!$B$23,IF(IFERROR(SEARCH(\"DT\",DQ67,1),0)=1,Settings!$B$26,IF(IFERROR(SEARCH(\"D\",DQ67,1),0)=1,Settings!$B$25,IF(IFERROR(SEARCH(\"I\",DQ67,1),0)=1,Settings!$B$22, IF(DQ64=\"Y\", Settings!$B$18, Settings!$B$17))))))))","v":""},{"$f":"IF(LEN(DR72)=0,\"\", \" \" & IF(DR59=\"Y\", Settings!$B$19, IF(IFERROR(SEARCH(\"N\",DR67,1),0)=1,Settings!$B$20,IF(IFERROR(SEARCH(\"C\",DR67,1),0)=1,Settings!$B$23,IF(IFERROR(SEARCH(\"DT\",DR67,1),0)=1,Settings!$B$26,IF(IFERROR(SEARCH(\"D\",DR67,1),0)=1,Settings!$B$25,IF(IFERROR(SEARCH(\"I\",DR67,1),0)=1,Settings!$B$22, IF(DR64=\"Y\", Settings!$B$18, Settings!$B$17))))))))","v":""},{"$f":"IF(LEN(DS72)=0,\"\", \" \" & IF(DS59=\"Y\", Settings!$B$19, IF(IFERROR(SEARCH(\"N\",DS67,1),0)=1,Settings!$B$20,IF(IFERROR(SEARCH(\"C\",DS67,1),0)=1,Settings!$B$23,IF(IFERROR(SEARCH(\"DT\",DS67,1),0)=1,Settings!$B$26,IF(IFERROR(SEARCH(\"D\",DS67,1),0)=1,Settings!$B$25,IF(IFERROR(SEARCH(\"I\",DS67,1),0)=1,Settings!$B$22, IF(DS64=\"Y\", Settings!$B$18, Settings!$B$17))))))))","v":""},{"$f":"IF(LEN(DT72)=0,\"\", \" \" & IF(DT59=\"Y\", Settings!$B$19, IF(IFERROR(SEARCH(\"N\",DT67,1),0)=1,Settings!$B$20,IF(IFERROR(SEARCH(\"C\",DT67,1),0)=1,Settings!$B$23,IF(IFERROR(SEARCH(\"DT\",DT67,1),0)=1,Settings!$B$26,IF(IFERROR(SEARCH(\"D\",DT67,1),0)=1,Settings!$B$25,IF(IFERROR(SEARCH(\"I\",DT67,1),0)=1,Settings!$B$22, IF(DT64=\"Y\", Settings!$B$18, Settings!$B$17))))))))","v":""},{"$f":"IF(LEN(DU72)=0,\"\", \" \" & IF(DU59=\"Y\", Settings!$B$19, IF(IFERROR(SEARCH(\"N\",DU67,1),0)=1,Settings!$B$20,IF(IFERROR(SEARCH(\"C\",DU67,1),0)=1,Settings!$B$23,IF(IFERROR(SEARCH(\"DT\",DU67,1),0)=1,Settings!$B$26,IF(IFERROR(SEARCH(\"D\",DU67,1),0)=1,Settings!$B$25,IF(IFERROR(SEARCH(\"I\",DU67,1),0)=1,Settings!$B$22, IF(DU64=\"Y\", Settings!$B$18, Settings!$B$17))))))))","v":""},{"$f":"IF(LEN(DV72)=0,\"\", \" \" & IF(DV59=\"Y\", Settings!$B$19, IF(IFERROR(SEARCH(\"N\",DV67,1),0)=1,Settings!$B$20,IF(IFERROR(SEARCH(\"C\",DV67,1),0)=1,Settings!$B$23,IF(IFERROR(SEARCH(\"DT\",DV67,1),0)=1,Settings!$B$26,IF(IFERROR(SEARCH(\"D\",DV67,1),0)=1,Settings!$B$25,IF(IFERROR(SEARCH(\"I\",DV67,1),0)=1,Settings!$B$22, IF(DV64=\"Y\", Settings!$B$18, Settings!$B$17))))))))","v":""},{"$f":"IF(LEN(DW72)=0,\"\", \" \" & IF(DW59=\"Y\", Settings!$B$19, IF(IFERROR(SEARCH(\"N\",DW67,1),0)=1,Settings!$B$20,IF(IFERROR(SEARCH(\"C\",DW67,1),0)=1,Settings!$B$23,IF(IFERROR(SEARCH(\"DT\",DW67,1),0)=1,Settings!$B$26,IF(IFERROR(SEARCH(\"D\",DW67,1),0)=1,Settings!$B$25,IF(IFERROR(SEARCH(\"I\",DW67,1),0)=1,Settings!$B$22, IF(DW64=\"Y\", Settings!$B$18, Settings!$B$17))))))))","v":""},{"$f":"IF(LEN(DX72)=0,\"\", \" \" & IF(DX59=\"Y\", Settings!$B$19, IF(IFERROR(SEARCH(\"N\",DX67,1),0)=1,Settings!$B$20,IF(IFERROR(SEARCH(\"C\",DX67,1),0)=1,Settings!$B$23,IF(IFERROR(SEARCH(\"DT\",DX67,1),0)=1,Settings!$B$26,IF(IFERROR(SEARCH(\"D\",DX67,1),0)=1,Settings!$B$25,IF(IFERROR(SEARCH(\"I\",DX67,1),0)=1,Settings!$B$22, IF(DX64=\"Y\", Settings!$B$18, Settings!$B$17))))))))","v":""},{"$f":"IF(LEN(DY72)=0,\"\", \" \" & IF(DY59=\"Y\", Settings!$B$19, IF(IFERROR(SEARCH(\"N\",DY67,1),0)=1,Settings!$B$20,IF(IFERROR(SEARCH(\"C\",DY67,1),0)=1,Settings!$B$23,IF(IFERROR(SEARCH(\"DT\",DY67,1),0)=1,Settings!$B$26,IF(IFERROR(SEARCH(\"D\",DY67,1),0)=1,Settings!$B$25,IF(IFERROR(SEARCH(\"I\",DY67,1),0)=1,Settings!$B$22, IF(DY64=\"Y\", Settings!$B$18, Settings!$B$17))))))))","v":""},{"$f":"IF(LEN(DZ72)=0,\"\", \" \" & IF(DZ59=\"Y\", Settings!$B$19, IF(IFERROR(SEARCH(\"N\",DZ67,1),0)=1,Settings!$B$20,IF(IFERROR(SEARCH(\"C\",DZ67,1),0)=1,Settings!$B$23,IF(IFERROR(SEARCH(\"DT\",DZ67,1),0)=1,Settings!$B$26,IF(IFERROR(SEARCH(\"D\",DZ67,1),0)=1,Settings!$B$25,IF(IFERROR(SEARCH(\"I\",DZ67,1),0)=1,Settings!$B$22, IF(DZ64=\"Y\", Settings!$B$18, Settings!$B$17))))))))","v":""},{"$f":"IF(LEN(EA72)=0,\"\", \" \" & IF(EA59=\"Y\", Settings!$B$19, IF(IFERROR(SEARCH(\"N\",EA67,1),0)=1,Settings!$B$20,IF(IFERROR(SEARCH(\"C\",EA67,1),0)=1,Settings!$B$23,IF(IFERROR(SEARCH(\"DT\",EA67,1),0)=1,Settings!$B$26,IF(IFERROR(SEARCH(\"D\",EA67,1),0)=1,Settings!$B$25,IF(IFERROR(SEARCH(\"I\",EA67,1),0)=1,Settings!$B$22, IF(EA64=\"Y\", Settings!$B$18, Settings!$B$17))))))))","v":""},{"$f":"IF(LEN(EB72)=0,\"\", \" \" & IF(EB59=\"Y\", Settings!$B$19, IF(IFERROR(SEARCH(\"N\",EB67,1),0)=1,Settings!$B$20,IF(IFERROR(SEARCH(\"C\",EB67,1),0)=1,Settings!$B$23,IF(IFERROR(SEARCH(\"DT\",EB67,1),0)=1,Settings!$B$26,IF(IFERROR(SEARCH(\"D\",EB67,1),0)=1,Settings!$B$25,IF(IFERROR(SEARCH(\"I\",EB67,1),0)=1,Settings!$B$22, IF(EB64=\"Y\", Settings!$B$18, Settings!$B$17))))))))","v":""},{"$f":"IF(LEN(EC72)=0,\"\", \" \" & IF(EC59=\"Y\", Settings!$B$19, IF(IFERROR(SEARCH(\"N\",EC67,1),0)=1,Settings!$B$20,IF(IFERROR(SEARCH(\"C\",EC67,1),0)=1,Settings!$B$23,IF(IFERROR(SEARCH(\"DT\",EC67,1),0)=1,Settings!$B$26,IF(IFERROR(SEARCH(\"D\",EC67,1),0)=1,Settings!$B$25,IF(IFERROR(SEARCH(\"I\",EC67,1),0)=1,Settings!$B$22, IF(EC64=\"Y\", Settings!$B$18, Settings!$B$17))))))))","v":""},{"$f":"IF(LEN(ED72)=0,\"\", \" \" & IF(ED59=\"Y\", Settings!$B$19, IF(IFERROR(SEARCH(\"N\",ED67,1),0)=1,Settings!$B$20,IF(IFERROR(SEARCH(\"C\",ED67,1),0)=1,Settings!$B$23,IF(IFERROR(SEARCH(\"DT\",ED67,1),0)=1,Settings!$B$26,IF(IFERROR(SEARCH(\"D\",ED67,1),0)=1,Settings!$B$25,IF(IFERROR(SEARCH(\"I\",ED67,1),0)=1,Settings!$B$22, IF(ED64=\"Y\", Settings!$B$18, Settings!$B$17))))))))","v":""},{"$f":"IF(LEN(EE72)=0,\"\", \" \" & IF(EE59=\"Y\", Settings!$B$19, IF(IFERROR(SEARCH(\"N\",EE67,1),0)=1,Settings!$B$20,IF(IFERROR(SEARCH(\"C\",EE67,1),0)=1,Settings!$B$23,IF(IFERROR(SEARCH(\"DT\",EE67,1),0)=1,Settings!$B$26,IF(IFERROR(SEARCH(\"D\",EE67,1),0)=1,Settings!$B$25,IF(IFERROR(SEARCH(\"I\",EE67,1),0)=1,Settings!$B$22, IF(EE64=\"Y\", Settings!$B$18, Settings!$B$17))))))))","v":""},{"$f":"IF(LEN(EF72)=0,\"\", \" \" & IF(EF59=\"Y\", Settings!$B$19, IF(IFERROR(SEARCH(\"N\",EF67,1),0)=1,Settings!$B$20,IF(IFERROR(SEARCH(\"C\",EF67,1),0)=1,Settings!$B$23,IF(IFERROR(SEARCH(\"DT\",EF67,1),0)=1,Settings!$B$26,IF(IFERROR(SEARCH(\"D\",EF67,1),0)=1,Settings!$B$25,IF(IFERROR(SEARCH(\"I\",EF67,1),0)=1,Settings!$B$22, IF(EF64=\"Y\", Settings!$B$18, Settings!$B$17))))))))","v":""},{"$f":"IF(LEN(EG72)=0,\"\", \" \" & IF(EG59=\"Y\", Settings!$B$19, IF(IFERROR(SEARCH(\"N\",EG67,1),0)=1,Settings!$B$20,IF(IFERROR(SEARCH(\"C\",EG67,1),0)=1,Settings!$B$23,IF(IFERROR(SEARCH(\"DT\",EG67,1),0)=1,Settings!$B$26,IF(IFERROR(SEARCH(\"D\",EG67,1),0)=1,Settings!$B$25,IF(IFERROR(SEARCH(\"I\",EG67,1),0)=1,Settings!$B$22, IF(EG64=\"Y\", Settings!$B$18, Settings!$B$17))))))))","v":""},{"$f":"IF(LEN(EH72)=0,\"\", \" \" & IF(EH59=\"Y\", Settings!$B$19, IF(IFERROR(SEARCH(\"N\",EH67,1),0)=1,Settings!$B$20,IF(IFERROR(SEARCH(\"C\",EH67,1),0)=1,Settings!$B$23,IF(IFERROR(SEARCH(\"DT\",EH67,1),0)=1,Settings!$B$26,IF(IFERROR(SEARCH(\"D\",EH67,1),0)=1,Settings!$B$25,IF(IFERROR(SEARCH(\"I\",EH67,1),0)=1,Settings!$B$22, IF(EH64=\"Y\", Settings!$B$18, Settings!$B$17))))))))","v":""},{"$f":"IF(LEN(EI72)=0,\"\", \" \" & IF(EI59=\"Y\", Settings!$B$19, IF(IFERROR(SEARCH(\"N\",EI67,1),0)=1,Settings!$B$20,IF(IFERROR(SEARCH(\"C\",EI67,1),0)=1,Settings!$B$23,IF(IFERROR(SEARCH(\"DT\",EI67,1),0)=1,Settings!$B$26,IF(IFERROR(SEARCH(\"D\",EI67,1),0)=1,Settings!$B$25,IF(IFERROR(SEARCH(\"I\",EI67,1),0)=1,Settings!$B$22, IF(EI64=\"Y\", Settings!$B$18, Settings!$B$17))))))))","v":""},{"$f":"IF(LEN(EJ72)=0,\"\", \" \" & IF(EJ59=\"Y\", Settings!$B$19, IF(IFERROR(SEARCH(\"N\",EJ67,1),0)=1,Settings!$B$20,IF(IFERROR(SEARCH(\"C\",EJ67,1),0)=1,Settings!$B$23,IF(IFERROR(SEARCH(\"DT\",EJ67,1),0)=1,Settings!$B$26,IF(IFERROR(SEARCH(\"D\",EJ67,1),0)=1,Settings!$B$25,IF(IFERROR(SEARCH(\"I\",EJ67,1),0)=1,Settings!$B$22, IF(EJ64=\"Y\", Settings!$B$18, Settings!$B$17))))))))","v":""},{"$f":"IF(LEN(EK72)=0,\"\", \" \" & IF(EK59=\"Y\", Settings!$B$19, IF(IFERROR(SEARCH(\"N\",EK67,1),0)=1,Settings!$B$20,IF(IFERROR(SEARCH(\"C\",EK67,1),0)=1,Settings!$B$23,IF(IFERROR(SEARCH(\"DT\",EK67,1),0)=1,Settings!$B$26,IF(IFERROR(SEARCH(\"D\",EK67,1),0)=1,Settings!$B$25,IF(IFERROR(SEARCH(\"I\",EK67,1),0)=1,Settings!$B$22, IF(EK64=\"Y\", Settings!$B$18, Settings!$B$17))))))))","v":""},{"$f":"IF(LEN(EL72)=0,\"\", \" \" & IF(EL59=\"Y\", Settings!$B$19, IF(IFERROR(SEARCH(\"N\",EL67,1),0)=1,Settings!$B$20,IF(IFERROR(SEARCH(\"C\",EL67,1),0)=1,Settings!$B$23,IF(IFERROR(SEARCH(\"DT\",EL67,1),0)=1,Settings!$B$26,IF(IFERROR(SEARCH(\"D\",EL67,1),0)=1,Settings!$B$25,IF(IFERROR(SEARCH(\"I\",EL67,1),0)=1,Settings!$B$22, IF(EL64=\"Y\", Settings!$B$18, Settings!$B$17))))))))","v":""},{"$f":"IF(LEN(EM72)=0,\"\", \" \" & IF(EM59=\"Y\", Settings!$B$19, IF(IFERROR(SEARCH(\"N\",EM67,1),0)=1,Settings!$B$20,IF(IFERROR(SEARCH(\"C\",EM67,1),0)=1,Settings!$B$23,IF(IFERROR(SEARCH(\"DT\",EM67,1),0)=1,Settings!$B$26,IF(IFERROR(SEARCH(\"D\",EM67,1),0)=1,Settings!$B$25,IF(IFERROR(SEARCH(\"I\",EM67,1),0)=1,Settings!$B$22, IF(EM64=\"Y\", Settings!$B$18, Settings!$B$17))))))))","v":""},{"$f":"IF(LEN(EN72)=0,\"\", \" \" & IF(EN59=\"Y\", Settings!$B$19, IF(IFERROR(SEARCH(\"N\",EN67,1),0)=1,Settings!$B$20,IF(IFERROR(SEARCH(\"C\",EN67,1),0)=1,Settings!$B$23,IF(IFERROR(SEARCH(\"DT\",EN67,1),0)=1,Settings!$B$26,IF(IFERROR(SEARCH(\"D\",EN67,1),0)=1,Settings!$B$25,IF(IFERROR(SEARCH(\"I\",EN67,1),0)=1,Settings!$B$22, IF(EN64=\"Y\", Settings!$B$18, Settings!$B$17))))))))","v":""},{"$f":"IF(LEN(EO72)=0,\"\", \" \" & IF(EO59=\"Y\", Settings!$B$19, IF(IFERROR(SEARCH(\"N\",EO67,1),0)=1,Settings!$B$20,IF(IFERROR(SEARCH(\"C\",EO67,1),0)=1,Settings!$B$23,IF(IFERROR(SEARCH(\"DT\",EO67,1),0)=1,Settings!$B$26,IF(IFERROR(SEARCH(\"D\",EO67,1),0)=1,Settings!$B$25,IF(IFERROR(SEARCH(\"I\",EO67,1),0)=1,Settings!$B$22, IF(EO64=\"Y\", Settings!$B$18, Settings!$B$17))))))))","v":""},{"$f":"IF(LEN(EP72)=0,\"\", \" \" & IF(EP59=\"Y\", Settings!$B$19, IF(IFERROR(SEARCH(\"N\",EP67,1),0)=1,Settings!$B$20,IF(IFERROR(SEARCH(\"C\",EP67,1),0)=1,Settings!$B$23,IF(IFERROR(SEARCH(\"DT\",EP67,1),0)=1,Settings!$B$26,IF(IFERROR(SEARCH(\"D\",EP67,1),0)=1,Settings!$B$25,IF(IFERROR(SEARCH(\"I\",EP67,1),0)=1,Settings!$B$22, IF(EP64=\"Y\", Settings!$B$18, Settings!$B$17))))))))","v":""},{"$f":"IF(LEN(EQ72)=0,\"\", \" \" & IF(EQ59=\"Y\", Settings!$B$19, IF(IFERROR(SEARCH(\"N\",EQ67,1),0)=1,Settings!$B$20,IF(IFERROR(SEARCH(\"C\",EQ67,1),0)=1,Settings!$B$23,IF(IFERROR(SEARCH(\"DT\",EQ67,1),0)=1,Settings!$B$26,IF(IFERROR(SEARCH(\"D\",EQ67,1),0)=1,Settings!$B$25,IF(IFERROR(SEARCH(\"I\",EQ67,1),0)=1,Settings!$B$22, IF(EQ64=\"Y\", Settings!$B$18, Settings!$B$17))))))))","v":""},{"$f":"IF(LEN(ER72)=0,\"\", \" \" & IF(ER59=\"Y\", Settings!$B$19, IF(IFERROR(SEARCH(\"N\",ER67,1),0)=1,Settings!$B$20,IF(IFERROR(SEARCH(\"C\",ER67,1),0)=1,Settings!$B$23,IF(IFERROR(SEARCH(\"DT\",ER67,1),0)=1,Settings!$B$26,IF(IFERROR(SEARCH(\"D\",ER67,1),0)=1,Settings!$B$25,IF(IFERROR(SEARCH(\"I\",ER67,1),0)=1,Settings!$B$22, IF(ER64=\"Y\", Settings!$B$18, Settings!$B$17))))))))","v":""},{"$f":"IF(LEN(ES72)=0,\"\", \" \" & IF(ES59=\"Y\", Settings!$B$19, IF(IFERROR(SEARCH(\"N\",ES67,1),0)=1,Settings!$B$20,IF(IFERROR(SEARCH(\"C\",ES67,1),0)=1,Settings!$B$23,IF(IFERROR(SEARCH(\"DT\",ES67,1),0)=1,Settings!$B$26,IF(IFERROR(SEARCH(\"D\",ES67,1),0)=1,Settings!$B$25,IF(IFERROR(SEARCH(\"I\",ES67,1),0)=1,Settings!$B$22, IF(ES64=\"Y\", Settings!$B$18, Settings!$B$17))))))))","v":""},{"$f":"IF(LEN(ET72)=0,\"\", \" \" & IF(ET59=\"Y\", Settings!$B$19, IF(IFERROR(SEARCH(\"N\",ET67,1),0)=1,Settings!$B$20,IF(IFERROR(SEARCH(\"C\",ET67,1),0)=1,Settings!$B$23,IF(IFERROR(SEARCH(\"DT\",ET67,1),0)=1,Settings!$B$26,IF(IFERROR(SEARCH(\"D\",ET67,1),0)=1,Settings!$B$25,IF(IFERROR(SEARCH(\"I\",ET67,1),0)=1,Settings!$B$22, IF(ET64=\"Y\", Settings!$B$18, Settings!$B$17))))))))","v":""},{"$f":"IF(LEN(EU72)=0,\"\", \" \" & IF(EU59=\"Y\", Settings!$B$19, IF(IFERROR(SEARCH(\"N\",EU67,1),0)=1,Settings!$B$20,IF(IFERROR(SEARCH(\"C\",EU67,1),0)=1,Settings!$B$23,IF(IFERROR(SEARCH(\"DT\",EU67,1),0)=1,Settings!$B$26,IF(IFERROR(SEARCH(\"D\",EU67,1),0)=1,Settings!$B$25,IF(IFERROR(SEARCH(\"I\",EU67,1),0)=1,Settings!$B$22, IF(EU64=\"Y\", Settings!$B$18, Settings!$B$17))))))))","v":""},{"$f":"IF(LEN(EV72)=0,\"\", \" \" & IF(EV59=\"Y\", Settings!$B$19, IF(IFERROR(SEARCH(\"N\",EV67,1),0)=1,Settings!$B$20,IF(IFERROR(SEARCH(\"C\",EV67,1),0)=1,Settings!$B$23,IF(IFERROR(SEARCH(\"DT\",EV67,1),0)=1,Settings!$B$26,IF(IFERROR(SEARCH(\"D\",EV67,1),0)=1,Settings!$B$25,IF(IFERROR(SEARCH(\"I\",EV67,1),0)=1,Settings!$B$22, IF(EV64=\"Y\", Settings!$B$18, Settings!$B$17))))))))","v":""},{"$f":"IF(LEN(EW72)=0,\"\", \" \" & IF(EW59=\"Y\", Settings!$B$19, IF(IFERROR(SEARCH(\"N\",EW67,1),0)=1,Settings!$B$20,IF(IFERROR(SEARCH(\"C\",EW67,1),0)=1,Settings!$B$23,IF(IFERROR(SEARCH(\"DT\",EW67,1),0)=1,Settings!$B$26,IF(IFERROR(SEARCH(\"D\",EW67,1),0)=1,Settings!$B$25,IF(IFERROR(SEARCH(\"I\",EW67,1),0)=1,Settings!$B$22, IF(EW64=\"Y\", Settings!$B$18, Settings!$B$17))))))))","v":""},{"$f":"IF(LEN(EX72)=0,\"\", \" \" & IF(EX59=\"Y\", Settings!$B$19, IF(IFERROR(SEARCH(\"N\",EX67,1),0)=1,Settings!$B$20,IF(IFERROR(SEARCH(\"C\",EX67,1),0)=1,Settings!$B$23,IF(IFERROR(SEARCH(\"DT\",EX67,1),0)=1,Settings!$B$26,IF(IFERROR(SEARCH(\"D\",EX67,1),0)=1,Settings!$B$25,IF(IFERROR(SEARCH(\"I\",EX67,1),0)=1,Settings!$B$22, IF(EX64=\"Y\", Settings!$B$18, Settings!$B$17))))))))","v":""},{"$f":"IF(LEN(EY72)=0,\"\", \" \" & IF(EY59=\"Y\", Settings!$B$19, IF(IFERROR(SEARCH(\"N\",EY67,1),0)=1,Settings!$B$20,IF(IFERROR(SEARCH(\"C\",EY67,1),0)=1,Settings!$B$23,IF(IFERROR(SEARCH(\"DT\",EY67,1),0)=1,Settings!$B$26,IF(IFERROR(SEARCH(\"D\",EY67,1),0)=1,Settings!$B$25,IF(IFERROR(SEARCH(\"I\",EY67,1),0)=1,Settings!$B$22, IF(EY64=\"Y\", Settings!$B$18, Settings!$B$17))))))))","v":""}]
[null,null,"Data Type + Length",null,null,{"$f":"IF(OR(F59=\"Y\", LEN(F67)=0, LEN(F69)=0), F95, CONCATENATE(F95,\"(\",F69,\")\"))","v":" VARCHAR2(40)"}," VARCHAR2(40)"," DATE","","","","","","","","","","","","","","","","","","","","","","","","","","","","","","","","","","","","","","","","","","","","","","","","","","","","","","","","","","","","","",{"$f":"IF(OR(BR59=\"Y\", LEN(BR67)=0, LEN(BR69)=0), BR95, CONCATENATE(BR95,\"(\",BR69,\")\"))","v":""},"","","","","","","","","","","","","","","","","","","","","","","","","","","","","","","","","","","","","","","","","","","","","","","","","","","","","","","","","","","","","","","",{"$f":"IF(OR(ED59=\"Y\", LEN(ED67)=0, LEN(ED69)=0), ED95, CONCATENATE(ED95,\"(\",ED69,\")\"))","v":""},"","","","","","","","","","","","","","","","","","","","",""]
[null,null,"Column Constraint",null,null,{"$f":"IF(AND(ISTEXT(F72),F65=\"Y\", F57<>\"Y\", ISERROR(FIND(\"SK\",F7))), \" NOT NULL\", \"\")","v":""},{"$f":"IF(AND(ISTEXT(G72),G65=\"Y\", G57<>\"Y\", ISERROR(FIND(\"SK\",G7))), \" NOT NULL\", \"\")","v":""},"","","","","","","","","","","","","","","","","","","","","","","","","","","","","","","","","","","","","","","","","","","","","","","","","","","","","","","","","","","","","","","",{"$f":"IF(AND(ISTEXT(BS72),BS65=\"Y\", BS57<>\"Y\", ISERROR(FIND(\"SK\",BS7))), \" NOT NULL\", \"\")","v":""},"","","","","","","","","","","","","","","","","","","","","","","","","","","","","","","","","","","","","","","","","","","","","","","","","","","","","","","","","","","","","","","",{"$f":"IF(AND(ISTEXT(EE72),EE65=\"Y\", EE57<>\"Y\", ISERROR(FIND(\"SK\",EE7))), \" NOT NULL\", \"\")","v":""},"","","","","","","","","","","","","","","","","","","",""]
[null,null,"Missing/Default Value",null,null,{"$f":"IF(LEN(F72)=0,\"\",TRIM(F13))","v":""},"","","","","","","","","","","","","","","","","","","","","","","","","","","","","","","","","","","","","","","","","","","","","","","","","","","","","","","","","","","","","","","",{"$f":"IF(LEN(BR72)=0,\"\",TRIM(BR13))","v":""},"","","","","","","","","","","","","","","","","","","","","","","","","","","","","","","","","","","","","","","","","","","","","","","","","","","","","","","","","","","","","","","",{"$f":"IF(LEN(ED72)=0,\"\",TRIM(ED13))","v":""},"","","","","","","","","","","","","","","","","","","","",""]
[null,null,"Adjusted Default Value",null,null,{"$f":"IF(F59=\"Y\", \"\", IF(LEN(F98)=0, \"\",  IF(OR(NOT(ISERROR(FIND(\"N\",F67))), F67=\"I\", F64=\"Y\"), F98, CONCATENATE(\"'\",F98,\"'\"))))","v":""},{"$f":"IF(G59=\"Y\", \"\", IF(LEN(G98)=0, \"\",  IF(OR(NOT(ISERROR(FIND(\"N\",G67))), G67=\"I\", G64=\"Y\"), G98, CONCATENATE(\"'\",G98,\"'\"))))","v":""},"","","","","","","","","","","","","","","","","","","","","","","","","","","","","","","","","","","","","","","","","","","","","","","","","","","","","","","","","","","","","","","",{"$f":"IF(BS59=\"Y\", \"\", IF(LEN(BS98)=0, \"\",  IF(OR(NOT(ISERROR(FIND(\"N\",BS67))), BS67=\"I\", BS64=\"Y\"), BS98, CONCATENATE(\"'\",BS98,\"'\"))))","v":""},"","","","","","","","","","","","","","","","","","","","","","","","","","","","","","","","","","","","","","","","","","","","","","","","","","","","","","","","","","","","","","","",{"$f":"IF(EE59=\"Y\", \"\", IF(LEN(EE98)=0, \"\",  IF(OR(NOT(ISERROR(FIND(\"N\",EE67))), EE67=\"I\", EE64=\"Y\"), EE98, CONCATENATE(\"'\",EE98,\"'\"))))","v":""},"","","","","","","","","","","","","","","","","","","",""]
[null,null,"Column Default Clause",null,null,{"$f":"IF(AND(LEN(F99) <> 0, Settings!$B$16 =\"Y\"), CONCATENATE(\" DEFAULT \",F99),\"\")","v":""},{"$f":"IF(AND(LEN(G99) <> 0, Settings!$B$16 =\"Y\"), CONCATENATE(\" DEFAULT \",G99),\"\")","v":""},{"$f":"IF(AND(LEN(H99) <> 0, Settings!$B$16 =\"Y\"), CONCATENATE(\" DEFAULT \",H99),\"\")","v":""},{"$f":"IF(AND(LEN(I99) <> 0, Settings!$B$16 =\"Y\"), CONCATENATE(\" DEFAULT \",I99),\"\")","v":""},{"$f":"IF(AND(LEN(J99) <> 0, Settings!$B$16 =\"Y\"), CONCATENATE(\" DEFAULT \",J99),\"\")","v":""},{"$f":"IF(AND(LEN(K99) <> 0, Settings!$B$16 =\"Y\"), CONCATENATE(\" DEFAULT \",K99),\"\")","v":""},{"$f":"IF(AND(LEN(L99) <> 0, Settings!$B$16 =\"Y\"), CONCATENATE(\" DEFAULT \",L99),\"\")","v":""},{"$f":"IF(AND(LEN(M99) <> 0, Settings!$B$16 =\"Y\"), CONCATENATE(\" DEFAULT \",M99),\"\")","v":""},{"$f":"IF(AND(LEN(N99) <> 0, Settings!$B$16 =\"Y\"), CONCATENATE(\" DEFAULT \",N99),\"\")","v":""},{"$f":"IF(AND(LEN(O99) <> 0, Settings!$B$16 =\"Y\"), CONCATENATE(\" DEFAULT \",O99),\"\")","v":""},{"$f":"IF(AND(LEN(P99) <> 0, Settings!$B$16 =\"Y\"), CONCATENATE(\" DEFAULT \",P99),\"\")","v":""},{"$f":"IF(AND(LEN(Q99) <> 0, Settings!$B$16 =\"Y\"), CONCATENATE(\" DEFAULT \",Q99),\"\")","v":""},{"$f":"IF(AND(LEN(R99) <> 0, Settings!$B$16 =\"Y\"), CONCATENATE(\" DEFAULT \",R99),\"\")","v":""},{"$f":"IF(AND(LEN(S99) <> 0, Settings!$B$16 =\"Y\"), CONCATENATE(\" DEFAULT \",S99),\"\")","v":""},{"$f":"IF(AND(LEN(T99) <> 0, Settings!$B$16 =\"Y\"), CONCATENATE(\" DEFAULT \",T99),\"\")","v":""},{"$f":"IF(AND(LEN(U99) <> 0, Settings!$B$16 =\"Y\"), CONCATENATE(\" DEFAULT \",U99),\"\")","v":""},{"$f":"IF(AND(LEN(V99) <> 0, Settings!$B$16 =\"Y\"), CONCATENATE(\" DEFAULT \",V99),\"\")","v":""},{"$f":"IF(AND(LEN(W99) <> 0, Settings!$B$16 =\"Y\"), CONCATENATE(\" DEFAULT \",W99),\"\")","v":""},{"$f":"IF(AND(LEN(X99) <> 0, Settings!$B$16 =\"Y\"), CONCATENATE(\" DEFAULT \",X99),\"\")","v":""},{"$f":"IF(AND(LEN(Y99) <> 0, Settings!$B$16 =\"Y\"), CONCATENATE(\" DEFAULT \",Y99),\"\")","v":""},{"$f":"IF(AND(LEN(Z99) <> 0, Settings!$B$16 =\"Y\"), CONCATENATE(\" DEFAULT \",Z99),\"\")","v":""},{"$f":"IF(AND(LEN(AA99) <> 0, Settings!$B$16 =\"Y\"), CONCATENATE(\" DEFAULT \",AA99),\"\")","v":""},{"$f":"IF(AND(LEN(AB99) <> 0, Settings!$B$16 =\"Y\"), CONCATENATE(\" DEFAULT \",AB99),\"\")","v":""},{"$f":"IF(AND(LEN(AC99) <> 0, Settings!$B$16 =\"Y\"), CONCATENATE(\" DEFAULT \",AC99),\"\")","v":""},{"$f":"IF(AND(LEN(AD99) <> 0, Settings!$B$16 =\"Y\"), CONCATENATE(\" DEFAULT \",AD99),\"\")","v":""},{"$f":"IF(AND(LEN(AE99) <> 0, Settings!$B$16 =\"Y\"), CONCATENATE(\" DEFAULT \",AE99),\"\")","v":""},{"$f":"IF(AND(LEN(AF99) <> 0, Settings!$B$16 =\"Y\"), CONCATENATE(\" DEFAULT \",AF99),\"\")","v":""},{"$f":"IF(AND(LEN(AG99) <> 0, Settings!$B$16 =\"Y\"), CONCATENATE(\" DEFAULT \",AG99),\"\")","v":""},{"$f":"IF(AND(LEN(AH99) <> 0, Settings!$B$16 =\"Y\"), CONCATENATE(\" DEFAULT \",AH99),\"\")","v":""},{"$f":"IF(AND(LEN(AI99) <> 0, Settings!$B$16 =\"Y\"), CONCATENATE(\" DEFAULT \",AI99),\"\")","v":""},{"$f":"IF(AND(LEN(AJ99) <> 0, Settings!$B$16 =\"Y\"), CONCATENATE(\" DEFAULT \",AJ99),\"\")","v":""},{"$f":"IF(AND(LEN(AK99) <> 0, Settings!$B$16 =\"Y\"), CONCATENATE(\" DEFAULT \",AK99),\"\")","v":""},{"$f":"IF(AND(LEN(AL99) <> 0, Settings!$B$16 =\"Y\"), CONCATENATE(\" DEFAULT \",AL99),\"\")","v":""},{"$f":"IF(AND(LEN(AM99) <> 0, Settings!$B$16 =\"Y\"), CONCATENATE(\" DEFAULT \",AM99),\"\")","v":""},{"$f":"IF(AND(LEN(AN99) <> 0, Settings!$B$16 =\"Y\"), CONCATENATE(\" DEFAULT \",AN99),\"\")","v":""},{"$f":"IF(AND(LEN(AO99) <> 0, Settings!$B$16 =\"Y\"), CONCATENATE(\" DEFAULT \",AO99),\"\")","v":""},{"$f":"IF(AND(LEN(AP99) <> 0, Settings!$B$16 =\"Y\"), CONCATENATE(\" DEFAULT \",AP99),\"\")","v":""},{"$f":"IF(AND(LEN(AQ99) <> 0, Settings!$B$16 =\"Y\"), CONCATENATE(\" DEFAULT \",AQ99),\"\")","v":""},{"$f":"IF(AND(LEN(AR99) <> 0, Settings!$B$16 =\"Y\"), CONCATENATE(\" DEFAULT \",AR99),\"\")","v":""},{"$f":"IF(AND(LEN(AS99) <> 0, Settings!$B$16 =\"Y\"), CONCATENATE(\" DEFAULT \",AS99),\"\")","v":""},{"$f":"IF(AND(LEN(AT99) <> 0, Settings!$B$16 =\"Y\"), CONCATENATE(\" DEFAULT \",AT99),\"\")","v":""},{"$f":"IF(AND(LEN(AU99) <> 0, Settings!$B$16 =\"Y\"), CONCATENATE(\" DEFAULT \",AU99),\"\")","v":""},{"$f":"IF(AND(LEN(AV99) <> 0, Settings!$B$16 =\"Y\"), CONCATENATE(\" DEFAULT \",AV99),\"\")","v":""},{"$f":"IF(AND(LEN(AW99) <> 0, Settings!$B$16 =\"Y\"), CONCATENATE(\" DEFAULT \",AW99),\"\")","v":""},{"$f":"IF(AND(LEN(AX99) <> 0, Settings!$B$16 =\"Y\"), CONCATENATE(\" DEFAULT \",AX99),\"\")","v":""},{"$f":"IF(AND(LEN(AY99) <> 0, Settings!$B$16 =\"Y\"), CONCATENATE(\" DEFAULT \",AY99),\"\")","v":""},{"$f":"IF(AND(LEN(AZ99) <> 0, Settings!$B$16 =\"Y\"), CONCATENATE(\" DEFAULT \",AZ99),\"\")","v":""},{"$f":"IF(AND(LEN(BA99) <> 0, Settings!$B$16 =\"Y\"), CONCATENATE(\" DEFAULT \",BA99),\"\")","v":""},{"$f":"IF(AND(LEN(BB99) <> 0, Settings!$B$16 =\"Y\"), CONCATENATE(\" DEFAULT \",BB99),\"\")","v":""},{"$f":"IF(AND(LEN(BC99) <> 0, Settings!$B$16 =\"Y\"), CONCATENATE(\" DEFAULT \",BC99),\"\")","v":""},{"$f":"IF(AND(LEN(BD99) <> 0, Settings!$B$16 =\"Y\"), CONCATENATE(\" DEFAULT \",BD99),\"\")","v":""},{"$f":"IF(AND(LEN(BE99) <> 0, Settings!$B$16 =\"Y\"), CONCATENATE(\" DEFAULT \",BE99),\"\")","v":""},{"$f":"IF(AND(LEN(BF99) <> 0, Settings!$B$16 =\"Y\"), CONCATENATE(\" DEFAULT \",BF99),\"\")","v":""},{"$f":"IF(AND(LEN(BG99) <> 0, Settings!$B$16 =\"Y\"), CONCATENATE(\" DEFAULT \",BG99),\"\")","v":""},{"$f":"IF(AND(LEN(BH99) <> 0, Settings!$B$16 =\"Y\"), CONCATENATE(\" DEFAULT \",BH99),\"\")","v":""},{"$f":"IF(AND(LEN(BI99) <> 0, Settings!$B$16 =\"Y\"), CONCATENATE(\" DEFAULT \",BI99),\"\")","v":""},{"$f":"IF(AND(LEN(BJ99) <> 0, Settings!$B$16 =\"Y\"), CONCATENATE(\" DEFAULT \",BJ99),\"\")","v":""},{"$f":"IF(AND(LEN(BK99) <> 0, Settings!$B$16 =\"Y\"), CONCATENATE(\" DEFAULT \",BK99),\"\")","v":""},{"$f":"IF(AND(LEN(BL99) <> 0, Settings!$B$16 =\"Y\"), CONCATENATE(\" DEFAULT \",BL99),\"\")","v":""},{"$f":"IF(AND(LEN(BM99) <> 0, Settings!$B$16 =\"Y\"), CONCATENATE(\" DEFAULT \",BM99),\"\")","v":""},{"$f":"IF(AND(LEN(BN99) <> 0, Settings!$B$16 =\"Y\"), CONCATENATE(\" DEFAULT \",BN99),\"\")","v":""},{"$f":"IF(AND(LEN(BO99) <> 0, Settings!$B$16 =\"Y\"), CONCATENATE(\" DEFAULT \",BO99),\"\")","v":""},{"$f":"IF(AND(LEN(BP99) <> 0, Settings!$B$16 =\"Y\"), CONCATENATE(\" DEFAULT \",BP99),\"\")","v":""},{"$f":"IF(AND(LEN(BQ99) <> 0, Settings!$B$16 =\"Y\"), CONCATENATE(\" DEFAULT \",BQ99),\"\")","v":""},{"$f":"IF(AND(LEN(BR99) <> 0, Settings!$B$16 =\"Y\"), CONCATENATE(\" DEFAULT \",BR99),\"\")","v":""},{"$f":"IF(AND(LEN(BS99) <> 0, Settings!$B$16 =\"Y\"), CONCATENATE(\" DEFAULT \",BS99),\"\")","v":""},{"$f":"IF(AND(LEN(BT99) <> 0, Settings!$B$16 =\"Y\"), CONCATENATE(\" DEFAULT \",BT99),\"\")","v":""},{"$f":"IF(AND(LEN(BU99) <> 0, Settings!$B$16 =\"Y\"), CONCATENATE(\" DEFAULT \",BU99),\"\")","v":""},{"$f":"IF(AND(LEN(BV99) <> 0, Settings!$B$16 =\"Y\"), CONCATENATE(\" DEFAULT \",BV99),\"\")","v":""},{"$f":"IF(AND(LEN(BW99) <> 0, Settings!$B$16 =\"Y\"), CONCATENATE(\" DEFAULT \",BW99),\"\")","v":""},{"$f":"IF(AND(LEN(BX99) <> 0, Settings!$B$16 =\"Y\"), CONCATENATE(\" DEFAULT \",BX99),\"\")","v":""},{"$f":"IF(AND(LEN(BY99) <> 0, Settings!$B$16 =\"Y\"), CONCATENATE(\" DEFAULT \",BY99),\"\")","v":""},{"$f":"IF(AND(LEN(BZ99) <> 0, Settings!$B$16 =\"Y\"), CONCATENATE(\" DEFAULT \",BZ99),\"\")","v":""},{"$f":"IF(AND(LEN(CA99) <> 0, Settings!$B$16 =\"Y\"), CONCATENATE(\" DEFAULT \",CA99),\"\")","v":""},{"$f":"IF(AND(LEN(CB99) <> 0, Settings!$B$16 =\"Y\"), CONCATENATE(\" DEFAULT \",CB99),\"\")","v":""},{"$f":"IF(AND(LEN(CC99) <> 0, Settings!$B$16 =\"Y\"), CONCATENATE(\" DEFAULT \",CC99),\"\")","v":""},{"$f":"IF(AND(LEN(CD99) <> 0, Settings!$B$16 =\"Y\"), CONCATENATE(\" DEFAULT \",CD99),\"\")","v":""},{"$f":"IF(AND(LEN(CE99) <> 0, Settings!$B$16 =\"Y\"), CONCATENATE(\" DEFAULT \",CE99),\"\")","v":""},{"$f":"IF(AND(LEN(CF99) <> 0, Settings!$B$16 =\"Y\"), CONCATENATE(\" DEFAULT \",CF99),\"\")","v":""},{"$f":"IF(AND(LEN(CG99) <> 0, Settings!$B$16 =\"Y\"), CONCATENATE(\" DEFAULT \",CG99),\"\")","v":""},{"$f":"IF(AND(LEN(CH99) <> 0, Settings!$B$16 =\"Y\"), CONCATENATE(\" DEFAULT \",CH99),\"\")","v":""},{"$f":"IF(AND(LEN(CI99) <> 0, Settings!$B$16 =\"Y\"), CONCATENATE(\" DEFAULT \",CI99),\"\")","v":""},{"$f":"IF(AND(LEN(CJ99) <> 0, Settings!$B$16 =\"Y\"), CONCATENATE(\" DEFAULT \",CJ99),\"\")","v":""},{"$f":"IF(AND(LEN(CK99) <> 0, Settings!$B$16 =\"Y\"), CONCATENATE(\" DEFAULT \",CK99),\"\")","v":""},{"$f":"IF(AND(LEN(CL99) <> 0, Settings!$B$16 =\"Y\"), CONCATENATE(\" DEFAULT \",CL99),\"\")","v":""},{"$f":"IF(AND(LEN(CM99) <> 0, Settings!$B$16 =\"Y\"), CONCATENATE(\" DEFAULT \",CM99),\"\")","v":""},{"$f":"IF(AND(LEN(CN99) <> 0, Settings!$B$16 =\"Y\"), CONCATENATE(\" DEFAULT \",CN99),\"\")","v":""},{"$f":"IF(AND(LEN(CO99) <> 0, Settings!$B$16 =\"Y\"), CONCATENATE(\" DEFAULT \",CO99),\"\")","v":""},{"$f":"IF(AND(LEN(CP99) <> 0, Settings!$B$16 =\"Y\"), CONCATENATE(\" DEFAULT \",CP99),\"\")","v":""},{"$f":"IF(AND(LEN(CQ99) <> 0, Settings!$B$16 =\"Y\"), CONCATENATE(\" DEFAULT \",CQ99),\"\")","v":""},{"$f":"IF(AND(LEN(CR99) <> 0, Settings!$B$16 =\"Y\"), CONCATENATE(\" DEFAULT \",CR99),\"\")","v":""},{"$f":"IF(AND(LEN(CS99) <> 0, Settings!$B$16 =\"Y\"), CONCATENATE(\" DEFAULT \",CS99),\"\")","v":""},{"$f":"IF(AND(LEN(CT99) <> 0, Settings!$B$16 =\"Y\"), CONCATENATE(\" DEFAULT \",CT99),\"\")","v":""},{"$f":"IF(AND(LEN(CU99) <> 0, Settings!$B$16 =\"Y\"), CONCATENATE(\" DEFAULT \",CU99),\"\")","v":""},{"$f":"IF(AND(LEN(CV99) <> 0, Settings!$B$16 =\"Y\"), CONCATENATE(\" DEFAULT \",CV99),\"\")","v":""},{"$f":"IF(AND(LEN(CW99) <> 0, Settings!$B$16 =\"Y\"), CONCATENATE(\" DEFAULT \",CW99),\"\")","v":""},{"$f":"IF(AND(LEN(CX99) <> 0, Settings!$B$16 =\"Y\"), CONCATENATE(\" DEFAULT \",CX99),\"\")","v":""},{"$f":"IF(AND(LEN(CY99) <> 0, Settings!$B$16 =\"Y\"), CONCATENATE(\" DEFAULT \",CY99),\"\")","v":""},{"$f":"IF(AND(LEN(CZ99) <> 0, Settings!$B$16 =\"Y\"), CONCATENATE(\" DEFAULT \",CZ99),\"\")","v":""},{"$f":"IF(AND(LEN(DA99) <> 0, Settings!$B$16 =\"Y\"), CONCATENATE(\" DEFAULT \",DA99),\"\")","v":""},{"$f":"IF(AND(LEN(DB99) <> 0, Settings!$B$16 =\"Y\"), CONCATENATE(\" DEFAULT \",DB99),\"\")","v":""},{"$f":"IF(AND(LEN(DC99) <> 0, Settings!$B$16 =\"Y\"), CONCATENATE(\" DEFAULT \",DC99),\"\")","v":""},{"$f":"IF(AND(LEN(DD99) <> 0, Settings!$B$16 =\"Y\"), CONCATENATE(\" DEFAULT \",DD99),\"\")","v":""},{"$f":"IF(AND(LEN(DE99) <> 0, Settings!$B$16 =\"Y\"), CONCATENATE(\" DEFAULT \",DE99),\"\")","v":""},{"$f":"IF(AND(LEN(DF99) <> 0, Settings!$B$16 =\"Y\"), CONCATENATE(\" DEFAULT \",DF99),\"\")","v":""},{"$f":"IF(AND(LEN(DG99) <> 0, Settings!$B$16 =\"Y\"), CONCATENATE(\" DEFAULT \",DG99),\"\")","v":""},{"$f":"IF(AND(LEN(DH99) <> 0, Settings!$B$16 =\"Y\"), CONCATENATE(\" DEFAULT \",DH99),\"\")","v":""},{"$f":"IF(AND(LEN(DI99) <> 0, Settings!$B$16 =\"Y\"), CONCATENATE(\" DEFAULT \",DI99),\"\")","v":""},{"$f":"IF(AND(LEN(DJ99) <> 0, Settings!$B$16 =\"Y\"), CONCATENATE(\" DEFAULT \",DJ99),\"\")","v":""},{"$f":"IF(AND(LEN(DK99) <> 0, Settings!$B$16 =\"Y\"), CONCATENATE(\" DEFAULT \",DK99),\"\")","v":""},{"$f":"IF(AND(LEN(DL99) <> 0, Settings!$B$16 =\"Y\"), CONCATENATE(\" DEFAULT \",DL99),\"\")","v":""},{"$f":"IF(AND(LEN(DM99) <> 0, Settings!$B$16 =\"Y\"), CONCATENATE(\" DEFAULT \",DM99),\"\")","v":""},{"$f":"IF(AND(LEN(DN99) <> 0, Settings!$B$16 =\"Y\"), CONCATENATE(\" DEFAULT \",DN99),\"\")","v":""},{"$f":"IF(AND(LEN(DO99) <> 0, Settings!$B$16 =\"Y\"), CONCATENATE(\" DEFAULT \",DO99),\"\")","v":""},{"$f":"IF(AND(LEN(DP99) <> 0, Settings!$B$16 =\"Y\"), CONCATENATE(\" DEFAULT \",DP99),\"\")","v":""},{"$f":"IF(AND(LEN(DQ99) <> 0, Settings!$B$16 =\"Y\"), CONCATENATE(\" DEFAULT \",DQ99),\"\")","v":""},{"$f":"IF(AND(LEN(DR99) <> 0, Settings!$B$16 =\"Y\"), CONCATENATE(\" DEFAULT \",DR99),\"\")","v":""},{"$f":"IF(AND(LEN(DS99) <> 0, Settings!$B$16 =\"Y\"), CONCATENATE(\" DEFAULT \",DS99),\"\")","v":""},{"$f":"IF(AND(LEN(DT99) <> 0, Settings!$B$16 =\"Y\"), CONCATENATE(\" DEFAULT \",DT99),\"\")","v":""},{"$f":"IF(AND(LEN(DU99) <> 0, Settings!$B$16 =\"Y\"), CONCATENATE(\" DEFAULT \",DU99),\"\")","v":""},{"$f":"IF(AND(LEN(DV99) <> 0, Settings!$B$16 =\"Y\"), CONCATENATE(\" DEFAULT \",DV99),\"\")","v":""},{"$f":"IF(AND(LEN(DW99) <> 0, Settings!$B$16 =\"Y\"), CONCATENATE(\" DEFAULT \",DW99),\"\")","v":""},{"$f":"IF(AND(LEN(DX99) <> 0, Settings!$B$16 =\"Y\"), CONCATENATE(\" DEFAULT \",DX99),\"\")","v":""},{"$f":"IF(AND(LEN(DY99) <> 0, Settings!$B$16 =\"Y\"), CONCATENATE(\" DEFAULT \",DY99),\"\")","v":""},{"$f":"IF(AND(LEN(DZ99) <> 0, Settings!$B$16 =\"Y\"), CONCATENATE(\" DEFAULT \",DZ99),\"\")","v":""},{"$f":"IF(AND(LEN(EA99) <> 0, Settings!$B$16 =\"Y\"), CONCATENATE(\" DEFAULT \",EA99),\"\")","v":""},{"$f":"IF(AND(LEN(EB99) <> 0, Settings!$B$16 =\"Y\"), CONCATENATE(\" DEFAULT \",EB99),\"\")","v":""},{"$f":"IF(AND(LEN(EC99) <> 0, Settings!$B$16 =\"Y\"), CONCATENATE(\" DEFAULT \",EC99),\"\")","v":""},{"$f":"IF(AND(LEN(ED99) <> 0, Settings!$B$16 =\"Y\"), CONCATENATE(\" DEFAULT \",ED99),\"\")","v":""},{"$f":"IF(AND(LEN(EE99) <> 0, Settings!$B$16 =\"Y\"), CONCATENATE(\" DEFAULT \",EE99),\"\")","v":""},{"$f":"IF(AND(LEN(EF99) <> 0, Settings!$B$16 =\"Y\"), CONCATENATE(\" DEFAULT \",EF99),\"\")","v":""},{"$f":"IF(AND(LEN(EG99) <> 0, Settings!$B$16 =\"Y\"), CONCATENATE(\" DEFAULT \",EG99),\"\")","v":""},{"$f":"IF(AND(LEN(EH99) <> 0, Settings!$B$16 =\"Y\"), CONCATENATE(\" DEFAULT \",EH99),\"\")","v":""},{"$f":"IF(AND(LEN(EI99) <> 0, Settings!$B$16 =\"Y\"), CONCATENATE(\" DEFAULT \",EI99),\"\")","v":""},{"$f":"IF(AND(LEN(EJ99) <> 0, Settings!$B$16 =\"Y\"), CONCATENATE(\" DEFAULT \",EJ99),\"\")","v":""},{"$f":"IF(AND(LEN(EK99) <> 0, Settings!$B$16 =\"Y\"), CONCATENATE(\" DEFAULT \",EK99),\"\")","v":""},{"$f":"IF(AND(LEN(EL99) <> 0, Settings!$B$16 =\"Y\"), CONCATENATE(\" DEFAULT \",EL99),\"\")","v":""},{"$f":"IF(AND(LEN(EM99) <> 0, Settings!$B$16 =\"Y\"), CONCATENATE(\" DEFAULT \",EM99),\"\")","v":""},{"$f":"IF(AND(LEN(EN99) <> 0, Settings!$B$16 =\"Y\"), CONCATENATE(\" DEFAULT \",EN99),\"\")","v":""},{"$f":"IF(AND(LEN(EO99) <> 0, Settings!$B$16 =\"Y\"), CONCATENATE(\" DEFAULT \",EO99),\"\")","v":""},{"$f":"IF(AND(LEN(EP99) <> 0, Settings!$B$16 =\"Y\"), CONCATENATE(\" DEFAULT \",EP99),\"\")","v":""},{"$f":"IF(AND(LEN(EQ99) <> 0, Settings!$B$16 =\"Y\"), CONCATENATE(\" DEFAULT \",EQ99),\"\")","v":""},{"$f":"IF(AND(LEN(ER99) <> 0, Settings!$B$16 =\"Y\"), CONCATENATE(\" DEFAULT \",ER99),\"\")","v":""},{"$f":"IF(AND(LEN(ES99) <> 0, Settings!$B$16 =\"Y\"), CONCATENATE(\" DEFAULT \",ES99),\"\")","v":""},{"$f":"IF(AND(LEN(ET99) <> 0, Settings!$B$16 =\"Y\"), CONCATENATE(\" DEFAULT \",ET99),\"\")","v":""},{"$f":"IF(AND(LEN(EU99) <> 0, Settings!$B$16 =\"Y\"), CONCATENATE(\" DEFAULT \",EU99),\"\")","v":""},{"$f":"IF(AND(LEN(EV99) <> 0, Settings!$B$16 =\"Y\"), CONCATENATE(\" DEFAULT \",EV99),\"\")","v":""},{"$f":"IF(AND(LEN(EW99) <> 0, Settings!$B$16 =\"Y\"), CONCATENATE(\" DEFAULT \",EW99),\"\")","v":""},{"$f":"IF(AND(LEN(EX99) <> 0, Settings!$B$16 =\"Y\"), CONCATENATE(\" DEFAULT \",EX99),\"\")","v":""},{"$f":"IF(AND(LEN(EY99) <> 0, Settings!$B$16 =\"Y\"), CONCATENATE(\" DEFAULT \",EY99),\"\")","v":""}]
[null,null,"Trailing Comma and <CR>",null,null,{"$f":"IF(LEN(F72) = 0, \"\", \",\" & CHAR(13))","v":",\r"},{"$f":"IF(LEN(G72) = 0, \"\", \",\" & CHAR(13))","v":",\r"},{"$f":"IF(LEN(H72) = 0, \"\", \",\" & CHAR(13))","v":",\r"},"","","","","","","","","","","","","","","","","","","","","","","","","","","","","","","","","","","","","","","","","","","","","","","","","","","","","","","","","","","","","","","",{"$f":"IF(LEN(BT72) = 0, \"\", \",\" & CHAR(13))","v":""},"","","","","","","","","","","","","","","","","","","","","","","","","","","","","","","","","","","","","","","","","","","","","","","","","","","","","","","","","","","","","","","",{"$f":"IF(LEN(EF72) = 0, \"\", \",\" & CHAR(13))","v":""},"","","","","","","","","","","","","","","","","","",""]
[]
[null,null,"Column DDL",null,null,{"$f":"CONCATENATE(F72, F96, F97, F100, F101)","v":"SUBJECT VARCHAR2(40),\r"},"OBJECT VARCHAR2(40),\r","EVENT_DATE DATE,\r","","","","","","","","","","","","","","","","","","","","","","","","","","","","","","","","","","","","","","","","","","","","","","","","","","","","","","","","","","","","","",{"$f":"CONCATENATE(BR72, BR96, BR97, BR100, BR101)","v":""},"","","","","","","","","","","","","","","","","","","","","","","","","","","","","","","","","","","","","","","","","","","","","","","","","","","","","","","","","","","","","","","",{"$f":"CONCATENATE(ED72, ED96, ED97, ED100, ED101)","v":""},"","","","","","","","","","","","","","","","","","","","",""]
[null,null,"Key Column DDL",null,null,{"$f":"IF(F63=\"Y\",F103,\"\")","v":""},"","","","","","","","","","","","","","","","","","","","","","","","","","","","","","","","","","","","","","","","","","","","","","","","","","","","","","","","","","","","","","","",{"$f":"IF(BR63=\"Y\",BR103,\"\")","v":""},"","","","","","","","","","","","","","","","","","","","","","","","","","","","","","","","","","","","","","","","","","","","","","","","","","","","","","","","","","","","","","","",{"$f":"IF(ED63=\"Y\",ED103,\"\")","v":""},"","","","","","","","","","","","","","","","","","","","",""]
[null,null,"Non Key Column DDL",null,null,{"$f":"IF(F63=\"Y\",\"\",F103)","v":"SUBJECT VARCHAR2(40),\r"},"OBJECT VARCHAR2(40),\r","EVENT_DATE DATE,\r","","","","","","","","","","","","","","","","","","","","","","","","","","","","","","","","","","","","","","","","","","","","","","","","","","","","","","","","","","","","","",{"$f":"IF(BR63=\"Y\",\"\",BR103)","v":""},"","","","","","","","","","","","","","","","","","","","","","","","","","","","","","","","","","","","","","","","","","","","","","","","","","","","","","","","","","","","","","","",{"$f":"IF(ED63=\"Y\",\"\",ED103)","v":""},"","","","","","","","","","","","","","","","","","","","",""]
[null,null,"Key Column DDL List ",null,null,{"$f":"F104","v":""},{"$f":"CONCATENATE(INDIRECT(ADDRESS(ROW(),COLUMN()-1)),G104)","v":""},{"$f":"CONCATENATE(INDIRECT(ADDRESS(ROW(),COLUMN()-1)),H104)","v":""},"","","","","","","","","","","","","","","","","","","","","","","","","","","","","","","","","","","","","","","","","","","","","","","","","","","","","","","","","","","","","","","",{"$f":"CONCATENATE(INDIRECT(ADDRESS(ROW(),COLUMN()-1)),BT104)","v":""},"","","","","","","","","","","","","","","","","","","","","","","","","","","","","","","","","","","","","","","","","","","","","","","","","","","","","","","","","","","","","","","",{"$f":"CONCATENATE(INDIRECT(ADDRESS(ROW(),COLUMN()-1)),EF104)","v":""},"","","","","","","","","","","","","","","","","","",""]
[null,null,"Non-Key Column DDL List ",null,null,{"$f":"F105","v":"SUBJECT VARCHAR2(40),\r"},{"$f":"CONCATENATE(INDIRECT(ADDRESS(ROW(),COLUMN()-1)),G105)","v":"SUBJECT VARCHAR2(40),\rOBJECT VARCHAR2(40),\r"},"SUBJECT VARCHAR2(40),\rOBJECT VARCHAR2(40),\rEVENT_DATE DATE,\r","SUBJECT VARCHAR2(40),\rOBJECT VARCHAR2(40),\rEVENT_DATE DATE,\r","SUBJECT VARCHAR2(40),\rOBJECT VARCHAR2(40),\rEVENT_DATE DATE,\r","SUBJECT VARCHAR2(40),\rOBJECT VARCHAR2(40),\rEVENT_DATE DATE,\r","SUBJECT VARCHAR2(40),\rOBJECT VARCHAR2(40),\rEVENT_DATE DATE,\r","SUBJECT VARCHAR2(40),\rOBJECT VARCHAR2(40),\rEVENT_DATE DATE,\r","SUBJECT VARCHAR2(40),\rOBJECT VARCHAR2(40),\rEVENT_DATE DATE,\r","SUBJECT VARCHAR2(40),\rOBJECT VARCHAR2(40),\rEVENT_DATE DATE,\r","SUBJECT VARCHAR2(40),\rOBJECT VARCHAR2(40),\rEVENT_DATE DATE,\r","SUBJECT VARCHAR2(40),\rOBJECT VARCHAR2(40),\rEVENT_DATE DATE,\r","SUBJECT VARCHAR2(40),\rOBJECT VARCHAR2(40),\rEVENT_DATE DATE,\r","SUBJECT VARCHAR2(40),\rOBJECT VARCHAR2(40),\rEVENT_DATE DATE,\r","SUBJECT VARCHAR2(40),\rOBJECT VARCHAR2(40),\rEVENT_DATE DATE,\r","SUBJECT VARCHAR2(40),\rOBJECT VARCHAR2(40),\rEVENT_DATE DATE,\r","SUBJECT VARCHAR2(40),\rOBJECT VARCHAR2(40),\rEVENT_DATE DATE,\r","SUBJECT VARCHAR2(40),\rOBJECT VARCHAR2(40),\rEVENT_DATE DATE,\r","SUBJECT VARCHAR2(40),\rOBJECT VARCHAR2(40),\rEVENT_DATE DATE,\r","SUBJECT VARCHAR2(40),\rOBJECT VARCHAR2(40),\rEVENT_DATE DATE,\r","SUBJECT VARCHAR2(40),\rOBJECT VARCHAR2(40),\rEVENT_DATE DATE,\r","SUBJECT VARCHAR2(40),\rOBJECT VARCHAR2(40),\rEVENT_DATE DATE,\r","SUBJECT VARCHAR2(40),\rOBJECT VARCHAR2(40),\rEVENT_DATE DATE,\r","SUBJECT VARCHAR2(40),\rOBJECT VARCHAR2(40),\rEVENT_DATE DATE,\r","SUBJECT VARCHAR2(40),\rOBJECT VARCHAR2(40),\rEVENT_DATE DATE,\r","SUBJECT VARCHAR2(40),\rOBJECT VARCHAR2(40),\rEVENT_DATE DATE,\r","SUBJECT VARCHAR2(40),\rOBJECT VARCHAR2(40),\rEVENT_DATE DATE,\r","SUBJECT VARCHAR2(40),\rOBJECT VARCHAR2(40),\rEVENT_DATE DATE,\r","SUBJECT VARCHAR2(40),\rOBJECT VARCHAR2(40),\rEVENT_DATE DATE,\r","SUBJECT VARCHAR2(40),\rOBJECT VARCHAR2(40),\rEVENT_DATE DATE,\r","SUBJECT VARCHAR2(40),\rOBJECT VARCHAR2(40),\rEVENT_DATE DATE,\r","SUBJECT VARCHAR2(40),\rOBJECT VARCHAR2(40),\rEVENT_DATE DATE,\r","SUBJECT VARCHAR2(40),\rOBJECT VARCHAR2(40),\rEVENT_DATE DATE,\r","SUBJECT VARCHAR2(40),\rOBJECT VARCHAR2(40),\rEVENT_DATE DATE,\r","SUBJECT VARCHAR2(40),\rOBJECT VARCHAR2(40),\rEVENT_DATE DATE,\r","SUBJECT VARCHAR2(40),\rOBJECT VARCHAR2(40),\rEVENT_DATE DATE,\r","SUBJECT VARCHAR2(40),\rOBJECT VARCHAR2(40),\rEVENT_DATE DATE,\r","SUBJECT VARCHAR2(40),\rOBJECT VARCHAR2(40),\rEVENT_DATE DATE,\r","SUBJECT VARCHAR2(40),\rOBJECT VARCHAR2(40),\rEVENT_DATE DATE,\r","SUBJECT VARCHAR2(40),\rOBJECT VARCHAR2(40),\rEVENT_DATE DATE,\r","SUBJECT VARCHAR2(40),\rOBJECT VARCHAR2(40),\rEVENT_DATE DATE,\r","SUBJECT VARCHAR2(40),\rOBJECT VARCHAR2(40),\rEVENT_DATE DATE,\r","SUBJECT VARCHAR2(40),\rOBJECT VARCHAR2(40),\rEVENT_DATE DATE,\r","SUBJECT VARCHAR2(40),\rOBJECT VARCHAR2(40),\rEVENT_DATE DATE,\r","SUBJECT VARCHAR2(40),\rOBJECT VARCHAR2(40),\rEVENT_DATE DATE,\r","SUBJECT VARCHAR2(40),\rOBJECT VARCHAR2(40),\rEVENT_DATE DATE,\r","SUBJECT VARCHAR2(40),\rOBJECT VARCHAR2(40),\rEVENT_DATE DATE,\r","SUBJECT VARCHAR2(40),\rOBJECT VARCHAR2(40),\rEVENT_DATE DATE,\r","SUBJECT VARCHAR2(40),\rOBJECT VARCHAR2(40),\rEVENT_DATE DATE,\r","SUBJECT VARCHAR2(40),\rOBJECT VARCHAR2(40),\rEVENT_DATE DATE,\r","SUBJECT VARCHAR2(40),\rOBJECT VARCHAR2(40),\rEVENT_DATE DATE,\r","SUBJECT VARCHAR2(40),\rOBJECT VARCHAR2(40),\rEVENT_DATE DATE,\r","SUBJECT VARCHAR2(40),\rOBJECT VARCHAR2(40),\rEVENT_DATE DATE,\r","SUBJECT VARCHAR2(40),\rOBJECT VARCHAR2(40),\rEVENT_DATE DATE,\r","SUBJECT VARCHAR2(40),\rOBJECT VARCHAR2(40),\rEVENT_DATE DATE,\r","SUBJECT VARCHAR2(40),\rOBJECT VARCHAR2(40),\rEVENT_DATE DATE,\r","SUBJECT VARCHAR2(40),\rOBJECT VARCHAR2(40),\rEVENT_DATE DATE,\r","SUBJECT VARCHAR2(40),\rOBJECT VARCHAR2(40),\rEVENT_DATE DATE,\r","SUBJECT VARCHAR2(40),\rOBJECT VARCHAR2(40),\rEVENT_DATE DATE,\r","SUBJECT VARCHAR2(40),\rOBJECT VARCHAR2(40),\rEVENT_DATE DATE,\r","SUBJECT VARCHAR2(40),\rOBJECT VARCHAR2(40),\rEVENT_DATE DATE,\r","SUBJECT VARCHAR2(40),\rOBJECT VARCHAR2(40),\rEVENT_DATE DATE,\r","SUBJECT VARCHAR2(40),\rOBJECT VARCHAR2(40),\rEVENT_DATE DATE,\r","SUBJECT VARCHAR2(40),\rOBJECT VARCHAR2(40),\rEVENT_DATE DATE,\r","SUBJECT VARCHAR2(40),\rOBJECT VARCHAR2(40),\rEVENT_DATE DATE,\r","SUBJECT VARCHAR2(40),\rOBJECT VARCHAR2(40),\rEVENT_DATE DATE,\r","SUBJECT VARCHAR2(40),\rOBJECT VARCHAR2(40),\rEVENT_DATE DATE,\r","SUBJECT VARCHAR2(40),\rOBJECT VARCHAR2(40),\rEVENT_DATE DATE,\r","SUBJECT VARCHAR2(40),\rOBJECT VARCHAR2(40),\rEVENT_DATE DATE,\r","SUBJECT VARCHAR2(40),\rOBJECT VARCHAR2(40),\rEVENT_DATE DATE,\r","SUBJECT VARCHAR2(40),\rOBJECT VARCHAR2(40),\rEVENT_DATE DATE,\r","SUBJECT VARCHAR2(40),\rOBJECT VARCHAR2(40),\rEVENT_DATE DATE,\r","SUBJECT VARCHAR2(40),\rOBJECT VARCHAR2(40),\rEVENT_DATE DATE,\r","SUBJECT VARCHAR2(40),\rOBJECT VARCHAR2(40),\rEVENT_DATE DATE,\r","SUBJECT VARCHAR2(40),\rOBJECT VARCHAR2(40),\rEVENT_DATE DATE,\r","SUBJECT VARCHAR2(40),\rOBJECT VARCHAR2(40),\rEVENT_DATE DATE,\r","SUBJECT VARCHAR2(40),\rOBJECT VARCHAR2(40),\rEVENT_DATE DATE,\r","SUBJECT VARCHAR2(40),\rOBJECT VARCHAR2(40),\rEVENT_DATE DATE,\r","SUBJECT VARCHAR2(40),\rOBJECT VARCHAR2(40),\rEVENT_DATE DATE,\r","SUBJECT VARCHAR2(40),\rOBJECT VARCHAR2(40),\rEVENT_DATE DATE,\r","SUBJECT VARCHAR2(40),\rOBJECT VARCHAR2(40),\rEVENT_DATE DATE,\r","SUBJECT VARCHAR2(40),\rOBJECT VARCHAR2(40),\rEVENT_DATE DATE,\r","SUBJECT VARCHAR2(40),\rOBJECT VARCHAR2(40),\rEVENT_DATE DATE,\r","SUBJECT VARCHAR2(40),\rOBJECT VARCHAR2(40),\rEVENT_DATE DATE,\r","SUBJECT VARCHAR2(40),\rOBJECT VARCHAR2(40),\rEVENT_DATE DATE,\r","SUBJECT VARCHAR2(40),\rOBJECT VARCHAR2(40),\rEVENT_DATE DATE,\r","SUBJECT VARCHAR2(40),\rOBJECT VARCHAR2(40),\rEVENT_DATE DATE,\r","SUBJECT VARCHAR2(40),\rOBJECT VARCHAR2(40),\rEVENT_DATE DATE,\r","SUBJECT VARCHAR2(40),\rOBJECT VARCHAR2(40),\rEVENT_DATE DATE,\r","SUBJECT VARCHAR2(40),\rOBJECT VARCHAR2(40),\rEVENT_DATE DATE,\r","SUBJECT VARCHAR2(40),\rOBJECT VARCHAR2(40),\rEVENT_DATE DATE,\r","SUBJECT VARCHAR2(40),\rOBJECT VARCHAR2(40),\rEVENT_DATE DATE,\r","SUBJECT VARCHAR2(40),\rOBJECT VARCHAR2(40),\rEVENT_DATE DATE,\r","SUBJECT VARCHAR2(40),\rOBJECT VARCHAR2(40),\rEVENT_DATE DATE,\r","SUBJECT VARCHAR2(40),\rOBJECT VARCHAR2(40),\rEVENT_DATE DATE,\r","SUBJECT VARCHAR2(40),\rOBJECT VARCHAR2(40),\rEVENT_DATE DATE,\r","SUBJECT VARCHAR2(40),\rOBJECT VARCHAR2(40),\rEVENT_DATE DATE,\r","SUBJECT VARCHAR2(40),\rOBJECT VARCHAR2(40),\rEVENT_DATE DATE,\r","SUBJECT VARCHAR2(40),\rOBJECT VARCHAR2(40),\rEVENT_DATE DATE,\r","SUBJECT VARCHAR2(40),\rOBJECT VARCHAR2(40),\rEVENT_DATE DATE,\r","SUBJECT VARCHAR2(40),\rOBJECT VARCHAR2(40),\rEVENT_DATE DATE,\r","SUBJECT VARCHAR2(40),\rOBJECT VARCHAR2(40),\rEVENT_DATE DATE,\r","SUBJECT VARCHAR2(40),\rOBJECT VARCHAR2(40),\rEVENT_DATE DATE,\r","SUBJECT VARCHAR2(40),\rOBJECT VARCHAR2(40),\rEVENT_DATE DATE,\r","SUBJECT VARCHAR2(40),\rOBJECT VARCHAR2(40),\rEVENT_DATE DATE,\r","SUBJECT VARCHAR2(40),\rOBJECT VARCHAR2(40),\rEVENT_DATE DATE,\r","SUBJECT VARCHAR2(40),\rOBJECT VARCHAR2(40),\rEVENT_DATE DATE,\r","SUBJECT VARCHAR2(40),\rOBJECT VARCHAR2(40),\rEVENT_DATE DATE,\r","SUBJECT VARCHAR2(40),\rOBJECT VARCHAR2(40),\rEVENT_DATE DATE,\r","SUBJECT VARCHAR2(40),\rOBJECT VARCHAR2(40),\rEVENT_DATE DATE,\r","SUBJECT VARCHAR2(40),\rOBJECT VARCHAR2(40),\rEVENT_DATE DATE,\r","SUBJECT VARCHAR2(40),\rOBJECT VARCHAR2(40),\rEVENT_DATE DATE,\r","SUBJECT VARCHAR2(40),\rOBJECT VARCHAR2(40),\rEVENT_DATE DATE,\r","SUBJECT VARCHAR2(40),\rOBJECT VARCHAR2(40),\rEVENT_DATE DATE,\r","SUBJECT VARCHAR2(40),\rOBJECT VARCHAR2(40),\rEVENT_DATE DATE,\r","SUBJECT VARCHAR2(40),\rOBJECT VARCHAR2(40),\rEVENT_DATE DATE,\r","SUBJECT VARCHAR2(40),\rOBJECT VARCHAR2(40),\rEVENT_DATE DATE,\r","SUBJECT VARCHAR2(40),\rOBJECT VARCHAR2(40),\rEVENT_DATE DATE,\r","SUBJECT VARCHAR2(40),\rOBJECT VARCHAR2(40),\rEVENT_DATE DATE,\r","SUBJECT VARCHAR2(40),\rOBJECT VARCHAR2(40),\rEVENT_DATE DATE,\r","SUBJECT VARCHAR2(40),\rOBJECT VARCHAR2(40),\rEVENT_DATE DATE,\r","SUBJECT VARCHAR2(40),\rOBJECT VARCHAR2(40),\rEVENT_DATE DATE,\r","SUBJECT VARCHAR2(40),\rOBJECT VARCHAR2(40),\rEVENT_DATE DATE,\r","SUBJECT VARCHAR2(40),\rOBJECT VARCHAR2(40),\rEVENT_DATE DATE,\r","SUBJECT VARCHAR2(40),\rOBJECT VARCHAR2(40),\rEVENT_DATE DATE,\r","SUBJECT VARCHAR2(40),\rOBJECT VARCHAR2(40),\rEVENT_DATE DATE,\r","SUBJECT VARCHAR2(40),\rOBJECT VARCHAR2(40),\rEVENT_DATE DATE,\r","SUBJECT VARCHAR2(40),\rOBJECT VARCHAR2(40),\rEVENT_DATE DATE,\r","SUBJECT VARCHAR2(40),\rOBJECT VARCHAR2(40),\rEVENT_DATE DATE,\r","SUBJECT VARCHAR2(40),\rOBJECT VARCHAR2(40),\rEVENT_DATE DATE,\r","SUBJECT VARCHAR2(40),\rOBJECT VARCHAR2(40),\rEVENT_DATE DATE,\r","SUBJECT VARCHAR2(40),\rOBJECT VARCHAR2(40),\rEVENT_DATE DATE,\r","SUBJECT VARCHAR2(40),\rOBJECT VARCHAR2(40),\rEVENT_DATE DATE,\r","SUBJECT VARCHAR2(40),\rOBJECT VARCHAR2(40),\rEVENT_DATE DATE,\r","SUBJECT VARCHAR2(40),\rOBJECT VARCHAR2(40),\rEVENT_DATE DATE,\r","SUBJECT VARCHAR2(40),\rOBJECT VARCHAR2(40),\rEVENT_DATE DATE,\r","SUBJECT VARCHAR2(40),\rOBJECT VARCHAR2(40),\rEVENT_DATE DATE,\r","SUBJECT VARCHAR2(40),\rOBJECT VARCHAR2(40),\rEVENT_DATE DATE,\r","SUBJECT VARCHAR2(40),\rOBJECT VARCHAR2(40),\rEVENT_DATE DATE,\r","SUBJECT VARCHAR2(40),\rOBJECT VARCHAR2(40),\rEVENT_DATE DATE,\r","SUBJECT VARCHAR2(40),\rOBJECT VARCHAR2(40),\rEVENT_DATE DATE,\r","SUBJECT VARCHAR2(40),\rOBJECT VARCHAR2(40),\rEVENT_DATE DATE,\r","SUBJECT VARCHAR2(40),\rOBJECT VARCHAR2(40),\rEVENT_DATE DATE,\r","SUBJECT VARCHAR2(40),\rOBJECT VARCHAR2(40),\rEVENT_DATE DATE,\r","SUBJECT VARCHAR2(40),\rOBJECT VARCHAR2(40),\rEVENT_DATE DATE,\r","SUBJECT VARCHAR2(40),\rOBJECT VARCHAR2(40),\rEVENT_DATE DATE,\r","SUBJECT VARCHAR2(40),\rOBJECT VARCHAR2(40),\rEVENT_DATE DATE,\r","SUBJECT VARCHAR2(40),\rOBJECT VARCHAR2(40),\rEVENT_DATE DATE,\r","SUBJECT VARCHAR2(40),\rOBJECT VARCHAR2(40),\rEVENT_DATE DATE,\r","SUBJECT VARCHAR2(40),\rOBJECT VARCHAR2(40),\rEVENT_DATE DATE,\r"]
[]
[null,null,"Column Comments",null,null,{"$f":"IF(LEN(F83)=0,\"\",SUBSTITUTE(SUBSTITUTE(SUBSTITUTE(Settings!$B$39,\"&Table\",$F$45),\"&Column\",F72),\"&BEAMColumnCodes\",F83))","v":""},{"$f":"IF(LEN(G83)=0,\"\",SUBSTITUTE(SUBSTITUTE(SUBSTITUTE(Settings!$B$39,\"&Table\",$F$45),\"&Column\",G72),\"&BEAMColumnCodes\",G83))","v":""},{"$f":"IF(LEN(H83)=0,\"\",SUBSTITUTE(SUBSTITUTE(SUBSTITUTE(Settings!$B$39,\"&Table\",$F$45),\"&Column\",H72),\"&BEAMColumnCodes\",H83))","v":"Comment on Column EVENT_NAME.EVENT_DATE is '[when]';\r"},{"$f":"IF(LEN(I83)=0,\"\",SUBSTITUTE(SUBSTITUTE(SUBSTITUTE(Settings!$B$39,\"&Table\",$F$45),\"&Column\",I72),\"&BEAMColumnCodes\",I83))","v":""},{"$f":"IF(LEN(J83)=0,\"\",SUBSTITUTE(SUBSTITUTE(SUBSTITUTE(Settings!$B$39,\"&Table\",$F$45),\"&Column\",J72),\"&BEAMColumnCodes\",J83))","v":""},{"$f":"IF(LEN(K83)=0,\"\",SUBSTITUTE(SUBSTITUTE(SUBSTITUTE(Settings!$B$39,\"&Table\",$F$45),\"&Column\",K72),\"&BEAMColumnCodes\",K83))","v":""},{"$f":"IF(LEN(L83)=0,\"\",SUBSTITUTE(SUBSTITUTE(SUBSTITUTE(Settings!$B$39,\"&Table\",$F$45),\"&Column\",L72),\"&BEAMColumnCodes\",L83))","v":""},{"$f":"IF(LEN(M83)=0,\"\",SUBSTITUTE(SUBSTITUTE(SUBSTITUTE(Settings!$B$39,\"&Table\",$F$45),\"&Column\",M72),\"&BEAMColumnCodes\",M83))","v":""},{"$f":"IF(LEN(N83)=0,\"\",SUBSTITUTE(SUBSTITUTE(SUBSTITUTE(Settings!$B$39,\"&Table\",$F$45),\"&Column\",N72),\"&BEAMColumnCodes\",N83))","v":""},{"$f":"IF(LEN(O83)=0,\"\",SUBSTITUTE(SUBSTITUTE(SUBSTITUTE(Settings!$B$39,\"&Table\",$F$45),\"&Column\",O72),\"&BEAMColumnCodes\",O83))","v":""},{"$f":"IF(LEN(P83)=0,\"\",SUBSTITUTE(SUBSTITUTE(SUBSTITUTE(Settings!$B$39,\"&Table\",$F$45),\"&Column\",P72),\"&BEAMColumnCodes\",P83))","v":""},{"$f":"IF(LEN(Q83)=0,\"\",SUBSTITUTE(SUBSTITUTE(SUBSTITUTE(Settings!$B$39,\"&Table\",$F$45),\"&Column\",Q72),\"&BEAMColumnCodes\",Q83))","v":""},{"$f":"IF(LEN(R83)=0,\"\",SUBSTITUTE(SUBSTITUTE(SUBSTITUTE(Settings!$B$39,\"&Table\",$F$45),\"&Column\",R72),\"&BEAMColumnCodes\",R83))","v":""},{"$f":"IF(LEN(S83)=0,\"\",SUBSTITUTE(SUBSTITUTE(SUBSTITUTE(Settings!$B$39,\"&Table\",$F$45),\"&Column\",S72),\"&BEAMColumnCodes\",S83))","v":""},{"$f":"IF(LEN(T83)=0,\"\",SUBSTITUTE(SUBSTITUTE(SUBSTITUTE(Settings!$B$39,\"&Table\",$F$45),\"&Column\",T72),\"&BEAMColumnCodes\",T83))","v":""},{"$f":"IF(LEN(U83)=0,\"\",SUBSTITUTE(SUBSTITUTE(SUBSTITUTE(Settings!$B$39,\"&Table\",$F$45),\"&Column\",U72),\"&BEAMColumnCodes\",U83))","v":""},{"$f":"IF(LEN(V83)=0,\"\",SUBSTITUTE(SUBSTITUTE(SUBSTITUTE(Settings!$B$39,\"&Table\",$F$45),\"&Column\",V72),\"&BEAMColumnCodes\",V83))","v":""},{"$f":"IF(LEN(W83)=0,\"\",SUBSTITUTE(SUBSTITUTE(SUBSTITUTE(Settings!$B$39,\"&Table\",$F$45),\"&Column\",W72),\"&BEAMColumnCodes\",W83))","v":""},{"$f":"IF(LEN(X83)=0,\"\",SUBSTITUTE(SUBSTITUTE(SUBSTITUTE(Settings!$B$39,\"&Table\",$F$45),\"&Column\",X72),\"&BEAMColumnCodes\",X83))","v":""},{"$f":"IF(LEN(Y83)=0,\"\",SUBSTITUTE(SUBSTITUTE(SUBSTITUTE(Settings!$B$39,\"&Table\",$F$45),\"&Column\",Y72),\"&BEAMColumnCodes\",Y83))","v":""},{"$f":"IF(LEN(Z83)=0,\"\",SUBSTITUTE(SUBSTITUTE(SUBSTITUTE(Settings!$B$39,\"&Table\",$F$45),\"&Column\",Z72),\"&BEAMColumnCodes\",Z83))","v":""},{"$f":"IF(LEN(AA83)=0,\"\",SUBSTITUTE(SUBSTITUTE(SUBSTITUTE(Settings!$B$39,\"&Table\",$F$45),\"&Column\",AA72),\"&BEAMColumnCodes\",AA83))","v":""},{"$f":"IF(LEN(AB83)=0,\"\",SUBSTITUTE(SUBSTITUTE(SUBSTITUTE(Settings!$B$39,\"&Table\",$F$45),\"&Column\",AB72),\"&BEAMColumnCodes\",AB83))","v":""},{"$f":"IF(LEN(AC83)=0,\"\",SUBSTITUTE(SUBSTITUTE(SUBSTITUTE(Settings!$B$39,\"&Table\",$F$45),\"&Column\",AC72),\"&BEAMColumnCodes\",AC83))","v":""},{"$f":"IF(LEN(AD83)=0,\"\",SUBSTITUTE(SUBSTITUTE(SUBSTITUTE(Settings!$B$39,\"&Table\",$F$45),\"&Column\",AD72),\"&BEAMColumnCodes\",AD83))","v":""},{"$f":"IF(LEN(AE83)=0,\"\",SUBSTITUTE(SUBSTITUTE(SUBSTITUTE(Settings!$B$39,\"&Table\",$F$45),\"&Column\",AE72),\"&BEAMColumnCodes\",AE83))","v":""},{"$f":"IF(LEN(AF83)=0,\"\",SUBSTITUTE(SUBSTITUTE(SUBSTITUTE(Settings!$B$39,\"&Table\",$F$45),\"&Column\",AF72),\"&BEAMColumnCodes\",AF83))","v":""},{"$f":"IF(LEN(AG83)=0,\"\",SUBSTITUTE(SUBSTITUTE(SUBSTITUTE(Settings!$B$39,\"&Table\",$F$45),\"&Column\",AG72),\"&BEAMColumnCodes\",AG83))","v":""},{"$f":"IF(LEN(AH83)=0,\"\",SUBSTITUTE(SUBSTITUTE(SUBSTITUTE(Settings!$B$39,\"&Table\",$F$45),\"&Column\",AH72),\"&BEAMColumnCodes\",AH83))","v":""},{"$f":"IF(LEN(AI83)=0,\"\",SUBSTITUTE(SUBSTITUTE(SUBSTITUTE(Settings!$B$39,\"&Table\",$F$45),\"&Column\",AI72),\"&BEAMColumnCodes\",AI83))","v":""},{"$f":"IF(LEN(AJ83)=0,\"\",SUBSTITUTE(SUBSTITUTE(SUBSTITUTE(Settings!$B$39,\"&Table\",$F$45),\"&Column\",AJ72),\"&BEAMColumnCodes\",AJ83))","v":""},{"$f":"IF(LEN(AK83)=0,\"\",SUBSTITUTE(SUBSTITUTE(SUBSTITUTE(Settings!$B$39,\"&Table\",$F$45),\"&Column\",AK72),\"&BEAMColumnCodes\",AK83))","v":""},{"$f":"IF(LEN(AL83)=0,\"\",SUBSTITUTE(SUBSTITUTE(SUBSTITUTE(Settings!$B$39,\"&Table\",$F$45),\"&Column\",AL72),\"&BEAMColumnCodes\",AL83))","v":""},{"$f":"IF(LEN(AM83)=0,\"\",SUBSTITUTE(SUBSTITUTE(SUBSTITUTE(Settings!$B$39,\"&Table\",$F$45),\"&Column\",AM72),\"&BEAMColumnCodes\",AM83))","v":""},{"$f":"IF(LEN(AN83)=0,\"\",SUBSTITUTE(SUBSTITUTE(SUBSTITUTE(Settings!$B$39,\"&Table\",$F$45),\"&Column\",AN72),\"&BEAMColumnCodes\",AN83))","v":""},{"$f":"IF(LEN(AO83)=0,\"\",SUBSTITUTE(SUBSTITUTE(SUBSTITUTE(Settings!$B$39,\"&Table\",$F$45),\"&Column\",AO72),\"&BEAMColumnCodes\",AO83))","v":""},{"$f":"IF(LEN(AP83)=0,\"\",SUBSTITUTE(SUBSTITUTE(SUBSTITUTE(Settings!$B$39,\"&Table\",$F$45),\"&Column\",AP72),\"&BEAMColumnCodes\",AP83))","v":""},{"$f":"IF(LEN(AQ83)=0,\"\",SUBSTITUTE(SUBSTITUTE(SUBSTITUTE(Settings!$B$39,\"&Table\",$F$45),\"&Column\",AQ72),\"&BEAMColumnCodes\",AQ83))","v":""},{"$f":"IF(LEN(AR83)=0,\"\",SUBSTITUTE(SUBSTITUTE(SUBSTITUTE(Settings!$B$39,\"&Table\",$F$45),\"&Column\",AR72),\"&BEAMColumnCodes\",AR83))","v":""},{"$f":"IF(LEN(AS83)=0,\"\",SUBSTITUTE(SUBSTITUTE(SUBSTITUTE(Settings!$B$39,\"&Table\",$F$45),\"&Column\",AS72),\"&BEAMColumnCodes\",AS83))","v":""},{"$f":"IF(LEN(AT83)=0,\"\",SUBSTITUTE(SUBSTITUTE(SUBSTITUTE(Settings!$B$39,\"&Table\",$F$45),\"&Column\",AT72),\"&BEAMColumnCodes\",AT83))","v":""},{"$f":"IF(LEN(AU83)=0,\"\",SUBSTITUTE(SUBSTITUTE(SUBSTITUTE(Settings!$B$39,\"&Table\",$F$45),\"&Column\",AU72),\"&BEAMColumnCodes\",AU83))","v":""},{"$f":"IF(LEN(AV83)=0,\"\",SUBSTITUTE(SUBSTITUTE(SUBSTITUTE(Settings!$B$39,\"&Table\",$F$45),\"&Column\",AV72),\"&BEAMColumnCodes\",AV83))","v":""},{"$f":"IF(LEN(AW83)=0,\"\",SUBSTITUTE(SUBSTITUTE(SUBSTITUTE(Settings!$B$39,\"&Table\",$F$45),\"&Column\",AW72),\"&BEAMColumnCodes\",AW83))","v":""},{"$f":"IF(LEN(AX83)=0,\"\",SUBSTITUTE(SUBSTITUTE(SUBSTITUTE(Settings!$B$39,\"&Table\",$F$45),\"&Column\",AX72),\"&BEAMColumnCodes\",AX83))","v":""},{"$f":"IF(LEN(AY83)=0,\"\",SUBSTITUTE(SUBSTITUTE(SUBSTITUTE(Settings!$B$39,\"&Table\",$F$45),\"&Column\",AY72),\"&BEAMColumnCodes\",AY83))","v":""},{"$f":"IF(LEN(AZ83)=0,\"\",SUBSTITUTE(SUBSTITUTE(SUBSTITUTE(Settings!$B$39,\"&Table\",$F$45),\"&Column\",AZ72),\"&BEAMColumnCodes\",AZ83))","v":""},{"$f":"IF(LEN(BA83)=0,\"\",SUBSTITUTE(SUBSTITUTE(SUBSTITUTE(Settings!$B$39,\"&Table\",$F$45),\"&Column\",BA72),\"&BEAMColumnCodes\",BA83))","v":""},{"$f":"IF(LEN(BB83)=0,\"\",SUBSTITUTE(SUBSTITUTE(SUBSTITUTE(Settings!$B$39,\"&Table\",$F$45),\"&Column\",BB72),\"&BEAMColumnCodes\",BB83))","v":""},{"$f":"IF(LEN(BC83)=0,\"\",SUBSTITUTE(SUBSTITUTE(SUBSTITUTE(Settings!$B$39,\"&Table\",$F$45),\"&Column\",BC72),\"&BEAMColumnCodes\",BC83))","v":""},{"$f":"IF(LEN(BD83)=0,\"\",SUBSTITUTE(SUBSTITUTE(SUBSTITUTE(Settings!$B$39,\"&Table\",$F$45),\"&Column\",BD72),\"&BEAMColumnCodes\",BD83))","v":""},{"$f":"IF(LEN(BE83)=0,\"\",SUBSTITUTE(SUBSTITUTE(SUBSTITUTE(Settings!$B$39,\"&Table\",$F$45),\"&Column\",BE72),\"&BEAMColumnCodes\",BE83))","v":""},{"$f":"IF(LEN(BF83)=0,\"\",SUBSTITUTE(SUBSTITUTE(SUBSTITUTE(Settings!$B$39,\"&Table\",$F$45),\"&Column\",BF72),\"&BEAMColumnCodes\",BF83))","v":""},{"$f":"IF(LEN(BG83)=0,\"\",SUBSTITUTE(SUBSTITUTE(SUBSTITUTE(Settings!$B$39,\"&Table\",$F$45),\"&Column\",BG72),\"&BEAMColumnCodes\",BG83))","v":""},{"$f":"IF(LEN(BH83)=0,\"\",SUBSTITUTE(SUBSTITUTE(SUBSTITUTE(Settings!$B$39,\"&Table\",$F$45),\"&Column\",BH72),\"&BEAMColumnCodes\",BH83))","v":""},{"$f":"IF(LEN(BI83)=0,\"\",SUBSTITUTE(SUBSTITUTE(SUBSTITUTE(Settings!$B$39,\"&Table\",$F$45),\"&Column\",BI72),\"&BEAMColumnCodes\",BI83))","v":""},{"$f":"IF(LEN(BJ83)=0,\"\",SUBSTITUTE(SUBSTITUTE(SUBSTITUTE(Settings!$B$39,\"&Table\",$F$45),\"&Column\",BJ72),\"&BEAMColumnCodes\",BJ83))","v":""},{"$f":"IF(LEN(BK83)=0,\"\",SUBSTITUTE(SUBSTITUTE(SUBSTITUTE(Settings!$B$39,\"&Table\",$F$45),\"&Column\",BK72),\"&BEAMColumnCodes\",BK83))","v":""},{"$f":"IF(LEN(BL83)=0,\"\",SUBSTITUTE(SUBSTITUTE(SUBSTITUTE(Settings!$B$39,\"&Table\",$F$45),\"&Column\",BL72),\"&BEAMColumnCodes\",BL83))","v":""},{"$f":"IF(LEN(BM83)=0,\"\",SUBSTITUTE(SUBSTITUTE(SUBSTITUTE(Settings!$B$39,\"&Table\",$F$45),\"&Column\",BM72),\"&BEAMColumnCodes\",BM83))","v":""},{"$f":"IF(LEN(BN83)=0,\"\",SUBSTITUTE(SUBSTITUTE(SUBSTITUTE(Settings!$B$39,\"&Table\",$F$45),\"&Column\",BN72),\"&BEAMColumnCodes\",BN83))","v":""},{"$f":"IF(LEN(BO83)=0,\"\",SUBSTITUTE(SUBSTITUTE(SUBSTITUTE(Settings!$B$39,\"&Table\",$F$45),\"&Column\",BO72),\"&BEAMColumnCodes\",BO83))","v":""},{"$f":"IF(LEN(BP83)=0,\"\",SUBSTITUTE(SUBSTITUTE(SUBSTITUTE(Settings!$B$39,\"&Table\",$F$45),\"&Column\",BP72),\"&BEAMColumnCodes\",BP83))","v":""},{"$f":"IF(LEN(BQ83)=0,\"\",SUBSTITUTE(SUBSTITUTE(SUBSTITUTE(Settings!$B$39,\"&Table\",$F$45),\"&Column\",BQ72),\"&BEAMColumnCodes\",BQ83))","v":""},{"$f":"IF(LEN(BR83)=0,\"\",SUBSTITUTE(SUBSTITUTE(SUBSTITUTE(Settings!$B$39,\"&Table\",$F$45),\"&Column\",BR72),\"&BEAMColumnCodes\",BR83))","v":""},{"$f":"IF(LEN(BS83)=0,\"\",SUBSTITUTE(SUBSTITUTE(SUBSTITUTE(Settings!$B$39,\"&Table\",$F$45),\"&Column\",BS72),\"&BEAMColumnCodes\",BS83))","v":""},{"$f":"IF(LEN(BT83)=0,\"\",SUBSTITUTE(SUBSTITUTE(SUBSTITUTE(Settings!$B$39,\"&Table\",$F$45),\"&Column\",BT72),\"&BEAMColumnCodes\",BT83))","v":""},{"$f":"IF(LEN(BU83)=0,\"\",SUBSTITUTE(SUBSTITUTE(SUBSTITUTE(Settings!$B$39,\"&Table\",$F$45),\"&Column\",BU72),\"&BEAMColumnCodes\",BU83))","v":""},{"$f":"IF(LEN(BV83)=0,\"\",SUBSTITUTE(SUBSTITUTE(SUBSTITUTE(Settings!$B$39,\"&Table\",$F$45),\"&Column\",BV72),\"&BEAMColumnCodes\",BV83))","v":""},{"$f":"IF(LEN(BW83)=0,\"\",SUBSTITUTE(SUBSTITUTE(SUBSTITUTE(Settings!$B$39,\"&Table\",$F$45),\"&Column\",BW72),\"&BEAMColumnCodes\",BW83))","v":""},{"$f":"IF(LEN(BX83)=0,\"\",SUBSTITUTE(SUBSTITUTE(SUBSTITUTE(Settings!$B$39,\"&Table\",$F$45),\"&Column\",BX72),\"&BEAMColumnCodes\",BX83))","v":""},{"$f":"IF(LEN(BY83)=0,\"\",SUBSTITUTE(SUBSTITUTE(SUBSTITUTE(Settings!$B$39,\"&Table\",$F$45),\"&Column\",BY72),\"&BEAMColumnCodes\",BY83))","v":""},{"$f":"IF(LEN(BZ83)=0,\"\",SUBSTITUTE(SUBSTITUTE(SUBSTITUTE(Settings!$B$39,\"&Table\",$F$45),\"&Column\",BZ72),\"&BEAMColumnCodes\",BZ83))","v":""},{"$f":"IF(LEN(CA83)=0,\"\",SUBSTITUTE(SUBSTITUTE(SUBSTITUTE(Settings!$B$39,\"&Table\",$F$45),\"&Column\",CA72),\"&BEAMColumnCodes\",CA83))","v":""},{"$f":"IF(LEN(CB83)=0,\"\",SUBSTITUTE(SUBSTITUTE(SUBSTITUTE(Settings!$B$39,\"&Table\",$F$45),\"&Column\",CB72),\"&BEAMColumnCodes\",CB83))","v":""},{"$f":"IF(LEN(CC83)=0,\"\",SUBSTITUTE(SUBSTITUTE(SUBSTITUTE(Settings!$B$39,\"&Table\",$F$45),\"&Column\",CC72),\"&BEAMColumnCodes\",CC83))","v":""},{"$f":"IF(LEN(CD83)=0,\"\",SUBSTITUTE(SUBSTITUTE(SUBSTITUTE(Settings!$B$39,\"&Table\",$F$45),\"&Column\",CD72),\"&BEAMColumnCodes\",CD83))","v":""},{"$f":"IF(LEN(CE83)=0,\"\",SUBSTITUTE(SUBSTITUTE(SUBSTITUTE(Settings!$B$39,\"&Table\",$F$45),\"&Column\",CE72),\"&BEAMColumnCodes\",CE83))","v":""},{"$f":"IF(LEN(CF83)=0,\"\",SUBSTITUTE(SUBSTITUTE(SUBSTITUTE(Settings!$B$39,\"&Table\",$F$45),\"&Column\",CF72),\"&BEAMColumnCodes\",CF83))","v":""},{"$f":"IF(LEN(CG83)=0,\"\",SUBSTITUTE(SUBSTITUTE(SUBSTITUTE(Settings!$B$39,\"&Table\",$F$45),\"&Column\",CG72),\"&BEAMColumnCodes\",CG83))","v":""},{"$f":"IF(LEN(CH83)=0,\"\",SUBSTITUTE(SUBSTITUTE(SUBSTITUTE(Settings!$B$39,\"&Table\",$F$45),\"&Column\",CH72),\"&BEAMColumnCodes\",CH83))","v":""},{"$f":"IF(LEN(CI83)=0,\"\",SUBSTITUTE(SUBSTITUTE(SUBSTITUTE(Settings!$B$39,\"&Table\",$F$45),\"&Column\",CI72),\"&BEAMColumnCodes\",CI83))","v":""},{"$f":"IF(LEN(CJ83)=0,\"\",SUBSTITUTE(SUBSTITUTE(SUBSTITUTE(Settings!$B$39,\"&Table\",$F$45),\"&Column\",CJ72),\"&BEAMColumnCodes\",CJ83))","v":""},{"$f":"IF(LEN(CK83)=0,\"\",SUBSTITUTE(SUBSTITUTE(SUBSTITUTE(Settings!$B$39,\"&Table\",$F$45),\"&Column\",CK72),\"&BEAMColumnCodes\",CK83))","v":""},{"$f":"IF(LEN(CL83)=0,\"\",SUBSTITUTE(SUBSTITUTE(SUBSTITUTE(Settings!$B$39,\"&Table\",$F$45),\"&Column\",CL72),\"&BEAMColumnCodes\",CL83))","v":""},{"$f":"IF(LEN(CM83)=0,\"\",SUBSTITUTE(SUBSTITUTE(SUBSTITUTE(Settings!$B$39,\"&Table\",$F$45),\"&Column\",CM72),\"&BEAMColumnCodes\",CM83))","v":""},{"$f":"IF(LEN(CN83)=0,\"\",SUBSTITUTE(SUBSTITUTE(SUBSTITUTE(Settings!$B$39,\"&Table\",$F$45),\"&Column\",CN72),\"&BEAMColumnCodes\",CN83))","v":""},{"$f":"IF(LEN(CO83)=0,\"\",SUBSTITUTE(SUBSTITUTE(SUBSTITUTE(Settings!$B$39,\"&Table\",$F$45),\"&Column\",CO72),\"&BEAMColumnCodes\",CO83))","v":""},{"$f":"IF(LEN(CP83)=0,\"\",SUBSTITUTE(SUBSTITUTE(SUBSTITUTE(Settings!$B$39,\"&Table\",$F$45),\"&Column\",CP72),\"&BEAMColumnCodes\",CP83))","v":""},{"$f":"IF(LEN(CQ83)=0,\"\",SUBSTITUTE(SUBSTITUTE(SUBSTITUTE(Settings!$B$39,\"&Table\",$F$45),\"&Column\",CQ72),\"&BEAMColumnCodes\",CQ83))","v":""},{"$f":"IF(LEN(CR83)=0,\"\",SUBSTITUTE(SUBSTITUTE(SUBSTITUTE(Settings!$B$39,\"&Table\",$F$45),\"&Column\",CR72),\"&BEAMColumnCodes\",CR83))","v":""},{"$f":"IF(LEN(CS83)=0,\"\",SUBSTITUTE(SUBSTITUTE(SUBSTITUTE(Settings!$B$39,\"&Table\",$F$45),\"&Column\",CS72),\"&BEAMColumnCodes\",CS83))","v":""},{"$f":"IF(LEN(CT83)=0,\"\",SUBSTITUTE(SUBSTITUTE(SUBSTITUTE(Settings!$B$39,\"&Table\",$F$45),\"&Column\",CT72),\"&BEAMColumnCodes\",CT83))","v":""},{"$f":"IF(LEN(CU83)=0,\"\",SUBSTITUTE(SUBSTITUTE(SUBSTITUTE(Settings!$B$39,\"&Table\",$F$45),\"&Column\",CU72),\"&BEAMColumnCodes\",CU83))","v":""},{"$f":"IF(LEN(CV83)=0,\"\",SUBSTITUTE(SUBSTITUTE(SUBSTITUTE(Settings!$B$39,\"&Table\",$F$45),\"&Column\",CV72),\"&BEAMColumnCodes\",CV83))","v":""},{"$f":"IF(LEN(CW83)=0,\"\",SUBSTITUTE(SUBSTITUTE(SUBSTITUTE(Settings!$B$39,\"&Table\",$F$45),\"&Column\",CW72),\"&BEAMColumnCodes\",CW83))","v":""},{"$f":"IF(LEN(CX83)=0,\"\",SUBSTITUTE(SUBSTITUTE(SUBSTITUTE(Settings!$B$39,\"&Table\",$F$45),\"&Column\",CX72),\"&BEAMColumnCodes\",CX83))","v":""},{"$f":"IF(LEN(CY83)=0,\"\",SUBSTITUTE(SUBSTITUTE(SUBSTITUTE(Settings!$B$39,\"&Table\",$F$45),\"&Column\",CY72),\"&BEAMColumnCodes\",CY83))","v":""},{"$f":"IF(LEN(CZ83)=0,\"\",SUBSTITUTE(SUBSTITUTE(SUBSTITUTE(Settings!$B$39,\"&Table\",$F$45),\"&Column\",CZ72),\"&BEAMColumnCodes\",CZ83))","v":""},{"$f":"IF(LEN(DA83)=0,\"\",SUBSTITUTE(SUBSTITUTE(SUBSTITUTE(Settings!$B$39,\"&Table\",$F$45),\"&Column\",DA72),\"&BEAMColumnCodes\",DA83))","v":""},{"$f":"IF(LEN(DB83)=0,\"\",SUBSTITUTE(SUBSTITUTE(SUBSTITUTE(Settings!$B$39,\"&Table\",$F$45),\"&Column\",DB72),\"&BEAMColumnCodes\",DB83))","v":""},{"$f":"IF(LEN(DC83)=0,\"\",SUBSTITUTE(SUBSTITUTE(SUBSTITUTE(Settings!$B$39,\"&Table\",$F$45),\"&Column\",DC72),\"&BEAMColumnCodes\",DC83))","v":""},{"$f":"IF(LEN(DD83)=0,\"\",SUBSTITUTE(SUBSTITUTE(SUBSTITUTE(Settings!$B$39,\"&Table\",$F$45),\"&Column\",DD72),\"&BEAMColumnCodes\",DD83))","v":""},{"$f":"IF(LEN(DE83)=0,\"\",SUBSTITUTE(SUBSTITUTE(SUBSTITUTE(Settings!$B$39,\"&Table\",$F$45),\"&Column\",DE72),\"&BEAMColumnCodes\",DE83))","v":""},{"$f":"IF(LEN(DF83)=0,\"\",SUBSTITUTE(SUBSTITUTE(SUBSTITUTE(Settings!$B$39,\"&Table\",$F$45),\"&Column\",DF72),\"&BEAMColumnCodes\",DF83))","v":""},{"$f":"IF(LEN(DG83)=0,\"\",SUBSTITUTE(SUBSTITUTE(SUBSTITUTE(Settings!$B$39,\"&Table\",$F$45),\"&Column\",DG72),\"&BEAMColumnCodes\",DG83))","v":""},{"$f":"IF(LEN(DH83)=0,\"\",SUBSTITUTE(SUBSTITUTE(SUBSTITUTE(Settings!$B$39,\"&Table\",$F$45),\"&Column\",DH72),\"&BEAMColumnCodes\",DH83))","v":""},{"$f":"IF(LEN(DI83)=0,\"\",SUBSTITUTE(SUBSTITUTE(SUBSTITUTE(Settings!$B$39,\"&Table\",$F$45),\"&Column\",DI72),\"&BEAMColumnCodes\",DI83))","v":""},{"$f":"IF(LEN(DJ83)=0,\"\",SUBSTITUTE(SUBSTITUTE(SUBSTITUTE(Settings!$B$39,\"&Table\",$F$45),\"&Column\",DJ72),\"&BEAMColumnCodes\",DJ83))","v":""},{"$f":"IF(LEN(DK83)=0,\"\",SUBSTITUTE(SUBSTITUTE(SUBSTITUTE(Settings!$B$39,\"&Table\",$F$45),\"&Column\",DK72),\"&BEAMColumnCodes\",DK83))","v":""},{"$f":"IF(LEN(DL83)=0,\"\",SUBSTITUTE(SUBSTITUTE(SUBSTITUTE(Settings!$B$39,\"&Table\",$F$45),\"&Column\",DL72),\"&BEAMColumnCodes\",DL83))","v":""},{"$f":"IF(LEN(DM83)=0,\"\",SUBSTITUTE(SUBSTITUTE(SUBSTITUTE(Settings!$B$39,\"&Table\",$F$45),\"&Column\",DM72),\"&BEAMColumnCodes\",DM83))","v":""},{"$f":"IF(LEN(DN83)=0,\"\",SUBSTITUTE(SUBSTITUTE(SUBSTITUTE(Settings!$B$39,\"&Table\",$F$45),\"&Column\",DN72),\"&BEAMColumnCodes\",DN83))","v":""},{"$f":"IF(LEN(DO83)=0,\"\",SUBSTITUTE(SUBSTITUTE(SUBSTITUTE(Settings!$B$39,\"&Table\",$F$45),\"&Column\",DO72),\"&BEAMColumnCodes\",DO83))","v":""},{"$f":"IF(LEN(DP83)=0,\"\",SUBSTITUTE(SUBSTITUTE(SUBSTITUTE(Settings!$B$39,\"&Table\",$F$45),\"&Column\",DP72),\"&BEAMColumnCodes\",DP83))","v":""},{"$f":"IF(LEN(DQ83)=0,\"\",SUBSTITUTE(SUBSTITUTE(SUBSTITUTE(Settings!$B$39,\"&Table\",$F$45),\"&Column\",DQ72),\"&BEAMColumnCodes\",DQ83))","v":""},{"$f":"IF(LEN(DR83)=0,\"\",SUBSTITUTE(SUBSTITUTE(SUBSTITUTE(Settings!$B$39,\"&Table\",$F$45),\"&Column\",DR72),\"&BEAMColumnCodes\",DR83))","v":""},{"$f":"IF(LEN(DS83)=0,\"\",SUBSTITUTE(SUBSTITUTE(SUBSTITUTE(Settings!$B$39,\"&Table\",$F$45),\"&Column\",DS72),\"&BEAMColumnCodes\",DS83))","v":""},{"$f":"IF(LEN(DT83)=0,\"\",SUBSTITUTE(SUBSTITUTE(SUBSTITUTE(Settings!$B$39,\"&Table\",$F$45),\"&Column\",DT72),\"&BEAMColumnCodes\",DT83))","v":""},{"$f":"IF(LEN(DU83)=0,\"\",SUBSTITUTE(SUBSTITUTE(SUBSTITUTE(Settings!$B$39,\"&Table\",$F$45),\"&Column\",DU72),\"&BEAMColumnCodes\",DU83))","v":""},{"$f":"IF(LEN(DV83)=0,\"\",SUBSTITUTE(SUBSTITUTE(SUBSTITUTE(Settings!$B$39,\"&Table\",$F$45),\"&Column\",DV72),\"&BEAMColumnCodes\",DV83))","v":""},{"$f":"IF(LEN(DW83)=0,\"\",SUBSTITUTE(SUBSTITUTE(SUBSTITUTE(Settings!$B$39,\"&Table\",$F$45),\"&Column\",DW72),\"&BEAMColumnCodes\",DW83))","v":""},{"$f":"IF(LEN(DX83)=0,\"\",SUBSTITUTE(SUBSTITUTE(SUBSTITUTE(Settings!$B$39,\"&Table\",$F$45),\"&Column\",DX72),\"&BEAMColumnCodes\",DX83))","v":""},{"$f":"IF(LEN(DY83)=0,\"\",SUBSTITUTE(SUBSTITUTE(SUBSTITUTE(Settings!$B$39,\"&Table\",$F$45),\"&Column\",DY72),\"&BEAMColumnCodes\",DY83))","v":""},{"$f":"IF(LEN(DZ83)=0,\"\",SUBSTITUTE(SUBSTITUTE(SUBSTITUTE(Settings!$B$39,\"&Table\",$F$45),\"&Column\",DZ72),\"&BEAMColumnCodes\",DZ83))","v":""},{"$f":"IF(LEN(EA83)=0,\"\",SUBSTITUTE(SUBSTITUTE(SUBSTITUTE(Settings!$B$39,\"&Table\",$F$45),\"&Column\",EA72),\"&BEAMColumnCodes\",EA83))","v":""},{"$f":"IF(LEN(EB83)=0,\"\",SUBSTITUTE(SUBSTITUTE(SUBSTITUTE(Settings!$B$39,\"&Table\",$F$45),\"&Column\",EB72),\"&BEAMColumnCodes\",EB83))","v":""},{"$f":"IF(LEN(EC83)=0,\"\",SUBSTITUTE(SUBSTITUTE(SUBSTITUTE(Settings!$B$39,\"&Table\",$F$45),\"&Column\",EC72),\"&BEAMColumnCodes\",EC83))","v":""},{"$f":"IF(LEN(ED83)=0,\"\",SUBSTITUTE(SUBSTITUTE(SUBSTITUTE(Settings!$B$39,\"&Table\",$F$45),\"&Column\",ED72),\"&BEAMColumnCodes\",ED83))","v":""},{"$f":"IF(LEN(EE83)=0,\"\",SUBSTITUTE(SUBSTITUTE(SUBSTITUTE(Settings!$B$39,\"&Table\",$F$45),\"&Column\",EE72),\"&BEAMColumnCodes\",EE83))","v":""},{"$f":"IF(LEN(EF83)=0,\"\",SUBSTITUTE(SUBSTITUTE(SUBSTITUTE(Settings!$B$39,\"&Table\",$F$45),\"&Column\",EF72),\"&BEAMColumnCodes\",EF83))","v":""},{"$f":"IF(LEN(EG83)=0,\"\",SUBSTITUTE(SUBSTITUTE(SUBSTITUTE(Settings!$B$39,\"&Table\",$F$45),\"&Column\",EG72),\"&BEAMColumnCodes\",EG83))","v":""},{"$f":"IF(LEN(EH83)=0,\"\",SUBSTITUTE(SUBSTITUTE(SUBSTITUTE(Settings!$B$39,\"&Table\",$F$45),\"&Column\",EH72),\"&BEAMColumnCodes\",EH83))","v":""},{"$f":"IF(LEN(EI83)=0,\"\",SUBSTITUTE(SUBSTITUTE(SUBSTITUTE(Settings!$B$39,\"&Table\",$F$45),\"&Column\",EI72),\"&BEAMColumnCodes\",EI83))","v":""},{"$f":"IF(LEN(EJ83)=0,\"\",SUBSTITUTE(SUBSTITUTE(SUBSTITUTE(Settings!$B$39,\"&Table\",$F$45),\"&Column\",EJ72),\"&BEAMColumnCodes\",EJ83))","v":""},{"$f":"IF(LEN(EK83)=0,\"\",SUBSTITUTE(SUBSTITUTE(SUBSTITUTE(Settings!$B$39,\"&Table\",$F$45),\"&Column\",EK72),\"&BEAMColumnCodes\",EK83))","v":""},{"$f":"IF(LEN(EL83)=0,\"\",SUBSTITUTE(SUBSTITUTE(SUBSTITUTE(Settings!$B$39,\"&Table\",$F$45),\"&Column\",EL72),\"&BEAMColumnCodes\",EL83))","v":""},{"$f":"IF(LEN(EM83)=0,\"\",SUBSTITUTE(SUBSTITUTE(SUBSTITUTE(Settings!$B$39,\"&Table\",$F$45),\"&Column\",EM72),\"&BEAMColumnCodes\",EM83))","v":""},{"$f":"IF(LEN(EN83)=0,\"\",SUBSTITUTE(SUBSTITUTE(SUBSTITUTE(Settings!$B$39,\"&Table\",$F$45),\"&Column\",EN72),\"&BEAMColumnCodes\",EN83))","v":""},{"$f":"IF(LEN(EO83)=0,\"\",SUBSTITUTE(SUBSTITUTE(SUBSTITUTE(Settings!$B$39,\"&Table\",$F$45),\"&Column\",EO72),\"&BEAMColumnCodes\",EO83))","v":""},{"$f":"IF(LEN(EP83)=0,\"\",SUBSTITUTE(SUBSTITUTE(SUBSTITUTE(Settings!$B$39,\"&Table\",$F$45),\"&Column\",EP72),\"&BEAMColumnCodes\",EP83))","v":""},{"$f":"IF(LEN(EQ83)=0,\"\",SUBSTITUTE(SUBSTITUTE(SUBSTITUTE(Settings!$B$39,\"&Table\",$F$45),\"&Column\",EQ72),\"&BEAMColumnCodes\",EQ83))","v":""},{"$f":"IF(LEN(ER83)=0,\"\",SUBSTITUTE(SUBSTITUTE(SUBSTITUTE(Settings!$B$39,\"&Table\",$F$45),\"&Column\",ER72),\"&BEAMColumnCodes\",ER83))","v":""},{"$f":"IF(LEN(ES83)=0,\"\",SUBSTITUTE(SUBSTITUTE(SUBSTITUTE(Settings!$B$39,\"&Table\",$F$45),\"&Column\",ES72),\"&BEAMColumnCodes\",ES83))","v":""},{"$f":"IF(LEN(ET83)=0,\"\",SUBSTITUTE(SUBSTITUTE(SUBSTITUTE(Settings!$B$39,\"&Table\",$F$45),\"&Column\",ET72),\"&BEAMColumnCodes\",ET83))","v":""},{"$f":"IF(LEN(EU83)=0,\"\",SUBSTITUTE(SUBSTITUTE(SUBSTITUTE(Settings!$B$39,\"&Table\",$F$45),\"&Column\",EU72),\"&BEAMColumnCodes\",EU83))","v":""},{"$f":"IF(LEN(EV83)=0,\"\",SUBSTITUTE(SUBSTITUTE(SUBSTITUTE(Settings!$B$39,\"&Table\",$F$45),\"&Column\",EV72),\"&BEAMColumnCodes\",EV83))","v":""},{"$f":"IF(LEN(EW83)=0,\"\",SUBSTITUTE(SUBSTITUTE(SUBSTITUTE(Settings!$B$39,\"&Table\",$F$45),\"&Column\",EW72),\"&BEAMColumnCodes\",EW83))","v":""},{"$f":"IF(LEN(EX83)=0,\"\",SUBSTITUTE(SUBSTITUTE(SUBSTITUTE(Settings!$B$39,\"&Table\",$F$45),\"&Column\",EX72),\"&BEAMColumnCodes\",EX83))","v":""},{"$f":"IF(LEN(EY83)=0,\"\",SUBSTITUTE(SUBSTITUTE(SUBSTITUTE(Settings!$B$39,\"&Table\",$F$45),\"&Column\",EY72),\"&BEAMColumnCodes\",EY83))","v":""}]
[null,null,"Column Comments List",null,null,{"$f":"F109","v":""},{"$f":"CONCATENATE(INDIRECT(ADDRESS(ROW(),COLUMN()-1)),G109)","v":""},{"$f":"CONCATENATE(INDIRECT(ADDRESS(ROW(),COLUMN()-1)),H109)","v":"Comment on Column EVENT_NAME.EVENT_DATE is '[when]';\r"},"Comment on Column EVENT_NAME.EVENT_DATE is '[when]';\r","Comment on Column EVENT_NAME.EVENT_DATE is '[when]';\r","Comment on Column EVENT_NAME.EVENT_DATE is '[when]';\r","Comment on Column EVENT_NAME.EVENT_DATE is '[when]';\r","Comment on Column EVENT_NAME.EVENT_DATE is '[when]';\r","Comment on Column EVENT_NAME.EVENT_DATE is '[when]';\r","Comment on Column EVENT_NAME.EVENT_DATE is '[when]';\r","Comment on Column EVENT_NAME.EVENT_DATE is '[when]';\r","Comment on Column EVENT_NAME.EVENT_DATE is '[when]';\r","Comment on Column EVENT_NAME.EVENT_DATE is '[when]';\r","Comment on Column EVENT_NAME.EVENT_DATE is '[when]';\r","Comment on Column EVENT_NAME.EVENT_DATE is '[when]';\r","Comment on Column EVENT_NAME.EVENT_DATE is '[when]';\r","Comment on Column EVENT_NAME.EVENT_DATE is '[when]';\r","Comment on Column EVENT_NAME.EVENT_DATE is '[when]';\r","Comment on Column EVENT_NAME.EVENT_DATE is '[when]';\r","Comment on Column EVENT_NAME.EVENT_DATE is '[when]';\r","Comment on Column EVENT_NAME.EVENT_DATE is '[when]';\r","Comment on Column EVENT_NAME.EVENT_DATE is '[when]';\r","Comment on Column EVENT_NAME.EVENT_DATE is '[when]';\r","Comment on Column EVENT_NAME.EVENT_DATE is '[when]';\r","Comment on Column EVENT_NAME.EVENT_DATE is '[when]';\r","Comment on Column EVENT_NAME.EVENT_DATE is '[when]';\r","Comment on Column EVENT_NAME.EVENT_DATE is '[when]';\r","Comment on Column EVENT_NAME.EVENT_DATE is '[when]';\r","Comment on Column EVENT_NAME.EVENT_DATE is '[when]';\r","Comment on Column EVENT_NAME.EVENT_DATE is '[when]';\r","Comment on Column EVENT_NAME.EVENT_DATE is '[when]';\r","Comment on Column EVENT_NAME.EVENT_DATE is '[when]';\r","Comment on Column EVENT_NAME.EVENT_DATE is '[when]';\r","Comment on Column EVENT_NAME.EVENT_DATE is '[when]';\r","Comment on Column EVENT_NAME.EVENT_DATE is '[when]';\r","Comment on Column EVENT_NAME.EVENT_DATE is '[when]';\r","Comment on Column EVENT_NAME.EVENT_DATE is '[when]';\r","Comment on Column EVENT_NAME.EVENT_DATE is '[when]';\r","Comment on Column EVENT_NAME.EVENT_DATE is '[when]';\r","Comment on Column EVENT_NAME.EVENT_DATE is '[when]';\r","Comment on Column EVENT_NAME.EVENT_DATE is '[when]';\r","Comment on Column EVENT_NAME.EVENT_DATE is '[when]';\r","Comment on Column EVENT_NAME.EVENT_DATE is '[when]';\r","Comment on Column EVENT_NAME.EVENT_DATE is '[when]';\r","Comment on Column EVENT_NAME.EVENT_DATE is '[when]';\r","Comment on Column EVENT_NAME.EVENT_DATE is '[when]';\r","Comment on Column EVENT_NAME.EVENT_DATE is '[when]';\r","Comment on Column EVENT_NAME.EVENT_DATE is '[when]';\r","Comment on Column EVENT_NAME.EVENT_DATE is '[when]';\r","Comment on Column EVENT_NAME.EVENT_DATE is '[when]';\r","Comment on Column EVENT_NAME.EVENT_DATE is '[when]';\r","Comment on Column EVENT_NAME.EVENT_DATE is '[when]';\r","Comment on Column EVENT_NAME.EVENT_DATE is '[when]';\r","Comment on Column EVENT_NAME.EVENT_DATE is '[when]';\r","Comment on Column EVENT_NAME.EVENT_DATE is '[when]';\r","Comment on Column EVENT_NAME.EVENT_DATE is '[when]';\r","Comment on Column EVENT_NAME.EVENT_DATE is '[when]';\r","Comment on Column EVENT_NAME.EVENT_DATE is '[when]';\r","Comment on Column EVENT_NAME.EVENT_DATE is '[when]';\r","Comment on Column EVENT_NAME.EVENT_DATE is '[when]';\r","Comment on Column EVENT_NAME.EVENT_DATE is '[when]';\r","Comment on Column EVENT_NAME.EVENT_DATE is '[when]';\r","Comment on Column EVENT_NAME.EVENT_DATE is '[when]';\r","Comment on Column EVENT_NAME.EVENT_DATE is '[when]';\r","Comment on Column EVENT_NAME.EVENT_DATE is '[when]';\r","Comment on Column EVENT_NAME.EVENT_DATE is '[when]';\r",{"$f":"CONCATENATE(INDIRECT(ADDRESS(ROW(),COLUMN()-1)),BT109)","v":"Comment on Column EVENT_NAME.EVENT_DATE is '[when]';\r"},"Comment on Column EVENT_NAME.EVENT_DATE is '[when]';\r","Comment on Column EVENT_NAME.EVENT_DATE is '[when]';\r","Comment on Column EVENT_NAME.EVENT_DATE is '[when]';\r","Comment on Column EVENT_NAME.EVENT_DATE is '[when]';\r","Comment on Column EVENT_NAME.EVENT_DATE is '[when]';\r","Comment on Column EVENT_NAME.EVENT_DATE is '[when]';\r","Comment on Column EVENT_NAME.EVENT_DATE is '[when]';\r","Comment on Column EVENT_NAME.EVENT_DATE is '[when]';\r","Comment on Column EVENT_NAME.EVENT_DATE is '[when]';\r","Comment on Column EVENT_NAME.EVENT_DATE is '[when]';\r","Comment on Column EVENT_NAME.EVENT_DATE is '[when]';\r","Comment on Column EVENT_NAME.EVENT_DATE is '[when]';\r","Comment on Column EVENT_NAME.EVENT_DATE is '[when]';\r","Comment on Column EVENT_NAME.EVENT_DATE is '[when]';\r","Comment on Column EVENT_NAME.EVENT_DATE is '[when]';\r","Comment on Column EVENT_NAME.EVENT_DATE is '[when]';\r","Comment on Column EVENT_NAME.EVENT_DATE is '[when]';\r","Comment on Column EVENT_NAME.EVENT_DATE is '[when]';\r","Comment on Column EVENT_NAME.EVENT_DATE is '[when]';\r","Comment on Column EVENT_NAME.EVENT_DATE is '[when]';\r","Comment on Column EVENT_NAME.EVENT_DATE is '[when]';\r","Comment on Column EVENT_NAME.EVENT_DATE is '[when]';\r","Comment on Column EVENT_NAME.EVENT_DATE is '[when]';\r","Comment on Column EVENT_NAME.EVENT_DATE is '[when]';\r","Comment on Column EVENT_NAME.EVENT_DATE is '[when]';\r","Comment on Column EVENT_NAME.EVENT_DATE is '[when]';\r","Comment on Column EVENT_NAME.EVENT_DATE is '[when]';\r","Comment on Column EVENT_NAME.EVENT_DATE is '[when]';\r","Comment on Column EVENT_NAME.EVENT_DATE is '[when]';\r","Comment on Column EVENT_NAME.EVENT_DATE is '[when]';\r","Comment on Column EVENT_NAME.EVENT_DATE is '[when]';\r","Comment on Column EVENT_NAME.EVENT_DATE is '[when]';\r","Comment on Column EVENT_NAME.EVENT_DATE is '[when]';\r","Comment on Column EVENT_NAME.EVENT_DATE is '[when]';\r","Comment on Column EVENT_NAME.EVENT_DATE is '[when]';\r","Comment on Column EVENT_NAME.EVENT_DATE is '[when]';\r","Comment on Column EVENT_NAME.EVENT_DATE is '[when]';\r","Comment on Column EVENT_NAME.EVENT_DATE is '[when]';\r","Comment on Column EVENT_NAME.EVENT_DATE is '[when]';\r","Comment on Column EVENT_NAME.EVENT_DATE is '[when]';\r","Comment on Column EVENT_NAME.EVENT_DATE is '[when]';\r","Comment on Column EVENT_NAME.EVENT_DATE is '[when]';\r","Comment on Column EVENT_NAME.EVENT_DATE is '[when]';\r","Comment on Column EVENT_NAME.EVENT_DATE is '[when]';\r","Comment on Column EVENT_NAME.EVENT_DATE is '[when]';\r","Comment on Column EVENT_NAME.EVENT_DATE is '[when]';\r","Comment on Column EVENT_NAME.EVENT_DATE is '[when]';\r","Comment on Column EVENT_NAME.EVENT_DATE is '[when]';\r","Comment on Column EVENT_NAME.EVENT_DATE is '[when]';\r","Comment on Column EVENT_NAME.EVENT_DATE is '[when]';\r","Comment on Column EVENT_NAME.EVENT_DATE is '[when]';\r","Comment on Column EVENT_NAME.EVENT_DATE is '[when]';\r","Comment on Column EVENT_NAME.EVENT_DATE is '[when]';\r","Comment on Column EVENT_NAME.EVENT_DATE is '[when]';\r","Comment on Column EVENT_NAME.EVENT_DATE is '[when]';\r","Comment on Column EVENT_NAME.EVENT_DATE is '[when]';\r","Comment on Column EVENT_NAME.EVENT_DATE is '[when]';\r","Comment on Column EVENT_NAME.EVENT_DATE is '[when]';\r","Comment on Column EVENT_NAME.EVENT_DATE is '[when]';\r","Comment on Column EVENT_NAME.EVENT_DATE is '[when]';\r","Comment on Column EVENT_NAME.EVENT_DATE is '[when]';\r","Comment on Column EVENT_NAME.EVENT_DATE is '[when]';\r","Comment on Column EVENT_NAME.EVENT_DATE is '[when]';\r",{"$f":"CONCATENATE(INDIRECT(ADDRESS(ROW(),COLUMN()-1)),EF109)","v":"Comment on Column EVENT_NAME.EVENT_DATE is '[when]';\r"},"Comment on Column EVENT_NAME.EVENT_DATE is '[when]';\r","Comment on Column EVENT_NAME.EVENT_DATE is '[when]';\r","Comment on Column EVENT_NAME.EVENT_DATE is '[when]';\r","Comment on Column EVENT_NAME.EVENT_DATE is '[when]';\r","Comment on Column EVENT_NAME.EVENT_DATE is '[when]';\r","Comment on Column EVENT_NAME.EVENT_DATE is '[when]';\r","Comment on Column EVENT_NAME.EVENT_DATE is '[when]';\r","Comment on Column EVENT_NAME.EVENT_DATE is '[when]';\r","Comment on Column EVENT_NAME.EVENT_DATE is '[when]';\r","Comment on Column EVENT_NAME.EVENT_DATE is '[when]';\r","Comment on Column EVENT_NAME.EVENT_DATE is '[when]';\r","Comment on Column EVENT_NAME.EVENT_DATE is '[when]';\r","Comment on Column EVENT_NAME.EVENT_DATE is '[when]';\r","Comment on Column EVENT_NAME.EVENT_DATE is '[when]';\r","Comment on Column EVENT_NAME.EVENT_DATE is '[when]';\r","Comment on Column EVENT_NAME.EVENT_DATE is '[when]';\r","Comment on Column EVENT_NAME.EVENT_DATE is '[when]';\r","Comment on Column EVENT_NAME.EVENT_DATE is '[when]';\r","Comment on Column EVENT_NAME.EVENT_DATE is '[when]';\r"]
[]
[null,null,"Column Index",null,null,{"$f":"IF(AND(F57<>\"Y\",$F$55=\"Fact\",F59=\"Y\"),CHAR(13)& SUBSTITUTE(SUBSTITUTE(SUBSTITUTE(SUBSTITUTE(Settings!$B$45,\"&BEAMColumn\",F71),\"&BEAMTable\",$F$44),\"&Column\", F72),\"&Table\",$F$45),\"\")","v":""},{"$f":"IF(AND(G57<>\"Y\",$F$55=\"Fact\",G59=\"Y\"),CHAR(13)& SUBSTITUTE(SUBSTITUTE(SUBSTITUTE(SUBSTITUTE(Settings!$B$45,\"&BEAMColumn\",G71),\"&BEAMTable\",$F$44),\"&Column\", G72),\"&Table\",$F$45),\"\")","v":""},{"$f":"IF(AND(H57<>\"Y\",$F$55=\"Fact\",H59=\"Y\"),CHAR(13)& SUBSTITUTE(SUBSTITUTE(SUBSTITUTE(SUBSTITUTE(Settings!$B$45,\"&BEAMColumn\",H71),\"&BEAMTable\",$F$44),\"&Column\", H72),\"&Table\",$F$45),\"\")","v":""},{"$f":"IF(AND(I57<>\"Y\",$F$55=\"Fact\",I59=\"Y\"),CHAR(13)& SUBSTITUTE(SUBSTITUTE(SUBSTITUTE(SUBSTITUTE(Settings!$B$45,\"&BEAMColumn\",I71),\"&BEAMTable\",$F$44),\"&Column\", I72),\"&Table\",$F$45),\"\")","v":""},{"$f":"IF(AND(J57<>\"Y\",$F$55=\"Fact\",J59=\"Y\"),CHAR(13)& SUBSTITUTE(SUBSTITUTE(SUBSTITUTE(SUBSTITUTE(Settings!$B$45,\"&BEAMColumn\",J71),\"&BEAMTable\",$F$44),\"&Column\", J72),\"&Table\",$F$45),\"\")","v":""},{"$f":"IF(AND(K57<>\"Y\",$F$55=\"Fact\",K59=\"Y\"),CHAR(13)& SUBSTITUTE(SUBSTITUTE(SUBSTITUTE(SUBSTITUTE(Settings!$B$45,\"&BEAMColumn\",K71),\"&BEAMTable\",$F$44),\"&Column\", K72),\"&Table\",$F$45),\"\")","v":""},{"$f":"IF(AND(L57<>\"Y\",$F$55=\"Fact\",L59=\"Y\"),CHAR(13)& SUBSTITUTE(SUBSTITUTE(SUBSTITUTE(SUBSTITUTE(Settings!$B$45,\"&BEAMColumn\",L71),\"&BEAMTable\",$F$44),\"&Column\", L72),\"&Table\",$F$45),\"\")","v":""},{"$f":"IF(AND(M57<>\"Y\",$F$55=\"Fact\",M59=\"Y\"),CHAR(13)& SUBSTITUTE(SUBSTITUTE(SUBSTITUTE(SUBSTITUTE(Settings!$B$45,\"&BEAMColumn\",M71),\"&BEAMTable\",$F$44),\"&Column\", M72),\"&Table\",$F$45),\"\")","v":""},{"$f":"IF(AND(N57<>\"Y\",$F$55=\"Fact\",N59=\"Y\"),CHAR(13)& SUBSTITUTE(SUBSTITUTE(SUBSTITUTE(SUBSTITUTE(Settings!$B$45,\"&BEAMColumn\",N71),\"&BEAMTable\",$F$44),\"&Column\", N72),\"&Table\",$F$45),\"\")","v":""},{"$f":"IF(AND(O57<>\"Y\",$F$55=\"Fact\",O59=\"Y\"),CHAR(13)& SUBSTITUTE(SUBSTITUTE(SUBSTITUTE(SUBSTITUTE(Settings!$B$45,\"&BEAMColumn\",O71),\"&BEAMTable\",$F$44),\"&Column\", O72),\"&Table\",$F$45),\"\")","v":""},{"$f":"IF(AND(P57<>\"Y\",$F$55=\"Fact\",P59=\"Y\"),CHAR(13)& SUBSTITUTE(SUBSTITUTE(SUBSTITUTE(SUBSTITUTE(Settings!$B$45,\"&BEAMColumn\",P71),\"&BEAMTable\",$F$44),\"&Column\", P72),\"&Table\",$F$45),\"\")","v":""},{"$f":"IF(AND(Q57<>\"Y\",$F$55=\"Fact\",Q59=\"Y\"),CHAR(13)& SUBSTITUTE(SUBSTITUTE(SUBSTITUTE(SUBSTITUTE(Settings!$B$45,\"&BEAMColumn\",Q71),\"&BEAMTable\",$F$44),\"&Column\", Q72),\"&Table\",$F$45),\"\")","v":""},{"$f":"IF(AND(R57<>\"Y\",$F$55=\"Fact\",R59=\"Y\"),CHAR(13)& SUBSTITUTE(SUBSTITUTE(SUBSTITUTE(SUBSTITUTE(Settings!$B$45,\"&BEAMColumn\",R71),\"&BEAMTable\",$F$44),\"&Column\", R72),\"&Table\",$F$45),\"\")","v":""},{"$f":"IF(AND(S57<>\"Y\",$F$55=\"Fact\",S59=\"Y\"),CHAR(13)& SUBSTITUTE(SUBSTITUTE(SUBSTITUTE(SUBSTITUTE(Settings!$B$45,\"&BEAMColumn\",S71),\"&BEAMTable\",$F$44),\"&Column\", S72),\"&Table\",$F$45),\"\")","v":""},{"$f":"IF(AND(T57<>\"Y\",$F$55=\"Fact\",T59=\"Y\"),CHAR(13)& SUBSTITUTE(SUBSTITUTE(SUBSTITUTE(SUBSTITUTE(Settings!$B$45,\"&BEAMColumn\",T71),\"&BEAMTable\",$F$44),\"&Column\", T72),\"&Table\",$F$45),\"\")","v":""},{"$f":"IF(AND(U57<>\"Y\",$F$55=\"Fact\",U59=\"Y\"),CHAR(13)& SUBSTITUTE(SUBSTITUTE(SUBSTITUTE(SUBSTITUTE(Settings!$B$45,\"&BEAMColumn\",U71),\"&BEAMTable\",$F$44),\"&Column\", U72),\"&Table\",$F$45),\"\")","v":""},{"$f":"IF(AND(V57<>\"Y\",$F$55=\"Fact\",V59=\"Y\"),CHAR(13)& SUBSTITUTE(SUBSTITUTE(SUBSTITUTE(SUBSTITUTE(Settings!$B$45,\"&BEAMColumn\",V71),\"&BEAMTable\",$F$44),\"&Column\", V72),\"&Table\",$F$45),\"\")","v":""},{"$f":"IF(AND(W57<>\"Y\",$F$55=\"Fact\",W59=\"Y\"),CHAR(13)& SUBSTITUTE(SUBSTITUTE(SUBSTITUTE(SUBSTITUTE(Settings!$B$45,\"&BEAMColumn\",W71),\"&BEAMTable\",$F$44),\"&Column\", W72),\"&Table\",$F$45),\"\")","v":""},{"$f":"IF(AND(X57<>\"Y\",$F$55=\"Fact\",X59=\"Y\"),CHAR(13)& SUBSTITUTE(SUBSTITUTE(SUBSTITUTE(SUBSTITUTE(Settings!$B$45,\"&BEAMColumn\",X71),\"&BEAMTable\",$F$44),\"&Column\", X72),\"&Table\",$F$45),\"\")","v":""},{"$f":"IF(AND(Y57<>\"Y\",$F$55=\"Fact\",Y59=\"Y\"),CHAR(13)& SUBSTITUTE(SUBSTITUTE(SUBSTITUTE(SUBSTITUTE(Settings!$B$45,\"&BEAMColumn\",Y71),\"&BEAMTable\",$F$44),\"&Column\", Y72),\"&Table\",$F$45),\"\")","v":""},{"$f":"IF(AND(Z57<>\"Y\",$F$55=\"Fact\",Z59=\"Y\"),CHAR(13)& SUBSTITUTE(SUBSTITUTE(SUBSTITUTE(SUBSTITUTE(Settings!$B$45,\"&BEAMColumn\",Z71),\"&BEAMTable\",$F$44),\"&Column\", Z72),\"&Table\",$F$45),\"\")","v":""},{"$f":"IF(AND(AA57<>\"Y\",$F$55=\"Fact\",AA59=\"Y\"),CHAR(13)& SUBSTITUTE(SUBSTITUTE(SUBSTITUTE(SUBSTITUTE(Settings!$B$45,\"&BEAMColumn\",AA71),\"&BEAMTable\",$F$44),\"&Column\", AA72),\"&Table\",$F$45),\"\")","v":""},{"$f":"IF(AND(AB57<>\"Y\",$F$55=\"Fact\",AB59=\"Y\"),CHAR(13)& SUBSTITUTE(SUBSTITUTE(SUBSTITUTE(SUBSTITUTE(Settings!$B$45,\"&BEAMColumn\",AB71),\"&BEAMTable\",$F$44),\"&Column\", AB72),\"&Table\",$F$45),\"\")","v":""},{"$f":"IF(AND(AC57<>\"Y\",$F$55=\"Fact\",AC59=\"Y\"),CHAR(13)& SUBSTITUTE(SUBSTITUTE(SUBSTITUTE(SUBSTITUTE(Settings!$B$45,\"&BEAMColumn\",AC71),\"&BEAMTable\",$F$44),\"&Column\", AC72),\"&Table\",$F$45),\"\")","v":""},{"$f":"IF(AND(AD57<>\"Y\",$F$55=\"Fact\",AD59=\"Y\"),CHAR(13)& SUBSTITUTE(SUBSTITUTE(SUBSTITUTE(SUBSTITUTE(Settings!$B$45,\"&BEAMColumn\",AD71),\"&BEAMTable\",$F$44),\"&Column\", AD72),\"&Table\",$F$45),\"\")","v":""},{"$f":"IF(AND(AE57<>\"Y\",$F$55=\"Fact\",AE59=\"Y\"),CHAR(13)& SUBSTITUTE(SUBSTITUTE(SUBSTITUTE(SUBSTITUTE(Settings!$B$45,\"&BEAMColumn\",AE71),\"&BEAMTable\",$F$44),\"&Column\", AE72),\"&Table\",$F$45),\"\")","v":""},{"$f":"IF(AND(AF57<>\"Y\",$F$55=\"Fact\",AF59=\"Y\"),CHAR(13)& SUBSTITUTE(SUBSTITUTE(SUBSTITUTE(SUBSTITUTE(Settings!$B$45,\"&BEAMColumn\",AF71),\"&BEAMTable\",$F$44),\"&Column\", AF72),\"&Table\",$F$45),\"\")","v":""},{"$f":"IF(AND(AG57<>\"Y\",$F$55=\"Fact\",AG59=\"Y\"),CHAR(13)& SUBSTITUTE(SUBSTITUTE(SUBSTITUTE(SUBSTITUTE(Settings!$B$45,\"&BEAMColumn\",AG71),\"&BEAMTable\",$F$44),\"&Column\", AG72),\"&Table\",$F$45),\"\")","v":""},{"$f":"IF(AND(AH57<>\"Y\",$F$55=\"Fact\",AH59=\"Y\"),CHAR(13)& SUBSTITUTE(SUBSTITUTE(SUBSTITUTE(SUBSTITUTE(Settings!$B$45,\"&BEAMColumn\",AH71),\"&BEAMTable\",$F$44),\"&Column\", AH72),\"&Table\",$F$45),\"\")","v":""},{"$f":"IF(AND(AI57<>\"Y\",$F$55=\"Fact\",AI59=\"Y\"),CHAR(13)& SUBSTITUTE(SUBSTITUTE(SUBSTITUTE(SUBSTITUTE(Settings!$B$45,\"&BEAMColumn\",AI71),\"&BEAMTable\",$F$44),\"&Column\", AI72),\"&Table\",$F$45),\"\")","v":""},{"$f":"IF(AND(AJ57<>\"Y\",$F$55=\"Fact\",AJ59=\"Y\"),CHAR(13)& SUBSTITUTE(SUBSTITUTE(SUBSTITUTE(SUBSTITUTE(Settings!$B$45,\"&BEAMColumn\",AJ71),\"&BEAMTable\",$F$44),\"&Column\", AJ72),\"&Table\",$F$45),\"\")","v":""},{"$f":"IF(AND(AK57<>\"Y\",$F$55=\"Fact\",AK59=\"Y\"),CHAR(13)& SUBSTITUTE(SUBSTITUTE(SUBSTITUTE(SUBSTITUTE(Settings!$B$45,\"&BEAMColumn\",AK71),\"&BEAMTable\",$F$44),\"&Column\", AK72),\"&Table\",$F$45),\"\")","v":""},{"$f":"IF(AND(AL57<>\"Y\",$F$55=\"Fact\",AL59=\"Y\"),CHAR(13)& SUBSTITUTE(SUBSTITUTE(SUBSTITUTE(SUBSTITUTE(Settings!$B$45,\"&BEAMColumn\",AL71),\"&BEAMTable\",$F$44),\"&Column\", AL72),\"&Table\",$F$45),\"\")","v":""},{"$f":"IF(AND(AM57<>\"Y\",$F$55=\"Fact\",AM59=\"Y\"),CHAR(13)& SUBSTITUTE(SUBSTITUTE(SUBSTITUTE(SUBSTITUTE(Settings!$B$45,\"&BEAMColumn\",AM71),\"&BEAMTable\",$F$44),\"&Column\", AM72),\"&Table\",$F$45),\"\")","v":""},{"$f":"IF(AND(AN57<>\"Y\",$F$55=\"Fact\",AN59=\"Y\"),CHAR(13)& SUBSTITUTE(SUBSTITUTE(SUBSTITUTE(SUBSTITUTE(Settings!$B$45,\"&BEAMColumn\",AN71),\"&BEAMTable\",$F$44),\"&Column\", AN72),\"&Table\",$F$45),\"\")","v":""},{"$f":"IF(AND(AO57<>\"Y\",$F$55=\"Fact\",AO59=\"Y\"),CHAR(13)& SUBSTITUTE(SUBSTITUTE(SUBSTITUTE(SUBSTITUTE(Settings!$B$45,\"&BEAMColumn\",AO71),\"&BEAMTable\",$F$44),\"&Column\", AO72),\"&Table\",$F$45),\"\")","v":""},{"$f":"IF(AND(AP57<>\"Y\",$F$55=\"Fact\",AP59=\"Y\"),CHAR(13)& SUBSTITUTE(SUBSTITUTE(SUBSTITUTE(SUBSTITUTE(Settings!$B$45,\"&BEAMColumn\",AP71),\"&BEAMTable\",$F$44),\"&Column\", AP72),\"&Table\",$F$45),\"\")","v":""},{"$f":"IF(AND(AQ57<>\"Y\",$F$55=\"Fact\",AQ59=\"Y\"),CHAR(13)& SUBSTITUTE(SUBSTITUTE(SUBSTITUTE(SUBSTITUTE(Settings!$B$45,\"&BEAMColumn\",AQ71),\"&BEAMTable\",$F$44),\"&Column\", AQ72),\"&Table\",$F$45),\"\")","v":""},{"$f":"IF(AND(AR57<>\"Y\",$F$55=\"Fact\",AR59=\"Y\"),CHAR(13)& SUBSTITUTE(SUBSTITUTE(SUBSTITUTE(SUBSTITUTE(Settings!$B$45,\"&BEAMColumn\",AR71),\"&BEAMTable\",$F$44),\"&Column\", AR72),\"&Table\",$F$45),\"\")","v":""},{"$f":"IF(AND(AS57<>\"Y\",$F$55=\"Fact\",AS59=\"Y\"),CHAR(13)& SUBSTITUTE(SUBSTITUTE(SUBSTITUTE(SUBSTITUTE(Settings!$B$45,\"&BEAMColumn\",AS71),\"&BEAMTable\",$F$44),\"&Column\", AS72),\"&Table\",$F$45),\"\")","v":""},{"$f":"IF(AND(AT57<>\"Y\",$F$55=\"Fact\",AT59=\"Y\"),CHAR(13)& SUBSTITUTE(SUBSTITUTE(SUBSTITUTE(SUBSTITUTE(Settings!$B$45,\"&BEAMColumn\",AT71),\"&BEAMTable\",$F$44),\"&Column\", AT72),\"&Table\",$F$45),\"\")","v":""},{"$f":"IF(AND(AU57<>\"Y\",$F$55=\"Fact\",AU59=\"Y\"),CHAR(13)& SUBSTITUTE(SUBSTITUTE(SUBSTITUTE(SUBSTITUTE(Settings!$B$45,\"&BEAMColumn\",AU71),\"&BEAMTable\",$F$44),\"&Column\", AU72),\"&Table\",$F$45),\"\")","v":""},{"$f":"IF(AND(AV57<>\"Y\",$F$55=\"Fact\",AV59=\"Y\"),CHAR(13)& SUBSTITUTE(SUBSTITUTE(SUBSTITUTE(SUBSTITUTE(Settings!$B$45,\"&BEAMColumn\",AV71),\"&BEAMTable\",$F$44),\"&Column\", AV72),\"&Table\",$F$45),\"\")","v":""},{"$f":"IF(AND(AW57<>\"Y\",$F$55=\"Fact\",AW59=\"Y\"),CHAR(13)& SUBSTITUTE(SUBSTITUTE(SUBSTITUTE(SUBSTITUTE(Settings!$B$45,\"&BEAMColumn\",AW71),\"&BEAMTable\",$F$44),\"&Column\", AW72),\"&Table\",$F$45),\"\")","v":""},{"$f":"IF(AND(AX57<>\"Y\",$F$55=\"Fact\",AX59=\"Y\"),CHAR(13)& SUBSTITUTE(SUBSTITUTE(SUBSTITUTE(SUBSTITUTE(Settings!$B$45,\"&BEAMColumn\",AX71),\"&BEAMTable\",$F$44),\"&Column\", AX72),\"&Table\",$F$45),\"\")","v":""},{"$f":"IF(AND(AY57<>\"Y\",$F$55=\"Fact\",AY59=\"Y\"),CHAR(13)& SUBSTITUTE(SUBSTITUTE(SUBSTITUTE(SUBSTITUTE(Settings!$B$45,\"&BEAMColumn\",AY71),\"&BEAMTable\",$F$44),\"&Column\", AY72),\"&Table\",$F$45),\"\")","v":""},{"$f":"IF(AND(AZ57<>\"Y\",$F$55=\"Fact\",AZ59=\"Y\"),CHAR(13)& SUBSTITUTE(SUBSTITUTE(SUBSTITUTE(SUBSTITUTE(Settings!$B$45,\"&BEAMColumn\",AZ71),\"&BEAMTable\",$F$44),\"&Column\", AZ72),\"&Table\",$F$45),\"\")","v":""},{"$f":"IF(AND(BA57<>\"Y\",$F$55=\"Fact\",BA59=\"Y\"),CHAR(13)& SUBSTITUTE(SUBSTITUTE(SUBSTITUTE(SUBSTITUTE(Settings!$B$45,\"&BEAMColumn\",BA71),\"&BEAMTable\",$F$44),\"&Column\", BA72),\"&Table\",$F$45),\"\")","v":""},{"$f":"IF(AND(BB57<>\"Y\",$F$55=\"Fact\",BB59=\"Y\"),CHAR(13)& SUBSTITUTE(SUBSTITUTE(SUBSTITUTE(SUBSTITUTE(Settings!$B$45,\"&BEAMColumn\",BB71),\"&BEAMTable\",$F$44),\"&Column\", BB72),\"&Table\",$F$45),\"\")","v":""},{"$f":"IF(AND(BC57<>\"Y\",$F$55=\"Fact\",BC59=\"Y\"),CHAR(13)& SUBSTITUTE(SUBSTITUTE(SUBSTITUTE(SUBSTITUTE(Settings!$B$45,\"&BEAMColumn\",BC71),\"&BEAMTable\",$F$44),\"&Column\", BC72),\"&Table\",$F$45),\"\")","v":""},{"$f":"IF(AND(BD57<>\"Y\",$F$55=\"Fact\",BD59=\"Y\"),CHAR(13)& SUBSTITUTE(SUBSTITUTE(SUBSTITUTE(SUBSTITUTE(Settings!$B$45,\"&BEAMColumn\",BD71),\"&BEAMTable\",$F$44),\"&Column\", BD72),\"&Table\",$F$45),\"\")","v":""},{"$f":"IF(AND(BE57<>\"Y\",$F$55=\"Fact\",BE59=\"Y\"),CHAR(13)& SUBSTITUTE(SUBSTITUTE(SUBSTITUTE(SUBSTITUTE(Settings!$B$45,\"&BEAMColumn\",BE71),\"&BEAMTable\",$F$44),\"&Column\", BE72),\"&Table\",$F$45),\"\")","v":""},{"$f":"IF(AND(BF57<>\"Y\",$F$55=\"Fact\",BF59=\"Y\"),CHAR(13)& SUBSTITUTE(SUBSTITUTE(SUBSTITUTE(SUBSTITUTE(Settings!$B$45,\"&BEAMColumn\",BF71),\"&BEAMTable\",$F$44),\"&Column\", BF72),\"&Table\",$F$45),\"\")","v":""},{"$f":"IF(AND(BG57<>\"Y\",$F$55=\"Fact\",BG59=\"Y\"),CHAR(13)& SUBSTITUTE(SUBSTITUTE(SUBSTITUTE(SUBSTITUTE(Settings!$B$45,\"&BEAMColumn\",BG71),\"&BEAMTable\",$F$44),\"&Column\", BG72),\"&Table\",$F$45),\"\")","v":""},{"$f":"IF(AND(BH57<>\"Y\",$F$55=\"Fact\",BH59=\"Y\"),CHAR(13)& SUBSTITUTE(SUBSTITUTE(SUBSTITUTE(SUBSTITUTE(Settings!$B$45,\"&BEAMColumn\",BH71),\"&BEAMTable\",$F$44),\"&Column\", BH72),\"&Table\",$F$45),\"\")","v":""},{"$f":"IF(AND(BI57<>\"Y\",$F$55=\"Fact\",BI59=\"Y\"),CHAR(13)& SUBSTITUTE(SUBSTITUTE(SUBSTITUTE(SUBSTITUTE(Settings!$B$45,\"&BEAMColumn\",BI71),\"&BEAMTable\",$F$44),\"&Column\", BI72),\"&Table\",$F$45),\"\")","v":""},{"$f":"IF(AND(BJ57<>\"Y\",$F$55=\"Fact\",BJ59=\"Y\"),CHAR(13)& SUBSTITUTE(SUBSTITUTE(SUBSTITUTE(SUBSTITUTE(Settings!$B$45,\"&BEAMColumn\",BJ71),\"&BEAMTable\",$F$44),\"&Column\", BJ72),\"&Table\",$F$45),\"\")","v":""},{"$f":"IF(AND(BK57<>\"Y\",$F$55=\"Fact\",BK59=\"Y\"),CHAR(13)& SUBSTITUTE(SUBSTITUTE(SUBSTITUTE(SUBSTITUTE(Settings!$B$45,\"&BEAMColumn\",BK71),\"&BEAMTable\",$F$44),\"&Column\", BK72),\"&Table\",$F$45),\"\")","v":""},{"$f":"IF(AND(BL57<>\"Y\",$F$55=\"Fact\",BL59=\"Y\"),CHAR(13)& SUBSTITUTE(SUBSTITUTE(SUBSTITUTE(SUBSTITUTE(Settings!$B$45,\"&BEAMColumn\",BL71),\"&BEAMTable\",$F$44),\"&Column\", BL72),\"&Table\",$F$45),\"\")","v":""},{"$f":"IF(AND(BM57<>\"Y\",$F$55=\"Fact\",BM59=\"Y\"),CHAR(13)& SUBSTITUTE(SUBSTITUTE(SUBSTITUTE(SUBSTITUTE(Settings!$B$45,\"&BEAMColumn\",BM71),\"&BEAMTable\",$F$44),\"&Column\", BM72),\"&Table\",$F$45),\"\")","v":""},{"$f":"IF(AND(BN57<>\"Y\",$F$55=\"Fact\",BN59=\"Y\"),CHAR(13)& SUBSTITUTE(SUBSTITUTE(SUBSTITUTE(SUBSTITUTE(Settings!$B$45,\"&BEAMColumn\",BN71),\"&BEAMTable\",$F$44),\"&Column\", BN72),\"&Table\",$F$45),\"\")","v":""},{"$f":"IF(AND(BO57<>\"Y\",$F$55=\"Fact\",BO59=\"Y\"),CHAR(13)& SUBSTITUTE(SUBSTITUTE(SUBSTITUTE(SUBSTITUTE(Settings!$B$45,\"&BEAMColumn\",BO71),\"&BEAMTable\",$F$44),\"&Column\", BO72),\"&Table\",$F$45),\"\")","v":""},{"$f":"IF(AND(BP57<>\"Y\",$F$55=\"Fact\",BP59=\"Y\"),CHAR(13)& SUBSTITUTE(SUBSTITUTE(SUBSTITUTE(SUBSTITUTE(Settings!$B$45,\"&BEAMColumn\",BP71),\"&BEAMTable\",$F$44),\"&Column\", BP72),\"&Table\",$F$45),\"\")","v":""},{"$f":"IF(AND(BQ57<>\"Y\",$F$55=\"Fact\",BQ59=\"Y\"),CHAR(13)& SUBSTITUTE(SUBSTITUTE(SUBSTITUTE(SUBSTITUTE(Settings!$B$45,\"&BEAMColumn\",BQ71),\"&BEAMTable\",$F$44),\"&Column\", BQ72),\"&Table\",$F$45),\"\")","v":""},{"$f":"IF(AND(BR57<>\"Y\",$F$55=\"Fact\",BR59=\"Y\"),CHAR(13)& SUBSTITUTE(SUBSTITUTE(SUBSTITUTE(SUBSTITUTE(Settings!$B$45,\"&BEAMColumn\",BR71),\"&BEAMTable\",$F$44),\"&Column\", BR72),\"&Table\",$F$45),\"\")","v":""},{"$f":"IF(AND(BS57<>\"Y\",$F$55=\"Fact\",BS59=\"Y\"),CHAR(13)& SUBSTITUTE(SUBSTITUTE(SUBSTITUTE(SUBSTITUTE(Settings!$B$45,\"&BEAMColumn\",BS71),\"&BEAMTable\",$F$44),\"&Column\", BS72),\"&Table\",$F$45),\"\")","v":""},{"$f":"IF(AND(BT57<>\"Y\",$F$55=\"Fact\",BT59=\"Y\"),CHAR(13)& SUBSTITUTE(SUBSTITUTE(SUBSTITUTE(SUBSTITUTE(Settings!$B$45,\"&BEAMColumn\",BT71),\"&BEAMTable\",$F$44),\"&Column\", BT72),\"&Table\",$F$45),\"\")","v":""},{"$f":"IF(AND(BU57<>\"Y\",$F$55=\"Fact\",BU59=\"Y\"),CHAR(13)& SUBSTITUTE(SUBSTITUTE(SUBSTITUTE(SUBSTITUTE(Settings!$B$45,\"&BEAMColumn\",BU71),\"&BEAMTable\",$F$44),\"&Column\", BU72),\"&Table\",$F$45),\"\")","v":""},{"$f":"IF(AND(BV57<>\"Y\",$F$55=\"Fact\",BV59=\"Y\"),CHAR(13)& SUBSTITUTE(SUBSTITUTE(SUBSTITUTE(SUBSTITUTE(Settings!$B$45,\"&BEAMColumn\",BV71),\"&BEAMTable\",$F$44),\"&Column\", BV72),\"&Table\",$F$45),\"\")","v":""},{"$f":"IF(AND(BW57<>\"Y\",$F$55=\"Fact\",BW59=\"Y\"),CHAR(13)& SUBSTITUTE(SUBSTITUTE(SUBSTITUTE(SUBSTITUTE(Settings!$B$45,\"&BEAMColumn\",BW71),\"&BEAMTable\",$F$44),\"&Column\", BW72),\"&Table\",$F$45),\"\")","v":""},{"$f":"IF(AND(BX57<>\"Y\",$F$55=\"Fact\",BX59=\"Y\"),CHAR(13)& SUBSTITUTE(SUBSTITUTE(SUBSTITUTE(SUBSTITUTE(Settings!$B$45,\"&BEAMColumn\",BX71),\"&BEAMTable\",$F$44),\"&Column\", BX72),\"&Table\",$F$45),\"\")","v":""},{"$f":"IF(AND(BY57<>\"Y\",$F$55=\"Fact\",BY59=\"Y\"),CHAR(13)& SUBSTITUTE(SUBSTITUTE(SUBSTITUTE(SUBSTITUTE(Settings!$B$45,\"&BEAMColumn\",BY71),\"&BEAMTable\",$F$44),\"&Column\", BY72),\"&Table\",$F$45),\"\")","v":""},{"$f":"IF(AND(BZ57<>\"Y\",$F$55=\"Fact\",BZ59=\"Y\"),CHAR(13)& SUBSTITUTE(SUBSTITUTE(SUBSTITUTE(SUBSTITUTE(Settings!$B$45,\"&BEAMColumn\",BZ71),\"&BEAMTable\",$F$44),\"&Column\", BZ72),\"&Table\",$F$45),\"\")","v":""},{"$f":"IF(AND(CA57<>\"Y\",$F$55=\"Fact\",CA59=\"Y\"),CHAR(13)& SUBSTITUTE(SUBSTITUTE(SUBSTITUTE(SUBSTITUTE(Settings!$B$45,\"&BEAMColumn\",CA71),\"&BEAMTable\",$F$44),\"&Column\", CA72),\"&Table\",$F$45),\"\")","v":""},{"$f":"IF(AND(CB57<>\"Y\",$F$55=\"Fact\",CB59=\"Y\"),CHAR(13)& SUBSTITUTE(SUBSTITUTE(SUBSTITUTE(SUBSTITUTE(Settings!$B$45,\"&BEAMColumn\",CB71),\"&BEAMTable\",$F$44),\"&Column\", CB72),\"&Table\",$F$45),\"\")","v":""},{"$f":"IF(AND(CC57<>\"Y\",$F$55=\"Fact\",CC59=\"Y\"),CHAR(13)& SUBSTITUTE(SUBSTITUTE(SUBSTITUTE(SUBSTITUTE(Settings!$B$45,\"&BEAMColumn\",CC71),\"&BEAMTable\",$F$44),\"&Column\", CC72),\"&Table\",$F$45),\"\")","v":""},{"$f":"IF(AND(CD57<>\"Y\",$F$55=\"Fact\",CD59=\"Y\"),CHAR(13)& SUBSTITUTE(SUBSTITUTE(SUBSTITUTE(SUBSTITUTE(Settings!$B$45,\"&BEAMColumn\",CD71),\"&BEAMTable\",$F$44),\"&Column\", CD72),\"&Table\",$F$45),\"\")","v":""},{"$f":"IF(AND(CE57<>\"Y\",$F$55=\"Fact\",CE59=\"Y\"),CHAR(13)& SUBSTITUTE(SUBSTITUTE(SUBSTITUTE(SUBSTITUTE(Settings!$B$45,\"&BEAMColumn\",CE71),\"&BEAMTable\",$F$44),\"&Column\", CE72),\"&Table\",$F$45),\"\")","v":""},{"$f":"IF(AND(CF57<>\"Y\",$F$55=\"Fact\",CF59=\"Y\"),CHAR(13)& SUBSTITUTE(SUBSTITUTE(SUBSTITUTE(SUBSTITUTE(Settings!$B$45,\"&BEAMColumn\",CF71),\"&BEAMTable\",$F$44),\"&Column\", CF72),\"&Table\",$F$45),\"\")","v":""},{"$f":"IF(AND(CG57<>\"Y\",$F$55=\"Fact\",CG59=\"Y\"),CHAR(13)& SUBSTITUTE(SUBSTITUTE(SUBSTITUTE(SUBSTITUTE(Settings!$B$45,\"&BEAMColumn\",CG71),\"&BEAMTable\",$F$44),\"&Column\", CG72),\"&Table\",$F$45),\"\")","v":""},{"$f":"IF(AND(CH57<>\"Y\",$F$55=\"Fact\",CH59=\"Y\"),CHAR(13)& SUBSTITUTE(SUBSTITUTE(SUBSTITUTE(SUBSTITUTE(Settings!$B$45,\"&BEAMColumn\",CH71),\"&BEAMTable\",$F$44),\"&Column\", CH72),\"&Table\",$F$45),\"\")","v":""},{"$f":"IF(AND(CI57<>\"Y\",$F$55=\"Fact\",CI59=\"Y\"),CHAR(13)& SUBSTITUTE(SUBSTITUTE(SUBSTITUTE(SUBSTITUTE(Settings!$B$45,\"&BEAMColumn\",CI71),\"&BEAMTable\",$F$44),\"&Column\", CI72),\"&Table\",$F$45),\"\")","v":""},{"$f":"IF(AND(CJ57<>\"Y\",$F$55=\"Fact\",CJ59=\"Y\"),CHAR(13)& SUBSTITUTE(SUBSTITUTE(SUBSTITUTE(SUBSTITUTE(Settings!$B$45,\"&BEAMColumn\",CJ71),\"&BEAMTable\",$F$44),\"&Column\", CJ72),\"&Table\",$F$45),\"\")","v":""},{"$f":"IF(AND(CK57<>\"Y\",$F$55=\"Fact\",CK59=\"Y\"),CHAR(13)& SUBSTITUTE(SUBSTITUTE(SUBSTITUTE(SUBSTITUTE(Settings!$B$45,\"&BEAMColumn\",CK71),\"&BEAMTable\",$F$44),\"&Column\", CK72),\"&Table\",$F$45),\"\")","v":""},{"$f":"IF(AND(CL57<>\"Y\",$F$55=\"Fact\",CL59=\"Y\"),CHAR(13)& SUBSTITUTE(SUBSTITUTE(SUBSTITUTE(SUBSTITUTE(Settings!$B$45,\"&BEAMColumn\",CL71),\"&BEAMTable\",$F$44),\"&Column\", CL72),\"&Table\",$F$45),\"\")","v":""},{"$f":"IF(AND(CM57<>\"Y\",$F$55=\"Fact\",CM59=\"Y\"),CHAR(13)& SUBSTITUTE(SUBSTITUTE(SUBSTITUTE(SUBSTITUTE(Settings!$B$45,\"&BEAMColumn\",CM71),\"&BEAMTable\",$F$44),\"&Column\", CM72),\"&Table\",$F$45),\"\")","v":""},{"$f":"IF(AND(CN57<>\"Y\",$F$55=\"Fact\",CN59=\"Y\"),CHAR(13)& SUBSTITUTE(SUBSTITUTE(SUBSTITUTE(SUBSTITUTE(Settings!$B$45,\"&BEAMColumn\",CN71),\"&BEAMTable\",$F$44),\"&Column\", CN72),\"&Table\",$F$45),\"\")","v":""},{"$f":"IF(AND(CO57<>\"Y\",$F$55=\"Fact\",CO59=\"Y\"),CHAR(13)& SUBSTITUTE(SUBSTITUTE(SUBSTITUTE(SUBSTITUTE(Settings!$B$45,\"&BEAMColumn\",CO71),\"&BEAMTable\",$F$44),\"&Column\", CO72),\"&Table\",$F$45),\"\")","v":""},{"$f":"IF(AND(CP57<>\"Y\",$F$55=\"Fact\",CP59=\"Y\"),CHAR(13)& SUBSTITUTE(SUBSTITUTE(SUBSTITUTE(SUBSTITUTE(Settings!$B$45,\"&BEAMColumn\",CP71),\"&BEAMTable\",$F$44),\"&Column\", CP72),\"&Table\",$F$45),\"\")","v":""},{"$f":"IF(AND(CQ57<>\"Y\",$F$55=\"Fact\",CQ59=\"Y\"),CHAR(13)& SUBSTITUTE(SUBSTITUTE(SUBSTITUTE(SUBSTITUTE(Settings!$B$45,\"&BEAMColumn\",CQ71),\"&BEAMTable\",$F$44),\"&Column\", CQ72),\"&Table\",$F$45),\"\")","v":""},{"$f":"IF(AND(CR57<>\"Y\",$F$55=\"Fact\",CR59=\"Y\"),CHAR(13)& SUBSTITUTE(SUBSTITUTE(SUBSTITUTE(SUBSTITUTE(Settings!$B$45,\"&BEAMColumn\",CR71),\"&BEAMTable\",$F$44),\"&Column\", CR72),\"&Table\",$F$45),\"\")","v":""},{"$f":"IF(AND(CS57<>\"Y\",$F$55=\"Fact\",CS59=\"Y\"),CHAR(13)& SUBSTITUTE(SUBSTITUTE(SUBSTITUTE(SUBSTITUTE(Settings!$B$45,\"&BEAMColumn\",CS71),\"&BEAMTable\",$F$44),\"&Column\", CS72),\"&Table\",$F$45),\"\")","v":""},{"$f":"IF(AND(CT57<>\"Y\",$F$55=\"Fact\",CT59=\"Y\"),CHAR(13)& SUBSTITUTE(SUBSTITUTE(SUBSTITUTE(SUBSTITUTE(Settings!$B$45,\"&BEAMColumn\",CT71),\"&BEAMTable\",$F$44),\"&Column\", CT72),\"&Table\",$F$45),\"\")","v":""},{"$f":"IF(AND(CU57<>\"Y\",$F$55=\"Fact\",CU59=\"Y\"),CHAR(13)& SUBSTITUTE(SUBSTITUTE(SUBSTITUTE(SUBSTITUTE(Settings!$B$45,\"&BEAMColumn\",CU71),\"&BEAMTable\",$F$44),\"&Column\", CU72),\"&Table\",$F$45),\"\")","v":""},{"$f":"IF(AND(CV57<>\"Y\",$F$55=\"Fact\",CV59=\"Y\"),CHAR(13)& SUBSTITUTE(SUBSTITUTE(SUBSTITUTE(SUBSTITUTE(Settings!$B$45,\"&BEAMColumn\",CV71),\"&BEAMTable\",$F$44),\"&Column\", CV72),\"&Table\",$F$45),\"\")","v":""},{"$f":"IF(AND(CW57<>\"Y\",$F$55=\"Fact\",CW59=\"Y\"),CHAR(13)& SUBSTITUTE(SUBSTITUTE(SUBSTITUTE(SUBSTITUTE(Settings!$B$45,\"&BEAMColumn\",CW71),\"&BEAMTable\",$F$44),\"&Column\", CW72),\"&Table\",$F$45),\"\")","v":""},{"$f":"IF(AND(CX57<>\"Y\",$F$55=\"Fact\",CX59=\"Y\"),CHAR(13)& SUBSTITUTE(SUBSTITUTE(SUBSTITUTE(SUBSTITUTE(Settings!$B$45,\"&BEAMColumn\",CX71),\"&BEAMTable\",$F$44),\"&Column\", CX72),\"&Table\",$F$45),\"\")","v":""},{"$f":"IF(AND(CY57<>\"Y\",$F$55=\"Fact\",CY59=\"Y\"),CHAR(13)& SUBSTITUTE(SUBSTITUTE(SUBSTITUTE(SUBSTITUTE(Settings!$B$45,\"&BEAMColumn\",CY71),\"&BEAMTable\",$F$44),\"&Column\", CY72),\"&Table\",$F$45),\"\")","v":""},{"$f":"IF(AND(CZ57<>\"Y\",$F$55=\"Fact\",CZ59=\"Y\"),CHAR(13)& SUBSTITUTE(SUBSTITUTE(SUBSTITUTE(SUBSTITUTE(Settings!$B$45,\"&BEAMColumn\",CZ71),\"&BEAMTable\",$F$44),\"&Column\", CZ72),\"&Table\",$F$45),\"\")","v":""},{"$f":"IF(AND(DA57<>\"Y\",$F$55=\"Fact\",DA59=\"Y\"),CHAR(13)& SUBSTITUTE(SUBSTITUTE(SUBSTITUTE(SUBSTITUTE(Settings!$B$45,\"&BEAMColumn\",DA71),\"&BEAMTable\",$F$44),\"&Column\", DA72),\"&Table\",$F$45),\"\")","v":""},{"$f":"IF(AND(DB57<>\"Y\",$F$55=\"Fact\",DB59=\"Y\"),CHAR(13)& SUBSTITUTE(SUBSTITUTE(SUBSTITUTE(SUBSTITUTE(Settings!$B$45,\"&BEAMColumn\",DB71),\"&BEAMTable\",$F$44),\"&Column\", DB72),\"&Table\",$F$45),\"\")","v":""},{"$f":"IF(AND(DC57<>\"Y\",$F$55=\"Fact\",DC59=\"Y\"),CHAR(13)& SUBSTITUTE(SUBSTITUTE(SUBSTITUTE(SUBSTITUTE(Settings!$B$45,\"&BEAMColumn\",DC71),\"&BEAMTable\",$F$44),\"&Column\", DC72),\"&Table\",$F$45),\"\")","v":""},{"$f":"IF(AND(DD57<>\"Y\",$F$55=\"Fact\",DD59=\"Y\"),CHAR(13)& SUBSTITUTE(SUBSTITUTE(SUBSTITUTE(SUBSTITUTE(Settings!$B$45,\"&BEAMColumn\",DD71),\"&BEAMTable\",$F$44),\"&Column\", DD72),\"&Table\",$F$45),\"\")","v":""},{"$f":"IF(AND(DE57<>\"Y\",$F$55=\"Fact\",DE59=\"Y\"),CHAR(13)& SUBSTITUTE(SUBSTITUTE(SUBSTITUTE(SUBSTITUTE(Settings!$B$45,\"&BEAMColumn\",DE71),\"&BEAMTable\",$F$44),\"&Column\", DE72),\"&Table\",$F$45),\"\")","v":""},{"$f":"IF(AND(DF57<>\"Y\",$F$55=\"Fact\",DF59=\"Y\"),CHAR(13)& SUBSTITUTE(SUBSTITUTE(SUBSTITUTE(SUBSTITUTE(Settings!$B$45,\"&BEAMColumn\",DF71),\"&BEAMTable\",$F$44),\"&Column\", DF72),\"&Table\",$F$45),\"\")","v":""},{"$f":"IF(AND(DG57<>\"Y\",$F$55=\"Fact\",DG59=\"Y\"),CHAR(13)& SUBSTITUTE(SUBSTITUTE(SUBSTITUTE(SUBSTITUTE(Settings!$B$45,\"&BEAMColumn\",DG71),\"&BEAMTable\",$F$44),\"&Column\", DG72),\"&Table\",$F$45),\"\")","v":""},{"$f":"IF(AND(DH57<>\"Y\",$F$55=\"Fact\",DH59=\"Y\"),CHAR(13)& SUBSTITUTE(SUBSTITUTE(SUBSTITUTE(SUBSTITUTE(Settings!$B$45,\"&BEAMColumn\",DH71),\"&BEAMTable\",$F$44),\"&Column\", DH72),\"&Table\",$F$45),\"\")","v":""},{"$f":"IF(AND(DI57<>\"Y\",$F$55=\"Fact\",DI59=\"Y\"),CHAR(13)& SUBSTITUTE(SUBSTITUTE(SUBSTITUTE(SUBSTITUTE(Settings!$B$45,\"&BEAMColumn\",DI71),\"&BEAMTable\",$F$44),\"&Column\", DI72),\"&Table\",$F$45),\"\")","v":""},{"$f":"IF(AND(DJ57<>\"Y\",$F$55=\"Fact\",DJ59=\"Y\"),CHAR(13)& SUBSTITUTE(SUBSTITUTE(SUBSTITUTE(SUBSTITUTE(Settings!$B$45,\"&BEAMColumn\",DJ71),\"&BEAMTable\",$F$44),\"&Column\", DJ72),\"&Table\",$F$45),\"\")","v":""},{"$f":"IF(AND(DK57<>\"Y\",$F$55=\"Fact\",DK59=\"Y\"),CHAR(13)& SUBSTITUTE(SUBSTITUTE(SUBSTITUTE(SUBSTITUTE(Settings!$B$45,\"&BEAMColumn\",DK71),\"&BEAMTable\",$F$44),\"&Column\", DK72),\"&Table\",$F$45),\"\")","v":""},{"$f":"IF(AND(DL57<>\"Y\",$F$55=\"Fact\",DL59=\"Y\"),CHAR(13)& SUBSTITUTE(SUBSTITUTE(SUBSTITUTE(SUBSTITUTE(Settings!$B$45,\"&BEAMColumn\",DL71),\"&BEAMTable\",$F$44),\"&Column\", DL72),\"&Table\",$F$45),\"\")","v":""},{"$f":"IF(AND(DM57<>\"Y\",$F$55=\"Fact\",DM59=\"Y\"),CHAR(13)& SUBSTITUTE(SUBSTITUTE(SUBSTITUTE(SUBSTITUTE(Settings!$B$45,\"&BEAMColumn\",DM71),\"&BEAMTable\",$F$44),\"&Column\", DM72),\"&Table\",$F$45),\"\")","v":""},{"$f":"IF(AND(DN57<>\"Y\",$F$55=\"Fact\",DN59=\"Y\"),CHAR(13)& SUBSTITUTE(SUBSTITUTE(SUBSTITUTE(SUBSTITUTE(Settings!$B$45,\"&BEAMColumn\",DN71),\"&BEAMTable\",$F$44),\"&Column\", DN72),\"&Table\",$F$45),\"\")","v":""},{"$f":"IF(AND(DO57<>\"Y\",$F$55=\"Fact\",DO59=\"Y\"),CHAR(13)& SUBSTITUTE(SUBSTITUTE(SUBSTITUTE(SUBSTITUTE(Settings!$B$45,\"&BEAMColumn\",DO71),\"&BEAMTable\",$F$44),\"&Column\", DO72),\"&Table\",$F$45),\"\")","v":""},{"$f":"IF(AND(DP57<>\"Y\",$F$55=\"Fact\",DP59=\"Y\"),CHAR(13)& SUBSTITUTE(SUBSTITUTE(SUBSTITUTE(SUBSTITUTE(Settings!$B$45,\"&BEAMColumn\",DP71),\"&BEAMTable\",$F$44),\"&Column\", DP72),\"&Table\",$F$45),\"\")","v":""},{"$f":"IF(AND(DQ57<>\"Y\",$F$55=\"Fact\",DQ59=\"Y\"),CHAR(13)& SUBSTITUTE(SUBSTITUTE(SUBSTITUTE(SUBSTITUTE(Settings!$B$45,\"&BEAMColumn\",DQ71),\"&BEAMTable\",$F$44),\"&Column\", DQ72),\"&Table\",$F$45),\"\")","v":""},{"$f":"IF(AND(DR57<>\"Y\",$F$55=\"Fact\",DR59=\"Y\"),CHAR(13)& SUBSTITUTE(SUBSTITUTE(SUBSTITUTE(SUBSTITUTE(Settings!$B$45,\"&BEAMColumn\",DR71),\"&BEAMTable\",$F$44),\"&Column\", DR72),\"&Table\",$F$45),\"\")","v":""},{"$f":"IF(AND(DS57<>\"Y\",$F$55=\"Fact\",DS59=\"Y\"),CHAR(13)& SUBSTITUTE(SUBSTITUTE(SUBSTITUTE(SUBSTITUTE(Settings!$B$45,\"&BEAMColumn\",DS71),\"&BEAMTable\",$F$44),\"&Column\", DS72),\"&Table\",$F$45),\"\")","v":""},{"$f":"IF(AND(DT57<>\"Y\",$F$55=\"Fact\",DT59=\"Y\"),CHAR(13)& SUBSTITUTE(SUBSTITUTE(SUBSTITUTE(SUBSTITUTE(Settings!$B$45,\"&BEAMColumn\",DT71),\"&BEAMTable\",$F$44),\"&Column\", DT72),\"&Table\",$F$45),\"\")","v":""},{"$f":"IF(AND(DU57<>\"Y\",$F$55=\"Fact\",DU59=\"Y\"),CHAR(13)& SUBSTITUTE(SUBSTITUTE(SUBSTITUTE(SUBSTITUTE(Settings!$B$45,\"&BEAMColumn\",DU71),\"&BEAMTable\",$F$44),\"&Column\", DU72),\"&Table\",$F$45),\"\")","v":""},{"$f":"IF(AND(DV57<>\"Y\",$F$55=\"Fact\",DV59=\"Y\"),CHAR(13)& SUBSTITUTE(SUBSTITUTE(SUBSTITUTE(SUBSTITUTE(Settings!$B$45,\"&BEAMColumn\",DV71),\"&BEAMTable\",$F$44),\"&Column\", DV72),\"&Table\",$F$45),\"\")","v":""},{"$f":"IF(AND(DW57<>\"Y\",$F$55=\"Fact\",DW59=\"Y\"),CHAR(13)& SUBSTITUTE(SUBSTITUTE(SUBSTITUTE(SUBSTITUTE(Settings!$B$45,\"&BEAMColumn\",DW71),\"&BEAMTable\",$F$44),\"&Column\", DW72),\"&Table\",$F$45),\"\")","v":""},{"$f":"IF(AND(DX57<>\"Y\",$F$55=\"Fact\",DX59=\"Y\"),CHAR(13)& SUBSTITUTE(SUBSTITUTE(SUBSTITUTE(SUBSTITUTE(Settings!$B$45,\"&BEAMColumn\",DX71),\"&BEAMTable\",$F$44),\"&Column\", DX72),\"&Table\",$F$45),\"\")","v":""},{"$f":"IF(AND(DY57<>\"Y\",$F$55=\"Fact\",DY59=\"Y\"),CHAR(13)& SUBSTITUTE(SUBSTITUTE(SUBSTITUTE(SUBSTITUTE(Settings!$B$45,\"&BEAMColumn\",DY71),\"&BEAMTable\",$F$44),\"&Column\", DY72),\"&Table\",$F$45),\"\")","v":""},{"$f":"IF(AND(DZ57<>\"Y\",$F$55=\"Fact\",DZ59=\"Y\"),CHAR(13)& SUBSTITUTE(SUBSTITUTE(SUBSTITUTE(SUBSTITUTE(Settings!$B$45,\"&BEAMColumn\",DZ71),\"&BEAMTable\",$F$44),\"&Column\", DZ72),\"&Table\",$F$45),\"\")","v":""},{"$f":"IF(AND(EA57<>\"Y\",$F$55=\"Fact\",EA59=\"Y\"),CHAR(13)& SUBSTITUTE(SUBSTITUTE(SUBSTITUTE(SUBSTITUTE(Settings!$B$45,\"&BEAMColumn\",EA71),\"&BEAMTable\",$F$44),\"&Column\", EA72),\"&Table\",$F$45),\"\")","v":""},{"$f":"IF(AND(EB57<>\"Y\",$F$55=\"Fact\",EB59=\"Y\"),CHAR(13)& SUBSTITUTE(SUBSTITUTE(SUBSTITUTE(SUBSTITUTE(Settings!$B$45,\"&BEAMColumn\",EB71),\"&BEAMTable\",$F$44),\"&Column\", EB72),\"&Table\",$F$45),\"\")","v":""},{"$f":"IF(AND(EC57<>\"Y\",$F$55=\"Fact\",EC59=\"Y\"),CHAR(13)& SUBSTITUTE(SUBSTITUTE(SUBSTITUTE(SUBSTITUTE(Settings!$B$45,\"&BEAMColumn\",EC71),\"&BEAMTable\",$F$44),\"&Column\", EC72),\"&Table\",$F$45),\"\")","v":""},{"$f":"IF(AND(ED57<>\"Y\",$F$55=\"Fact\",ED59=\"Y\"),CHAR(13)& SUBSTITUTE(SUBSTITUTE(SUBSTITUTE(SUBSTITUTE(Settings!$B$45,\"&BEAMColumn\",ED71),\"&BEAMTable\",$F$44),\"&Column\", ED72),\"&Table\",$F$45),\"\")","v":""},{"$f":"IF(AND(EE57<>\"Y\",$F$55=\"Fact\",EE59=\"Y\"),CHAR(13)& SUBSTITUTE(SUBSTITUTE(SUBSTITUTE(SUBSTITUTE(Settings!$B$45,\"&BEAMColumn\",EE71),\"&BEAMTable\",$F$44),\"&Column\", EE72),\"&Table\",$F$45),\"\")","v":""},{"$f":"IF(AND(EF57<>\"Y\",$F$55=\"Fact\",EF59=\"Y\"),CHAR(13)& SUBSTITUTE(SUBSTITUTE(SUBSTITUTE(SUBSTITUTE(Settings!$B$45,\"&BEAMColumn\",EF71),\"&BEAMTable\",$F$44),\"&Column\", EF72),\"&Table\",$F$45),\"\")","v":""},{"$f":"IF(AND(EG57<>\"Y\",$F$55=\"Fact\",EG59=\"Y\"),CHAR(13)& SUBSTITUTE(SUBSTITUTE(SUBSTITUTE(SUBSTITUTE(Settings!$B$45,\"&BEAMColumn\",EG71),\"&BEAMTable\",$F$44),\"&Column\", EG72),\"&Table\",$F$45),\"\")","v":""},{"$f":"IF(AND(EH57<>\"Y\",$F$55=\"Fact\",EH59=\"Y\"),CHAR(13)& SUBSTITUTE(SUBSTITUTE(SUBSTITUTE(SUBSTITUTE(Settings!$B$45,\"&BEAMColumn\",EH71),\"&BEAMTable\",$F$44),\"&Column\", EH72),\"&Table\",$F$45),\"\")","v":""},{"$f":"IF(AND(EI57<>\"Y\",$F$55=\"Fact\",EI59=\"Y\"),CHAR(13)& SUBSTITUTE(SUBSTITUTE(SUBSTITUTE(SUBSTITUTE(Settings!$B$45,\"&BEAMColumn\",EI71),\"&BEAMTable\",$F$44),\"&Column\", EI72),\"&Table\",$F$45),\"\")","v":""},{"$f":"IF(AND(EJ57<>\"Y\",$F$55=\"Fact\",EJ59=\"Y\"),CHAR(13)& SUBSTITUTE(SUBSTITUTE(SUBSTITUTE(SUBSTITUTE(Settings!$B$45,\"&BEAMColumn\",EJ71),\"&BEAMTable\",$F$44),\"&Column\", EJ72),\"&Table\",$F$45),\"\")","v":""},{"$f":"IF(AND(EK57<>\"Y\",$F$55=\"Fact\",EK59=\"Y\"),CHAR(13)& SUBSTITUTE(SUBSTITUTE(SUBSTITUTE(SUBSTITUTE(Settings!$B$45,\"&BEAMColumn\",EK71),\"&BEAMTable\",$F$44),\"&Column\", EK72),\"&Table\",$F$45),\"\")","v":""},{"$f":"IF(AND(EL57<>\"Y\",$F$55=\"Fact\",EL59=\"Y\"),CHAR(13)& SUBSTITUTE(SUBSTITUTE(SUBSTITUTE(SUBSTITUTE(Settings!$B$45,\"&BEAMColumn\",EL71),\"&BEAMTable\",$F$44),\"&Column\", EL72),\"&Table\",$F$45),\"\")","v":""},{"$f":"IF(AND(EM57<>\"Y\",$F$55=\"Fact\",EM59=\"Y\"),CHAR(13)& SUBSTITUTE(SUBSTITUTE(SUBSTITUTE(SUBSTITUTE(Settings!$B$45,\"&BEAMColumn\",EM71),\"&BEAMTable\",$F$44),\"&Column\", EM72),\"&Table\",$F$45),\"\")","v":""},{"$f":"IF(AND(EN57<>\"Y\",$F$55=\"Fact\",EN59=\"Y\"),CHAR(13)& SUBSTITUTE(SUBSTITUTE(SUBSTITUTE(SUBSTITUTE(Settings!$B$45,\"&BEAMColumn\",EN71),\"&BEAMTable\",$F$44),\"&Column\", EN72),\"&Table\",$F$45),\"\")","v":""},{"$f":"IF(AND(EO57<>\"Y\",$F$55=\"Fact\",EO59=\"Y\"),CHAR(13)& SUBSTITUTE(SUBSTITUTE(SUBSTITUTE(SUBSTITUTE(Settings!$B$45,\"&BEAMColumn\",EO71),\"&BEAMTable\",$F$44),\"&Column\", EO72),\"&Table\",$F$45),\"\")","v":""},{"$f":"IF(AND(EP57<>\"Y\",$F$55=\"Fact\",EP59=\"Y\"),CHAR(13)& SUBSTITUTE(SUBSTITUTE(SUBSTITUTE(SUBSTITUTE(Settings!$B$45,\"&BEAMColumn\",EP71),\"&BEAMTable\",$F$44),\"&Column\", EP72),\"&Table\",$F$45),\"\")","v":""},{"$f":"IF(AND(EQ57<>\"Y\",$F$55=\"Fact\",EQ59=\"Y\"),CHAR(13)& SUBSTITUTE(SUBSTITUTE(SUBSTITUTE(SUBSTITUTE(Settings!$B$45,\"&BEAMColumn\",EQ71),\"&BEAMTable\",$F$44),\"&Column\", EQ72),\"&Table\",$F$45),\"\")","v":""},{"$f":"IF(AND(ER57<>\"Y\",$F$55=\"Fact\",ER59=\"Y\"),CHAR(13)& SUBSTITUTE(SUBSTITUTE(SUBSTITUTE(SUBSTITUTE(Settings!$B$45,\"&BEAMColumn\",ER71),\"&BEAMTable\",$F$44),\"&Column\", ER72),\"&Table\",$F$45),\"\")","v":""},{"$f":"IF(AND(ES57<>\"Y\",$F$55=\"Fact\",ES59=\"Y\"),CHAR(13)& SUBSTITUTE(SUBSTITUTE(SUBSTITUTE(SUBSTITUTE(Settings!$B$45,\"&BEAMColumn\",ES71),\"&BEAMTable\",$F$44),\"&Column\", ES72),\"&Table\",$F$45),\"\")","v":""},{"$f":"IF(AND(ET57<>\"Y\",$F$55=\"Fact\",ET59=\"Y\"),CHAR(13)& SUBSTITUTE(SUBSTITUTE(SUBSTITUTE(SUBSTITUTE(Settings!$B$45,\"&BEAMColumn\",ET71),\"&BEAMTable\",$F$44),\"&Column\", ET72),\"&Table\",$F$45),\"\")","v":""},{"$f":"IF(AND(EU57<>\"Y\",$F$55=\"Fact\",EU59=\"Y\"),CHAR(13)& SUBSTITUTE(SUBSTITUTE(SUBSTITUTE(SUBSTITUTE(Settings!$B$45,\"&BEAMColumn\",EU71),\"&BEAMTable\",$F$44),\"&Column\", EU72),\"&Table\",$F$45),\"\")","v":""},{"$f":"IF(AND(EV57<>\"Y\",$F$55=\"Fact\",EV59=\"Y\"),CHAR(13)& SUBSTITUTE(SUBSTITUTE(SUBSTITUTE(SUBSTITUTE(Settings!$B$45,\"&BEAMColumn\",EV71),\"&BEAMTable\",$F$44),\"&Column\", EV72),\"&Table\",$F$45),\"\")","v":""},{"$f":"IF(AND(EW57<>\"Y\",$F$55=\"Fact\",EW59=\"Y\"),CHAR(13)& SUBSTITUTE(SUBSTITUTE(SUBSTITUTE(SUBSTITUTE(Settings!$B$45,\"&BEAMColumn\",EW71),\"&BEAMTable\",$F$44),\"&Column\", EW72),\"&Table\",$F$45),\"\")","v":""},{"$f":"IF(AND(EX57<>\"Y\",$F$55=\"Fact\",EX59=\"Y\"),CHAR(13)& SUBSTITUTE(SUBSTITUTE(SUBSTITUTE(SUBSTITUTE(Settings!$B$45,\"&BEAMColumn\",EX71),\"&BEAMTable\",$F$44),\"&Column\", EX72),\"&Table\",$F$45),\"\")","v":""},{"$f":"IF(AND(EY57<>\"Y\",$F$55=\"Fact\",EY59=\"Y\"),CHAR(13)& SUBSTITUTE(SUBSTITUTE(SUBSTITUTE(SUBSTITUTE(Settings!$B$45,\"&BEAMColumn\",EY71),\"&BEAMTable\",$F$44),\"&Column\", EY72),\"&Table\",$F$45),\"\")","v":""}]
[null,null,"Index List",null,null,{"$f":"F112","v":""},{"$f":"CONCATENATE(INDIRECT(ADDRESS(ROW(),COLUMN()-1)),G112)","v":""},{"$f":"CONCATENATE(INDIRECT(ADDRESS(ROW(),COLUMN()-1)),H112)","v":""},"","","","","","","","","","","","","","","","","","","","","","","","","","","","","","","","","","","","","","","","","","","","","","","","","","","","","","","","","","","","","","","",{"$f":"CONCATENATE(INDIRECT(ADDRESS(ROW(),COLUMN()-1)),BT112)","v":""},"","","","","","","","","","","","","","","","","","","","","","","","","","","","","","","","","","","","","","","","","","","","","","","","","","","","","","","","","","","","","","","",{"$f":"CONCATENATE(INDIRECT(ADDRESS(ROW(),COLUMN()-1)),EF112)","v":""},"","","","","","","","","","","","","","","","","","",""]
[]
[]
[{"$nulls":5},"SQL","Visable Display Columns","Viable Key Codes"]
[null,null,"Raw Key Lists (Array functions)",null,null,{"$f":"INDEX(F106:EY106,MATCH(MAX(LEN(F106:EY106)),LEN(F106:EY106),0))","v":""},{"$f":"INDEX(F78:EY78,MATCH(MAX(LEN(F78:EY78)),LEN(F78:EY78),0))","v":""},{"$f":"INDEX(F91:EY91,MATCH(MAX(LEN(F91:EY91)),LEN(F91:EY91),0))","v":""}]
[null,null,"Raw Non-key Lists",null,null,{"$f":"INDEX(F107:EY107,MATCH(MAX(LEN(F107:EY107)),LEN(F107:EY107),0))","v":"SUBJECT VARCHAR2(40),\rOBJECT VARCHAR2(40),\rEVENT_DATE DATE,\r"},{"$f":"INDEX(F82:EY82,MATCH(MAX(LEN(F82:EY82)),LEN(F82:EY82),0))","v":"SUBJECT\rOBJECT\rEVENT_DATE\r"},{"$f":"INDEX(F93:EY93,MATCH(MAX(LEN(F93:EY93)),LEN(F93:EY93),0))","v":"\r\r [when] \r"}]
[null,null,"All Column codes (hidden and visable)",null,null,{"$f":"INDEX(F84:EY84,MATCH(MAX(LEN(F84:EY84)),LEN(F84:EY84),0))","v":", , [when], , , , , , , , , , , , , , , , , , , , , , , , , , , , , , , , , , , , , , , , , , , , , , , , , , , , , , , , , , , , , , , , , , , , , , , , , , , , , , , , , , , , , , , , , , , , , , , , , , , , , , , , , , , , , , , , , , , , , , , , , , , , , , , , , , , , , , , , , , , , , , , , , , , "}]
[null,null,"Add Auto Surrogate Key to Dimension Key Column list if no explicitely SK defined",null,null,{"$f":"IF(AND($F$55=\"Dimension\",ISERROR(FIND(\"SK\",$F$119))),\"Y\",\"\")","v":""}]
[null,null,"Auto Surrogate Key Processing",null,null,{"$f":"IF($F$120=\"Y\", CONCATENATE(Settings!$B$12,\" \", Settings!B19, \",\",CHAR(13), F117),  F117)","v":""},{"$f":"IF(AND($F$120=\"Y\", Settings!$B$42<>\"Y\"), CONCATENATE(Settings!$B$12,CHAR(13), IF(LEN(G117)=0,CHAR(13),\"\"), G118),  G118)","v":"SUBJECT\rOBJECT\rEVENT_DATE\r"},{"$f":"IF(AND($F$120=\"Y\", Settings!$B$42<>\"Y\"), CONCATENATE(SUBSTITUTE(Settings!$B$41,\"&BEAMColumnCodes\",\"SK\"),CHAR(13), IF(LEN($H$117)=0,CHAR(13),\"\"), $H$118),  $H$118)","v":"\r\r [when] \r"}]
[null,null,"Add Key and Non-Key Column Lists",null,null,{"$f":"F121 & F118","v":"SUBJECT VARCHAR2(40),\rOBJECT VARCHAR2(40),\rEVENT_DATE DATE,\r"}]
[null,null,"Remove trailing comma and <CR> from Column List. \n\nEmpty if no valid SQL columns",null,null,{"$f":"IF(LEN($F$122)=0,\"\",LEFT(F122,LEN(F122)-2))","v":"SUBJECT VARCHAR2(40),\rOBJECT VARCHAR2(40),\rEVENT_DATE DATE"}]
[null,null,"Add DDL Comment Create Table Clause",null,null,{"$f":"CONCATENATE(Settings!B3, \" DDL for \", F54, \" &Table generated by BEAM*Modelstormer \", $F$43, \" on \", TEXT(NOW(),\"d mmm yyyy at hh:mm\"), \" \", Settings!B4, CHAR(13), CHAR(13), F56, Settings!B11, F123)","v":"/* DDL for Recurring Event &Table generated by BEAM*Modelstormer 0.95C on 22 May 2017 at 19:16 */\r\rCREATE TABLE EVENT_NAME\r(SUBJECT VARCHAR2(40),\rOBJECT VARCHAR2(40),\rEVENT_DATE DATE"}]
[null,null,"Add Admin Attributes if table is a HV dimension",null,null,{"$f":"IF(AND($F$55=\"Dimension\",NOT(ISERROR(FIND(\"HV\",$F$50)))),\"Y\",\"\")","v":""}]
[null,null,"Adding Admin Attributes. \n\nEnd column list in SQL",null,null,{"$f":"IF($F$125=\"Y\",$F$124 & Settings!$B$29 & Settings!$B$33, $F$124 & Settings!$B$33)","v":"/* DDL for Recurring Event &Table generated by BEAM*Modelstormer 0.95C on 22 May 2017 at 19:16 */\r\rCREATE TABLE EVENT_NAME\r(SUBJECT VARCHAR2(40),\rOBJECT VARCHAR2(40),\rEVENT_DATE DATE)"},{"$f":"IF($F$125<>\"Y\", $G$121, IF(LEN($G$121) + LEN(Settings!$B$30)<254,$G$121 & Settings!$B$30, $G$121 & \"…\"))","v":"SUBJECT\rOBJECT\rEVENT_DATE\r"},{"$f":"IF(AND($F$125=\"Y\", LEN($G$121)+LEN(Settings!$B$30)<254), $H$121 & Settings!$B$31, $H$121)","v":"\r\r [when] \r"}]
[null,null,"Add Create Table options below column list and <Statement End>",null,null,{"$f":"TRIM(F126 & IF(AND($F$55=\"Dimension\", LEN(Settings!$B$35)<>0), CHAR(13) & Settings!B35,IF(AND($F$55=\"Fact\", LEN(Settings!$B$34)<>0), CHAR(13) & Settings!B34, \"\")) & Settings!$B$36)","v":"/* DDL for Recurring Event &Table generated by BEAM*Modelstormer 0.95C on 22 May 2017 at 19:16 */\r\rCREATE TABLE EVENT_NAME\r(SUBJECT VARCHAR2(40),\rOBJECT VARCHAR2(40),\rEVENT_DATE DATE);\r"}]
[null,null,"SK Column List (array formulae)",null,null,{"$f":"INDEX(F87:EY87,MATCH(MAX(LEN(F87:EY87)),LEN(F87:EY87),0))","v":""}]
[null,null,"Create Key Column CSV List",null,null,{"$f":"IF($F$120=\"Y\",SUBSTITUTE(Settings!$B$12,\"&Table\",$F$45),IF(LEN($F$128)=0,\"\",LEFT($F$128,LEN($F$128)-2)))","v":""}]
[null,null,"Add Dimension Constraint/Index if necessary",null,null,{"$f":"F127 & IF(AND($F$55=\"Dimension\", LEN(Settings!$B$46)<>0), CHAR(13) & Settings!$B$46 & CHAR(13),\"\")","v":"/* DDL for Recurring Event &Table generated by BEAM*Modelstormer 0.95C on 22 May 2017 at 19:16 */\r\rCREATE TABLE EVENT_NAME\r(SUBJECT VARCHAR2(40),\rOBJECT VARCHAR2(40),\rEVENT_DATE DATE);\r"}]
[null,null,"Substitute Table Name for &Table. Key Column List for &KeyColumns\n\n",null,null,{"$f":"SUBSTITUTE(SUBSTITUTE($F$130, \"&Table\", $F$45),\"&KeyColumns\",$F$129)","v":"/* DDL for Recurring Event EVENT_NAME generated by BEAM*Modelstormer 0.95C on 22 May 2017 at 19:16 */\r\rCREATE TABLE EVENT_NAME\r(SUBJECT VARCHAR2(40),\rOBJECT VARCHAR2(40),\rEVENT_DATE DATE);\r"},{"$f":"SUBSTITUTE(G126, \"&Table\", $F$45)","v":"SUBJECT\rOBJECT\rEVENT_DATE\r"}]
[null,null,"Logical Column Names in Diagram List if required",{"$nulls":3},{"$f":"IF(Settings!$B$44=\"Y\", PROPER(SUBSTITUTE(G131,\"_\",\" \")), F131)","v":"Subject\rObject\rEvent Date\r"}]
[null,null,"Column Comments (Array Function)",null,null,{"$f":"INDEX(F110:EY110,MATCH(MAX(LEN(F110:EY110)),LEN(F110:EY110),0))","v":"Comment on Column EVENT_NAME.EVENT_DATE is '[when]';\r"}]
[null,null,"Comment on Auto SK",null,null,{"$f":"IF($F$120=\"Y\",SUBSTITUTE(SUBSTITUTE(SUBSTITUTE(Settings!$B$39,\"&Column\", Settings!$B$12),\"&Table\",$F$45),\"&BEAMColumnCodes\",\"SK\"),\"\")","v":""}]
[null,null,"Comments on Admin Attributes",null,null,{"$f":"IF($F$125=\"Y\", SUBSTITUTE(Settings!B32, \"&Table\", $F$45), \"\")","v":""}]
[null,null,"Table and Column Comments if comment option is \"Y\"",null,null,{"$f":"IF(Settings!$B$37=\"Y\", CHAR(13) & $F$52 & $F$134 & $F$133 & $F$135, \"\")","v":"\rComment on Table EVENT_NAME is 'RE';\rComment on Column EVENT_NAME.EVENT_DATE is '[when]';\r"}]
[null,null,"Fact table Indices (Array Function)",null,null,{"$f":"INDEX(F113:EY113,MATCH(MAX(LEN(F113:EY113)),LEN(F113:EY113),0))","v":""}]
[null,null,"Add Indices and Comments to SQL",null,null,{"$f":"CONCATENATE(F131, F137, IF(LEN(F137)<>0, CHAR(13),\"\"), F136)","v":"/* DDL for Recurring Event EVENT_NAME generated by BEAM*Modelstormer 0.95C on 22 May 2017 at 19:16 */\r\rCREATE TABLE EVENT_NAME\r(SUBJECT VARCHAR2(40),\rOBJECT VARCHAR2(40),\rEVENT_DATE DATE);\r\rComment on Table EVENT_NAME is 'RE';\rComment on Column EVENT_NAME.EVENT_DATE is '[when]';\r"}]
[null,null,"Finished SQL DLL\n\nContains instruction to add columns if column list is empty",null,null,{"$f":"IF(LEN($F$123)= 0, \"Add column names in F6 to EY6 to generate SQL DDL\", $F$138)","v":"/* DDL for Recurring Event EVENT_NAME generated by BEAM*Modelstormer 0.95C on 22 May 2017 at 19:16 */\r\rCREATE TABLE EVENT_NAME\r(SUBJECT VARCHAR2(40),\rOBJECT VARCHAR2(40),\rEVENT_DATE DATE);\r\rComment on Table EVENT_NAME is 'RE';\rComment on Column EVENT_NAME.EVENT_DATE is '[when]';\r"}]
[]
[{"$nulls":5},{"$f":"MAX(LEN(G106:AY106))","v":0}]
[]
[]
[{"$nulls":5},"Agile Data Warehouse Design",null,"www.modelstorming.com"]

{"sheet":"Example Fact","index":2,"n_rows":144,"n_cols":26,"rows_kept":144,"merged":[[30,5,35,12],[76,2,76,4]]}
[null,null,"Guide"]
[null,null," 'Detail about Detail' scratchpad"]
[]
[null,null,"Table | Codes | Description",null,null,"Orders","TF"]
[null,null,"verb | preposition",{"$nulls":3},"orders","on","for delivery on","from","at","for delivery to",null,"for","on","with","using"]
[null,null,"Column Names",null,null,"CUSTOMER","PRODUCT","ORDER DATE","DELIVERY DUE DATE","SALESPERSON","SALES \nLOCATION","DELIVERY ADDRESS","ORDER QUANTITY","REVENUE","PROMOTION","DISCOUNT","ORDER ID","UNIT PRICE"]
[null,null,"Column Codes",null,null,"[who] SK","[what] GD, SK ","[when] SK","[when] SK","[who] SK","[where] SK","[where] SK","[Retail Units] FA","[$] FA","[why] SK","[$] FA","[how] GD, DD, MD","DF, NA"]
[null,null,"Source"]
[null,null,"Data Type Length.Precision",{"$nulls":9},"I",null,null,"N8.2","C15"]
[null,null,"Example Data",null,"Typical","Elvis Priestley","iPip Blue Suede","2011-05-18","2011-05-22","James Bond","POMStore NYC","Memphis, TN",2,"$249","No Promotion",0,"ORD1234"]
[{"$nulls":4},"Different","Vespa Lynd","POMBook Air","2011-06-29","2011-07-04","N/A","store.POM.com","London UK",1,1400,"Launch Event ",140,"ORD007"]
[{"$nulls":4},"Repeat","Elvis Priestley","iPip Blue Suede","2011-05-18","2011-05-22","James Bond","POMStore NYC","Memphis, TN",2,"$249","No Promotion",0,"ORD4321"]
[{"$nulls":4},"Missing","Cash","iPOM Pro","2011-10-14","Not Applicable","George Smiley ","POMStore London","Not Applicable",1,null,"No Promotion",0]
[{"$nulls":4},"Range","Unknown","iPip G1","10 Years Ago","Not Applicable","Unknown","Amazon.com","Not Applicable",50,"$20,000","Trial Price","$2,500","ORD0012"]
[{"$nulls":4},"Change","US Senate","iPOM + Printer","Yesterday","3 Days from now","Capital Team","1-800-MY-POM","Washington, DC",100,"$150,000","New Deal","$20,000","ORD5466"]
[{"$nulls":5},"US Senate","iPip Touch","Yesterday","3 Days from now","Capital Team","1-800-MY-POM","Washington, DC",100,"$25,000","New Deal","$1,000","ORD5466"]
[]
[]
[null,null,"Data Profiling Results",null,"Sample Count"]
[{"$nulls":4},"Missing"]
[{"$nulls":4},"Unique Values"]
[{"$nulls":4},"Min Value"]
[{"$nulls":4},"Min Count"]
[{"$nulls":4},"Max Value"]
[{"$nulls":4},"Max Count"]
[{"$nulls":4},"Min Length"]
[{"$nulls":4},"Max Length"]
[]
[]
[]
[null,null,"SQL DDL",null,null,{"$f":"F139","v":"/* DDL for Transaction Fact ORDERS_FACT generated by BEAM*Modelstormer 0.97C on 22 May 2017 at 19:16 */\r\rCREATE TABLE ORDERS_FACT\r(CUSTOMER_KEY INTEGER NOT NULL DEFAULT 0,\rPRODUCT_KEY INTEGER NOT NULL DEFAULT 0,\rORDER_DATE_KEY INTEGER NOT NULL DEFAULT 0,\rDELIVERY_DUE_DATE_KEY INTEGER NOT NULL DEFAULT 0,\rSALESPERSON_KEY INTEGER NOT NULL DEFAULT 0,\rSALES_LOCATION_KEY INTEGER NOT NULL DEFAULT 0,\rDELIVERY_ADDRESS_KEY INTEGER NOT NULL DEFAULT 0,\rPROMOTION_KEY INTEGER NOT NULL DEFAULT 0,\rORDER_ID VARCHAR2(15) NOT NULL,\rORDER_QUANTITY INTEGER DEFAULT 1,\rREVENUE NUMBER,\rDISCOUNT NUMBER(8,2) DEFAULT 0);\r\rCREATE BITMAP INDEX I_ORDERS_CUSTOMER ON ORDERS_FACT (CUSTOMER_KEY);\rCREATE BITMAP INDEX I_ORDERS_PRODUCT ON ORDERS_FACT (PRODUCT_KEY);\rCREATE BITMAP INDEX I_ORDERS_ORDER_DATE ON ORDERS_FACT (ORDER_DATE_KEY);\rCREATE BITMAP INDEX I_ORDERS_DELIVERY_DUE_DATE ON ORDERS_FACT (DELIVERY_DUE_DATE_KEY);\rCREATE BITMAP INDEX I_ORDERS_SALESPERSON ON ORDERS_FACT (SALESPERSON_KEY);\rCREATE BITMAP INDEX I_ORDERS_SALES_LOCATION ON ORDERS_FACT (SALES_LOCATION_KEY);\rCREATE BITMAP INDEX I_ORDERS_DELIVERY_ADDRESS ON ORDERS_FACT (DELIVERY_ADDRESS_KEY);\rCREATE BITMAP INDEX I_ORDERS_PROMOTION ON ORDERS_FACT (PROMOTION_KEY);\r\rComment on Table ORDERS_FACT is 'TF';\rComment on Column ORDERS_FACT.CUSTOMER_KEY is '[who] SK';\rComment on Column ORDERS_FACT.PRODUCT_KEY is '[what] GD, SK';\rComment on Column ORDERS_FACT.ORDER_DATE_KEY is '[when] SK';\rComment on Column ORDERS_FACT.DELIVERY_DUE_DATE_KEY is '[when] SK';\rComment on Column ORDERS_FACT.SALESPERSON_KEY is '[who] SK';\rComment on Column ORDERS_FACT.SALES_LOCATION_KEY is '[where] SK';\rComment on Column ORDERS_FACT.DELIVERY_ADDRESS_KEY is '[where] SK';\rComment on Column ORDERS_FACT.ORDER_QUANTITY is '[Retail Units] FA';\rComment on Column ORDERS_FACT.REVENUE is '[$] FA';\rComment on Column ORDERS_FACT.PROMOTION_KEY is '[why] SK';\rComment on Column ORDERS_FACT.DISCOUNT is '[$] FA';\rComment on Column ORDERS_FACT.ORDER_ID is '[how] GD, DD, MD';\r"}]
[]
[]
[]
[]
[]
[]
[null,null,"Formula Key",null,null,"Table Level Formula"]
[{"$nulls":5},"Column Level Formula"]
[{"$nulls":5},"Column Level Formula (different)"]
[{"$nulls":5},"Array Formula"]
[]
[null,null,"Version",null,null,{"$f":"Settings!$B$47","v":"0.97C"}]
[null,null,"BEAM SQL Table",null,null,{"$f":"SUBSTITUTE(TRIM(UPPER($F$4)), \" \", \"_\")","v":"ORDERS"}]
[null,null,"SQL Table Name",null,null,{"$f":"IF(LEN(TRIM($F$4))=0, \"[ Fill in Table Name in F4 ]\", TRIM(SUBSTITUTE(IF($F$55=\"Fact\", Settings!$B$6, Settings!$B$7), \"&BEAMTable\", $F$44)))","v":"ORDERS_FACT"}]
[null,null,"Trimmed Table Code",null,null,{"$f":"IF(LEN(TRIM($F$4))=0, \"\", TRIM(G4))","v":"TF"}]
[null,null,"Start Table Source ({ symbol)",null,null,{"$f":"FIND(\"{\",F46)","v":{"$error":"#VALUE!"}}]
[null,null,"End Table Source (} symbol)",null,null,{"$f":"FIND(\"}\",F46)","v":{"$error":"#VALUE!"}}]
[null,null,"Table Source",null,null,{"$f":"MID(F46,F47,F48-F47+1)","v":{"$error":"#VALUE!"}}]
[null,null,"Table Code without Table Source",null,null,{"$f":"TRIM(IF(ISERROR(F49),F46,SUBSTITUTE( F46, F49,\"\")))","v":"TF"}]
[null,null,"Table Code and Description",null,null,{"$f":"TRIM(F46 & \" \" & H4)","v":"TF"}]
[null,null,"Table Comment",null,null,{"$f":"IF(LEN(F51)=0,\"\",SUBSTITUTE(SUBSTITUTE(Settings!$B$38,\"&Table\",$F$45),\"&BEAMTableCodes\",$F$51))","v":"Comment on Table ORDERS_FACT is 'TF';\r"}]
[null,null,"Diagram Table Name",null,null,{"$f":"IF(Settings!B44=\"Y\",SUBSTITUTE($F$45,\"_\",\" \"), $F$45) & IF(LEN(F50)=0, \"\", SUBSTITUTE(Settings!B40, \"&BEAMTableCodes\", $F$50))","v":"ORDERS FACT  [ TF ]"}]
[null,null,"Full Table Type",null,null,{"$f":"IF(NOT(ISERROR(FIND(\"TF\",F50))),\"Transaction Fact\",IF(NOT(ISERROR(FIND(\"AS\",F50))),\"Accumulating Snapshot Fact\",IF(NOT(ISERROR(FIND(\"PS\",F50))),\"Periodic Snapshot Fact\",IF(NOT(ISERROR(FIND(\"AG\",F50))),\"Aggregate Fact\",IF(NOT(ISERROR(FIND(\"DF\",F50))),\"Derived Fact\",IF(NOT(ISERROR(FIND(\"DE\",F50))),\"Discrete Event\",IF(NOT(ISERROR(FIND(\"EE\",F50))),\"Evolving Event\",IF(NOT(ISERROR(FIND(\"RE\",F50))),\"Recurring Event\",IF(NOT(ISERROR(FIND(\"HM\",F50))),\"Hierarchy Map\",IF(NOT(ISERROR(FIND(\"HV\",F50))),\"Historic Value Dimenson (SCD Type 2)\",IF(NOT(ISERROR(FIND(\"CV\",F50))),\"Current Value Dimenson (SCD Type 1)\",IF(NOT(ISERROR(FIND(\"FV\",F50))),\"Fixed Value Dimenson (SCD Type 1)\",IF(NOT(ISERROR(FIND(\"HV\",F50))),\"Historic Value Dimenson (SCD Type 2)\",IF(NOT(ISERROR(FIND(\"PD\",F50))),\"Pivoted Dimenson\",IF(NOT(ISERROR(FIND(\"RU\",F50))),\"Rollup Dimenson\",IF(NOT(ISERROR(FIND(\"SD\",F50))),\"Swappable Dimenson\",IF(NOT(ISERROR(FIND(\"RP\",F50))),\"Role-Playing Dimenson\",IF(NOT(ISERROR(FIND(\"MV\",F50))),\"Multi-Valued Dimenson\",\"\"))))))))))))))))))","v":"Transaction Fact"}]
[null,null,"Short Table Type\n [Fact, Dimension, Other]",null,null,{"$f":"IF(NOT(ISERROR(FIND(\"Fact\",F54))),\"Fact\",IF(AND(ISERROR(FIND(\"CV\",$F$50)),ISERROR(FIND(\"HV\",$F$50)),ISERROR(FIND(\"FV\",$F$50)),ISERROR(FIND(\"SD\",$F$50)),ISERROR(FIND(\"HM\",$F$50)),ISERROR(FIND(\"MV\",$F$50)),ISERROR(FIND(\"ML\",$F$50)),ISERROR(FIND(\"RP\",$F$50)),ISERROR(FIND(\"RU\",$F$50)),ISERROR(FIND(\"PD\",$F$50))),\"Other\",\"Dimension\"))","v":"Fact"}]
[null,null,"Create Table Clause",null,null,{"$f":"SUBSTITUTE(IF($F$55=\"Fact\", Settings!$B$8, IF($F$55=\"Dimension\", Settings!$B$9, Settings!$B$10)),\"&Table\", $F$45)","v":"CREATE TABLE ORDERS_FACT"}]
[null,null,"Ignore Column with\n ? Code, DF or Empty",null,null,{"$f":"IF(OR(AND(Settings!$B$14=\"Y\", NOT(ISERROR(FIND(\"DF\",F7)))), LEN(TRIM(F6))=0, NOT(ISERROR(FIND(\"?\",F7)))),\"Y\",\"_\")","v":"_"},{"$f":"IF(OR(AND(Settings!$B$14=\"Y\", NOT(ISERROR(FIND(\"DF\",G7)))), LEN(TRIM(G6))=0, NOT(ISERROR(FIND(\"?\",G7)))),\"Y\",\"_\")","v":"_"},{"$f":"IF(OR(AND(Settings!$B$14=\"Y\", NOT(ISERROR(FIND(\"DF\",H7)))), LEN(TRIM(H6))=0, NOT(ISERROR(FIND(\"?\",H7)))),\"Y\",\"_\")","v":"_"},{"$f":"IF(OR(AND(Settings!$B$14=\"Y\", NOT(ISERROR(FIND(\"DF\",I7)))), LEN(TRIM(I6))=0, NOT(ISERROR(FIND(\"?\",I7)))),\"Y\",\"_\")","v":"_"},{"$f":"IF(OR(AND(Settings!$B$14=\"Y\", NOT(ISERROR(FIND(\"DF\",J7)))), LEN(TRIM(J6))=0, NOT(ISERROR(FIND(\"?\",J7)))),\"Y\",\"_\")","v":"_"},{"$f":"IF(OR(AND(Settings!$B$14=\"Y\", NOT(ISERROR(FIND(\"DF\",K7)))), LEN(TRIM(K6))=0, NOT(ISERROR(FIND(\"?\",K7)))),\"Y\",\"_\")","v":"_"},{"$f":"IF(OR(AND(Settings!$B$14=\"Y\", NOT(ISERROR(FIND(\"DF\",L7)))), LEN(TRIM(L6))=0, NOT(ISERROR(FIND(\"?\",L7)))),\"Y\",\"_\")","v":"_"},{"$f":"IF(OR(AND(Settings!$B$14=\"Y\", NOT(ISERROR(FIND(\"DF\",M7)))), LEN(TRIM(M6))=0, NOT(ISERROR(FIND(\"?\",M7)))),\"Y\",\"_\")","v":"_"},{"$f":"IF(OR(AND(Settings!$B$14=\"Y\", NOT(ISERROR(FIND(\"DF\",N7)))), LEN(TRIM(N6))=0, NOT(ISERROR(FIND(\"?\",N7)))),\"Y\",\"_\")","v":"_"},{"$f":"IF(OR(AND(Settings!$B$14=\"Y\", NOT(ISERROR(FIND(\"DF\",O7)))), LEN(TRIM(O6))=0, NOT(ISERROR(FIND(\"?\",O7)))),\"Y\",\"_\")","v":"_"},{"$f":"IF(OR(AND(Settings!$B$14=\"Y\", NOT(ISERROR(FIND(\"DF\",P7)))), LEN(TRIM(P6))=0, NOT(ISERROR(FIND(\"?\",P7)))),\"Y\",\"_\")","v":"_"},{"$f":"IF(OR(AND(Settings!$B$14=\"Y\", NOT(ISERROR(FIND(\"DF\",Q7)))), LEN(TRIM(Q6))=0, NOT(ISERROR(FIND(\"?\",Q7)))),\"Y\",\"_\")","v":"_"},{"$f":"IF(OR(AND(Settings!$B$14=\"Y\", NOT(ISERROR(FIND(\"DF\",R7)))), LEN(TRIM(R6))=0, NOT(ISERROR(FIND(\"?\",R7)))),\"Y\",\"_\")","v":"Y"},{"$f":"IF(OR(AND(Settings!$B$14=\"Y\", NOT(ISERROR(FIND(\"DF\",S7)))), LEN(TRIM(S6))=0, NOT(ISERROR(FIND(\"?\",S7)))),\"Y\",\"_\")","v":"Y"},{"$f":"IF(OR(AND(Settings!$B$14=\"Y\", NOT(ISERROR(FIND(\"DF\",T7)))), LEN(TRIM(T6))=0, NOT(ISERROR(FIND(\"?\",T7)))),\"Y\",\"_\")","v":"Y"},{"$f":"IF(OR(AND(Settings!$B$14=\"Y\", NOT(ISERROR(FIND(\"DF\",U7)))), LEN(TRIM(U6))=0, NOT(ISERROR(FIND(\"?\",U7)))),\"Y\",\"_\")","v":"Y"},{"$f":"IF(OR(AND(Settings!$B$14=\"Y\", NOT(ISERROR(FIND(\"DF\",V7)))), LEN(TRIM(V6))=0, NOT(ISERROR(FIND(\"?\",V7)))),\"Y\",\"_\")","v":"Y"},{"$f":"IF(OR(AND(Settings!$B$14=\"Y\", NOT(ISERROR(FIND(\"DF\",W7)))), LEN(TRIM(W6))=0, NOT(ISERROR(FIND(\"?\",W7)))),\"Y\",\"_\")","v":"Y"},{"$f":"IF(OR(AND(Settings!$B$14=\"Y\", NOT(ISERROR(FIND(\"DF\",X7)))), LEN(TRIM(X6))=0, NOT(ISERROR(FIND(\"?\",X7)))),\"Y\",\"_\")","v":"Y"},{"$f":"IF(OR(AND(Settings!$B$14=\"Y\", NOT(ISERROR(FIND(\"DF\",Y7)))), LEN(TRIM(Y6))=0, NOT(ISERROR(FIND(\"?\",Y7)))),\"Y\",\"_\")","v":"Y"},{"$f":"IF(OR(AND(Settings!$B$14=\"Y\", NOT(ISERROR(FIND(\"DF\",Z7)))), LEN(TRIM(Z6))=0, NOT(ISERROR(FIND(\"?\",Z7)))),\"Y\",\"_\")","v":"Y"}]
[null,null,"Hide Diagram Column",null,null,{"$f":"IF(OR(F57=\"Y\", AND(Settings!$B$42=\"Y\", F59=\"Y\"), AND(Settings!$B$43=\"Y\", ISERROR(FIND(\"!\",F7)))),\"Y\",\"_\")","v":"_"},{"$f":"IF(OR(G57=\"Y\", AND(Settings!$B$42=\"Y\", G59=\"Y\"), AND(Settings!$B$43=\"Y\", ISERROR(FIND(\"!\",G7)))),\"Y\",\"_\")","v":"_"},{"$f":"IF(OR(H57=\"Y\", AND(Settings!$B$42=\"Y\", H59=\"Y\"), AND(Settings!$B$43=\"Y\", ISERROR(FIND(\"!\",H7)))),\"Y\",\"_\")","v":"_"},{"$f":"IF(OR(I57=\"Y\", AND(Settings!$B$42=\"Y\", I59=\"Y\"), AND(Settings!$B$43=\"Y\", ISERROR(FIND(\"!\",I7)))),\"Y\",\"_\")","v":"_"},{"$f":"IF(OR(J57=\"Y\", AND(Settings!$B$42=\"Y\", J59=\"Y\"), AND(Settings!$B$43=\"Y\", ISERROR(FIND(\"!\",J7)))),\"Y\",\"_\")","v":"_"},{"$f":"IF(OR(K57=\"Y\", AND(Settings!$B$42=\"Y\", K59=\"Y\"), AND(Settings!$B$43=\"Y\", ISERROR(FIND(\"!\",K7)))),\"Y\",\"_\")","v":"_"},{"$f":"IF(OR(L57=\"Y\", AND(Settings!$B$42=\"Y\", L59=\"Y\"), AND(Settings!$B$43=\"Y\", ISERROR(FIND(\"!\",L7)))),\"Y\",\"_\")","v":"_"},{"$f":"IF(OR(M57=\"Y\", AND(Settings!$B$42=\"Y\", M59=\"Y\"), AND(Settings!$B$43=\"Y\", ISERROR(FIND(\"!\",M7)))),\"Y\",\"_\")","v":"_"},{"$f":"IF(OR(N57=\"Y\", AND(Settings!$B$42=\"Y\", N59=\"Y\"), AND(Settings!$B$43=\"Y\", ISERROR(FIND(\"!\",N7)))),\"Y\",\"_\")","v":"_"},{"$f":"IF(OR(O57=\"Y\", AND(Settings!$B$42=\"Y\", O59=\"Y\"), AND(Settings!$B$43=\"Y\", ISERROR(FIND(\"!\",O7)))),\"Y\",\"_\")","v":"_"},{"$f":"IF(OR(P57=\"Y\", AND(Settings!$B$42=\"Y\", P59=\"Y\"), AND(Settings!$B$43=\"Y\", ISERROR(FIND(\"!\",P7)))),\"Y\",\"_\")","v":"_"},{"$f":"IF(OR(Q57=\"Y\", AND(Settings!$B$42=\"Y\", Q59=\"Y\"), AND(Settings!$B$43=\"Y\", ISERROR(FIND(\"!\",Q7)))),\"Y\",\"_\")","v":"_"},{"$f":"IF(OR(R57=\"Y\", AND(Settings!$B$42=\"Y\", R59=\"Y\"), AND(Settings!$B$43=\"Y\", ISERROR(FIND(\"!\",R7)))),\"Y\",\"_\")","v":"Y"},{"$f":"IF(OR(S57=\"Y\", AND(Settings!$B$42=\"Y\", S59=\"Y\"), AND(Settings!$B$43=\"Y\", ISERROR(FIND(\"!\",S7)))),\"Y\",\"_\")","v":"Y"},{"$f":"IF(OR(T57=\"Y\", AND(Settings!$B$42=\"Y\", T59=\"Y\"), AND(Settings!$B$43=\"Y\", ISERROR(FIND(\"!\",T7)))),\"Y\",\"_\")","v":"Y"},{"$f":"IF(OR(U57=\"Y\", AND(Settings!$B$42=\"Y\", U59=\"Y\"), AND(Settings!$B$43=\"Y\", ISERROR(FIND(\"!\",U7)))),\"Y\",\"_\")","v":"Y"},{"$f":"IF(OR(V57=\"Y\", AND(Settings!$B$42=\"Y\", V59=\"Y\"), AND(Settings!$B$43=\"Y\", ISERROR(FIND(\"!\",V7)))),\"Y\",\"_\")","v":"Y"},{"$f":"IF(OR(W57=\"Y\", AND(Settings!$B$42=\"Y\", W59=\"Y\"), AND(Settings!$B$43=\"Y\", ISERROR(FIND(\"!\",W7)))),\"Y\",\"_\")","v":"Y"},{"$f":"IF(OR(X57=\"Y\", AND(Settings!$B$42=\"Y\", X59=\"Y\"), AND(Settings!$B$43=\"Y\", ISERROR(FIND(\"!\",X7)))),\"Y\",\"_\")","v":"Y"},{"$f":"IF(OR(Y57=\"Y\", AND(Settings!$B$42=\"Y\", Y59=\"Y\"), AND(Settings!$B$43=\"Y\", ISERROR(FIND(\"!\",Y7)))),\"Y\",\"_\")","v":"Y"},{"$f":"IF(OR(Z57=\"Y\", AND(Settings!$B$42=\"Y\", Z59=\"Y\"), AND(Settings!$B$43=\"Y\", ISERROR(FIND(\"!\",Z7)))),\"Y\",\"_\")","v":"Y"}]
[null,null,"Surrogate Key (SK)",null,null,{"$f":"IF(ISERROR(FIND(\"SK\",F7)),\"_\",\"Y\")","v":"Y"},{"$f":"IF(ISERROR(FIND(\"SK\",G7)),\"_\",\"Y\")","v":"Y"},"Y","Y","Y","Y","Y","_","_","Y","_","_","_","_","_",{"$f":"IF(ISERROR(FIND(\"SK\",U7)),\"_\",\"Y\")","v":"_"},"_","_","_","_","_"]
[null,null,"PK or GD Column",null,null,{"$f":"IF(OR(NOT(ISERROR(FIND(\"PK\",F7))), NOT(ISERROR(FIND(\"GD\",F7)))),\"Y\",\"_\")","v":"_"},{"$f":"IF(OR(NOT(ISERROR(FIND(\"PK\",G7))), NOT(ISERROR(FIND(\"GD\",G7)))),\"Y\",\"_\")","v":"Y"},"_","_","_","_","_","_","_","_","_","Y","_","_","_",{"$f":"IF(OR(NOT(ISERROR(FIND(\"PK\",U7))), NOT(ISERROR(FIND(\"GD\",U7)))),\"Y\",\"_\")","v":"_"},"_","_","_","_","_"]
[null,null,"BK, NK or DD Column",null,null,{"$f":"IF(OR(NOT(ISERROR(FIND(\"BK\",F7))), NOT(ISERROR(FIND(\"NK\",F7))), NOT(ISERROR(FIND(\"DD\",F7)))),\"Y\",\"_\")","v":"_"},{"$f":"IF(OR(NOT(ISERROR(FIND(\"BK\",G7))), NOT(ISERROR(FIND(\"NK\",G7))), NOT(ISERROR(FIND(\"DD\",G7)))),\"Y\",\"_\")","v":"_"},"_","_","_","_","_","_","_","_","_","Y","_","_","_",{"$f":"IF(OR(NOT(ISERROR(FIND(\"BK\",U7))), NOT(ISERROR(FIND(\"NK\",U7))), NOT(ISERROR(FIND(\"DD\",U7)))),\"Y\",\"_\")","v":"_"},"_","_","_","_","_"]
[null,null,"FK or RK Column",null,null,{"$f":"IF(OR(NOT(ISERROR(FIND(\"FK\",F7))), NOT(ISERROR(FIND(\"RK\",F7)))),\"Y\",\"_\")","v":"_"},{"$f":"IF(OR(NOT(ISERROR(FIND(\"FK\",G7))), NOT(ISERROR(FIND(\"RK\",G7)))),\"Y\",\"_\")","v":"_"},"_","_","_","_","_","_","_","_","_","_","_","_","_",{"$f":"IF(OR(NOT(ISERROR(FIND(\"FK\",U7))), NOT(ISERROR(FIND(\"RK\",U7)))),\"Y\",\"_\")","v":"_"},"_","_","_","_","_"]
[null,null,"Sort First Column",null,null,{"$f":"IF(OR(F59=\"Y\", F60=\"Y\", F61=\"Y\", F62=\"Y\"),\"Y\",\"_\")","v":"Y"},{"$f":"IF(OR(G59=\"Y\", G60=\"Y\", G61=\"Y\", G62=\"Y\"),\"Y\",\"_\")","v":"Y"},"Y","Y","Y","Y","Y","_","_","Y","_","Y","_","_","_",{"$f":"IF(OR(U59=\"Y\", U60=\"Y\", U61=\"Y\", U62=\"Y\"),\"Y\",\"_\")","v":"_"},"_","_","_","_","_"]
[null,null,"Fact Column",null,null,{"$f":"IF(OR(NOT(ISERROR(FIND(\"FA\",F7))), NOT(ISERROR(FIND(\"SA\",F7))), NOT(ISERROR(FIND(\"NA\",F7))), NOT(ISERROR(FIND(\"DF\",F7))) ),\"Y\",\"_\")","v":"_"},{"$f":"IF(OR(NOT(ISERROR(FIND(\"FA\",G7))), NOT(ISERROR(FIND(\"SA\",G7))), NOT(ISERROR(FIND(\"NA\",G7))), NOT(ISERROR(FIND(\"DF\",G7))) ),\"Y\",\"_\")","v":"_"},"_","_","_","_","_","Y","Y","_","Y","_","Y","_","_",{"$f":"IF(OR(NOT(ISERROR(FIND(\"FA\",U7))), NOT(ISERROR(FIND(\"SA\",U7))), NOT(ISERROR(FIND(\"NA\",U7))), NOT(ISERROR(FIND(\"DF\",U7))) ),\"Y\",\"_\")","v":"_"},"_","_","_","_","_"]
[null,null,"Not Null (NN or MD if enforced)",null,null,{"$f":"IF(OR(NOT(ISERROR(FIND(\"NN\",F7))), AND(NOT(ISERROR(FIND(\"MD\",F7))), Settings!$B$15=\"Y\")),\"Y\",\"_\")","v":"_"},{"$f":"IF(OR(NOT(ISERROR(FIND(\"NN\",G7))), AND(NOT(ISERROR(FIND(\"MD\",G7))), Settings!$B$15=\"Y\")),\"Y\",\"_\")","v":"_"},{"$f":"IF(OR(NOT(ISERROR(FIND(\"NN\",H7))), AND(NOT(ISERROR(FIND(\"MD\",H7))), Settings!$B$15=\"Y\")),\"Y\",\"_\")","v":"_"},{"$f":"IF(OR(NOT(ISERROR(FIND(\"NN\",I7))), AND(NOT(ISERROR(FIND(\"MD\",I7))), Settings!$B$15=\"Y\")),\"Y\",\"_\")","v":"_"},{"$f":"IF(OR(NOT(ISERROR(FIND(\"NN\",J7))), AND(NOT(ISERROR(FIND(\"MD\",J7))), Settings!$B$15=\"Y\")),\"Y\",\"_\")","v":"_"},{"$f":"IF(OR(NOT(ISERROR(FIND(\"NN\",K7))), AND(NOT(ISERROR(FIND(\"MD\",K7))), Settings!$B$15=\"Y\")),\"Y\",\"_\")","v":"_"},{"$f":"IF(OR(NOT(ISERROR(FIND(\"NN\",L7))), AND(NOT(ISERROR(FIND(\"MD\",L7))), Settings!$B$15=\"Y\")),\"Y\",\"_\")","v":"_"},{"$f":"IF(OR(NOT(ISERROR(FIND(\"NN\",M7))), AND(NOT(ISERROR(FIND(\"MD\",M7))), Settings!$B$15=\"Y\")),\"Y\",\"_\")","v":"_"},{"$f":"IF(OR(NOT(ISERROR(FIND(\"NN\",N7))), AND(NOT(ISERROR(FIND(\"MD\",N7))), Settings!$B$15=\"Y\")),\"Y\",\"_\")","v":"_"},{"$f":"IF(OR(NOT(ISERROR(FIND(\"NN\",O7))), AND(NOT(ISERROR(FIND(\"MD\",O7))), Settings!$B$15=\"Y\")),\"Y\",\"_\")","v":"_"},{"$f":"IF(OR(NOT(ISERROR(FIND(\"NN\",P7))), AND(NOT(ISERROR(FIND(\"MD\",P7))), Settings!$B$15=\"Y\")),\"Y\",\"_\")","v":"_"},{"$f":"IF(OR(NOT(ISERROR(FIND(\"NN\",Q7))), AND(NOT(ISERROR(FIND(\"MD\",Q7))), Settings!$B$15=\"Y\")),\"Y\",\"_\")","v":"Y"},{"$f":"IF(OR(NOT(ISERROR(FIND(\"NN\",R7))), AND(NOT(ISERROR(FIND(\"MD\",R7))), Settings!$B$15=\"Y\")),\"Y\",\"_\")","v":"_"},{"$f":"IF(OR(NOT(ISERROR(FIND(\"NN\",S7))), AND(NOT(ISERROR(FIND(\"MD\",S7))), Settings!$B$15=\"Y\")),\"Y\",\"_\")","v":"_"},{"$f":"IF(OR(NOT(ISERROR(FIND(\"NN\",T7))), AND(NOT(ISERROR(FIND(\"MD\",T7))), Settings!$B$15=\"Y\")),\"Y\",\"_\")","v":"_"},{"$f":"IF(OR(NOT(ISERROR(FIND(\"NN\",U7))), AND(NOT(ISERROR(FIND(\"MD\",U7))), Settings!$B$15=\"Y\")),\"Y\",\"_\")","v":"_"},{"$f":"IF(OR(NOT(ISERROR(FIND(\"NN\",V7))), AND(NOT(ISERROR(FIND(\"MD\",V7))), Settings!$B$15=\"Y\")),\"Y\",\"_\")","v":"_"},{"$f":"IF(OR(NOT(ISERROR(FIND(\"NN\",W7))), AND(NOT(ISERROR(FIND(\"MD\",W7))), Settings!$B$15=\"Y\")),\"Y\",\"_\")","v":"_"},{"$f":"IF(OR(NOT(ISERROR(FIND(\"NN\",X7))), AND(NOT(ISERROR(FIND(\"MD\",X7))), Settings!$B$15=\"Y\")),\"Y\",\"_\")","v":"_"},{"$f":"IF(OR(NOT(ISERROR(FIND(\"NN\",Y7))), AND(NOT(ISERROR(FIND(\"MD\",Y7))), Settings!$B$15=\"Y\")),\"Y\",\"_\")","v":"_"},{"$f":"IF(OR(NOT(ISERROR(FIND(\"NN\",Z7))), AND(NOT(ISERROR(FIND(\"MD\",Z7))), Settings!$B$15=\"Y\")),\"Y\",\"_\")","v":"_"}]
[null,null,"Unique (not currently used)"]
[null,null,"Data Type Code",null,null,{"$f":"IF(AND(F5=\"at\", NOT(ISERROR(FIND(\"when\",F7))), LEN(F9)=0), \"DT\", IF(AND(OR(NOT(ISERROR(FIND(\"when\",F7))), F5=\"on\", F5=\"every\"), LEN(F9)=0),\"D\", IF(F9=\"DT\",\"DT\",LEFT(UPPER(TRIM(F9)),1))))","v":""},{"$f":"IF(AND(G5=\"at\", NOT(ISERROR(FIND(\"when\",G7))), LEN(G9)=0), \"DT\", IF(AND(OR(NOT(ISERROR(FIND(\"when\",G7))), G5=\"on\", G5=\"every\"), LEN(G9)=0),\"D\", IF(G9=\"DT\",\"DT\",LEFT(UPPER(TRIM(G9)),1))))","v":""},"D","D","","","","I","","D","N","C","","","",{"$f":"IF(AND(U5=\"at\", NOT(ISERROR(FIND(\"when\",U7))), LEN(U9)=0), \"DT\", IF(AND(OR(NOT(ISERROR(FIND(\"when\",U7))), U5=\"on\", U5=\"every\"), LEN(U9)=0),\"D\", IF(U9=\"DT\",\"DT\",LEFT(UPPER(TRIM(U9)),1))))","v":""},"","","","",""]
[null,null,"Length.Precision",null,null,{"$f":"IF(F9=\"DT\",\"\",MID(SUBSTITUTE(F9,\".\",\",\"),2,10))","v":""},{"$f":"IF(G9=\"DT\",\"\",MID(SUBSTITUTE(G9,\".\",\",\"),2,10))","v":""},{"$f":"IF(H9=\"DT\",\"\",MID(SUBSTITUTE(H9,\".\",\",\"),2,10))","v":""},{"$f":"IF(I9=\"DT\",\"\",MID(SUBSTITUTE(I9,\".\",\",\"),2,10))","v":""},"","","","","","","8,2","15","","","",{"$f":"IF(U9=\"DT\",\"\",MID(SUBSTITUTE(U9,\".\",\",\"),2,10))","v":""},"","","","",""]
[null,null,"Adjusted Length,Percision",null,null,{"$f":"IF( AND(F67=\"C\",LEN(F68)=0), Settings!$B$24, IF(AND(F67=\"N\",LEN(F68)=0), TRIM(Settings!$B$21),F68))","v":""},{"$f":"IF( AND(G67=\"C\",LEN(G68)=0), Settings!$B$24, IF(AND(G67=\"N\",LEN(G68)=0), TRIM(Settings!$B$21),G68))","v":""},{"$f":"IF( AND(H67=\"C\",LEN(H68)=0), Settings!$B$24, IF(AND(H67=\"N\",LEN(H68)=0), TRIM(Settings!$B$21),H68))","v":""},{"$f":"IF( AND(I67=\"C\",LEN(I68)=0), Settings!$B$24, IF(AND(I67=\"N\",LEN(I68)=0), TRIM(Settings!$B$21),I68))","v":""},{"$f":"IF( AND(J67=\"C\",LEN(J68)=0), Settings!$B$24, IF(AND(J67=\"N\",LEN(J68)=0), TRIM(Settings!$B$21),J68))","v":""},{"$f":"IF( AND(K67=\"C\",LEN(K68)=0), Settings!$B$24, IF(AND(K67=\"N\",LEN(K68)=0), TRIM(Settings!$B$21),K68))","v":""},{"$f":"IF( AND(L67=\"C\",LEN(L68)=0), Settings!$B$24, IF(AND(L67=\"N\",LEN(L68)=0), TRIM(Settings!$B$21),L68))","v":""},{"$f":"IF( AND(M67=\"C\",LEN(M68)=0), Settings!$B$24, IF(AND(M67=\"N\",LEN(M68)=0), TRIM(Settings!$B$21),M68))","v":""},{"$f":"IF( AND(N67=\"C\",LEN(N68)=0), Settings!$B$24, IF(AND(N67=\"N\",LEN(N68)=0), TRIM(Settings!$B$21),N68))","v":""},{"$f":"IF( AND(O67=\"C\",LEN(O68)=0), Settings!$B$24, IF(AND(O67=\"N\",LEN(O68)=0), TRIM(Settings!$B$21),O68))","v":""},{"$f":"IF( AND(P67=\"C\",LEN(P68)=0), Settings!$B$24, IF(AND(P67=\"N\",LEN(P68)=0), TRIM(Settings!$B$21),P68))","v":"8,2"},{"$f":"IF( AND(Q67=\"C\",LEN(Q68)=0), Settings!$B$24, IF(AND(Q67=\"N\",LEN(Q68)=0), TRIM(Settings!$B$21),Q68))","v":"15"},{"$f":"IF( AND(R67=\"C\",LEN(R68)=0), Settings!$B$24, IF(AND(R67=\"N\",LEN(R68)=0), TRIM(Settings!$B$21),R68))","v":""},{"$f":"IF( AND(S67=\"C\",LEN(S68)=0), Settings!$B$24, IF(AND(S67=\"N\",LEN(S68)=0), TRIM(Settings!$B$21),S68))","v":""},{"$f":"IF( AND(T67=\"C\",LEN(T68)=0), Settings!$B$24, IF(AND(T67=\"N\",LEN(T68)=0), TRIM(Settings!$B$21),T68))","v":""},{"$f":"IF( AND(U67=\"C\",LEN(U68)=0), Settings!$B$24, IF(AND(U67=\"N\",LEN(U68)=0), TRIM(Settings!$B$21),U68))","v":""},{"$f":"IF( AND(V67=\"C\",LEN(V68)=0), Settings!$B$24, IF(AND(V67=\"N\",LEN(V68)=0), TRIM(Settings!$B$21),V68))","v":""},{"$f":"IF( AND(W67=\"C\",LEN(W68)=0), Settings!$B$24, IF(AND(W67=\"N\",LEN(W68)=0), TRIM(Settings!$B$21),W68))","v":""},{"$f":"IF( AND(X67=\"C\",LEN(X68)=0), Settings!$B$24, IF(AND(X67=\"N\",LEN(X68)=0), TRIM(Settings!$B$21),X68))","v":""},{"$f":"IF( AND(Y67=\"C\",LEN(Y68)=0), Settings!$B$24, IF(AND(Y67=\"N\",LEN(Y68)=0), TRIM(Settings!$B$21),Y68))","v":""},{"$f":"IF( AND(Z67=\"C\",LEN(Z68)=0), Settings!$B$24, IF(AND(Z67=\"N\",LEN(Z68)=0), TRIM(Settings!$B$21),Z68))","v":""}]
[null,null,"Column Order",null,null,1,{"$f":"INDIRECT(ADDRESS(ROW(),COLUMN()-1))+1","v":2},{"$f":"INDIRECT(ADDRESS(ROW(),COLUMN()-1))+1","v":3},4,5,6,7,8,9,10,11,12,13,14,15,{"$f":"INDIRECT(ADDRESS(ROW(),COLUMN()-1))+1","v":16},17,18,19,20,21]
[null,null,"BEAM SQL Column",null,null,{"$f":"UPPER(IF(F57=\"Y\",\"\",SUBSTITUTE(TRIM(SUBSTITUTE(F6, CHAR(13),\" \")),\" \",\"_\")))","v":"CUSTOMER"},{"$f":"UPPER(IF(G57=\"Y\",\"\",SUBSTITUTE(TRIM(SUBSTITUTE(G6, CHAR(13),\" \")),\" \",\"_\")))","v":"PRODUCT"},"ORDER_DATE","DELIVERY_DUE_DATE","SALESPERSON","SALES_LOCATION","DELIVERY_ADDRESS","ORDER_QUANTITY","REVENUE","PROMOTION","DISCOUNT","ORDER_ID","","","",{"$f":"UPPER(IF(U57=\"Y\",\"\",SUBSTITUTE(TRIM(SUBSTITUTE(U6, CHAR(13),\" \")),\" \",\"_\")))","v":""},"","","","",""]
[null,null,"DDL SQL Column",null,null,{"$f":"IF(LEN(F71)=0,\"\",TRIM(IF(AND($F$55=\"Fact\",F59=\"Y\"),SUBSTITUTE(Settings!$B$13,\"&BEAMColumn\",F71),F71)))","v":"CUSTOMER_KEY"},{"$f":"IF(LEN(G71)=0,\"\",TRIM(IF(AND($F$55=\"Fact\",G59=\"Y\"),SUBSTITUTE(Settings!$B$13,\"&BEAMColumn\",G71),G71)))","v":"PRODUCT_KEY"},{"$f":"IF(LEN(H71)=0,\"\",TRIM(IF(AND($F$55=\"Fact\",H59=\"Y\"),SUBSTITUTE(Settings!$B$13,\"&BEAMColumn\",H71),H71)))","v":"ORDER_DATE_KEY"},{"$f":"IF(LEN(I71)=0,\"\",TRIM(IF(AND($F$55=\"Fact\",I59=\"Y\"),SUBSTITUTE(Settings!$B$13,\"&BEAMColumn\",I71),I71)))","v":"DELIVERY_DUE_DATE_KEY"},{"$f":"IF(LEN(J71)=0,\"\",TRIM(IF(AND($F$55=\"Fact\",J59=\"Y\"),SUBSTITUTE(Settings!$B$13,\"&BEAMColumn\",J71),J71)))","v":"SALESPERSON_KEY"},{"$f":"IF(LEN(K71)=0,\"\",TRIM(IF(AND($F$55=\"Fact\",K59=\"Y\"),SUBSTITUTE(Settings!$B$13,\"&BEAMColumn\",K71),K71)))","v":"SALES_LOCATION_KEY"},{"$f":"IF(LEN(L71)=0,\"\",TRIM(IF(AND($F$55=\"Fact\",L59=\"Y\"),SUBSTITUTE(Settings!$B$13,\"&BEAMColumn\",L71),L71)))","v":"DELIVERY_ADDRESS_KEY"},{"$f":"IF(LEN(M71)=0,\"\",TRIM(IF(AND($F$55=\"Fact\",M59=\"Y\"),SUBSTITUTE(Settings!$B$13,\"&BEAMColumn\",M71),M71)))","v":"ORDER_QUANTITY"},{"$f":"IF(LEN(N71)=0,\"\",TRIM(IF(AND($F$55=\"Fact\",N59=\"Y\"),SUBSTITUTE(Settings!$B$13,\"&BEAMColumn\",N71),N71)))","v":"REVENUE"},{"$f":"IF(LEN(O71)=0,\"\",TRIM(IF(AND($F$55=\"Fact\",O59=\"Y\"),SUBSTITUTE(Settings!$B$13,\"&BEAMColumn\",O71),O71)))","v":"PROMOTION_KEY"},{"$f":"IF(LEN(P71)=0,\"\",TRIM(IF(AND($F$55=\"Fact\",P59=\"Y\"),SUBSTITUTE(Settings!$B$13,\"&BEAMColumn\",P71),P71)))","v":"DISCOUNT"},{"$f":"IF(LEN(Q71)=0,\"\",TRIM(IF(AND($F$55=\"Fact\",Q59=\"Y\"),SUBSTITUTE(Settings!$B$13,\"&BEAMColumn\",Q71),Q71)))","v":"ORDER_ID"},{"$f":"IF(LEN(R71)=0,\"\",TRIM(IF(AND($F$55=\"Fact\",R59=\"Y\"),SUBSTITUTE(Settings!$B$13,\"&BEAMColumn\",R71),R71)))","v":""},{"$f":"IF(LEN(S71)=0,\"\",TRIM(IF(AND($F$55=\"Fact\",S59=\"Y\"),SUBSTITUTE(Settings!$B$13,\"&BEAMColumn\",S71),S71)))","v":""},{"$f":"IF(LEN(T71)=0,\"\",TRIM(IF(AND($F$55=\"Fact\",T59=\"Y\"),SUBSTITUTE(Settings!$B$13,\"&BEAMColumn\",T71),T71)))","v":""},{"$f":"IF(LEN(U71)=0,\"\",TRIM(IF(AND($F$55=\"Fact\",U59=\"Y\"),SUBSTITUTE(Settings!$B$13,\"&BEAMColumn\",U71),U71)))","v":""},{"$f":"IF(LEN(V71)=0,\"\",TRIM(IF(AND($F$55=\"Fact\",V59=\"Y\"),SUBSTITUTE(Settings!$B$13,\"&BEAMColumn\",V71),V71)))","v":""},{"$f":"IF(LEN(W71)=0,\"\",TRIM(IF(AND($F$55=\"Fact\",W59=\"Y\"),SUBSTITUTE(Settings!$B$13,\"&BEAMColumn\",W71),W71)))","v":""},{"$f":"IF(LEN(X71)=0,\"\",TRIM(IF(AND($F$55=\"Fact\",X59=\"Y\"),SUBSTITUTE(Settings!$B$13,\"&BEAMColumn\",X71),X71)))","v":""},{"$f":"IF(LEN(Y71)=0,\"\",TRIM(IF(AND($F$55=\"Fact\",Y59=\"Y\"),SUBSTITUTE(Settings!$B$13,\"&BEAMColumn\",Y71),Y71)))","v":""},{"$f":"IF(LEN(Z71)=0,\"\",TRIM(IF(AND($F$55=\"Fact\",Z59=\"Y\"),SUBSTITUTE(Settings!$B$13,\"&BEAMColumn\",Z71),Z71)))","v":""}]
[null,null,"Max Column Name Length",null,null,{"$f":"MAX(MAX(LEN(F72:S72)),LEN(F45))","v":21}]
[]
[null,null,"Diagram Column Name <CR>",null,null,{"$f":"IF(OR(LEN(F72)=0,F58=\"Y\"),\"\",CONCATENATE(F72, CHAR(13)))","v":"CUSTOMER_KEY\r"},{"$f":"IF(OR(LEN(G72)=0,G58=\"Y\"),\"\",CONCATENATE(G72, CHAR(13)))","v":"PRODUCT_KEY\r"},"ORDER_DATE_KEY\r","DELIVERY_DUE_DATE_KEY\r","SALESPERSON_KEY\r","SALES_LOCATION_KEY\r","DELIVERY_ADDRESS_KEY\r","ORDER_QUANTITY\r","REVENUE\r","PROMOTION_KEY\r","DISCOUNT\r","ORDER_ID\r","","","",{"$f":"IF(OR(LEN(U72)=0,U58=\"Y\"),\"\",CONCATENATE(U72, CHAR(13)))","v":""},"","","","",""]
[null,null,"Diagram Key Column",null,null,{"$f":"IF(F63=\"Y\",F75,\"\")","v":"CUSTOMER_KEY\r"},{"$f":"IF(G63=\"Y\",G75,\"\")","v":"PRODUCT_KEY\r"},"ORDER_DATE_KEY\r","DELIVERY_DUE_DATE_KEY\r","SALESPERSON_KEY\r","SALES_LOCATION_KEY\r","DELIVERY_ADDRESS_KEY\r","","","PROMOTION_KEY\r","","ORDER_ID\r","","","",{"$f":"IF(U63=\"Y\",U75,\"\")","v":""},"","","","",""]
[null,null,"Diagram Key Column List \n(previous columns)",{"$nulls":3},{"$f":"INDIRECT(ADDRESS(ROW()+1,COLUMN()-1))","v":"CUSTOMER_KEY\r"},{"$f":"INDIRECT(ADDRESS(ROW()+1,COLUMN()-1))","v":"CUSTOMER_KEY\rPRODUCT_KEY\r"},"CUSTOMER_KEY\rPRODUCT_KEY\rORDER_DATE_KEY\r","CUSTOMER_KEY\rPRODUCT_KEY\rORDER_DATE_KEY\rDELIVERY_DUE_DATE_KEY\r","CUSTOMER_KEY\rPRODUCT_KEY\rORDER_DATE_KEY\rDELIVERY_DUE_DATE_KEY\rSALESPERSON_KEY\r","CUSTOMER_KEY\rPRODUCT_KEY\rORDER_DATE_KEY\rDELIVERY_DUE_DATE_KEY\rSALESPERSON_KEY\rSALES_LOCATION_KEY\r","CUSTOMER_KEY\rPRODUCT_KEY\rORDER_DATE_KEY\rDELIVERY_DUE_DATE_KEY\rSALESPERSON_KEY\rSALES_LOCATION_KEY\rDELIVERY_ADDRESS_KEY\r","CUSTOMER_KEY\rPRODUCT_KEY\rORDER_DATE_KEY\rDELIVERY_DUE_DATE_KEY\rSALESPERSON_KEY\rSALES_LOCATION_KEY\rDELIVERY_ADDRESS_KEY\r","CUSTOMER_KEY\rPRODUCT_KEY\rORDER_DATE_KEY\rDELIVERY_DUE_DATE_KEY\rSALESPERSON_KEY\rSALES_LOCATION_KEY\rDELIVERY_ADDRESS_KEY\r","CUSTOMER_KEY\rPRODUCT_KEY\rORDER_DATE_KEY\rDELIVERY_DUE_DATE_KEY\rSALESPERSON_KEY\rSALES_LOCATION_KEY\rDELIVERY_ADDRESS_KEY\rPROMOTION_KEY\r","CUSTOMER_KEY\rPRODUCT_KEY\rORDER_DATE_KEY\rDELIVERY_DUE_DATE_KEY\rSALESPERSON_KEY\rSALES_LOCATION_KEY\rDELIVERY_ADDRESS_KEY\rPROMOTION_KEY\r","CUSTOMER_KEY\rPRODUCT_KEY\rORDER_DATE_KEY\rDELIVERY_DUE_DATE_KEY\rSALESPERSON_KEY\rSALES_LOCATION_KEY\rDELIVERY_ADDRESS_KEY\rPROMOTION_KEY\rORDER_ID\r","CUSTOMER_KEY\rPRODUCT_KEY\rORDER_DATE_KEY\rDELIVERY_DUE_DATE_KEY\rSALESPERSON_KEY\rSALES_LOCATION_KEY\rDELIVERY_ADDRESS_KEY\rPROMOTION_KEY\rORDER_ID\r","CUSTOMER_KEY\rPRODUCT_KEY\rORDER_DATE_KEY\rDELIVERY_DUE_DATE_KEY\rSALESPERSON_KEY\rSALES_LOCATION_KEY\rDELIVERY_ADDRESS_KEY\rPROMOTION_KEY\rORDER_ID\r",{"$f":"INDIRECT(ADDRESS(ROW()+1,COLUMN()-1))","v":"CUSTOMER_KEY\rPRODUCT_KEY\rORDER_DATE_KEY\rDELIVERY_DUE_DATE_KEY\rSALESPERSON_KEY\rSALES_LOCATION_KEY\rDELIVERY_ADDRESS_KEY\rPROMOTION_KEY\rORDER_ID\r"},"CUSTOMER_KEY\rPRODUCT_KEY\rORDER_DATE_KEY\rDELIVERY_DUE_DATE_KEY\rSALESPERSON_KEY\rSALES_LOCATION_KEY\rDELIVERY_ADDRESS_KEY\rPROMOTION_KEY\rORDER_ID\r","CUSTOMER_KEY\rPRODUCT_KEY\rORDER_DATE_KEY\rDELIVERY_DUE_DATE_KEY\rSALESPERSON_KEY\rSALES_LOCATION_KEY\rDELIVERY_ADDRESS_KEY\rPROMOTION_KEY\rORDER_ID\r","CUSTOMER_KEY\rPRODUCT_KEY\rORDER_DATE_KEY\rDELIVERY_DUE_DATE_KEY\rSALESPERSON_KEY\rSALES_LOCATION_KEY\rDELIVERY_ADDRESS_KEY\rPROMOTION_KEY\rORDER_ID\r","CUSTOMER_KEY\rPRODUCT_KEY\rORDER_DATE_KEY\rDELIVERY_DUE_DATE_KEY\rSALESPERSON_KEY\rSALES_LOCATION_KEY\rDELIVERY_ADDRESS_KEY\rPROMOTION_KEY\rORDER_ID\r","CUSTOMER_KEY\rPRODUCT_KEY\rORDER_DATE_KEY\rDELIVERY_DUE_DATE_KEY\rSALESPERSON_KEY\rSALES_LOCATION_KEY\rDELIVERY_ADDRESS_KEY\rPROMOTION_KEY\rORDER_ID\r"]
[null,null,"Diagram Key Column List",null,null,{"$f":"F76","v":"CUSTOMER_KEY\r"},{"$f":"IF(NOT(ISERROR(FIND(\"...\",G77))),G77,IF(LEN(G77)>226,G77&\"...\"&CHAR(13),G77&G76))","v":"CUSTOMER_KEY\rPRODUCT_KEY\r"},"CUSTOMER_KEY\rPRODUCT_KEY\rORDER_DATE_KEY\r","CUSTOMER_KEY\rPRODUCT_KEY\rORDER_DATE_KEY\rDELIVERY_DUE_DATE_KEY\r","CUSTOMER_KEY\rPRODUCT_KEY\rORDER_DATE_KEY\rDELIVERY_DUE_DATE_KEY\rSALESPERSON_KEY\r","CUSTOMER_KEY\rPRODUCT_KEY\rORDER_DATE_KEY\rDELIVERY_DUE_DATE_KEY\rSALESPERSON_KEY\rSALES_LOCATION_KEY\r","CUSTOMER_KEY\rPRODUCT_KEY\rORDER_DATE_KEY\rDELIVERY_DUE_DATE_KEY\rSALESPERSON_KEY\rSALES_LOCATION_KEY\rDELIVERY_ADDRESS_KEY\r","CUSTOMER_KEY\rPRODUCT_KEY\rORDER_DATE_KEY\rDELIVERY_DUE_DATE_KEY\rSALESPERSON_KEY\rSALES_LOCATION_KEY\rDELIVERY_ADDRESS_KEY\r","CUSTOMER_KEY\rPRODUCT_KEY\rORDER_DATE_KEY\rDELIVERY_DUE_DATE_KEY\rSALESPERSON_KEY\rSALES_LOCATION_KEY\rDELIVERY_ADDRESS_KEY\r","CUSTOMER_KEY\rPRODUCT_KEY\rORDER_DATE_KEY\rDELIVERY_DUE_DATE_KEY\rSALESPERSON_KEY\rSALES_LOCATION_KEY\rDELIVERY_ADDRESS_KEY\rPROMOTION_KEY\r","CUSTOMER_KEY\rPRODUCT_KEY\rORDER_DATE_KEY\rDELIVERY_DUE_DATE_KEY\rSALESPERSON_KEY\rSALES_LOCATION_KEY\rDELIVERY_ADDRESS_KEY\rPROMOTION_KEY\r","CUSTOMER_KEY\rPRODUCT_KEY\rORDER_DATE_KEY\rDELIVERY_DUE_DATE_KEY\rSALESPERSON_KEY\rSALES_LOCATION_KEY\rDELIVERY_ADDRESS_KEY\rPROMOTION_KEY\rORDER_ID\r","CUSTOMER_KEY\rPRODUCT_KEY\rORDER_DATE_KEY\rDELIVERY_DUE_DATE_KEY\rSALESPERSON_KEY\rSALES_LOCATION_KEY\rDELIVERY_ADDRESS_KEY\rPROMOTION_KEY\rORDER_ID\r","CUSTOMER_KEY\rPRODUCT_KEY\rORDER_DATE_KEY\rDELIVERY_DUE_DATE_KEY\rSALESPERSON_KEY\rSALES_LOCATION_KEY\rDELIVERY_ADDRESS_KEY\rPROMOTION_KEY\rORDER_ID\r","CUSTOMER_KEY\rPRODUCT_KEY\rORDER_DATE_KEY\rDELIVERY_DUE_DATE_KEY\rSALESPERSON_KEY\rSALES_LOCATION_KEY\rDELIVERY_ADDRESS_KEY\rPROMOTION_KEY\rORDER_ID\r",{"$f":"IF(NOT(ISERROR(FIND(\"...\",U77))),U77,IF(LEN(U77)>226,U77&\"...\"&CHAR(13),U77&U76))","v":"CUSTOMER_KEY\rPRODUCT_KEY\rORDER_DATE_KEY\rDELIVERY_DUE_DATE_KEY\rSALESPERSON_KEY\rSALES_LOCATION_KEY\rDELIVERY_ADDRESS_KEY\rPROMOTION_KEY\rORDER_ID\r"},"CUSTOMER_KEY\rPRODUCT_KEY\rORDER_DATE_KEY\rDELIVERY_DUE_DATE_KEY\rSALESPERSON_KEY\rSALES_LOCATION_KEY\rDELIVERY_ADDRESS_KEY\rPROMOTION_KEY\rORDER_ID\r","CUSTOMER_KEY\rPRODUCT_KEY\rORDER_DATE_KEY\rDELIVERY_DUE_DATE_KEY\rSALESPERSON_KEY\rSALES_LOCATION_KEY\rDELIVERY_ADDRESS_KEY\rPROMOTION_KEY\rORDER_ID\r","CUSTOMER_KEY\rPRODUCT_KEY\rORDER_DATE_KEY\rDELIVERY_DUE_DATE_KEY\rSALESPERSON_KEY\rSALES_LOCATION_KEY\rDELIVERY_ADDRESS_KEY\rPROMOTION_KEY\rORDER_ID\r","CUSTOMER_KEY\rPRODUCT_KEY\rORDER_DATE_KEY\rDELIVERY_DUE_DATE_KEY\rSALESPERSON_KEY\rSALES_LOCATION_KEY\rDELIVERY_ADDRESS_KEY\rPROMOTION_KEY\rORDER_ID\r","CUSTOMER_KEY\rPRODUCT_KEY\rORDER_DATE_KEY\rDELIVERY_DUE_DATE_KEY\rSALESPERSON_KEY\rSALES_LOCATION_KEY\rDELIVERY_ADDRESS_KEY\rPROMOTION_KEY\rORDER_ID\r"]
[]
[null,null,"Diagram Non-Key Column",null,null,{"$f":"IF(F63=\"Y\",\"\", F75)","v":""},{"$f":"IF(G63=\"Y\",\"\", G75)","v":""},"","","","","","ORDER_QUANTITY\r","REVENUE\r","","DISCOUNT\r","","","","",{"$f":"IF(U63=\"Y\",\"\", U75)","v":""},"","","","",""]
[null,null,"Column List\n (up to previous column)",null,null,{"$f":"IF(LEN(G117)=0,\"\",G117 & CHAR(13))","v":"CUSTOMER_KEY\rPRODUCT_KEY\rORDER_DATE_KEY\rDELIVERY_DUE_DATE_KEY\rSALESPERSON_KEY\rSALES_LOCATION_KEY\rDELIVERY_ADDRESS_KEY\rPROMOTION_KEY\rORDER_ID\r\r"},{"$f":"INDIRECT(ADDRESS(ROW()+1,COLUMN()-1))","v":"CUSTOMER_KEY\rPRODUCT_KEY\rORDER_DATE_KEY\rDELIVERY_DUE_DATE_KEY\rSALESPERSON_KEY\rSALES_LOCATION_KEY\rDELIVERY_ADDRESS_KEY\rPROMOTION_KEY\rORDER_ID\r\r"},{"$f":"INDIRECT(ADDRESS(ROW()+1,COLUMN()-1))","v":"CUSTOMER_KEY\rPRODUCT_KEY\rORDER_DATE_KEY\rDELIVERY_DUE_DATE_KEY\rSALESPERSON_KEY\rSALES_LOCATION_KEY\rDELIVERY_ADDRESS_KEY\rPROMOTION_KEY\rORDER_ID\r\r"},"CUSTOMER_KEY\rPRODUCT_KEY\rORDER_DATE_KEY\rDELIVERY_DUE_DATE_KEY\rSALESPERSON_KEY\rSALES_LOCATION_KEY\rDELIVERY_ADDRESS_KEY\rPROMOTION_KEY\rORDER_ID\r\r","CUSTOMER_KEY\rPRODUCT_KEY\rORDER_DATE_KEY\rDELIVERY_DUE_DATE_KEY\rSALESPERSON_KEY\rSALES_LOCATION_KEY\rDELIVERY_ADDRESS_KEY\rPROMOTION_KEY\rORDER_ID\r\r","CUSTOMER_KEY\rPRODUCT_KEY\rORDER_DATE_KEY\rDELIVERY_DUE_DATE_KEY\rSALESPERSON_KEY\rSALES_LOCATION_KEY\rDELIVERY_ADDRESS_KEY\rPROMOTION_KEY\rORDER_ID\r\r","CUSTOMER_KEY\rPRODUCT_KEY\rORDER_DATE_KEY\rDELIVERY_DUE_DATE_KEY\rSALESPERSON_KEY\rSALES_LOCATION_KEY\rDELIVERY_ADDRESS_KEY\rPROMOTION_KEY\rORDER_ID\r\r","CUSTOMER_KEY\rPRODUCT_KEY\rORDER_DATE_KEY\rDELIVERY_DUE_DATE_KEY\rSALESPERSON_KEY\rSALES_LOCATION_KEY\rDELIVERY_ADDRESS_KEY\rPROMOTION_KEY\rORDER_ID\r\r","CUSTOMER_KEY\rPRODUCT_KEY\rORDER_DATE_KEY\rDELIVERY_DUE_DATE_KEY\rSALESPERSON_KEY\rSALES_LOCATION_KEY\rDELIVERY_ADDRESS_KEY\rPROMOTION_KEY\rORDER_ID\r\rORDER_QUANTITY\r","CUSTOMER_KEY\rPRODUCT_KEY\rORDER_DATE_KEY\rDELIVERY_DUE_DATE_KEY\rSALESPERSON_KEY\rSALES_LOCATION_KEY\rDELIVERY_ADDRESS_KEY\rPROMOTION_KEY\rORDER_ID\r\rORDER_QUANTITY\rREVENUE\r","CUSTOMER_KEY\rPRODUCT_KEY\rORDER_DATE_KEY\rDELIVERY_DUE_DATE_KEY\rSALESPERSON_KEY\rSALES_LOCATION_KEY\rDELIVERY_ADDRESS_KEY\rPROMOTION_KEY\rORDER_ID\r\rORDER_QUANTITY\rREVENUE\r","CUSTOMER_KEY\rPRODUCT_KEY\rORDER_DATE_KEY\rDELIVERY_DUE_DATE_KEY\rSALESPERSON_KEY\rSALES_LOCATION_KEY\rDELIVERY_ADDRESS_KEY\rPROMOTION_KEY\rORDER_ID\r\rORDER_QUANTITY\rREVENUE\rDISCOUNT\r","CUSTOMER_KEY\rPRODUCT_KEY\rORDER_DATE_KEY\rDELIVERY_DUE_DATE_KEY\rSALESPERSON_KEY\rSALES_LOCATION_KEY\rDELIVERY_ADDRESS_KEY\rPROMOTION_KEY\rORDER_ID\r\rORDER_QUANTITY\rREVENUE\rDISCOUNT\r","CUSTOMER_KEY\rPRODUCT_KEY\rORDER_DATE_KEY\rDELIVERY_DUE_DATE_KEY\rSALESPERSON_KEY\rSALES_LOCATION_KEY\rDELIVERY_ADDRESS_KEY\rPROMOTION_KEY\rORDER_ID\r\rORDER_QUANTITY\rREVENUE\rDISCOUNT\r","CUSTOMER_KEY\rPRODUCT_KEY\rORDER_DATE_KEY\rDELIVERY_DUE_DATE_KEY\rSALESPERSON_KEY\rSALES_LOCATION_KEY\rDELIVERY_ADDRESS_KEY\rPROMOTION_KEY\rORDER_ID\r\rORDER_QUANTITY\rREVENUE\rDISCOUNT\r",{"$f":"INDIRECT(ADDRESS(ROW()+1,COLUMN()-1))","v":"CUSTOMER_KEY\rPRODUCT_KEY\rORDER_DATE_KEY\rDELIVERY_DUE_DATE_KEY\rSALESPERSON_KEY\rSALES_LOCATION_KEY\rDELIVERY_ADDRESS_KEY\rPROMOTION_KEY\rORDER_ID\r\rORDER_QUANTITY\rREVENUE\rDISCOUNT\r"},"CUSTOMER_KEY\rPRODUCT_KEY\rORDER_DATE_KEY\rDELIVERY_DUE_DATE_KEY\rSALESPERSON_KEY\rSALES_LOCATION_KEY\rDELIVERY_ADDRESS_KEY\rPROMOTION_KEY\rORDER_ID\r\rORDER_QUANTITY\rREVENUE\rDISCOUNT\r","CUSTOMER_KEY\rPRODUCT_KEY\rORDER_DATE_KEY\rDELIVERY_DUE_DATE_KEY\rSALESPERSON_KEY\rSALES_LOCATION_KEY\rDELIVERY_ADDRESS_KEY\rPROMOTION_KEY\rORDER_ID\r\rORDER_QUANTITY\rREVENUE\rDISCOUNT\r","CUSTOMER_KEY\rPRODUCT_KEY\rORDER_DATE_KEY\rDELIVERY_DUE_DATE_KEY\rSALESPERSON_KEY\rSALES_LOCATION_KEY\rDELIVERY_ADDRESS_KEY\rPROMOTION_KEY\rORDER_ID\r\rORDER_QUANTITY\rREVENUE\rDISCOUNT\r","CUSTOMER_KEY\rPRODUCT_KEY\rORDER_DATE_KEY\rDELIVERY_DUE_DATE_KEY\rSALESPERSON_KEY\rSALES_LOCATION_KEY\rDELIVERY_ADDRESS_KEY\rPROMOTION_KEY\rORDER_ID\r\rORDER_QUANTITY\rREVENUE\rDISCOUNT\r","CUSTOMER_KEY\rPRODUCT_KEY\rORDER_DATE_KEY\rDELIVERY_DUE_DATE_KEY\rSALESPERSON_KEY\rSALES_LOCATION_KEY\rDELIVERY_ADDRESS_KEY\rPROMOTION_KEY\rORDER_ID\r\rORDER_QUANTITY\rREVENUE\rDISCOUNT\r"]
[null,null,"Column List",null,null,{"$f":"IF(NOT(ISERROR(FIND(\"...\",F81))),F81,IF(LEN(F81)>226, F81 & \"...\" & CHAR(13), F81 & F80))","v":"CUSTOMER_KEY\rPRODUCT_KEY\rORDER_DATE_KEY\rDELIVERY_DUE_DATE_KEY\rSALESPERSON_KEY\rSALES_LOCATION_KEY\rDELIVERY_ADDRESS_KEY\rPROMOTION_KEY\rORDER_ID\r\r"},{"$f":"IF(NOT(ISERROR(FIND(\"...\",G81))),G81,IF(LEN(G81)>226, G81 & \"...\" & CHAR(13), G81 & G80))","v":"CUSTOMER_KEY\rPRODUCT_KEY\rORDER_DATE_KEY\rDELIVERY_DUE_DATE_KEY\rSALESPERSON_KEY\rSALES_LOCATION_KEY\rDELIVERY_ADDRESS_KEY\rPROMOTION_KEY\rORDER_ID\r\r"},{"$f":"IF(NOT(ISERROR(FIND(\"...\",H81))),H81,IF(LEN(H81)>226, H81 & \"...\" & CHAR(13), H81 & H80))","v":"CUSTOMER_KEY\rPRODUCT_KEY\rORDER_DATE_KEY\rDELIVERY_DUE_DATE_KEY\rSALESPERSON_KEY\rSALES_LOCATION_KEY\rDELIVERY_ADDRESS_KEY\rPROMOTION_KEY\rORDER_ID\r\r"},"CUSTOMER_KEY\rPRODUCT_KEY\rORDER_DATE_KEY\rDELIVERY_DUE_DATE_KEY\rSALESPERSON_KEY\rSALES_LOCATION_KEY\rDELIVERY_ADDRESS_KEY\rPROMOTION_KEY\rORDER_ID\r\r","CUSTOMER_KEY\rPRODUCT_KEY\rORDER_DATE_KEY\rDELIVERY_DUE_DATE_KEY\rSALESPERSON_KEY\rSALES_LOCATION_KEY\rDELIVERY_ADDRESS_KEY\rPROMOTION_KEY\rORDER_ID\r\r","CUSTOMER_KEY\rPRODUCT_KEY\rORDER_DATE_KEY\rDELIVERY_DUE_DATE_KEY\rSALESPERSON_KEY\rSALES_LOCATION_KEY\rDELIVERY_ADDRESS_KEY\rPROMOTION_KEY\rORDER_ID\r\r","CUSTOMER_KEY\rPRODUCT_KEY\rORDER_DATE_KEY\rDELIVERY_DUE_DATE_KEY\rSALESPERSON_KEY\rSALES_LOCATION_KEY\rDELIVERY_ADDRESS_KEY\rPROMOTION_KEY\rORDER_ID\r\r","CUSTOMER_KEY\rPRODUCT_KEY\rORDER_DATE_KEY\rDELIVERY_DUE_DATE_KEY\rSALESPERSON_KEY\rSALES_LOCATION_KEY\rDELIVERY_ADDRESS_KEY\rPROMOTION_KEY\rORDER_ID\r\rORDER_QUANTITY\r","CUSTOMER_KEY\rPRODUCT_KEY\rORDER_DATE_KEY\rDELIVERY_DUE_DATE_KEY\rSALESPERSON_KEY\rSALES_LOCATION_KEY\rDELIVERY_ADDRESS_KEY\rPROMOTION_KEY\rORDER_ID\r\rORDER_QUANTITY\rREVENUE\r","CUSTOMER_KEY\rPRODUCT_KEY\rORDER_DATE_KEY\rDELIVERY_DUE_DATE_KEY\rSALESPERSON_KEY\rSALES_LOCATION_KEY\rDELIVERY_ADDRESS_KEY\rPROMOTION_KEY\rORDER_ID\r\rORDER_QUANTITY\rREVENUE\r","CUSTOMER_KEY\rPRODUCT_KEY\rORDER_DATE_KEY\rDELIVERY_DUE_DATE_KEY\rSALESPERSON_KEY\rSALES_LOCATION_KEY\rDELIVERY_ADDRESS_KEY\rPROMOTION_KEY\rORDER_ID\r\rORDER_QUANTITY\rREVENUE\rDISCOUNT\r","CUSTOMER_KEY\rPRODUCT_KEY\rORDER_DATE_KEY\rDELIVERY_DUE_DATE_KEY\rSALESPERSON_KEY\rSALES_LOCATION_KEY\rDELIVERY_ADDRESS_KEY\rPROMOTION_KEY\rORDER_ID\r\rORDER_QUANTITY\rREVENUE\rDISCOUNT\r","CUSTOMER_KEY\rPRODUCT_KEY\rORDER_DATE_KEY\rDELIVERY_DUE_DATE_KEY\rSALESPERSON_KEY\rSALES_LOCATION_KEY\rDELIVERY_ADDRESS_KEY\rPROMOTION_KEY\rORDER_ID\r\rORDER_QUANTITY\rREVENUE\rDISCOUNT\r","CUSTOMER_KEY\rPRODUCT_KEY\rORDER_DATE_KEY\rDELIVERY_DUE_DATE_KEY\rSALESPERSON_KEY\rSALES_LOCATION_KEY\rDELIVERY_ADDRESS_KEY\rPROMOTION_KEY\rORDER_ID\r\rORDER_QUANTITY\rREVENUE\rDISCOUNT\r","CUSTOMER_KEY\rPRODUCT_KEY\rORDER_DATE_KEY\rDELIVERY_DUE_DATE_KEY\rSALESPERSON_KEY\rSALES_LOCATION_KEY\rDELIVERY_ADDRESS_KEY\rPROMOTION_KEY\rORDER_ID\r\rORDER_QUANTITY\rREVENUE\rDISCOUNT\r",{"$f":"IF(NOT(ISERROR(FIND(\"...\",U81))),U81,IF(LEN(U81)>226, U81 & \"...\" & CHAR(13), U81 & U80))","v":"CUSTOMER_KEY\rPRODUCT_KEY\rORDER_DATE_KEY\rDELIVERY_DUE_DATE_KEY\rSALESPERSON_KEY\rSALES_LOCATION_KEY\rDELIVERY_ADDRESS_KEY\rPROMOTION_KEY\rORDER_ID\r\rORDER_QUANTITY\rREVENUE\rDISCOUNT\r"},"CUSTOMER_KEY\rPRODUCT_KEY\rORDER_DATE_KEY\rDELIVERY_DUE_DATE_KEY\rSALESPERSON_KEY\rSALES_LOCATION_KEY\rDELIVERY_ADDRESS_KEY\rPROMOTION_KEY\rORDER_ID\r\rORDER_QUANTITY\rREVENUE\rDISCOUNT\r","CUSTOMER_KEY\rPRODUCT_KEY\rORDER_DATE_KEY\rDELIVERY_DUE_DATE_KEY\rSALESPERSON_KEY\rSALES_LOCATION_KEY\rDELIVERY_ADDRESS_KEY\rPROMOTION_KEY\rORDER_ID\r\rORDER_QUANTITY\rREVENUE\rDISCOUNT\r","CUSTOMER_KEY\rPRODUCT_KEY\rORDER_DATE_KEY\rDELIVERY_DUE_DATE_KEY\rSALESPERSON_KEY\rSALES_LOCATION_KEY\rDELIVERY_ADDRESS_KEY\rPROMOTION_KEY\rORDER_ID\r\rORDER_QUANTITY\rREVENUE\rDISCOUNT\r","CUSTOMER_KEY\rPRODUCT_KEY\rORDER_DATE_KEY\rDELIVERY_DUE_DATE_KEY\rSALESPERSON_KEY\rSALES_LOCATION_KEY\rDELIVERY_ADDRESS_KEY\rPROMOTION_KEY\rORDER_ID\r\rORDER_QUANTITY\rREVENUE\rDISCOUNT\r","CUSTOMER_KEY\rPRODUCT_KEY\rORDER_DATE_KEY\rDELIVERY_DUE_DATE_KEY\rSALESPERSON_KEY\rSALES_LOCATION_KEY\rDELIVERY_ADDRESS_KEY\rPROMOTION_KEY\rORDER_ID\r\rORDER_QUANTITY\rREVENUE\rDISCOUNT\r"]
[null,null,"Column Code",null,null,{"$f":"IF(LEN(F72)=0,\"\",TRIM(SUBSTITUTE(F7, \"!\", \"\")))","v":"[who] SK"},"[what] GD, SK","[when] SK","[when] SK","[who] SK","[where] SK","[where] SK","[Retail Units] FA","[$] FA","[why] SK","[$] FA","[how] GD, DD, MD","","","",{"$f":"IF(LEN(U72)=0,\"\",TRIM(SUBSTITUTE(U7, \"!\", \"\")))","v":""},"","","","",""]
[null,null,"All Code List",null,null,{"$f":"F83","v":"[who] SK"},{"$f":"CONCATENATE(INDIRECT(ADDRESS(ROW(),COLUMN()-1)),\", \", G83)","v":"[who] SK, [what] GD, SK"},{"$f":"CONCATENATE(INDIRECT(ADDRESS(ROW(),COLUMN()-1)),\", \", H83)","v":"[who] SK, [what] GD, SK, [when] SK"},"[who] SK, [what] GD, SK, [when] SK, [when] SK","[who] SK, [what] GD, SK, [when] SK, [when] SK, [who] SK","[who] SK, [what] GD, SK, [when] SK, [when] SK, [who] SK, [where] SK","[who] SK, [what] GD, SK, [when] SK, [when] SK, [who] SK, [where] SK, [where] SK","[who] SK, [what] GD, SK, [when] SK, [when] SK, [who] SK, [where] SK, [where] SK, [Retail Units] FA","[who] SK, [what] GD, SK, [when] SK, [when] SK, [who] SK, [where] SK, [where] SK, [Retail Units] FA, [$] FA","[who] SK, [what] GD, SK, [when] SK, [when] SK, [who] SK, [where] SK, [where] SK, [Retail Units] FA, [$] FA, [why] SK","[who] SK, [what] GD, SK, [when] SK, [when] SK, [who] SK, [where] SK, [where] SK, [Retail Units] FA, [$] FA, [why] SK, [$] FA","[who] SK, [what] GD, SK, [when] SK, [when] SK, [who] SK, [where] SK, [where] SK, [Retail Units] FA, [$] FA, [why] SK, [$] FA, [how] GD, DD, MD","[who] SK, [what] GD, SK, [when] SK, [when] SK, [who] SK, [where] SK, [where] SK, [Retail Units] FA, [$] FA, [why] SK, [$] FA, [how] GD, DD, MD, ","[who] SK, [what] GD, SK, [when] SK, [when] SK, [who] SK, [where] SK, [where] SK, [Retail Units] FA, [$] FA, [why] SK, [$] FA, [how] GD, DD, MD, , ","[who] SK, [what] GD, SK, [when] SK, [when] SK, [who] SK, [where] SK, [where] SK, [Retail Units] FA, [$] FA, [why] SK, [$] FA, [how] GD, DD, MD, , , ",{"$f":"CONCATENATE(INDIRECT(ADDRESS(ROW(),COLUMN()-1)),\", \", U83)","v":"[who] SK, [what] GD, SK, [when] SK, [when] SK, [who] SK, [where] SK, [where] SK, [Retail Units] FA, [$] FA, [why] SK, [$] FA, [how] GD, DD, MD, , , , "},"[who] SK, [what] GD, SK, [when] SK, [when] SK, [who] SK, [where] SK, [where] SK, [Retail Units] FA, [$] FA, [why] SK, [$] FA, [how] GD, DD, MD, , , , , ","[who] SK, [what] GD, SK, [when] SK, [when] SK, [who] SK, [where] SK, [where] SK, [Retail Units] FA, [$] FA, [why] SK, [$] FA, [how] GD, DD, MD, , , , , , ","[who] SK, [what] GD, SK, [when] SK, [when] SK, [who] SK, [where] SK, [where] SK, [Retail Units] FA, [$] FA, [why] SK, [$] FA, [how] GD, DD, MD, , , , , , , ","[who] SK, [what] GD, SK, [when] SK, [when] SK, [who] SK, [where] SK, [where] SK, [Retail Units] FA, [$] FA, [why] SK, [$] FA, [how] GD, DD, MD, , , , , , , , ","[who] SK, [what] GD, SK, [when] SK, [when] SK, [who] SK, [where] SK, [where] SK, [Retail Units] FA, [$] FA, [why] SK, [$] FA, [how] GD, DD, MD, , , , , , , , , "]
[]
[null,null,"SK Column",null,null,{"$f":"IF(F59=\"Y\",F72 & \", \",\"\")","v":"CUSTOMER_KEY, "},{"$f":"IF(G59=\"Y\",G72 & \", \",\"\")","v":"PRODUCT_KEY, "},"ORDER_DATE_KEY, ","DELIVERY_DUE_DATE_KEY, ","SALESPERSON_KEY, ","SALES_LOCATION_KEY, ","DELIVERY_ADDRESS_KEY, ","","","PROMOTION_KEY, ","","","","","",{"$f":"IF(U59=\"Y\",U72 & \", \",\"\")","v":""},"","","","",""]
[null,null,"SK Column List",null,null,{"$f":"F86","v":"CUSTOMER_KEY, "},{"$f":"CONCATENATE(INDIRECT(ADDRESS(ROW(),COLUMN()-1)), G86)","v":"CUSTOMER_KEY, PRODUCT_KEY, "},{"$f":"CONCATENATE(INDIRECT(ADDRESS(ROW(),COLUMN()-1)), H86)","v":"CUSTOMER_KEY, PRODUCT_KEY, ORDER_DATE_KEY, "},"CUSTOMER_KEY, PRODUCT_KEY, ORDER_DATE_KEY, DELIVERY_DUE_DATE_KEY, ","CUSTOMER_KEY, PRODUCT_KEY, ORDER_DATE_KEY, DELIVERY_DUE_DATE_KEY, SALESPERSON_KEY, ","CUSTOMER_KEY, PRODUCT_KEY, ORDER_DATE_KEY, DELIVERY_DUE_DATE_KEY, SALESPERSON_KEY, SALES_LOCATION_KEY, ","CUSTOMER_KEY, PRODUCT_KEY, ORDER_DATE_KEY, DELIVERY_DUE_DATE_KEY, SALESPERSON_KEY, SALES_LOCATION_KEY, DELIVERY_ADDRESS_KEY, ","CUSTOMER_KEY, PRODUCT_KEY, ORDER_DATE_KEY, DELIVERY_DUE_DATE_KEY, SALESPERSON_KEY, SALES_LOCATION_KEY, DELIVERY_ADDRESS_KEY, ","CUSTOMER_KEY, PRODUCT_KEY, ORDER_DATE_KEY, DELIVERY_DUE_DATE_KEY, SALESPERSON_KEY, SALES_LOCATION_KEY, DELIVERY_ADDRESS_KEY, ","CUSTOMER_KEY, PRODUCT_KEY, ORDER_DATE_KEY, DELIVERY_DUE_DATE_KEY, SALESPERSON_KEY, SALES_LOCATION_KEY, DELIVERY_ADDRESS_KEY, PROMOTION_KEY, ","CUSTOMER_KEY, PRODUCT_KEY, ORDER_DATE_KEY, DELIVERY_DUE_DATE_KEY, SALESPERSON_KEY, SALES_LOCATION_KEY, DELIVERY_ADDRESS_KEY, PROMOTION_KEY, ","CUSTOMER_KEY, PRODUCT_KEY, ORDER_DATE_KEY, DELIVERY_DUE_DATE_KEY, SALESPERSON_KEY, SALES_LOCATION_KEY, DELIVERY_ADDRESS_KEY, PROMOTION_KEY, ","CUSTOMER_KEY, PRODUCT_KEY, ORDER_DATE_KEY, DELIVERY_DUE_DATE_KEY, SALESPERSON_KEY, SALES_LOCATION_KEY, DELIVERY_ADDRESS_KEY, PROMOTION_KEY, ","CUSTOMER_KEY, PRODUCT_KEY, ORDER_DATE_KEY, DELIVERY_DUE_DATE_KEY, SALESPERSON_KEY, SALES_LOCATION_KEY, DELIVERY_ADDRESS_KEY, PROMOTION_KEY, ","CUSTOMER_KEY, PRODUCT_KEY, ORDER_DATE_KEY, DELIVERY_DUE_DATE_KEY, SALESPERSON_KEY, SALES_LOCATION_KEY, DELIVERY_ADDRESS_KEY, PROMOTION_KEY, ",{"$f":"CONCATENATE(INDIRECT(ADDRESS(ROW(),COLUMN()-1)), U86)","v":"CUSTOMER_KEY, PRODUCT_KEY, ORDER_DATE_KEY, DELIVERY_DUE_DATE_KEY, SALESPERSON_KEY, SALES_LOCATION_KEY, DELIVERY_ADDRESS_KEY, PROMOTION_KEY, "},"CUSTOMER_KEY, PRODUCT_KEY, ORDER_DATE_KEY, DELIVERY_DUE_DATE_KEY, SALESPERSON_KEY, SALES_LOCATION_KEY, DELIVERY_ADDRESS_KEY, PROMOTION_KEY, ","CUSTOMER_KEY, PRODUCT_KEY, ORDER_DATE_KEY, DELIVERY_DUE_DATE_KEY, SALESPERSON_KEY, SALES_LOCATION_KEY, DELIVERY_ADDRESS_KEY, PROMOTION_KEY, ","CUSTOMER_KEY, PRODUCT_KEY, ORDER_DATE_KEY, DELIVERY_DUE_DATE_KEY, SALESPERSON_KEY, SALES_LOCATION_KEY, DELIVERY_ADDRESS_KEY, PROMOTION_KEY, ","CUSTOMER_KEY, PRODUCT_KEY, ORDER_DATE_KEY, DELIVERY_DUE_DATE_KEY, SALESPERSON_KEY, SALES_LOCATION_KEY, DELIVERY_ADDRESS_KEY, PROMOTION_KEY, ","CUSTOMER_KEY, PRODUCT_KEY, ORDER_DATE_KEY, DELIVERY_DUE_DATE_KEY, SALESPERSON_KEY, SALES_LOCATION_KEY, DELIVERY_ADDRESS_KEY, PROMOTION_KEY, "]
[null,null,"Visable Column Code",null,null,{"$f":"IF(F58=\"Y\",\"\",F83)","v":"[who] SK"},"[what] GD, SK","[when] SK","[when] SK","[who] SK","[where] SK","[where] SK","[Retail Units] FA","[$] FA","[why] SK","[$] FA","[how] GD, DD, MD","","","",{"$f":"IF(U58=\"Y\",\"\",U83)","v":""},"","","","",""]
[null,null,"Column Code <CR>",null,null,{"$f":"IF(OR(LEN(F72)=0,F58=\"Y\"),\"\",CONCATENATE(IF(LEN(F88)=0,\"\",SUBSTITUTE(Settings!$B$41,\"&BEAMColumnCodes\",F88)),CHAR(13)))","v":" [who] SK \r"},{"$f":"IF(OR(LEN(G72)=0,G58=\"Y\"),\"\",CONCATENATE(IF(LEN(G88)=0,\"\",SUBSTITUTE(Settings!$B$41,\"&BEAMColumnCodes\",G88)),CHAR(13)))","v":" [what] GD, SK \r"},{"$f":"IF(OR(LEN(H72)=0,H58=\"Y\"),\"\",CONCATENATE(IF(LEN(H88)=0,\"\",SUBSTITUTE(Settings!$B$41,\"&BEAMColumnCodes\",H88)),CHAR(13)))","v":" [when] SK \r"},{"$f":"IF(OR(LEN(I72)=0,I58=\"Y\"),\"\",CONCATENATE(IF(LEN(I88)=0,\"\",SUBSTITUTE(Settings!$B$41,\"&BEAMColumnCodes\",I88)),CHAR(13)))","v":" [when] SK \r"},{"$f":"IF(OR(LEN(J72)=0,J58=\"Y\"),\"\",CONCATENATE(IF(LEN(J88)=0,\"\",SUBSTITUTE(Settings!$B$41,\"&BEAMColumnCodes\",J88)),CHAR(13)))","v":" [who] SK \r"},{"$f":"IF(OR(LEN(K72)=0,K58=\"Y\"),\"\",CONCATENATE(IF(LEN(K88)=0,\"\",SUBSTITUTE(Settings!$B$41,\"&BEAMColumnCodes\",K88)),CHAR(13)))","v":" [where] SK \r"},{"$f":"IF(OR(LEN(L72)=0,L58=\"Y\"),\"\",CONCATENATE(IF(LEN(L88)=0,\"\",SUBSTITUTE(Settings!$B$41,\"&BEAMColumnCodes\",L88)),CHAR(13)))","v":" [where] SK \r"},{"$f":"IF(OR(LEN(M72)=0,M58=\"Y\"),\"\",CONCATENATE(IF(LEN(M88)=0,\"\",SUBSTITUTE(Settings!$B$41,\"&BEAMColumnCodes\",M88)),CHAR(13)))","v":" [Retail Units] FA \r"},{"$f":"IF(OR(LEN(N72)=0,N58=\"Y\"),\"\",CONCATENATE(IF(LEN(N88)=0,\"\",SUBSTITUTE(Settings!$B$41,\"&BEAMColumnCodes\",N88)),CHAR(13)))","v":" [$] FA \r"},{"$f":"IF(OR(LEN(O72)=0,O58=\"Y\"),\"\",CONCATENATE(IF(LEN(O88)=0,\"\",SUBSTITUTE(Settings!$B$41,\"&BEAMColumnCodes\",O88)),CHAR(13)))","v":" [why] SK \r"},{"$f":"IF(OR(LEN(P72)=0,P58=\"Y\"),\"\",CONCATENATE(IF(LEN(P88)=0,\"\",SUBSTITUTE(Settings!$B$41,\"&BEAMColumnCodes\",P88)),CHAR(13)))","v":" [$] FA \r"},{"$f":"IF(OR(LEN(Q72)=0,Q58=\"Y\"),\"\",CONCATENATE(IF(LEN(Q88)=0,\"\",SUBSTITUTE(Settings!$B$41,\"&BEAMColumnCodes\",Q88)),CHAR(13)))","v":" [how] GD, DD, MD \r"},{"$f":"IF(OR(LEN(R72)=0,R58=\"Y\"),\"\",CONCATENATE(IF(LEN(R88)=0,\"\",SUBSTITUTE(Settings!$B$41,\"&BEAMColumnCodes\",R88)),CHAR(13)))","v":""},{"$f":"IF(OR(LEN(S72)=0,S58=\"Y\"),\"\",CONCATENATE(IF(LEN(S88)=0,\"\",SUBSTITUTE(Settings!$B$41,\"&BEAMColumnCodes\",S88)),CHAR(13)))","v":""},{"$f":"IF(OR(LEN(T72)=0,T58=\"Y\"),\"\",CONCATENATE(IF(LEN(T88)=0,\"\",SUBSTITUTE(Settings!$B$41,\"&BEAMColumnCodes\",T88)),CHAR(13)))","v":""},{"$f":"IF(OR(LEN(U72)=0,U58=\"Y\"),\"\",CONCATENATE(IF(LEN(U88)=0,\"\",SUBSTITUTE(Settings!$B$41,\"&BEAMColumnCodes\",U88)),CHAR(13)))","v":""},{"$f":"IF(OR(LEN(V72)=0,V58=\"Y\"),\"\",CONCATENATE(IF(LEN(V88)=0,\"\",SUBSTITUTE(Settings!$B$41,\"&BEAMColumnCodes\",V88)),CHAR(13)))","v":""},{"$f":"IF(OR(LEN(W72)=0,W58=\"Y\"),\"\",CONCATENATE(IF(LEN(W88)=0,\"\",SUBSTITUTE(Settings!$B$41,\"&BEAMColumnCodes\",W88)),CHAR(13)))","v":""},{"$f":"IF(OR(LEN(X72)=0,X58=\"Y\"),\"\",CONCATENATE(IF(LEN(X88)=0,\"\",SUBSTITUTE(Settings!$B$41,\"&BEAMColumnCodes\",X88)),CHAR(13)))","v":""},{"$f":"IF(OR(LEN(Y72)=0,Y58=\"Y\"),\"\",CONCATENATE(IF(LEN(Y88)=0,\"\",SUBSTITUTE(Settings!$B$41,\"&BEAMColumnCodes\",Y88)),CHAR(13)))","v":""},{"$f":"IF(OR(LEN(Z72)=0,Z58=\"Y\"),\"\",CONCATENATE(IF(LEN(Z88)=0,\"\",SUBSTITUTE(Settings!$B$41,\"&BEAMColumnCodes\",Z88)),CHAR(13)))","v":""}]
[null,null,"Key Code",null,null,{"$f":"IF(F63=\"Y\",F89,\"\")","v":" [who] SK \r"},{"$f":"IF(G63=\"Y\",G89,\"\")","v":" [what] GD, SK \r"}," [when] SK \r"," [when] SK \r"," [who] SK \r"," [where] SK \r"," [where] SK \r","",""," [why] SK \r",""," [how] GD, DD, MD \r","","","",{"$f":"IF(U63=\"Y\",U89,\"\")","v":""},"","","","",""]
[null,null,"Key Code List",null,null,{"$f":"F90","v":" [who] SK \r"},{"$f":"CONCATENATE(INDIRECT(ADDRESS(ROW(),COLUMN()-1)),IF(ISERROR(FIND(\"...\",G78)),G90,\"\"))","v":" [who] SK \r [what] GD, SK \r"},{"$f":"CONCATENATE(INDIRECT(ADDRESS(ROW(),COLUMN()-1)),IF(ISERROR(FIND(\"...\",H78)),H90,\"\"))","v":" [who] SK \r [what] GD, SK \r [when] SK \r"}," [who] SK \r [what] GD, SK \r [when] SK \r [when] SK \r"," [who] SK \r [what] GD, SK \r [when] SK \r [when] SK \r [who] SK \r"," [who] SK \r [what] GD, SK \r [when] SK \r [when] SK \r [who] SK \r [where] SK \r"," [who] SK \r [what] GD, SK \r [when] SK \r [when] SK \r [who] SK \r [where] SK \r [where] SK \r"," [who] SK \r [what] GD, SK \r [when] SK \r [when] SK \r [who] SK \r [where] SK \r [where] SK \r"," [who] SK \r [what] GD, SK \r [when] SK \r [when] SK \r [who] SK \r [where] SK \r [where] SK \r"," [who] SK \r [what] GD, SK \r [when] SK \r [when] SK \r [who] SK \r [where] SK \r [where] SK \r [why] SK \r"," [who] SK \r [what] GD, SK \r [when] SK \r [when] SK \r [who] SK \r [where] SK \r [where] SK \r [why] SK \r"," [who] SK \r [what] GD, SK \r [when] SK \r [when] SK \r [who] SK \r [where] SK \r [where] SK \r [why] SK \r [how] GD, DD, MD \r"," [who] SK \r [what] GD, SK \r [when] SK \r [when] SK \r [who] SK \r [where] SK \r [where] SK \r [why] SK \r [how] GD, DD, MD \r"," [who] SK \r [what] GD, SK \r [when] SK \r [when] SK \r [who] SK \r [where] SK \r [where] SK \r [why] SK \r [how] GD, DD, MD \r"," [who] SK \r [what] GD, SK \r [when] SK \r [when] SK \r [who] SK \r [where] SK \r [where] SK \r [why] SK \r [how] GD, DD, MD \r",{"$f":"CONCATENATE(INDIRECT(ADDRESS(ROW(),COLUMN()-1)),IF(ISERROR(FIND(\"...\",U78)),U90,\"\"))","v":" [who] SK \r [what] GD, SK \r [when] SK \r [when] SK \r [who] SK \r [where] SK \r [where] SK \r [why] SK \r [how] GD, DD, MD \r"}," [who] SK \r [what] GD, SK \r [when] SK \r [when] SK \r [who] SK \r [where] SK \r [where] SK \r [why] SK \r [how] GD, DD, MD \r"," [who] SK \r [what] GD, SK \r [when] SK \r [when] SK \r [who] SK \r [where] SK \r [where] SK \r [why] SK \r [how] GD, DD, MD \r"," [who] SK \r [what] GD, SK \r [when] SK \r [when] SK \r [who] SK \r [where] SK \r [where] SK \r [why] SK \r [how] GD, DD, MD \r"," [who] SK \r [what] GD, SK \r [when] SK \r [when] SK \r [who] SK \r [where] SK \r [where] SK \r [why] SK \r [how] GD, DD, MD \r"," [who] SK \r [what] GD, SK \r [when] SK \r [when] SK \r [who] SK \r [where] SK \r [where] SK \r [why] SK \r [how] GD, DD, MD \r"]
[null,null,"Non-key Code",null,null,{"$f":"IF(F63=\"Y\",\"\",F89)","v":""},{"$f":"IF(G63=\"Y\",\"\",G89)","v":""},"","","","",""," [Retail Units] FA \r"," [$] FA \r",""," [$] FA \r","","","","",{"$f":"IF(U63=\"Y\",\"\",U89)","v":""},"","","","",""]
[null,null,"Key Code List + Non-key Code List",null,null,{"$f":"IF(LEN($H$117)=0, $F$92, $H$117 & CHAR(13) & $F$92)","v":" [who] SK \r [what] GD, SK \r [when] SK \r [when] SK \r [who] SK \r [where] SK \r [where] SK \r [why] SK \r [how] GD, DD, MD \r\r"},{"$f":"CONCATENATE(INDIRECT(ADDRESS(ROW(),COLUMN()-1)),IF(ISERROR(FIND(\"...\",G82)),G92,\"\"))","v":" [who] SK \r [what] GD, SK \r [when] SK \r [when] SK \r [who] SK \r [where] SK \r [where] SK \r [why] SK \r [how] GD, DD, MD \r\r"},{"$f":"CONCATENATE(INDIRECT(ADDRESS(ROW(),COLUMN()-1)),IF(ISERROR(FIND(\"...\",H82)),H92,\"\"))","v":" [who] SK \r [what] GD, SK \r [when] SK \r [when] SK \r [who] SK \r [where] SK \r [where] SK \r [why] SK \r [how] GD, DD, MD \r\r"}," [who] SK \r [what] GD, SK \r [when] SK \r [when] SK \r [who] SK \r [where] SK \r [where] SK \r [why] SK \r [how] GD, DD, MD \r\r"," [who] SK \r [what] GD, SK \r [when] SK \r [when] SK \r [who] SK \r [where] SK \r [where] SK \r [why] SK \r [how] GD, DD, MD \r\r"," [who] SK \r [what] GD, SK \r [when] SK \r [when] SK \r [who] SK \r [where] SK \r [where] SK \r [why] SK \r [how] GD, DD, MD \r\r"," [who] SK \r [what] GD, SK \r [when] SK \r [when] SK \r [who] SK \r [where] SK \r [where] SK \r [why] SK \r [how] GD, DD, MD \r\r"," [who] SK \r [what] GD, SK \r [when] SK \r [when] SK \r [who] SK \r [where] SK \r [where] SK \r [why] SK \r [how] GD, DD, MD \r\r [Retail Units] FA \r"," [who] SK \r [what] GD, SK \r [when] SK \r [when] SK \r [who] SK \r [where] SK \r [where] SK \r [why] SK \r [how] GD, DD, MD \r\r [Retail Units] FA \r [$] FA \r"," [who] SK \r [what] GD, SK \r [when] SK \r [when] SK \r [who] SK \r [where] SK \r [where] SK \r [why] SK \r [how] GD, DD, MD \r\r [Retail Units] FA \r [$] FA \r"," [who] SK \r [what] GD, SK \r [when] SK \r [when] SK \r [who] SK \r [where] SK \r [where] SK \r [why] SK \r [how] GD, DD, MD \r\r [Retail Units] FA \r [$] FA \r [$] FA \r"," [who] SK \r [what] GD, SK \r [when] SK \r [when] SK \r [who] SK \r [where] SK \r [where] SK \r [why] SK \r [how] GD, DD, MD \r\r [Retail Units] FA \r [$] FA \r [$] FA \r"," [who] SK \r [what] GD, SK \r [when] SK \r [when] SK \r [who] SK \r [where] SK \r [where] SK \r [why] SK \r [how] GD, DD, MD \r\r [Retail Units] FA \r [$] FA \r [$] FA \r"," [who] SK \r [what] GD, SK \r [when] SK \r [when] SK \r [who] SK \r [where] SK \r [where] SK \r [why] SK \r [how] GD, DD, MD \r\r [Retail Units] FA \r [$] FA \r [$] FA \r"," [who] SK \r [what] GD, SK \r [when] SK \r [when] SK \r [who] SK \r [where] SK \r [where] SK \r [why] SK \r [how] GD, DD, MD \r\r [Retail Units] FA \r [$] FA \r [$] FA \r",{"$f":"CONCATENATE(INDIRECT(ADDRESS(ROW(),COLUMN()-1)),IF(ISERROR(FIND(\"...\",U82)),U92,\"\"))","v":" [who] SK \r [what] GD, SK \r [when] SK \r [when] SK \r [who] SK \r [where] SK \r [where] SK \r [why] SK \r [how] GD, DD, MD \r\r [Retail Units] FA \r [$] FA \r [$] FA \r"}," [who] SK \r [what] GD, SK \r [when] SK \r [when] SK \r [who] SK \r [where] SK \r [where] SK \r [why] SK \r [how] GD, DD, MD \r\r [Retail Units] FA \r [$] FA \r [$] FA \r"," [who] SK \r [what] GD, SK \r [when] SK \r [when] SK \r [who] SK \r [where] SK \r [where] SK \r [why] SK \r [how] GD, DD, MD \r\r [Retail Units] FA \r [$] FA \r [$] FA \r"," [who] SK \r [what] GD, SK \r [when] SK \r [when] SK \r [who] SK \r [where] SK \r [where] SK \r [why] SK \r [how] GD, DD, MD \r\r [Retail Units] FA \r [$] FA \r [$] FA \r"," [who] SK \r [what] GD, SK \r [when] SK \r [when] SK \r [who] SK \r [where] SK \r [where] SK \r [why] SK \r [how] GD, DD, MD \r\r [Retail Units] FA \r [$] FA \r [$] FA \r"," [who] SK \r [what] GD, SK \r [when] SK \r [when] SK \r [who] SK \r [where] SK \r [where] SK \r [why] SK \r [how] GD, DD, MD \r\r [Retail Units] FA \r [$] FA \r [$] FA \r"]
[]
[null,null," SQL Data Type",null,null,{"$f":"IF(LEN(F72)=0,\"\", \" \" & IF(F59=\"Y\", Settings!$B$19, IF(IFERROR(SEARCH(\"N\",F67,1),0)=1,Settings!$B$20,IF(IFERROR(SEARCH(\"C\",F67,1),0)=1,Settings!$B$23,IF(IFERROR(SEARCH(\"DT\",F67,1),0)=1,Settings!$B$26,IF(IFERROR(SEARCH(\"D\",F67,1),0)=1,Settings!$B$25,IF(IFERROR(SEARCH(\"I\",F67,1),0)=1,Settings!$B$22, IF(F64=\"Y\", Settings!$B$18, Settings!$B$17))))))))","v":" INTEGER NOT NULL DEFAULT 0"},{"$f":"IF(LEN(G72)=0,\"\", \" \" & IF(G59=\"Y\", Settings!$B$19, IF(IFERROR(SEARCH(\"N\",G67,1),0)=1,Settings!$B$20,IF(IFERROR(SEARCH(\"C\",G67,1),0)=1,Settings!$B$23,IF(IFERROR(SEARCH(\"DT\",G67,1),0)=1,Settings!$B$26,IF(IFERROR(SEARCH(\"D\",G67,1),0)=1,Settings!$B$25,IF(IFERROR(SEARCH(\"I\",G67,1),0)=1,Settings!$B$22, IF(G64=\"Y\", Settings!$B$18, Settings!$B$17))))))))","v":" INTEGER NOT NULL DEFAULT 0"},{"$f":"IF(LEN(H72)=0,\"\", \" \" & IF(H59=\"Y\", Settings!$B$19, IF(IFERROR(SEARCH(\"N\",H67,1),0)=1,Settings!$B$20,IF(IFERROR(SEARCH(\"C\",H67,1),0)=1,Settings!$B$23,IF(IFERROR(SEARCH(\"DT\",H67,1),0)=1,Settings!$B$26,IF(IFERROR(SEARCH(\"D\",H67,1),0)=1,Settings!$B$25,IF(IFERROR(SEARCH(\"I\",H67,1),0)=1,Settings!$B$22, IF(H64=\"Y\", Settings!$B$18, Settings!$B$17))))))))","v":" INTEGER NOT NULL DEFAULT 0"},{"$f":"IF(LEN(I72)=0,\"\", \" \" & IF(I59=\"Y\", Settings!$B$19, IF(IFERROR(SEARCH(\"N\",I67,1),0)=1,Settings!$B$20,IF(IFERROR(SEARCH(\"C\",I67,1),0)=1,Settings!$B$23,IF(IFERROR(SEARCH(\"DT\",I67,1),0)=1,Settings!$B$26,IF(IFERROR(SEARCH(\"D\",I67,1),0)=1,Settings!$B$25,IF(IFERROR(SEARCH(\"I\",I67,1),0)=1,Settings!$B$22, IF(I64=\"Y\", Settings!$B$18, Settings!$B$17))))))))","v":" INTEGER NOT NULL DEFAULT 0"},{"$f":"IF(LEN(J72)=0,\"\", \" \" & IF(J59=\"Y\", Settings!$B$19, IF(IFERROR(SEARCH(\"N\",J67,1),0)=1,Settings!$B$20,IF(IFERROR(SEARCH(\"C\",J67,1),0)=1,Settings!$B$23,IF(IFERROR(SEARCH(\"DT\",J67,1),0)=1,Settings!$B$26,IF(IFERROR(SEARCH(\"D\",J67,1),0)=1,Settings!$B$25,IF(IFERROR(SEARCH(\"I\",J67,1),0)=1,Settings!$B$22, IF(J64=\"Y\", Settings!$B$18, Settings!$B$17))))))))","v":" INTEGER NOT NULL DEFAULT 0"},{"$f":"IF(LEN(K72)=0,\"\", \" \" & IF(K59=\"Y\", Settings!$B$19, IF(IFERROR(SEARCH(\"N\",K67,1),0)=1,Settings!$B$20,IF(IFERROR(SEARCH(\"C\",K67,1),0)=1,Settings!$B$23,IF(IFERROR(SEARCH(\"DT\",K67,1),0)=1,Settings!$B$26,IF(IFERROR(SEARCH(\"D\",K67,1),0)=1,Settings!$B$25,IF(IFERROR(SEARCH(\"I\",K67,1),0)=1,Settings!$B$22, IF(K64=\"Y\", Settings!$B$18, Settings!$B$17))))))))","v":" INTEGER NOT NULL DEFAULT 0"},{"$f":"IF(LEN(L72)=0,\"\", \" \" & IF(L59=\"Y\", Settings!$B$19, IF(IFERROR(SEARCH(\"N\",L67,1),0)=1,Settings!$B$20,IF(IFERROR(SEARCH(\"C\",L67,1),0)=1,Settings!$B$23,IF(IFERROR(SEARCH(\"DT\",L67,1),0)=1,Settings!$B$26,IF(IFERROR(SEARCH(\"D\",L67,1),0)=1,Settings!$B$25,IF(IFERROR(SEARCH(\"I\",L67,1),0)=1,Settings!$B$22, IF(L64=\"Y\", Settings!$B$18, Settings!$B$17))))))))","v":" INTEGER NOT NULL DEFAULT 0"},{"$f":"IF(LEN(M72)=0,\"\", \" \" & IF(M59=\"Y\", Settings!$B$19, IF(IFERROR(SEARCH(\"N\",M67,1),0)=1,Settings!$B$20,IF(IFERROR(SEARCH(\"C\",M67,1),0)=1,Settings!$B$23,IF(IFERROR(SEARCH(\"DT\",M67,1),0)=1,Settings!$B$26,IF(IFERROR(SEARCH(\"D\",M67,1),0)=1,Settings!$B$25,IF(IFERROR(SEARCH(\"I\",M67,1),0)=1,Settings!$B$22, IF(M64=\"Y\", Settings!$B$18, Settings!$B$17))))))))","v":" INTEGER"},{"$f":"IF(LEN(N72)=0,\"\", \" \" & IF(N59=\"Y\", Settings!$B$19, IF(IFERROR(SEARCH(\"N\",N67,1),0)=1,Settings!$B$20,IF(IFERROR(SEARCH(\"C\",N67,1),0)=1,Settings!$B$23,IF(IFERROR(SEARCH(\"DT\",N67,1),0)=1,Settings!$B$26,IF(IFERROR(SEARCH(\"D\",N67,1),0)=1,Settings!$B$25,IF(IFERROR(SEARCH(\"I\",N67,1),0)=1,Settings!$B$22, IF(N64=\"Y\", Settings!$B$18, Settings!$B$17))))))))","v":" NUMBER"},{"$f":"IF(LEN(O72)=0,\"\", \" \" & IF(O59=\"Y\", Settings!$B$19, IF(IFERROR(SEARCH(\"N\",O67,1),0)=1,Settings!$B$20,IF(IFERROR(SEARCH(\"C\",O67,1),0)=1,Settings!$B$23,IF(IFERROR(SEARCH(\"DT\",O67,1),0)=1,Settings!$B$26,IF(IFERROR(SEARCH(\"D\",O67,1),0)=1,Settings!$B$25,IF(IFERROR(SEARCH(\"I\",O67,1),0)=1,Settings!$B$22, IF(O64=\"Y\", Settings!$B$18, Settings!$B$17))))))))","v":" INTEGER NOT NULL DEFAULT 0"},{"$f":"IF(LEN(P72)=0,\"\", \" \" & IF(P59=\"Y\", Settings!$B$19, IF(IFERROR(SEARCH(\"N\",P67,1),0)=1,Settings!$B$20,IF(IFERROR(SEARCH(\"C\",P67,1),0)=1,Settings!$B$23,IF(IFERROR(SEARCH(\"DT\",P67,1),0)=1,Settings!$B$26,IF(IFERROR(SEARCH(\"D\",P67,1),0)=1,Settings!$B$25,IF(IFERROR(SEARCH(\"I\",P67,1),0)=1,Settings!$B$22, IF(P64=\"Y\", Settings!$B$18, Settings!$B$17))))))))","v":" NUMBER"},{"$f":"IF(LEN(Q72)=0,\"\", \" \" & IF(Q59=\"Y\", Settings!$B$19, IF(IFERROR(SEARCH(\"N\",Q67,1),0)=1,Settings!$B$20,IF(IFERROR(SEARCH(\"C\",Q67,1),0)=1,Settings!$B$23,IF(IFERROR(SEARCH(\"DT\",Q67,1),0)=1,Settings!$B$26,IF(IFERROR(SEARCH(\"D\",Q67,1),0)=1,Settings!$B$25,IF(IFERROR(SEARCH(\"I\",Q67,1),0)=1,Settings!$B$22, IF(Q64=\"Y\", Settings!$B$18, Settings!$B$17))))))))","v":" VARCHAR2"},{"$f":"IF(LEN(R72)=0,\"\", \" \" & IF(R59=\"Y\", Settings!$B$19, IF(IFERROR(SEARCH(\"N\",R67,1),0)=1,Settings!$B$20,IF(IFERROR(SEARCH(\"C\",R67,1),0)=1,Settings!$B$23,IF(IFERROR(SEARCH(\"DT\",R67,1),0)=1,Settings!$B$26,IF(IFERROR(SEARCH(\"D\",R67,1),0)=1,Settings!$B$25,IF(IFERROR(SEARCH(\"I\",R67,1),0)=1,Settings!$B$22, IF(R64=\"Y\", Settings!$B$18, Settings!$B$17))))))))","v":""},{"$f":"IF(LEN(S72)=0,\"\", \" \" & IF(S59=\"Y\", Settings!$B$19, IF(IFERROR(SEARCH(\"N\",S67,1),0)=1,Settings!$B$20,IF(IFERROR(SEARCH(\"C\",S67,1),0)=1,Settings!$B$23,IF(IFERROR(SEARCH(\"DT\",S67,1),0)=1,Settings!$B$26,IF(IFERROR(SEARCH(\"D\",S67,1),0)=1,Settings!$B$25,IF(IFERROR(SEARCH(\"I\",S67,1),0)=1,Settings!$B$22, IF(S64=\"Y\", Settings!$B$18, Settings!$B$17))))))))","v":""},{"$f":"IF(LEN(T72)=0,\"\", \" \" & IF(T59=\"Y\", Settings!$B$19, IF(IFERROR(SEARCH(\"N\",T67,1),0)=1,Settings!$B$20,IF(IFERROR(SEARCH(\"C\",T67,1),0)=1,Settings!$B$23,IF(IFERROR(SEARCH(\"DT\",T67,1),0)=1,Settings!$B$26,IF(IFERROR(SEARCH(\"D\",T67,1),0)=1,Settings!$B$25,IF(IFERROR(SEARCH(\"I\",T67,1),0)=1,Settings!$B$22, IF(T64=\"Y\", Settings!$B$18, Settings!$B$17))))))))","v":""},{"$f":"IF(LEN(U72)=0,\"\", \" \" & IF(U59=\"Y\", Settings!$B$19, IF(IFERROR(SEARCH(\"N\",U67,1),0)=1,Settings!$B$20,IF(IFERROR(SEARCH(\"C\",U67,1),0)=1,Settings!$B$23,IF(IFERROR(SEARCH(\"DT\",U67,1),0)=1,Settings!$B$26,IF(IFERROR(SEARCH(\"D\",U67,1),0)=1,Settings!$B$25,IF(IFERROR(SEARCH(\"I\",U67,1),0)=1,Settings!$B$22, IF(U64=\"Y\", Settings!$B$18, Settings!$B$17))))))))","v":""},{"$f":"IF(LEN(V72)=0,\"\", \" \" & IF(V59=\"Y\", Settings!$B$19, IF(IFERROR(SEARCH(\"N\",V67,1),0)=1,Settings!$B$20,IF(IFERROR(SEARCH(\"C\",V67,1),0)=1,Settings!$B$23,IF(IFERROR(SEARCH(\"DT\",V67,1),0)=1,Settings!$B$26,IF(IFERROR(SEARCH(\"D\",V67,1),0)=1,Settings!$B$25,IF(IFERROR(SEARCH(\"I\",V67,1),0)=1,Settings!$B$22, IF(V64=\"Y\", Settings!$B$18, Settings!$B$17))))))))","v":""},{"$f":"IF(LEN(W72)=0,\"\", \" \" & IF(W59=\"Y\", Settings!$B$19, IF(IFERROR(SEARCH(\"N\",W67,1),0)=1,Settings!$B$20,IF(IFERROR(SEARCH(\"C\",W67,1),0)=1,Settings!$B$23,IF(IFERROR(SEARCH(\"DT\",W67,1),0)=1,Settings!$B$26,IF(IFERROR(SEARCH(\"D\",W67,1),0)=1,Settings!$B$25,IF(IFERROR(SEARCH(\"I\",W67,1),0)=1,Settings!$B$22, IF(W64=\"Y\", Settings!$B$18, Settings!$B$17))))))))","v":""},{"$f":"IF(LEN(X72)=0,\"\", \" \" & IF(X59=\"Y\", Settings!$B$19, IF(IFERROR(SEARCH(\"N\",X67,1),0)=1,Settings!$B$20,IF(IFERROR(SEARCH(\"C\",X67,1),0)=1,Settings!$B$23,IF(IFERROR(SEARCH(\"DT\",X67,1),0)=1,Settings!$B$26,IF(IFERROR(SEARCH(\"D\",X67,1),0)=1,Settings!$B$25,IF(IFERROR(SEARCH(\"I\",X67,1),0)=1,Settings!$B$22, IF(X64=\"Y\", Settings!$B$18, Settings!$B$17))))))))","v":""},{"$f":"IF(LEN(Y72)=0,\"\", \" \" & IF(Y59=\"Y\", Settings!$B$19, IF(IFERROR(SEARCH(\"N\",Y67,1),0)=1,Settings!$B$20,IF(IFERROR(SEARCH(\"C\",Y67,1),0)=1,Settings!$B$23,IF(IFERROR(SEARCH(\"DT\",Y67,1),0)=1,Settings!$B$26,IF(IFERROR(SEARCH(\"D\",Y67,1),0)=1,Settings!$B$25,IF(IFERROR(SEARCH(\"I\",Y67,1),0)=1,Settings!$B$22, IF(Y64=\"Y\", Settings!$B$18, Settings!$B$17))))))))","v":""},{"$f":"IF(LEN(Z72)=0,\"\", \" \" & IF(Z59=\"Y\", Settings!$B$19, IF(IFERROR(SEARCH(\"N\",Z67,1),0)=1,Settings!$B$20,IF(IFERROR(SEARCH(\"C\",Z67,1),0)=1,Settings!$B$23,IF(IFERROR(SEARCH(\"DT\",Z67,1),0)=1,Settings!$B$26,IF(IFERROR(SEARCH(\"D\",Z67,1),0)=1,Settings!$B$25,IF(IFERROR(SEARCH(\"I\",Z67,1),0)=1,Settings!$B$22, IF(Z64=\"Y\", Settings!$B$18, Settings!$B$17))))))))","v":""}]
[null,null,"Data Type + Length",null,null,{"$f":"IF(OR(F59=\"Y\", LEN(F67)=0, LEN(F69)=0), F95, CONCATENATE(F95,\"(\",F69,\")\"))","v":" INTEGER NOT NULL DEFAULT 0"}," INTEGER NOT NULL DEFAULT 0"," INTEGER NOT NULL DEFAULT 0"," INTEGER NOT NULL DEFAULT 0"," INTEGER NOT NULL DEFAULT 0"," INTEGER NOT NULL DEFAULT 0"," INTEGER NOT NULL DEFAULT 0"," INTEGER"," NUMBER"," INTEGER NOT NULL DEFAULT 0"," NUMBER(8,2)"," VARCHAR2(15)","","","",{"$f":"IF(OR(U59=\"Y\", LEN(U67)=0, LEN(U69)=0), U95, CONCATENATE(U95,\"(\",U69,\")\"))","v":""},"","","","",""]
[null,null,"Column Constraint",null,null,{"$f":"IF(AND(ISTEXT(F72),F65=\"Y\", F57<>\"Y\", ISERROR(FIND(\"SK\",F7))), \" NOT NULL\", \"\")","v":""},{"$f":"IF(AND(ISTEXT(G72),G65=\"Y\", G57<>\"Y\", ISERROR(FIND(\"SK\",G7))), \" NOT NULL\", \"\")","v":""},"","","","","","","","",""," NOT NULL","","","",{"$f":"IF(AND(ISTEXT(U72),U65=\"Y\", U57<>\"Y\", ISERROR(FIND(\"SK\",U7))), \" NOT NULL\", \"\")","v":""},"","","","",""]
[null,null,"Missing/Default Value",null,null,{"$f":"IF(LEN(F72)=0,\"\",TRIM(F13))","v":"Cash"},"iPOM Pro","40830","Not Applicable","George Smiley","POMStore London","Not Applicable","1","","No Promotion","0","","","","",{"$f":"IF(LEN(U72)=0,\"\",TRIM(U13))","v":""},"","","","",""]
[null,null,"Adjusted Default Value",null,null,{"$f":"IF(F59=\"Y\", \"\", IF(LEN(F98)=0, \"\",  IF(OR(NOT(ISERROR(FIND(\"N\",F67))), F67=\"I\", F64=\"Y\"), F98, CONCATENATE(\"'\",F98,\"'\"))))","v":""},{"$f":"IF(G59=\"Y\", \"\", IF(LEN(G98)=0, \"\",  IF(OR(NOT(ISERROR(FIND(\"N\",G67))), G67=\"I\", G64=\"Y\"), G98, CONCATENATE(\"'\",G98,\"'\"))))","v":""},"","","","","","1","","","0","","","","","","","","","",""]
[null,null,"Column Default Clause",null,null,{"$f":"IF(AND(LEN(F99) <> 0, Settings!$B$16 =\"Y\"), CONCATENATE(\" DEFAULT \",F99),\"\")","v":""},{"$f":"IF(AND(LEN(G99) <> 0, Settings!$B$16 =\"Y\"), CONCATENATE(\" DEFAULT \",G99),\"\")","v":""},{"$f":"IF(AND(LEN(H99) <> 0, Settings!$B$16 =\"Y\"), CONCATENATE(\" DEFAULT \",H99),\"\")","v":""},{"$f":"IF(AND(LEN(I99) <> 0, Settings!$B$16 =\"Y\"), CONCATENATE(\" DEFAULT \",I99),\"\")","v":""},{"$f":"IF(AND(LEN(J99) <> 0, Settings!$B$16 =\"Y\"), CONCATENATE(\" DEFAULT \",J99),\"\")","v":""},{"$f":"IF(AND(LEN(K99) <> 0, Settings!$B$16 =\"Y\"), CONCATENATE(\" DEFAULT \",K99),\"\")","v":""},{"$f":"IF(AND(LEN(L99) <> 0, Settings!$B$16 =\"Y\"), CONCATENATE(\" DEFAULT \",L99),\"\")","v":""},{"$f":"IF(AND(LEN(M99) <> 0, Settings!$B$16 =\"Y\"), CONCATENATE(\" DEFAULT \",M99),\"\")","v":" DEFAULT 1"},{"$f":"IF(AND(LEN(N99) <> 0, Settings!$B$16 =\"Y\"), CONCATENATE(\" DEFAULT \",N99),\"\")","v":""},{"$f":"IF(AND(LEN(O99) <> 0, Settings!$B$16 =\"Y\"), CONCATENATE(\" DEFAULT \",O99),\"\")","v":""},{"$f":"IF(AND(LEN(P99) <> 0, Settings!$B$16 =\"Y\"), CONCATENATE(\" DEFAULT \",P99),\"\")","v":" DEFAULT 0"},{"$f":"IF(AND(LEN(Q99) <> 0, Settings!$B$16 =\"Y\"), CONCATENATE(\" DEFAULT \",Q99),\"\")","v":""},{"$f":"IF(AND(LEN(R99) <> 0, Settings!$B$16 =\"Y\"), CONCATENATE(\" DEFAULT \",R99),\"\")","v":""},{"$f":"IF(AND(LEN(S99) <> 0, Settings!$B$16 =\"Y\"), CONCATENATE(\" DEFAULT \",S99),\"\")","v":""},{"$f":"IF(AND(LEN(T99) <> 0, Settings!$B$16 =\"Y\"), CONCATENATE(\" DEFAULT \",T99),\"\")","v":""},{"$f":"IF(AND(LEN(U99) <> 0, Settings!$B$16 =\"Y\"), CONCATENATE(\" DEFAULT \",U99),\"\")","v":""},{"$f":"IF(AND(LEN(V99) <> 0, Settings!$B$16 =\"Y\"), CONCATENATE(\" DEFAULT \",V99),\"\")","v":""},{"$f":"IF(AND(LEN(W99) <> 0, Settings!$B$16 =\"Y\"), CONCATENATE(\" DEFAULT \",W99),\"\")","v":""},{"$f":"IF(AND(LEN(X99) <> 0, Settings!$B$16 =\"Y\"), CONCATENATE(\" DEFAULT \",X99),\"\")","v":""},{"$f":"IF(AND(LEN(Y99) <> 0, Settings!$B$16 =\"Y\"), CONCATENATE(\" DEFAULT \",Y99),\"\")","v":""},{"$f":"IF(AND(LEN(Z99) <> 0, Settings!$B$16 =\"Y\"), CONCATENATE(\" DEFAULT \",Z99),\"\")","v":""}]
[null,null,"Trailing Comma and <CR>",null,null,{"$f":"IF(LEN(F72) = 0, \"\", \",\" & CHAR(13))","v":",\r"},{"$f":"IF(LEN(G72) = 0, \"\", \",\" & CHAR(13))","v":",\r"},{"$f":"IF(LEN(H72) = 0, \"\", \",\" & CHAR(13))","v":",\r"},",\r",",\r",",\r",",\r",",\r",",\r",",\r",",\r",",\r","","","",{"$f":"IF(LEN(U72) = 0, \"\", \",\" & CHAR(13))","v":""},"","","","",""]
[]
[null,null,"Column DDL",null,null,{"$f":"CONCATENATE(F72, F96, F97, F100, F101)","v":"CUSTOMER_KEY INTEGER NOT NULL DEFAULT 0,\r"},"PRODUCT_KEY INTEGER NOT NULL DEFAULT 0,\r","ORDER_DATE_KEY INTEGER NOT NULL DEFAULT 0,\r","DELIVERY_DUE_DATE_KEY INTEGER NOT NULL DEFAULT 0,\r","SALESPERSON_KEY INTEGER NOT NULL DEFAULT 0,\r","SALES_LOCATION_KEY INTEGER NOT NULL DEFAULT 0,\r","DELIVERY_ADDRESS_KEY INTEGER NOT NULL DEFAULT 0,\r","ORDER_QUANTITY INTEGER DEFAULT 1,\r","REVENUE NUMBER,\r","PROMOTION_KEY INTEGER NOT NULL DEFAULT 0,\r","DISCOUNT NUMBER(8,2) DEFAULT 0,\r","ORDER_ID VARCHAR2(15) NOT NULL,\r","","","",{"$f":"CONCATENATE(U72, U96, U97, U100, U101)","v":""},"","","","",""]
[null,null,"Key Column DDL",null,null,{"$f":"IF(F63=\"Y\",F103,\"\")","v":"CUSTOMER_KEY INTEGER NOT NULL DEFAULT 0,\r"},"PRODUCT_KEY INTEGER NOT NULL DEFAULT 0,\r","ORDER_DATE_KEY INTEGER NOT NULL DEFAULT 0,\r","DELIVERY_DUE_DATE_KEY INTEGER NOT NULL DEFAULT 0,\r","SALESPERSON_KEY INTEGER NOT NULL DEFAULT 0,\r","SALES_LOCATION_KEY INTEGER NOT NULL DEFAULT 0,\r","DELIVERY_ADDRESS_KEY INTEGER NOT NULL DEFAULT 0,\r","","","PROMOTION_KEY INTEGER NOT NULL DEFAULT 0,\r","","ORDER_ID VARCHAR2(15) NOT NULL,\r","","","",{"$f":"IF(U63=\"Y\",U103,\"\")","v":""},"","","","",""]
[null,null,"Non Key Column DDL",null,null,{"$f":"IF(F63=\"Y\",\"\",F103)","v":""},"","","","","","","ORDER_QUANTITY INTEGER DEFAULT 1,\r","REVENUE NUMBER,\r","","DISCOUNT NUMBER(8,2) DEFAULT 0,\r","","","","",{"$f":"IF(U63=\"Y\",\"\",U103)","v":""},"","","","",""]
[null,null,"Key Column DDL List ",null,null,{"$f":"F104","v":"CUSTOMER_KEY INTEGER NOT NULL DEFAULT 0,\r"},{"$f":"CONCATENATE(INDIRECT(ADDRESS(ROW(),COLUMN()-1)),G104)","v":"CUSTOMER_KEY INTEGER NOT NULL DEFAULT 0,\rPRODUCT_KEY INTEGER NOT NULL DEFAULT 0,\r"},{"$f":"CONCATENATE(INDIRECT(ADDRESS(ROW(),COLUMN()-1)),H104)","v":"CUSTOMER_KEY INTEGER NOT NULL DEFAULT 0,\rPRODUCT_KEY INTEGER NOT NULL DEFAULT 0,\rORDER_DATE_KEY INTEGER NOT NULL DEFAULT 0,\r"},"CUSTOMER_KEY INTEGER NOT NULL DEFAULT 0,\rPRODUCT_KEY INTEGER NOT NULL DEFAULT 0,\rORDER_DATE_KEY INTEGER NOT NULL DEFAULT 0,\rDELIVERY_DUE_DATE_KEY INTEGER NOT NULL DEFAULT 0,\r","CUSTOMER_KEY INTEGER NOT NULL DEFAULT 0,\rPRODUCT_KEY INTEGER NOT NULL DEFAULT 0,\rORDER_DATE_KEY INTEGER NOT NULL DEFAULT 0,\rDELIVERY_DUE_DATE_KEY INTEGER NOT NULL DEFAULT 0,\rSALESPERSON_KEY INTEGER NOT NULL DEFAULT 0,\r","CUSTOMER_KEY INTEGER NOT NULL DEFAULT 0,\rPRODUCT_KEY INTEGER NOT NULL DEFAULT 0,\rORDER_DATE_KEY INTEGER NOT NULL DEFAULT 0,\rDELIVERY_DUE_DATE_KEY INTEGER NOT NULL DEFAULT 0,\rSALESPERSON_KEY INTEGER NOT NULL DEFAULT 0,\rSALES_LOCATION_KEY INTEGER NOT NULL DEFAULT 0,\r","CUSTOMER_KEY INTEGER NOT NULL DEFAULT 0,\rPRODUCT_KEY INTEGER NOT NULL DEFAULT 0,\rORDER_DATE_KEY INTEGER NOT NULL DEFAULT 0,\rDELIVERY_DUE_DATE_KEY INTEGER NOT NULL DEFAULT 0,\rSALESPERSON_KEY INTEGER NOT NULL DEFAULT 0,\rSALES_LOCATION_KEY INTEGER NOT NULL DEFAULT 0,\rDELIVERY_ADDRESS_KEY INTEGER NOT NULL DEFAULT 0,\r","CUSTOMER_KEY INTEGER NOT NULL DEFAULT 0,\rPRODUCT_KEY INTEGER NOT NULL DEFAULT 0,\rORDER_DATE_KEY INTEGER NOT NULL DEFAULT 0,\rDELIVERY_DUE_DATE_KEY INTEGER NOT NULL DEFAULT 0,\rSALESPERSON_KEY INTEGER NOT NULL DEFAULT 0,\rSALES_LOCATION_KEY INTEGER NOT NULL DEFAULT 0,\rDELIVERY_ADDRESS_KEY INTEGER NOT NULL DEFAULT 0,\r","CUSTOMER_KEY INTEGER NOT NULL DEFAULT 0,\rPRODUCT_KEY INTEGER NOT NULL DEFAULT 0,\rORDER_DATE_KEY INTEGER NOT NULL DEFAULT 0,\rDELIVERY_DUE_DATE_KEY INTEGER NOT NULL DEFAULT 0,\rSALESPERSON_KEY INTEGER NOT NULL DEFAULT 0,\rSALES_LOCATION_KEY INTEGER NOT NULL DEFAULT 0,\rDELIVERY_ADDRESS_KEY INTEGER NOT NULL DEFAULT 0,\r","CUSTOMER_KEY INTEGER NOT NULL DEFAULT 0,\rPRODUCT_KEY INTEGER NOT NULL DEFAULT 0,\rORDER_DATE_KEY INTEGER NOT NULL DEFAULT 0,\rDELIVERY_DUE_DATE_KEY INTEGER NOT NULL DEFAULT 0,\rSALESPERSON_KEY INTEGER NOT NULL DEFAULT 0,\rSALES_LOCATION_KEY INTEGER NOT NULL DEFAULT 0,\rDELIVERY_ADDRESS_KEY INTEGER NOT NULL DEFAULT 0,\rPROMOTION_KEY INTEGER NOT NULL DEFAULT 0,\r","CUSTOMER_KEY INTEGER NOT NULL DEFAULT 0,\rPRODUCT_KEY INTEGER NOT NULL DEFAULT 0,\rORDER_DATE_KEY INTEGER NOT NULL DEFAULT 0,\rDELIVERY_DUE_DATE_KEY INTEGER NOT NULL DEFAULT 0,\rSALESPERSON_KEY INTEGER NOT NULL DEFAULT 0,\rSALES_LOCATION_KEY INTEGER NOT NULL DEFAULT 0,\rDELIVERY_ADDRESS_KEY INTEGER NOT NULL DEFAULT 0,\rPROMOTION_KEY INTEGER NOT NULL DEFAULT 0,\r","CUSTOMER_KEY INTEGER NOT NULL DEFAULT 0,\rPRODUCT_KEY INTEGER NOT NULL DEFAULT 0,\rORDER_DATE_KEY INTEGER NOT NULL DEFAULT 0,\rDELIVERY_DUE_DATE_KEY INTEGER NOT NULL DEFAULT 0,\rSALESPERSON_KEY INTEGER NOT NULL DEFAULT 0,\rSALES_LOCATION_KEY INTEGER NOT NULL DEFAULT 0,\rDELIVERY_ADDRESS_KEY INTEGER NOT NULL DEFAULT 0,\rPROMOTION_KEY INTEGER NOT NULL DEFAULT 0,\rORDER_ID VARCHAR2(15) NOT NULL,\r","CUSTOMER_KEY INTEGER NOT NULL DEFAULT 0,\rPRODUCT_KEY INTEGER NOT NULL DEFAULT 0,\rORDER_DATE_KEY INTEGER NOT NULL DEFAULT 0,\rDELIVERY_DUE_DATE_KEY INTEGER NOT NULL DEFAULT 0,\rSALESPERSON_KEY INTEGER NOT NULL DEFAULT 0,\rSALES_LOCATION_KEY INTEGER NOT NULL DEFAULT 0,\rDELIVERY_ADDRESS_KEY INTEGER NOT NULL DEFAULT 0,\rPROMOTION_KEY INTEGER NOT NULL DEFAULT 0,\rORDER_ID VARCHAR2(15) NOT NULL,\r","CUSTOMER_KEY INTEGER NOT NULL DEFAULT 0,\rPRODUCT_KEY INTEGER NOT NULL DEFAULT 0,\rORDER_DATE_KEY INTEGER NOT NULL DEFAULT 0,\rDELIVERY_DUE_DATE_KEY INTEGER NOT NULL DEFAULT 0,\rSALESPERSON_KEY INTEGER NOT NULL DEFAULT 0,\rSALES_LOCATION_KEY INTEGER NOT NULL DEFAULT 0,\rDELIVERY_ADDRESS_KEY INTEGER NOT NULL DEFAULT 0,\rPROMOTION_KEY INTEGER NOT NULL DEFAULT 0,\rORDER_ID VARCHAR2(15) NOT NULL,\r","CUSTOMER_KEY INTEGER NOT NULL DEFAULT 0,\rPRODUCT_KEY INTEGER NOT NULL DEFAULT 0,\rORDER_DATE_KEY INTEGER NOT NULL DEFAULT 0,\rDELIVERY_DUE_DATE_KEY INTEGER NOT NULL DEFAULT 0,\rSALESPERSON_KEY INTEGER NOT NULL DEFAULT 0,\rSALES_LOCATION_KEY INTEGER NOT NULL DEFAULT 0,\rDELIVERY_ADDRESS_KEY INTEGER NOT NULL DEFAULT 0,\rPROMOTION_KEY INTEGER NOT NULL DEFAULT 0,\rORDER_ID VARCHAR2(15) NOT NULL,\r",{"$f":"CONCATENATE(INDIRECT(ADDRESS(ROW(),COLUMN()-1)),U104)","v":"CUSTOMER_KEY INTEGER NOT NULL DEFAULT 0,\rPRODUCT_KEY INTEGER NOT NULL DEFAULT 0,\rORDER_DATE_KEY INTEGER NOT NULL DEFAULT 0,\rDELIVERY_DUE_DATE_KEY INTEGER NOT NULL DEFAULT 0,\rSALESPERSON_KEY INTEGER NOT NULL DEFAULT 0,\rSALES_LOCATION_KEY INTEGER NOT NULL DEFAULT 0,\rDELIVERY_ADDRESS_KEY INTEGER NOT NULL DEFAULT 0,\rPROMOTION_KEY INTEGER NOT NULL DEFAULT 0,\rORDER_ID VARCHAR2(15) NOT NULL,\r"},"CUSTOMER_KEY INTEGER NOT NULL DEFAULT 0,\rPRODUCT_KEY INTEGER NOT NULL DEFAULT 0,\rORDER_DATE_KEY INTEGER NOT NULL DEFAULT 0,\rDELIVERY_DUE_DATE_KEY INTEGER NOT NULL DEFAULT 0,\rSALESPERSON_KEY INTEGER NOT NULL DEFAULT 0,\rSALES_LOCATION_KEY INTEGER NOT NULL DEFAULT 0,\rDELIVERY_ADDRESS_KEY INTEGER NOT NULL DEFAULT 0,\rPROMOTION_KEY INTEGER NOT NULL DEFAULT 0,\rORDER_ID VARCHAR2(15) NOT NULL,\r","CUSTOMER_KEY INTEGER NOT NULL DEFAULT 0,\rPRODUCT_KEY INTEGER NOT NULL DEFAULT 0,\rORDER_DATE_KEY INTEGER NOT NULL DEFAULT 0,\rDELIVERY_DUE_DATE_KEY INTEGER NOT NULL DEFAULT 0,\rSALESPERSON_KEY INTEGER NOT NULL DEFAULT 0,\rSALES_LOCATION_KEY INTEGER NOT NULL DEFAULT 0,\rDELIVERY_ADDRESS_KEY INTEGER NOT NULL DEFAULT 0,\rPROMOTION_KEY INTEGER NOT NULL DEFAULT 0,\rORDER_ID VARCHAR2(15) NOT NULL,\r","CUSTOMER_KEY INTEGER NOT NULL DEFAULT 0,\rPRODUCT_KEY INTEGER NOT NULL DEFAULT 0,\rORDER_DATE_KEY INTEGER NOT NULL DEFAULT 0,\rDELIVERY_DUE_DATE_KEY INTEGER NOT NULL DEFAULT 0,\rSALESPERSON_KEY INTEGER NOT NULL DEFAULT 0,\rSALES_LOCATION_KEY INTEGER NOT NULL DEFAULT 0,\rDELIVERY_ADDRESS_KEY INTEGER NOT NULL DEFAULT 0,\rPROMOTION_KEY INTEGER NOT NULL DEFAULT 0,\rORDER_ID VARCHAR2(15) NOT NULL,\r","CUSTOMER_KEY INTEGER NOT NULL DEFAULT 0,\rPRODUCT_KEY INTEGER NOT NULL DEFAULT 0,\rORDER_DATE_KEY INTEGER NOT NULL DEFAULT 0,\rDELIVERY_DUE_DATE_KEY INTEGER NOT NULL DEFAULT 0,\rSALESPERSON_KEY INTEGER NOT NULL DEFAULT 0,\rSALES_LOCATION_KEY INTEGER NOT NULL DEFAULT 0,\rDELIVERY_ADDRESS_KEY INTEGER NOT NULL DEFAULT 0,\rPROMOTION_KEY INTEGER NOT NULL DEFAULT 0,\rORDER_ID VARCHAR2(15) NOT NULL,\r","CUSTOMER_KEY INTEGER NOT NULL DEFAULT 0,\rPRODUCT_KEY INTEGER NOT NULL DEFAULT 0,\rORDER_DATE_KEY INTEGER NOT NULL DEFAULT 0,\rDELIVERY_DUE_DATE_KEY INTEGER NOT NULL DEFAULT 0,\rSALESPERSON_KEY INTEGER NOT NULL DEFAULT 0,\rSALES_LOCATION_KEY INTEGER NOT NULL DEFAULT 0,\rDELIVERY_ADDRESS_KEY INTEGER NOT NULL DEFAULT 0,\rPROMOTION_KEY INTEGER NOT NULL DEFAULT 0,\rORDER_ID VARCHAR2(15) NOT NULL,\r"]
[null,null,"Non-Key Column DDL List ",null,null,{"$f":"F105","v":""},{"$f":"CONCATENATE(INDIRECT(ADDRESS(ROW(),COLUMN()-1)),G105)","v":""},"","","","","","ORDER_QUANTITY INTEGER DEFAULT 1,\r","ORDER_QUANTITY INTEGER DEFAULT 1,\rREVENUE NUMBER,\r","ORDER_QUANTITY INTEGER DEFAULT 1,\rREVENUE NUMBER,\r","ORDER_QUANTITY INTEGER DEFAULT 1,\rREVENUE NUMBER,\rDISCOUNT NUMBER(8,2) DEFAULT 0,\r","ORDER_QUANTITY INTEGER DEFAULT 1,\rREVENUE NUMBER,\rDISCOUNT NUMBER(8,2) DEFAULT 0,\r","ORDER_QUANTITY INTEGER DEFAULT 1,\rREVENUE NUMBER,\rDISCOUNT NUMBER(8,2) DEFAULT 0,\r","ORDER_QUANTITY INTEGER DEFAULT 1,\rREVENUE NUMBER,\rDISCOUNT NUMBER(8,2) DEFAULT 0,\r","ORDER_QUANTITY INTEGER DEFAULT 1,\rREVENUE NUMBER,\rDISCOUNT NUMBER(8,2) DEFAULT 0,\r","ORDER_QUANTITY INTEGER DEFAULT 1,\rREVENUE NUMBER,\rDISCOUNT NUMBER(8,2) DEFAULT 0,\r","ORDER_QUANTITY INTEGER DEFAULT 1,\rREVENUE NUMBER,\rDISCOUNT NUMBER(8,2) DEFAULT 0,\r","ORDER_QUANTITY INTEGER DEFAULT 1,\rREVENUE NUMBER,\rDISCOUNT NUMBER(8,2) DEFAULT 0,\r","ORDER_QUANTITY INTEGER DEFAULT 1,\rREVENUE NUMBER,\rDISCOUNT NUMBER(8,2) DEFAULT 0,\r","ORDER_QUANTITY INTEGER DEFAULT 1,\rREVENUE NUMBER,\rDISCOUNT NUMBER(8,2) DEFAULT 0,\r","ORDER_QUANTITY INTEGER DEFAULT 1,\rREVENUE NUMBER,\rDISCOUNT NUMBER(8,2) DEFAULT 0,\r"]
[]
[null,null,"Column Comments",null,null,{"$f":"IF(LEN(F83)=0,\"\",SUBSTITUTE(SUBSTITUTE(SUBSTITUTE(Settings!$B$39,\"&Table\",$F$45),\"&Column\",F72),\"&BEAMColumnCodes\",F83))","v":"Comment on Column ORDERS_FACT.CUSTOMER_KEY is '[who] SK';\r"},{"$f":"IF(LEN(G83)=0,\"\",SUBSTITUTE(SUBSTITUTE(SUBSTITUTE(Settings!$B$39,\"&Table\",$F$45),\"&Column\",G72),\"&BEAMColumnCodes\",G83))","v":"Comment on Column ORDERS_FACT.PRODUCT_KEY is '[what] GD, SK';\r"},{"$f":"IF(LEN(H83)=0,\"\",SUBSTITUTE(SUBSTITUTE(SUBSTITUTE(Settings!$B$39,\"&Table\",$F$45),\"&Column\",H72),\"&BEAMColumnCodes\",H83))","v":"Comment on Column ORDERS_FACT.ORDER_DATE_KEY is '[when] SK';\r"},{"$f":"IF(LEN(I83)=0,\"\",SUBSTITUTE(SUBSTITUTE(SUBSTITUTE(Settings!$B$39,\"&Table\",$F$45),\"&Column\",I72),\"&BEAMColumnCodes\",I83))","v":"Comment on Column ORDERS_FACT.DELIVERY_DUE_DATE_KEY is '[when] SK';\r"},{"$f":"IF(LEN(J83)=0,\"\",SUBSTITUTE(SUBSTITUTE(SUBSTITUTE(Settings!$B$39,\"&Table\",$F$45),\"&Column\",J72),\"&BEAMColumnCodes\",J83))","v":"Comment on Column ORDERS_FACT.SALESPERSON_KEY is '[who] SK';\r"},{"$f":"IF(LEN(K83)=0,\"\",SUBSTITUTE(SUBSTITUTE(SUBSTITUTE(Settings!$B$39,\"&Table\",$F$45),\"&Column\",K72),\"&BEAMColumnCodes\",K83))","v":"Comment on Column ORDERS_FACT.SALES_LOCATION_KEY is '[where] SK';\r"},{"$f":"IF(LEN(L83)=0,\"\",SUBSTITUTE(SUBSTITUTE(SUBSTITUTE(Settings!$B$39,\"&Table\",$F$45),\"&Column\",L72),\"&BEAMColumnCodes\",L83))","v":"Comment on Column ORDERS_FACT.DELIVERY_ADDRESS_KEY is '[where] SK';\r"},{"$f":"IF(LEN(M83)=0,\"\",SUBSTITUTE(SUBSTITUTE(SUBSTITUTE(Settings!$B$39,\"&Table\",$F$45),\"&Column\",M72),\"&BEAMColumnCodes\",M83))","v":"Comment on Column ORDERS_FACT.ORDER_QUANTITY is '[Retail Units] FA';\r"},{"$f":"IF(LEN(N83)=0,\"\",SUBSTITUTE(SUBSTITUTE(SUBSTITUTE(Settings!$B$39,\"&Table\",$F$45),\"&Column\",N72),\"&BEAMColumnCodes\",N83))","v":"Comment on Column ORDERS_FACT.REVENUE is '[$] FA';\r"},{"$f":"IF(LEN(O83)=0,\"\",SUBSTITUTE(SUBSTITUTE(SUBSTITUTE(Settings!$B$39,\"&Table\",$F$45),\"&Column\",O72),\"&BEAMColumnCodes\",O83))","v":"Comment on Column ORDERS_FACT.PROMOTION_KEY is '[why] SK';\r"},{"$f":"IF(LEN(P83)=0,\"\",SUBSTITUTE(SUBSTITUTE(SUBSTITUTE(Settings!$B$39,\"&Table\",$F$45),\"&Column\",P72),\"&BEAMColumnCodes\",P83))","v":"Comment on Column ORDERS_FACT.DISCOUNT is '[$] FA';\r"},{"$f":"IF(LEN(Q83)=0,\"\",SUBSTITUTE(SUBSTITUTE(SUBSTITUTE(Settings!$B$39,\"&Table\",$F$45),\"&Column\",Q72),\"&BEAMColumnCodes\",Q83))","v":"Comment on Column ORDERS_FACT.ORDER_ID is '[how] GD, DD, MD';\r"},{"$f":"IF(LEN(R83)=0,\"\",SUBSTITUTE(SUBSTITUTE(SUBSTITUTE(Settings!$B$39,\"&Table\",$F$45),\"&Column\",R72),\"&BEAMColumnCodes\",R83))","v":""},{"$f":"IF(LEN(S83)=0,\"\",SUBSTITUTE(SUBSTITUTE(SUBSTITUTE(Settings!$B$39,\"&Table\",$F$45),\"&Column\",S72),\"&BEAMColumnCodes\",S83))","v":""},{"$f":"IF(LEN(T83)=0,\"\",SUBSTITUTE(SUBSTITUTE(SUBSTITUTE(Settings!$B$39,\"&Table\",$F$45),\"&Column\",T72),\"&BEAMColumnCodes\",T83))","v":""},{"$f":"IF(LEN(U83)=0,\"\",SUBSTITUTE(SUBSTITUTE(SUBSTITUTE(Settings!$B$39,\"&Table\",$F$45),\"&Column\",U72),\"&BEAMColumnCodes\",U83))","v":""},{"$f":"IF(LEN(V83)=0,\"\",SUBSTITUTE(SUBSTITUTE(SUBSTITUTE(Settings!$B$39,\"&Table\",$F$45),\"&Column\",V72),\"&BEAMColumnCodes\",V83))","v":""},{"$f":"IF(LEN(W83)=0,\"\",SUBSTITUTE(SUBSTITUTE(SUBSTITUTE(Settings!$B$39,\"&Table\",$F$45),\"&Column\",W72),\"&BEAMColumnCodes\",W83))","v":""},{"$f":"IF(LEN(X83)=0,\"\",SUBSTITUTE(SUBSTITUTE(SUBSTITUTE(Settings!$B$39,\"&Table\",$F$45),\"&Column\",X72),\"&BEAMColumnCodes\",X83))","v":""},{"$f":"IF(LEN(Y83)=0,\"\",SUBSTITUTE(SUBSTITUTE(SUBSTITUTE(Settings!$B$39,\"&Table\",$F$45),\"&Column\",Y72),\"&BEAMColumnCodes\",Y83))","v":""},{"$f":"IF(LEN(Z83)=0,\"\",SUBSTITUTE(SUBSTITUTE(SUBSTITUTE(Settings!$B$39,\"&Table\",$F$45),\"&Column\",Z72),\"&BEAMColumnCodes\",Z83))","v":""}]
[null,null,"Column Comments List",null,null,{"$f":"F109","v":"Comment on Column ORDERS_FACT.CUSTOMER_KEY is '[who] SK';\r"},{"$f":"CONCATENATE(INDIRECT(ADDRESS(ROW(),COLUMN()-1)),G109)","v":"Comment on Column ORDERS_FACT.CUSTOMER_KEY is '[who] SK';\rComment on Column ORDERS_FACT.PRODUCT_KEY is '[what] GD, SK';\r"},{"$f":"CONCATENATE(INDIRECT(ADDRESS(ROW(),COLUMN()-1)),H109)","v":"Comment on Column ORDERS_FACT.CUSTOMER_KEY is '[who] SK';\rComment on Column ORDERS_FACT.PRODUCT_KEY is '[what] GD, SK';\rComment on Column ORDERS_FACT.ORDER_DATE_KEY is '[when] SK';\r"},"Comment on Column ORDERS_FACT.CUSTOMER_KEY is '[who] SK';\rComment on Column ORDERS_FACT.PRODUCT_KEY is '[what] GD, SK';\rComment on Column ORDERS_FACT.ORDER_DATE_KEY is '[when] SK';\rComment on Column ORDERS_FACT.DELIVERY_DUE_DATE_KEY is '[when] SK';\r","Comment on Column ORDERS_FACT.CUSTOMER_KEY is '[who] SK';\rComment on Column ORDERS_FACT.PRODUCT_KEY is '[what] GD, SK';\rComment on Column ORDERS_FACT.ORDER_DATE_KEY is '[when] SK';\rComment on Column ORDERS_FACT.DELIVERY_DUE_DATE_KEY is '[when] SK';\rComment on Column ORDERS_FACT.SALESPERSON_KEY is '[who] SK';\r","Comment on Column ORDERS_FACT.CUSTOMER_KEY is '[who] SK';\rComment on Column ORDERS_FACT.PRODUCT_KEY is '[what] GD, SK';\rComment on Column ORDERS_FACT.ORDER_DATE_KEY is '[when] SK';\rComment on Column ORDERS_FACT.DELIVERY_DUE_DATE_KEY is '[when] SK';\rComment on Column ORDERS_FACT.SALESPERSON_KEY is '[who] SK';\rComment on Column ORDERS_FACT.SALES_LOCATION_KEY is '[where] SK';\r","Comment on Column ORDERS_FACT.CUSTOMER_KEY is '[who] SK';\rComment on Column ORDERS_FACT.PRODUCT_KEY is '[what] GD, SK';\rComment on Column ORDERS_FACT.ORDER_DATE_KEY is '[when] SK';\rComment on Column ORDERS_FACT.DELIVERY_DUE_DATE_KEY is '[when] SK';\rComment on Column ORDERS_FACT.SALESPERSON_KEY is '[who] SK';\rComment on Column ORDERS_FACT.SALES_LOCATION_KEY is '[where] SK';\rComment on Column ORDERS_FACT.DELIVERY_ADDRESS_KEY is '[where] SK';\r","Comment on Column ORDERS_FACT.CUSTOMER_KEY is '[who] SK';\rComment on Column ORDERS_FACT.PRODUCT_KEY is '[what] GD, SK';\rComment on Column ORDERS_FACT.ORDER_DATE_KEY is '[when] SK';\rComment on Column ORDERS_FACT.DELIVERY_DUE_DATE_KEY is '[when] SK';\rComment on Column ORDERS_FACT.SALESPERSON_KEY is '[who] SK';\rComment on Column ORDERS_FACT.SALES_LOCATION_KEY is '[where] SK';\rComment on Column ORDERS_FACT.DELIVERY_ADDRESS_KEY is '[where] SK';\rComment on Column ORDERS_FACT.ORDER_QUANTITY is '[Retail Units] FA';\r","Comment on Column ORDERS_FACT.CUSTOMER_KEY is '[who] SK';\rComment on Column ORDERS_FACT.PRODUCT_KEY is '[what] GD, SK';\rComment on Column ORDERS_FACT.ORDER_DATE_KEY is '[when] SK';\rComment on Column ORDERS_FACT.DELIVERY_DUE_DATE_KEY is '[when] SK';\rComment on Column ORDERS_FACT.SALESPERSON_KEY is '[who] SK';\rComment on Column ORDERS_FACT.SALES_LOCATION_KEY is '[where] SK';\rComment on Column ORDERS_FACT.DELIVERY_ADDRESS_KEY is '[where] SK';\rComment on Column ORDERS_FACT.ORDER_QUANTITY is '[Retail Units] FA';\rComment on Column ORDERS_FACT.REVENUE is '[$] FA';\r","Comment on Column ORDERS_FACT.CUSTOMER_KEY is '[who] SK';\rComment on Column ORDERS_FACT.PRODUCT_KEY is '[what] GD, SK';\rComment on Column ORDERS_FACT.ORDER_DATE_KEY is '[when] SK';\rComment on Column ORDERS_FACT.DELIVERY_DUE_DATE_KEY is '[when] SK';\rComment on Column ORDERS_FACT.SALESPERSON_KEY is '[who] SK';\rComment on Column ORDERS_FACT.SALES_LOCATION_KEY is '[where] SK';\rComment on Column ORDERS_FACT.DELIVERY_ADDRESS_KEY is '[where] SK';\rComment on Column ORDERS_FACT.ORDER_QUANTITY is '[Retail Units] FA';\rComment on Column ORDERS_FACT.REVENUE is '[$] FA';\rComment on Column ORDERS_FACT.PROMOTION_KEY is '[why] SK';\r","Comment on Column ORDERS_FACT.CUSTOMER_KEY is '[who] SK';\rComment on Column ORDERS_FACT.PRODUCT_KEY is '[what] GD, SK';\rComment on Column ORDERS_FACT.ORDER_DATE_KEY is '[when] SK';\rComment on Column ORDERS_FACT.DELIVERY_DUE_DATE_KEY is '[when] SK';\rComment on Column ORDERS_FACT.SALESPERSON_KEY is '[who] SK';\rComment on Column ORDERS_FACT.SALES_LOCATION_KEY is '[where] SK';\rComment on Column ORDERS_FACT.DELIVERY_ADDRESS_KEY is '[where] SK';\rComment on Column ORDERS_FACT.ORDER_QUANTITY is '[Retail Units] FA';\rComment on Column ORDERS_FACT.REVENUE is '[$] FA';\rComment on Column ORDERS_FACT.PROMOTION_KEY is '[why] SK';\rComment on Column ORDERS_FACT.DISCOUNT is '[$] FA';\r","Comment on Column ORDERS_FACT.CUSTOMER_KEY is '[who] SK';\rComment on Column ORDERS_FACT.PRODUCT_KEY is '[what] GD, SK';\rComment on Column ORDERS_FACT.ORDER_DATE_KEY is '[when] SK';\rComment on Column ORDERS_FACT.DELIVERY_DUE_DATE_KEY is '[when] SK';\rComment on Column ORDERS_FACT.SALESPERSON_KEY is '[who] SK';\rComment on Column ORDERS_FACT.SALES_LOCATION_KEY is '[where] SK';\rComment on Column ORDERS_FACT.DELIVERY_ADDRESS_KEY is '[where] SK';\rComment on Column ORDERS_FACT.ORDER_QUANTITY is '[Retail Units] FA';\rComment on Column ORDERS_FACT.REVENUE is '[$] FA';\rComment on Column ORDERS_FACT.PROMOTION_KEY is '[why] SK';\rComment on Column ORDERS_FACT.DISCOUNT is '[$] FA';\rComment on Column ORDERS_FACT.ORDER_ID is '[how] GD, DD, MD';\r","Comment on Column ORDERS_FACT.CUSTOMER_KEY is '[who] SK';\rComment on Column ORDERS_FACT.PRODUCT_KEY is '[what] GD, SK';\rComment on Column ORDERS_FACT.ORDER_DATE_KEY is '[when] SK';\rComment on Column ORDERS_FACT.DELIVERY_DUE_DATE_KEY is '[when] SK';\rComment on Column ORDERS_FACT.SALESPERSON_KEY is '[who] SK';\rComment on Column ORDERS_FACT.SALES_LOCATION_KEY is '[where] SK';\rComment on Column ORDERS_FACT.DELIVERY_ADDRESS_KEY is '[where] SK';\rComment on Column ORDERS_FACT.ORDER_QUANTITY is '[Retail Units] FA';\rComment on Column ORDERS_FACT.REVENUE is '[$] FA';\rComment on Column ORDERS_FACT.PROMOTION_KEY is '[why] SK';\rComment on Column ORDERS_FACT.DISCOUNT is '[$] FA';\rComment on Column ORDERS_FACT.ORDER_ID is '[how] GD, DD, MD';\r","Comment on Column ORDERS_FACT.CUSTOMER_KEY is '[who] SK';\rComment on Column ORDERS_FACT.PRODUCT_KEY is '[what] GD, SK';\rComment on Column ORDERS_FACT.ORDER_DATE_KEY is '[when] SK';\rComment on Column ORDERS_FACT.DELIVERY_DUE_DATE_KEY is '[when] SK';\rComment on Column ORDERS_FACT.SALESPERSON_KEY is '[who] SK';\rComment on Column ORDERS_FACT.SALES_LOCATION_KEY is '[where] SK';\rComment on Column ORDERS_FACT.DELIVERY_ADDRESS_KEY is '[where] SK';\rComment on Column ORDERS_FACT.ORDER_QUANTITY is '[Retail Units] FA';\rComment on Column ORDERS_FACT.REVENUE is '[$] FA';\rComment on Column ORDERS_FACT.PROMOTION_KEY is '[why] SK';\rComment on Column ORDERS_FACT.DISCOUNT is '[$] FA';\rComment on Column ORDERS_FACT.ORDER_ID is '[how] GD, DD, MD';\r","Comment on Column ORDERS_FACT.CUSTOMER_KEY is '[who] SK';\rComment on Column ORDERS_FACT.PRODUCT_KEY is '[what] GD, SK';\rComment on Column ORDERS_FACT.ORDER_DATE_KEY is '[when] SK';\rComment on Column ORDERS_FACT.DELIVERY_DUE_DATE_KEY is '[when] SK';\rComment on Column ORDERS_FACT.SALESPERSON_KEY is '[who] SK';\rComment on Column ORDERS_FACT.SALES_LOCATION_KEY is '[where] SK';\rComment on Column ORDERS_FACT.DELIVERY_ADDRESS_KEY is '[where] SK';\rComment on Column ORDERS_FACT.ORDER_QUANTITY is '[Retail Units] FA';\rComment on Column ORDERS_FACT.REVENUE is '[$] FA';\rComment on Column ORDERS_FACT.PROMOTION_KEY is '[why] SK';\rComment on Column ORDERS_FACT.DISCOUNT is '[$] FA';\rComment on Column ORDERS_FACT.ORDER_ID is '[how] GD, DD, MD';\r",{"$f":"CONCATENATE(INDIRECT(ADDRESS(ROW(),COLUMN()-1)),U109)","v":"Comment on Column ORDERS_FACT.CUSTOMER_KEY is '[who] SK';\rComment on Column ORDERS_FACT.PRODUCT_KEY is '[what] GD, SK';\rComment on Column ORDERS_FACT.ORDER_DATE_KEY is '[when] SK';\rComment on Column ORDERS_FACT.DELIVERY_DUE_DATE_KEY is '[when] SK';\rComment on Column ORDERS_FACT.SALESPERSON_KEY is '[who] SK';\rComment on Column ORDERS_FACT.SALES_LOCATION_KEY is '[where] SK';\rComment on Column ORDERS_FACT.DELIVERY_ADDRESS_KEY is '[where] SK';\rComment on Column ORDERS_FACT.ORDER_QUANTITY is '[Retail Units] FA';\rComment on Column ORDERS_FACT.REVENUE is '[$] FA';\rComment on Column ORDERS_FACT.PROMOTION_KEY is '[why] SK';\rComment on Column ORDERS_FACT.DISCOUNT is '[$] FA';\rComment on Column ORDERS_FACT.ORDER_ID is '[how] GD, DD, MD';\r"},"Comment on Column ORDERS_FACT.CUSTOMER_KEY is '[who] SK';\rComment on Column ORDERS_FACT.PRODUCT_KEY is '[what] GD, SK';\rComment on Column ORDERS_FACT.ORDER_DATE_KEY is '[when] SK';\rComment on Column ORDERS_FACT.DELIVERY_DUE_DATE_KEY is '[when] SK';\rComment on Column ORDERS_FACT.SALESPERSON_KEY is '[who] SK';\rComment on Column ORDERS_FACT.SALES_LOCATION_KEY is '[where] SK';\rComment on Column ORDERS_FACT.DELIVERY_ADDRESS_KEY is '[where] SK';\rComment on Column ORDERS_FACT.ORDER_QUANTITY is '[Retail Units] FA';\rComment on Column ORDERS_FACT.REVENUE is '[$] FA';\rComment on Column ORDERS_FACT.PROMOTION_KEY is '[why] SK';\rComment on Column ORDERS_FACT.DISCOUNT is '[$] FA';\rComment on Column ORDERS_FACT.ORDER_ID is '[how] GD, DD, MD';\r","Comment on Column ORDERS_FACT.CUSTOMER_KEY is '[who] SK';\rComment on Column ORDERS_FACT.PRODUCT_KEY is '[what] GD, SK';\rComment on Column ORDERS_FACT.ORDER_DATE_KEY is '[when] SK';\rComment on Column ORDERS_FACT.DELIVERY_DUE_DATE_KEY is '[when] SK';\rComment on Column ORDERS_FACT.SALESPERSON_KEY is '[who] SK';\rComment on Column ORDERS_FACT.SALES_LOCATION_KEY is '[where] SK';\rComment on Column ORDERS_FACT.DELIVERY_ADDRESS_KEY is '[where] SK';\rComment on Column ORDERS_FACT.ORDER_QUANTITY is '[Retail Units] FA';\rComment on Column ORDERS_FACT.REVENUE is '[$] FA';\rComment on Column ORDERS_FACT.PROMOTION_KEY is '[why] SK';\rComment on Column ORDERS_FACT.DISCOUNT is '[$] FA';\rComment on Column ORDERS_FACT.ORDER_ID is '[how] GD, DD, MD';\r","Comment on Column ORDERS_FACT.CUSTOMER_KEY is '[who] SK';\rComment on Column ORDERS_FACT.PRODUCT_KEY is '[what] GD, SK';\rComment on Column ORDERS_FACT.ORDER_DATE_KEY is '[when] SK';\rComment on Column ORDERS_FACT.DELIVERY_DUE_DATE_KEY is '[when] SK';\rComment on Column ORDERS_FACT.SALESPERSON_KEY is '[who] SK';\rComment on Column ORDERS_FACT.SALES_LOCATION_KEY is '[where] SK';\rComment on Column ORDERS_FACT.DELIVERY_ADDRESS_KEY is '[where] SK';\rComment on Column ORDERS_FACT.ORDER_QUANTITY is '[Retail Units] FA';\rComment on Column ORDERS_FACT.REVENUE is '[$] FA';\rComment on Column ORDERS_FACT.PROMOTION_KEY is '[why] SK';\rComment on Column ORDERS_FACT.DISCOUNT is '[$] FA';\rComment on Column ORDERS_FACT.ORDER_ID is '[how] GD, DD, MD';\r","Comment on Column ORDERS_FACT.CUSTOMER_KEY is '[who] SK';\rComment on Column ORDERS_FACT.PRODUCT_KEY is '[what] GD, SK';\rComment on Column ORDERS_FACT.ORDER_DATE_KEY is '[when] SK';\rComment on Column ORDERS_FACT.DELIVERY_DUE_DATE_KEY is '[when] SK';\rComment on Column ORDERS_FACT.SALESPERSON_KEY is '[who] SK';\rComment on Column ORDERS_FACT.SALES_LOCATION_KEY is '[where] SK';\rComment on Column ORDERS_FACT.DELIVERY_ADDRESS_KEY is '[where] SK';\rComment on Column ORDERS_FACT.ORDER_QUANTITY is '[Retail Units] FA';\rComment on Column ORDERS_FACT.REVENUE is '[$] FA';\rComment on Column ORDERS_FACT.PROMOTION_KEY is '[why] SK';\rComment on Column ORDERS_FACT.DISCOUNT is '[$] FA';\rComment on Column ORDERS_FACT.ORDER_ID is '[how] GD, DD, MD';\r","Comment on Column ORDERS_FACT.CUSTOMER_KEY is '[who] SK';\rComment on Column ORDERS_FACT.PRODUCT_KEY is '[what] GD, SK';\rComment on Column ORDERS_FACT.ORDER_DATE_KEY is '[when] SK';\rComment on Column ORDERS_FACT.DELIVERY_DUE_DATE_KEY is '[when] SK';\rComment on Column ORDERS_FACT.SALESPERSON_KEY is '[who] SK';\rComment on Column ORDERS_FACT.SALES_LOCATION_KEY is '[where] SK';\rComment on Column ORDERS_FACT.DELIVERY_ADDRESS_KEY is '[where] SK';\rComment on Column ORDERS_FACT.ORDER_QUANTITY is '[Retail Units] FA';\rComment on Column ORDERS_FACT.REVENUE is '[$] FA';\rComment on Column ORDERS_FACT.PROMOTION_KEY is '[why] SK';\rComment on Column ORDERS_FACT.DISCOUNT is '[$] FA';\rComment on Column ORDERS_FACT.ORDER_ID is '[how] GD, DD, MD';\r"]
[]
[null,null,"Column Index",null,null,{"$f":"IF(AND(F57<>\"Y\",$F$55=\"Fact\",F59=\"Y\"),CHAR(13)& SUBSTITUTE(SUBSTITUTE(SUBSTITUTE(SUBSTITUTE(Settings!$B$45,\"&BEAMColumn\",F71),\"&BEAMTable\",$F$44),\"&Column\", F72),\"&Table\",$F$45),\"\")","v":"\rCREATE BITMAP INDEX I_ORDERS_CUSTOMER ON ORDERS_FACT (CUSTOMER_KEY);"},{"$f":"IF(AND(G57<>\"Y\",$F$55=\"Fact\",G59=\"Y\"),CHAR(13)& SUBSTITUTE(SUBSTITUTE(SUBSTITUTE(SUBSTITUTE(Settings!$B$45,\"&BEAMColumn\",G71),\"&BEAMTable\",$F$44),\"&Column\", G72),\"&Table\",$F$45),\"\")","v":"\rCREATE BITMAP INDEX I_ORDERS_PRODUCT ON ORDERS_FACT (PRODUCT_KEY);"},{"$f":"IF(AND(H57<>\"Y\",$F$55=\"Fact\",H59=\"Y\"),CHAR(13)& SUBSTITUTE(SUBSTITUTE(SUBSTITUTE(SUBSTITUTE(Settings!$B$45,\"&BEAMColumn\",H71),\"&BEAMTable\",$F$44),\"&Column\", H72),\"&Table\",$F$45),\"\")","v":"\rCREATE BITMAP INDEX I_ORDERS_ORDER_DATE ON ORDERS_FACT (ORDER_DATE_KEY);"},{"$f":"IF(AND(I57<>\"Y\",$F$55=\"Fact\",I59=\"Y\"),CHAR(13)& SUBSTITUTE(SUBSTITUTE(SUBSTITUTE(SUBSTITUTE(Settings!$B$45,\"&BEAMColumn\",I71),\"&BEAMTable\",$F$44),\"&Column\", I72),\"&Table\",$F$45),\"\")","v":"\rCREATE BITMAP INDEX I_ORDERS_DELIVERY_DUE_DATE ON ORDERS_FACT (DELIVERY_DUE_DATE_KEY);"},{"$f":"IF(AND(J57<>\"Y\",$F$55=\"Fact\",J59=\"Y\"),CHAR(13)& SUBSTITUTE(SUBSTITUTE(SUBSTITUTE(SUBSTITUTE(Settings!$B$45,\"&BEAMColumn\",J71),\"&BEAMTable\",$F$44),\"&Column\", J72),\"&Table\",$F$45),\"\")","v":"\rCREATE BITMAP INDEX I_ORDERS_SALESPERSON ON ORDERS_FACT (SALESPERSON_KEY);"},{"$f":"IF(AND(K57<>\"Y\",$F$55=\"Fact\",K59=\"Y\"),CHAR(13)& SUBSTITUTE(SUBSTITUTE(SUBSTITUTE(SUBSTITUTE(Settings!$B$45,\"&BEAMColumn\",K71),\"&BEAMTable\",$F$44),\"&Column\", K72),\"&Table\",$F$45),\"\")","v":"\rCREATE BITMAP INDEX I_ORDERS_SALES_LOCATION ON ORDERS_FACT (SALES_LOCATION_KEY);"},{"$f":"IF(AND(L57<>\"Y\",$F$55=\"Fact\",L59=\"Y\"),CHAR(13)& SUBSTITUTE(SUBSTITUTE(SUBSTITUTE(SUBSTITUTE(Settings!$B$45,\"&BEAMColumn\",L71),\"&BEAMTable\",$F$44),\"&Column\", L72),\"&Table\",$F$45),\"\")","v":"\rCREATE BITMAP INDEX I_ORDERS_DELIVERY_ADDRESS ON ORDERS_FACT (DELIVERY_ADDRESS_KEY);"},{"$f":"IF(AND(M57<>\"Y\",$F$55=\"Fact\",M59=\"Y\"),CHAR(13)& SUBSTITUTE(SUBSTITUTE(SUBSTITUTE(SUBSTITUTE(Settings!$B$45,\"&BEAMColumn\",M71),\"&BEAMTable\",$F$44),\"&Column\", M72),\"&Table\",$F$45),\"\")","v":""},{"$f":"IF(AND(N57<>\"Y\",$F$55=\"Fact\",N59=\"Y\"),CHAR(13)& SUBSTITUTE(SUBSTITUTE(SUBSTITUTE(SUBSTITUTE(Settings!$B$45,\"&BEAMColumn\",N71),\"&BEAMTable\",$F$44),\"&Column\", N72),\"&Table\",$F$45),\"\")","v":""},{"$f":"IF(AND(O57<>\"Y\",$F$55=\"Fact\",O59=\"Y\"),CHAR(13)& SUBSTITUTE(SUBSTITUTE(SUBSTITUTE(SUBSTITUTE(Settings!$B$45,\"&BEAMColumn\",O71),\"&BEAMTable\",$F$44),\"&Column\", O72),\"&Table\",$F$45),\"\")","v":"\rCREATE BITMAP INDEX I_ORDERS_PROMOTION ON ORDERS_FACT (PROMOTION_KEY);"},{"$f":"IF(AND(P57<>\"Y\",$F$55=\"Fact\",P59=\"Y\"),CHAR(13)& SUBSTITUTE(SUBSTITUTE(SUBSTITUTE(SUBSTITUTE(Settings!$B$45,\"&BEAMColumn\",P71),\"&BEAMTable\",$F$44),\"&Column\", P72),\"&Table\",$F$45),\"\")","v":""},{"$f":"IF(AND(Q57<>\"Y\",$F$55=\"Fact\",Q59=\"Y\"),CHAR(13)& SUBSTITUTE(SUBSTITUTE(SUBSTITUTE(SUBSTITUTE(Settings!$B$45,\"&BEAMColumn\",Q71),\"&BEAMTable\",$F$44),\"&Column\", Q72),\"&Table\",$F$45),\"\")","v":""},{"$f":"IF(AND(R57<>\"Y\",$F$55=\"Fact\",R59=\"Y\"),CHAR(13)& SUBSTITUTE(SUBSTITUTE(SUBSTITUTE(SUBSTITUTE(Settings!$B$45,\"&BEAMColumn\",R71),\"&BEAMTable\",$F$44),\"&Column\", R72),\"&Table\",$F$45),\"\")","v":""},{"$f":"IF(AND(S57<>\"Y\",$F$55=\"Fact\",S59=\"Y\"),CHAR(13)& SUBSTITUTE(SUBSTITUTE(SUBSTITUTE(SUBSTITUTE(Settings!$B$45,\"&BEAMColumn\",S71),\"&BEAMTable\",$F$44),\"&Column\", S72),\"&Table\",$F$45),\"\")","v":""},{"$f":"IF(AND(T57<>\"Y\",$F$55=\"Fact\",T59=\"Y\"),CHAR(13)& SUBSTITUTE(SUBSTITUTE(SUBSTITUTE(SUBSTITUTE(Settings!$B$45,\"&BEAMColumn\",T71),\"&BEAMTable\",$F$44),\"&Column\", T72),\"&Table\",$F$45),\"\")","v":""},{"$f":"IF(AND(U57<>\"Y\",$F$55=\"Fact\",U59=\"Y\"),CHAR(13)& SUBSTITUTE(SUBSTITUTE(SUBSTITUTE(SUBSTITUTE(Settings!$B$45,\"&BEAMColumn\",U71),\"&BEAMTable\",$F$44),\"&Column\", U72),\"&Table\",$F$45),\"\")","v":""},{"$f":"IF(AND(V57<>\"Y\",$F$55=\"Fact\",V59=\"Y\"),CHAR(13)& SUBSTITUTE(SUBSTITUTE(SUBSTITUTE(SUBSTITUTE(Settings!$B$45,\"&BEAMColumn\",V71),\"&BEAMTable\",$F$44),\"&Column\", V72),\"&Table\",$F$45),\"\")","v":""},{"$f":"IF(AND(W57<>\"Y\",$F$55=\"Fact\",W59=\"Y\"),CHAR(13)& SUBSTITUTE(SUBSTITUTE(SUBSTITUTE(SUBSTITUTE(Settings!$B$45,\"&BEAMColumn\",W71),\"&BEAMTable\",$F$44),\"&Column\", W72),\"&Table\",$F$45),\"\")","v":""},{"$f":"IF(AND(X57<>\"Y\",$F$55=\"Fact\",X59=\"Y\"),CHAR(13)& SUBSTITUTE(SUBSTITUTE(SUBSTITUTE(SUBSTITUTE(Settings!$B$45,\"&BEAMColumn\",X71),\"&BEAMTable\",$F$44),\"&Column\", X72),\"&Table\",$F$45),\"\")","v":""},{"$f":"IF(AND(Y57<>\"Y\",$F$55=\"Fact\",Y59=\"Y\"),CHAR(13)& SUBSTITUTE(SUBSTITUTE(SUBSTITUTE(SUBSTITUTE(Settings!$B$45,\"&BEAMColumn\",Y71),\"&BEAMTable\",$F$44),\"&Column\", Y72),\"&Table\",$F$45),\"\")","v":""},{"$f":"IF(AND(Z57<>\"Y\",$F$55=\"Fact\",Z59=\"Y\"),CHAR(13)& SUBSTITUTE(SUBSTITUTE(SUBSTITUTE(SUBSTITUTE(Settings!$B$45,\"&BEAMColumn\",Z71),\"&BEAMTable\",$F$44),\"&Column\", Z72),\"&Table\",$F$45),\"\")","v":""}]
[null,null,"Index List",null,null,{"$f":"F112","v":"\rCREATE BITMAP INDEX I_ORDERS_CUSTOMER ON ORDERS_FACT (CUSTOMER_KEY);"},{"$f":"CONCATENATE(INDIRECT(ADDRESS(ROW(),COLUMN()-1)),G112)","v":"\rCREATE BITMAP INDEX I_ORDERS_CUSTOMER ON ORDERS_FACT (CUSTOMER_KEY);\rCREATE BITMAP INDEX I_ORDERS_PRODUCT ON ORDERS_FACT (PRODUCT_KEY);"},{"$f":"CONCATENATE(INDIRECT(ADDRESS(ROW(),COLUMN()-1)),H112)","v":"\rCREATE BITMAP INDEX I_ORDERS_CUSTOMER ON ORDERS_FACT (CUSTOMER_KEY);\rCREATE BITMAP INDEX I_ORDERS_PRODUCT ON ORDERS_FACT (PRODUCT_KEY);\rCREATE BITMAP INDEX I_ORDERS_ORDER_DATE ON ORDERS_FACT (ORDER_DATE_KEY);"},"\rCREATE BITMAP INDEX I_ORDERS_CUSTOMER ON ORDERS_FACT (CUSTOMER_KEY);\rCREATE BITMAP INDEX I_ORDERS_PRODUCT ON ORDERS_FACT (PRODUCT_KEY);\rCREATE BITMAP INDEX I_ORDERS_ORDER_DATE ON ORDERS_FACT (ORDER_DATE_KEY);\rCREATE BITMAP INDEX I_ORDERS_DELIVERY_DUE_DATE ON ORDERS_FACT (DELIVERY_DUE_DATE_KEY);","\rCREATE BITMAP INDEX I_ORDERS_CUSTOMER ON ORDERS_FACT (CUSTOMER_KEY);\rCREATE BITMAP INDEX I_ORDERS_PRODUCT ON ORDERS_FACT (PRODUCT_KEY);\rCREATE BITMAP INDEX I_ORDERS_ORDER_DATE ON ORDERS_FACT (ORDER_DATE_KEY);\rCREATE BITMAP INDEX I_ORDERS_DELIVERY_DUE_DATE ON ORDERS_FACT (DELIVERY_DUE_DATE_KEY);\rCREATE BITMAP INDEX I_ORDERS_SALESPERSON ON ORDERS_FACT (SALESPERSON_KEY);","\rCREATE BITMAP INDEX I_ORDERS_CUSTOMER ON ORDERS_FACT (CUSTOMER_KEY);\rCREATE BITMAP INDEX I_ORDERS_PRODUCT ON ORDERS_FACT (PRODUCT_KEY);\rCREATE BITMAP INDEX I_ORDERS_ORDER_DATE ON ORDERS_FACT (ORDER_DATE_KEY);\rCREATE BITMAP INDEX I_ORDERS_DELIVERY_DUE_DATE ON ORDERS_FACT (DELIVERY_DUE_DATE_KEY);\rCREATE BITMAP INDEX I_ORDERS_SALESPERSON ON ORDERS_FACT (SALESPERSON_KEY);\rCREATE BITMAP INDEX I_ORDERS_SALES_LOCATION ON ORDERS_FACT (SALES_LOCATION_KEY);","\rCREATE BITMAP INDEX I_ORDERS_CUSTOMER ON ORDERS_FACT (CUSTOMER_KEY);\rCREATE BITMAP INDEX I_ORDERS_PRODUCT ON ORDERS_FACT (PRODUCT_KEY);\rCREATE BITMAP INDEX I_ORDERS_ORDER_DATE ON ORDERS_FACT (ORDER_DATE_KEY);\rCREATE BITMAP INDEX I_ORDERS_DELIVERY_DUE_DATE ON ORDERS_FACT (DELIVERY_DUE_DATE_KEY);\rCREATE BITMAP INDEX I_ORDERS_SALESPERSON ON ORDERS_FACT (SALESPERSON_KEY);\rCREATE BITMAP INDEX I_ORDERS_SALES_LOCATION ON ORDERS_FACT (SALES_LOCATION_KEY);\rCREATE BITMAP INDEX I_ORDERS_DELIVERY_ADDRESS ON ORDERS_FACT (DELIVERY_ADDRESS_KEY);","\rCREATE BITMAP INDEX I_ORDERS_CUSTOMER ON ORDERS_FACT (CUSTOMER_KEY);\rCREATE BITMAP INDEX I_ORDERS_PRODUCT ON ORDERS_FACT (PRODUCT_KEY);\rCREATE BITMAP INDEX I_ORDERS_ORDER_DATE ON ORDERS_FACT (ORDER_DATE_KEY);\rCREATE BITMAP INDEX I_ORDERS_DELIVERY_DUE_DATE ON ORDERS_FACT (DELIVERY_DUE_DATE_KEY);\rCREATE BITMAP INDEX I_ORDERS_SALESPERSON ON ORDERS_FACT (SALESPERSON_KEY);\rCREATE BITMAP INDEX I_ORDERS_SALES_LOCATION ON ORDERS_FACT (SALES_LOCATION_KEY);\rCREATE BITMAP INDEX I_ORDERS_DELIVERY_ADDRESS ON ORDERS_FACT (DELIVERY_ADDRESS_KEY);","\rCREATE BITMAP INDEX I_ORDERS_CUSTOMER ON ORDERS_FACT (CUSTOMER_KEY);\rCREATE BITMAP INDEX I_ORDERS_PRODUCT ON ORDERS_FACT (PRODUCT_KEY);\rCREATE BITMAP INDEX I_ORDERS_ORDER_DATE ON ORDERS_FACT (ORDER_DATE_KEY);\rCREATE BITMAP INDEX I_ORDERS_DELIVERY_DUE_DATE ON ORDERS_FACT (DELIVERY_DUE_DATE_KEY);\rCREATE BITMAP INDEX I_ORDERS_SALESPERSON ON ORDERS_FACT (SALESPERSON_KEY);\rCREATE BITMAP INDEX I_ORDERS_SALES_LOCATION ON ORDERS_FACT (SALES_LOCATION_KEY);\rCREATE BITMAP INDEX I_ORDERS_DELIVERY_ADDRESS ON ORDERS_FACT (DELIVERY_ADDRESS_KEY);","\rCREATE BITMAP INDEX I_ORDERS_CUSTOMER ON ORDERS_FACT (CUSTOMER_KEY);\rCREATE BITMAP INDEX I_ORDERS_PRODUCT ON ORDERS_FACT (PRODUCT_KEY);\rCREATE BITMAP INDEX I_ORDERS_ORDER_DATE ON ORDERS_FACT (ORDER_DATE_KEY);\rCREATE BITMAP INDEX I_ORDERS_DELIVERY_DUE_DATE ON ORDERS_FACT (DELIVERY_DUE_DATE_KEY);\rCREATE BITMAP INDEX I_ORDERS_SALESPERSON ON ORDERS_FACT (SALESPERSON_KEY);\rCREATE BITMAP INDEX I_ORDERS_SALES_LOCATION ON ORDERS_FACT (SALES_LOCATION_KEY);\rCREATE BITMAP INDEX I_ORDERS_DELIVERY_ADDRESS ON ORDERS_FACT (DELIVERY_ADDRESS_KEY);\rCREATE BITMAP INDEX I_ORDERS_PROMOTION ON ORDERS_FACT (PROMOTION_KEY);","\rCREATE BITMAP INDEX I_ORDERS_CUSTOMER ON ORDERS_FACT (CUSTOMER_KEY);\rCREATE BITMAP INDEX I_ORDERS_PRODUCT ON ORDERS_FACT (PRODUCT_KEY);\rCREATE BITMAP INDEX I_ORDERS_ORDER_DATE ON ORDERS_FACT (ORDER_DATE_KEY);\rCREATE BITMAP INDEX I_ORDERS_DELIVERY_DUE_DATE ON ORDERS_FACT (DELIVERY_DUE_DATE_KEY);\rCREATE BITMAP INDEX I_ORDERS_SALESPERSON ON ORDERS_FACT (SALESPERSON_KEY);\rCREATE BITMAP INDEX I_ORDERS_SALES_LOCATION ON ORDERS_FACT (SALES_LOCATION_KEY);\rCREATE BITMAP INDEX I_ORDERS_DELIVERY_ADDRESS ON ORDERS_FACT (DELIVERY_ADDRESS_KEY);\rCREATE BITMAP INDEX I_ORDERS_PROMOTION ON ORDERS_FACT (PROMOTION_KEY);","\rCREATE BITMAP INDEX I_ORDERS_CUSTOMER ON ORDERS_FACT (CUSTOMER_KEY);\rCREATE BITMAP INDEX I_ORDERS_PRODUCT ON ORDERS_FACT (PRODUCT_KEY);\rCREATE BITMAP INDEX I_ORDERS_ORDER_DATE ON ORDERS_FACT (ORDER_DATE_KEY);\rCREATE BITMAP INDEX I_ORDERS_DELIVERY_DUE_DATE ON ORDERS_FACT (DELIVERY_DUE_DATE_KEY);\rCREATE BITMAP INDEX I_ORDERS_SALESPERSON ON ORDERS_FACT (SALESPERSON_KEY);\rCREATE BITMAP INDEX I_ORDERS_SALES_LOCATION ON ORDERS_FACT (SALES_LOCATION_KEY);\rCREATE BITMAP INDEX I_ORDERS_DELIVERY_ADDRESS ON ORDERS_FACT (DELIVERY_ADDRESS_KEY);\rCREATE BITMAP INDEX I_ORDERS_PROMOTION ON ORDERS_FACT (PROMOTION_KEY);","\rCREATE BITMAP INDEX I_ORDERS_CUSTOMER ON ORDERS_FACT (CUSTOMER_KEY);\rCREATE BITMAP INDEX I_ORDERS_PRODUCT ON ORDERS_FACT (PRODUCT_KEY);\rCREATE BITMAP INDEX I_ORDERS_ORDER_DATE ON ORDERS_FACT (ORDER_DATE_KEY);\rCREATE BITMAP INDEX I_ORDERS_DELIVERY_DUE_DATE ON ORDERS_FACT (DELIVERY_DUE_DATE_KEY);\rCREATE BITMAP INDEX I_ORDERS_SALESPERSON ON ORDERS_FACT (SALESPERSON_KEY);\rCREATE BITMAP INDEX I_ORDERS_SALES_LOCATION ON ORDERS_FACT (SALES_LOCATION_KEY);\rCREATE BITMAP INDEX I_ORDERS_DELIVERY_ADDRESS ON ORDERS_FACT (DELIVERY_ADDRESS_KEY);\rCREATE BITMAP INDEX I_ORDERS_PROMOTION ON ORDERS_FACT (PROMOTION_KEY);","\rCREATE BITMAP INDEX I_ORDERS_CUSTOMER ON ORDERS_FACT (CUSTOMER_KEY);\rCREATE BITMAP INDEX I_ORDERS_PRODUCT ON ORDERS_FACT (PRODUCT_KEY);\rCREATE BITMAP INDEX I_ORDERS_ORDER_DATE ON ORDERS_FACT (ORDER_DATE_KEY);\rCREATE BITMAP INDEX I_ORDERS_DELIVERY_DUE_DATE ON ORDERS_FACT (DELIVERY_DUE_DATE_KEY);\rCREATE BITMAP INDEX I_ORDERS_SALESPERSON ON ORDERS_FACT (SALESPERSON_KEY);\rCREATE BITMAP INDEX I_ORDERS_SALES_LOCATION ON ORDERS_FACT (SALES_LOCATION_KEY);\rCREATE BITMAP INDEX I_ORDERS_DELIVERY_ADDRESS ON ORDERS_FACT (DELIVERY_ADDRESS_KEY);\rCREATE BITMAP INDEX I_ORDERS_PROMOTION ON ORDERS_FACT (PROMOTION_KEY);","\rCREATE BITMAP INDEX I_ORDERS_CUSTOMER ON ORDERS_FACT (CUSTOMER_KEY);\rCREATE BITMAP INDEX I_ORDERS_PRODUCT ON ORDERS_FACT (PRODUCT_KEY);\rCREATE BITMAP INDEX I_ORDERS_ORDER_DATE ON ORDERS_FACT (ORDER_DATE_KEY);\rCREATE BITMAP INDEX I_ORDERS_DELIVERY_DUE_DATE ON ORDERS_FACT (DELIVERY_DUE_DATE_KEY);\rCREATE BITMAP INDEX I_ORDERS_SALESPERSON ON ORDERS_FACT (SALESPERSON_KEY);\rCREATE BITMAP INDEX I_ORDERS_SALES_LOCATION ON ORDERS_FACT (SALES_LOCATION_KEY);\rCREATE BITMAP INDEX I_ORDERS_DELIVERY_ADDRESS ON ORDERS_FACT (DELIVERY_ADDRESS_KEY);\rCREATE BITMAP INDEX I_ORDERS_PROMOTION ON ORDERS_FACT (PROMOTION_KEY);",{"$f":"CONCATENATE(INDIRECT(ADDRESS(ROW(),COLUMN()-1)),U112)","v":"\rCREATE BITMAP INDEX I_ORDERS_CUSTOMER ON ORDERS_FACT (CUSTOMER_KEY);\rCREATE BITMAP INDEX I_ORDERS_PRODUCT ON ORDERS_FACT (PRODUCT_KEY);\rCREATE BITMAP INDEX I_ORDERS_ORDER_DATE ON ORDERS_FACT (ORDER_DATE_KEY);\rCREATE BITMAP INDEX I_ORDERS_DELIVERY_DUE_DATE ON ORDERS_FACT (DELIVERY_DUE_DATE_KEY);\rCREATE BITMAP INDEX I_ORDERS_SALESPERSON ON ORDERS_FACT (SALESPERSON_KEY);\rCREATE BITMAP INDEX I_ORDERS_SALES_LOCATION ON ORDERS_FACT (SALES_LOCATION_KEY);\rCREATE BITMAP INDEX I_ORDERS_DELIVERY_ADDRESS ON ORDERS_FACT (DELIVERY_ADDRESS_KEY);\rCREATE BITMAP INDEX I_ORDERS_PROMOTION ON ORDERS_FACT (PROMOTION_KEY);"},"\rCREATE BITMAP INDEX I_ORDERS_CUSTOMER ON ORDERS_FACT (CUSTOMER_KEY);\rCREATE BITMAP INDEX I_ORDERS_PRODUCT ON ORDERS_FACT (PRODUCT_KEY);\rCREATE BITMAP INDEX I_ORDERS_ORDER_DATE ON ORDERS_FACT (ORDER_DATE_KEY);\rCREATE BITMAP INDEX I_ORDERS_DELIVERY_DUE_DATE ON ORDERS_FACT (DELIVERY_DUE_DATE_KEY);\rCREATE BITMAP INDEX I_ORDERS_SALESPERSON ON ORDERS_FACT (SALESPERSON_KEY);\rCREATE BITMAP INDEX I_ORDERS_SALES_LOCATION ON ORDERS_FACT (SALES_LOCATION_KEY);\rCREATE BITMAP INDEX I_ORDERS_DELIVERY_ADDRESS ON ORDERS_FACT (DELIVERY_ADDRESS_KEY);\rCREATE BITMAP INDEX I_ORDERS_PROMOTION ON ORDERS_FACT (PROMOTION_KEY);","\rCREATE BITMAP INDEX I_ORDERS_CUSTOMER ON ORDERS_FACT (CUSTOMER_KEY);\rCREATE BITMAP INDEX I_ORDERS_PRODUCT ON ORDERS_FACT (PRODUCT_KEY);\rCREATE BITMAP INDEX I_ORDERS_ORDER_DATE ON ORDERS_FACT (ORDER_DATE_KEY);\rCREATE BITMAP INDEX I_ORDERS_DELIVERY_DUE_DATE ON ORDERS_FACT (DELIVERY_DUE_DATE_KEY);\rCREATE BITMAP INDEX I_ORDERS_SALESPERSON ON ORDERS_FACT (SALESPERSON_KEY);\rCREATE BITMAP INDEX I_ORDERS_SALES_LOCATION ON ORDERS_FACT (SALES_LOCATION_KEY);\rCREATE BITMAP INDEX I_ORDERS_DELIVERY_ADDRESS ON ORDERS_FACT (DELIVERY_ADDRESS_KEY);\rCREATE BITMAP INDEX I_ORDERS_PROMOTION ON ORDERS_FACT (PROMOTION_KEY);","\rCREATE BITMAP INDEX I_ORDERS_CUSTOMER ON ORDERS_FACT (CUSTOMER_KEY);\rCREATE BITMAP INDEX I_ORDERS_PRODUCT ON ORDERS_FACT (PRODUCT_KEY);\rCREATE BITMAP INDEX I_ORDERS_ORDER_DATE ON ORDERS_FACT (ORDER_DATE_KEY);\rCREATE BITMAP INDEX I_ORDERS_DELIVERY_DUE_DATE ON ORDERS_FACT (DELIVERY_DUE_DATE_KEY);\rCREATE BITMAP INDEX I_ORDERS_SALESPERSON ON ORDERS_FACT (SALESPERSON_KEY);\rCREATE BITMAP INDEX I_ORDERS_SALES_LOCATION ON ORDERS_FACT (SALES_LOCATION_KEY);\rCREATE BITMAP INDEX I_ORDERS_DELIVERY_ADDRESS ON ORDERS_FACT (DELIVERY_ADDRESS_KEY);\rCREATE BITMAP INDEX I_ORDERS_PROMOTION ON ORDERS_FACT (PROMOTION_KEY);","\rCREATE BITMAP INDEX I_ORDERS_CUSTOMER ON ORDERS_FACT (CUSTOMER_KEY);\rCREATE BITMAP INDEX I_ORDERS_PRODUCT ON ORDERS_FACT (PRODUCT_KEY);\rCREATE BITMAP INDEX I_ORDERS_ORDER_DATE ON ORDERS_FACT (ORDER_DATE_KEY);\rCREATE BITMAP INDEX I_ORDERS_DELIVERY_DUE_DATE ON ORDERS_FACT (DELIVERY_DUE_DATE_KEY);\rCREATE BITMAP INDEX I_ORDERS_SALESPERSON ON ORDERS_FACT (SALESPERSON_KEY);\rCREATE BITMAP INDEX I_ORDERS_SALES_LOCATION ON ORDERS_FACT (SALES_LOCATION_KEY);\rCREATE BITMAP INDEX I_ORDERS_DELIVERY_ADDRESS ON ORDERS_FACT (DELIVERY_ADDRESS_KEY);\rCREATE BITMAP INDEX I_ORDERS_PROMOTION ON ORDERS_FACT (PROMOTION_KEY);","\rCREATE BITMAP INDEX I_ORDERS_CUSTOMER ON ORDERS_FACT (CUSTOMER_KEY);\rCREATE BITMAP INDEX I_ORDERS_PRODUCT ON ORDERS_FACT (PRODUCT_KEY);\rCREATE BITMAP INDEX I_ORDERS_ORDER_DATE ON ORDERS_FACT (ORDER_DATE_KEY);\rCREATE BITMAP INDEX I_ORDERS_DELIVERY_DUE_DATE ON ORDERS_FACT (DELIVERY_DUE_DATE_KEY);\rCREATE BITMAP INDEX I_ORDERS_SALESPERSON ON ORDERS_FACT (SALESPERSON_KEY);\rCREATE BITMAP INDEX I_ORDERS_SALES_LOCATION ON ORDERS_FACT (SALES_LOCATION_KEY);\rCREATE BITMAP INDEX I_ORDERS_DELIVERY_ADDRESS ON ORDERS_FACT (DELIVERY_ADDRESS_KEY);\rCREATE BITMAP INDEX I_ORDERS_PROMOTION ON ORDERS_FACT (PROMOTION_KEY);"]
[]
[]
[{"$nulls":5},"SQL","Visable Display Columns","Viable Key Codes"]
[null,null,"Raw Key Lists (Array functions)",null,null,{"$f":"INDEX(F106:Z106,MATCH(MAX(LEN(F106:Z106)),LEN(F106:Z106),0))","v":"CUSTOMER_KEY INTEGER NOT NULL DEFAULT 0,\rPRODUCT_KEY INTEGER NOT NULL DEFAULT 0,\rORDER_DATE_KEY INTEGER NOT NULL DEFAULT 0,\rDELIVERY_DUE_DATE_KEY INTEGER NOT NULL DEFAULT 0,\rSALESPERSON_KEY INTEGER NOT NULL DEFAULT 0,\rSALES_LOCATION_KEY INTEGER NOT NULL DEFAULT 0,\rDELIVERY_ADDRESS_KEY INTEGER NOT NULL DEFAULT 0,\rPROMOTION_KEY INTEGER NOT NULL DEFAULT 0,\rORDER_ID VARCHAR2(15) NOT NULL,\r"},{"$f":"INDEX(F78:Z78,MATCH(MAX(LEN(F78:Z78)),LEN(F78:Z78),0))","v":"CUSTOMER_KEY\rPRODUCT_KEY\rORDER_DATE_KEY\rDELIVERY_DUE_DATE_KEY\rSALESPERSON_KEY\rSALES_LOCATION_KEY\rDELIVERY_ADDRESS_KEY\rPROMOTION_KEY\rORDER_ID\r"},{"$f":"INDEX(F91:Z91,MATCH(MAX(LEN(F91:Z91)),LEN(F91:Z91),0))","v":" [who] SK \r [what] GD, SK \r [when] SK \r [when] SK \r [who] SK \r [where] SK \r [where] SK \r [why] SK \r [how] GD, DD, MD \r"}]
[null,null,"Raw Non-key Lists",null,null,{"$f":"INDEX(F107:Z107,MATCH(MAX(LEN(F107:Z107)),LEN(F107:Z107),0))","v":"ORDER_QUANTITY INTEGER DEFAULT 1,\rREVENUE NUMBER,\rDISCOUNT NUMBER(8,2) DEFAULT 0,\r"},{"$f":"INDEX(F82:Z82,MATCH(MAX(LEN(F82:Z82)),LEN(F82:Z82),0))","v":"CUSTOMER_KEY\rPRODUCT_KEY\rORDER_DATE_KEY\rDELIVERY_DUE_DATE_KEY\rSALESPERSON_KEY\rSALES_LOCATION_KEY\rDELIVERY_ADDRESS_KEY\rPROMOTION_KEY\rORDER_ID\r\rORDER_QUANTITY\rREVENUE\rDISCOUNT\r"},{"$f":"INDEX(F93:Z93,MATCH(MAX(LEN(F93:Z93)),LEN(F93:Z93),0))","v":" [who] SK \r [what] GD, SK \r [when] SK \r [when] SK \r [who] SK \r [where] SK \r [where] SK \r [why] SK \r [how] GD, DD, MD \r\r [Retail Units] FA \r [$] FA \r [$] FA \r"}]
[null,null,"All Column codes (hidden and visable)",null,null,{"$f":"INDEX(F84:Z84,MATCH(MAX(LEN(F84:Z84)),LEN(F84:Z84),0))","v":"[who] SK, [what] GD, SK, [when] SK, [when] SK, [who] SK, [where] SK, [where] SK, [Retail Units] FA, [$] FA, [why] SK, [$] FA, [how] GD, DD, MD, , , , , , , , , "}]
[null,null,"Add Auto Surrogate Key to Dimension Key Column list if no explicitely SK defined",null,null,{"$f":"IF(AND($F$55=\"Dimension\",ISERROR(FIND(\"SK\",$F$119))),\"Y\",\"\")","v":""}]
[null,null,"Auto Surrogate Key Processing",null,null,{"$f":"IF($F$120=\"Y\", CONCATENATE(Settings!$B$12,\" \", Settings!B19, \",\",CHAR(13), F117),  F117)","v":"CUSTOMER_KEY INTEGER NOT NULL DEFAULT 0,\rPRODUCT_KEY INTEGER NOT NULL DEFAULT 0,\rORDER_DATE_KEY INTEGER NOT NULL DEFAULT 0,\rDELIVERY_DUE_DATE_KEY INTEGER NOT NULL DEFAULT 0,\rSALESPERSON_KEY INTEGER NOT NULL DEFAULT 0,\rSALES_LOCATION_KEY INTEGER NOT NULL DEFAULT 0,\rDELIVERY_ADDRESS_KEY INTEGER NOT NULL DEFAULT 0,\rPROMOTION_KEY INTEGER NOT NULL DEFAULT 0,\rORDER_ID VARCHAR2(15) NOT NULL,\r"},{"$f":"IF(AND($F$120=\"Y\", Settings!$B$42<>\"Y\"), CONCATENATE(Settings!$B$12,CHAR(13), IF(LEN(G117)=0,CHAR(13),\"\"), G118),  G118)","v":"CUSTOMER_KEY\rPRODUCT_KEY\rORDER_DATE_KEY\rDELIVERY_DUE_DATE_KEY\rSALESPERSON_KEY\rSALES_LOCATION_KEY\rDELIVERY_ADDRESS_KEY\rPROMOTION_KEY\rORDER_ID\r\rORDER_QUANTITY\rREVENUE\rDISCOUNT\r"},{"$f":"IF(AND($F$120=\"Y\", Settings!$B$42<>\"Y\"), CONCATENATE(SUBSTITUTE(Settings!$B$41,\"&BEAMColumnCodes\",\"SK\"),CHAR(13), IF(LEN($H$117)=0,CHAR(13),\"\"), $H$118),  $H$118)","v":" [who] SK \r [what] GD, SK \r [when] SK \r [when] SK \r [who] SK \r [where] SK \r [where] SK \r [why] SK \r [how] GD, DD, MD \r\r [Retail Units] FA \r [$] FA \r [$] FA \r"}]
[null,null,"Add Key and Non-Key Column Lists",null,null,{"$f":"F121 & F118","v":"CUSTOMER_KEY INTEGER NOT NULL DEFAULT 0,\rPRODUCT_KEY INTEGER NOT NULL DEFAULT 0,\rORDER_DATE_KEY INTEGER NOT NULL DEFAULT 0,\rDELIVERY_DUE_DATE_KEY INTEGER NOT NULL DEFAULT 0,\rSALESPERSON_KEY INTEGER NOT NULL DEFAULT 0,\rSALES_LOCATION_KEY INTEGER NOT NULL DEFAULT 0,\rDELIVERY_ADDRESS_KEY INTEGER NOT NULL DEFAULT 0,\rPROMOTION_KEY INTEGER NOT NULL DEFAULT 0,\rORDER_ID VARCHAR2(15) NOT NULL,\rORDER_QUANTITY INTEGER DEFAULT 1,\rREVENUE NUMBER,\rDISCOUNT NUMBER(8,2) DEFAULT 0,\r"}]
[null,null,"Remove trailing comma and <CR> from Column List. \n\nEmpty if no valid SQL columns",null,null,{"$f":"IF(LEN($F$122)=0,\"\",LEFT(F122,LEN(F122)-2))","v":"CUSTOMER_KEY INTEGER NOT NULL DEFAULT 0,\rPRODUCT_KEY INTEGER NOT NULL DEFAULT 0,\rORDER_DATE_KEY INTEGER NOT NULL DEFAULT 0,\rDELIVERY_DUE_DATE_KEY INTEGER NOT NULL DEFAULT 0,\rSALESPERSON_KEY INTEGER NOT NULL DEFAULT 0,\rSALES_LOCATION_KEY INTEGER NOT NULL DEFAULT 0,\rDELIVERY_ADDRESS_KEY INTEGER NOT NULL DEFAULT 0,\rPROMOTION_KEY INTEGER NOT NULL DEFAULT 0,\rORDER_ID VARCHAR2(15) NOT NULL,\rORDER_QUANTITY INTEGER DEFAULT 1,\rREVENUE NUMBER,\rDISCOUNT NUMBER(8,2) DEFAULT 0"}]
[null,null,"Add DDL Comment Create Table Clause",null,null,{"$f":"CONCATENATE(Settings!B3, \" DDL for \", F54, \" &Table generated by BEAM*Modelstormer \", $F$43, \" on \", TEXT(NOW(),\"d mmm yyyy at hh:mm\"), \" \", Settings!B4, CHAR(13), CHAR(13), F56, Settings!B11, F123)","v":"/* DDL for Transaction Fact &Table generated by BEAM*Modelstormer 0.97C on 22 May 2017 at 19:16 */\r\rCREATE TABLE ORDERS_FACT\r(CUSTOMER_KEY INTEGER NOT NULL DEFAULT 0,\rPRODUCT_KEY INTEGER NOT NULL DEFAULT 0,\rORDER_DATE_KEY INTEGER NOT NULL DEFAULT 0,\rDELIVERY_DUE_DATE_KEY INTEGER NOT NULL DEFAULT 0,\rSALESPERSON_KEY INTEGER NOT NULL DEFAULT 0,\rSALES_LOCATION_KEY INTEGER NOT NULL DEFAULT 0,\rDELIVERY_ADDRESS_KEY INTEGER NOT NULL DEFAULT 0,\rPROMOTION_KEY INTEGER NOT NULL DEFAULT 0,\rORDER_ID VARCHAR2(15) NOT NULL,\rORDER_QUANTITY INTEGER DEFAULT 1,\rREVENUE NUMBER,\rDISCOUNT NUMBER(8,2) DEFAULT 0"}]
[null,null,"Add Admin Attributes if table is a HV dimension",null,null,{"$f":"IF(AND($F$55=\"Dimension\",NOT(ISERROR(FIND(\"HV\",$F$50)))),\"Y\",\"\")","v":""}]
[null,null,"Adding Admin Attributes. \n\nEnd column list in SQL",null,null,{"$f":"IF($F$125=\"Y\",$F$124 & Settings!$B$29 & Settings!$B$33, $F$124 & Settings!$B$33)","v":"/* DDL for Transaction Fact &Table generated by BEAM*Modelstormer 0.97C on 22 May 2017 at 19:16 */\r\rCREATE TABLE ORDERS_FACT\r(CUSTOMER_KEY INTEGER NOT NULL DEFAULT 0,\rPRODUCT_KEY INTEGER NOT NULL DEFAULT 0,\rORDER_DATE_KEY INTEGER NOT NULL DEFAULT 0,\rDELIVERY_DUE_DATE_KEY INTEGER NOT NULL DEFAULT 0,\rSALESPERSON_KEY INTEGER NOT NULL DEFAULT 0,\rSALES_LOCATION_KEY INTEGER NOT NULL DEFAULT 0,\rDELIVERY_ADDRESS_KEY INTEGER NOT NULL DEFAULT 0,\rPROMOTION_KEY INTEGER NOT NULL DEFAULT 0,\rORDER_ID VARCHAR2(15) NOT NULL,\rORDER_QUANTITY INTEGER DEFAULT 1,\rREVENUE NUMBER,\rDISCOUNT NUMBER(8,2) DEFAULT 0)"},{"$f":"IF($F$125<>\"Y\", $G$121, IF(LEN($G$121) + LEN(Settings!$B$30)<254,$G$121 & Settings!$B$30, $G$121 & \"…\"))","v":"CUSTOMER_KEY\rPRODUCT_KEY\rORDER_DATE_KEY\rDELIVERY_DUE_DATE_KEY\rSALESPERSON_KEY\rSALES_LOCATION_KEY\rDELIVERY_ADDRESS_KEY\rPROMOTION_KEY\rORDER_ID\r\rORDER_QUANTITY\rREVENUE\rDISCOUNT\r"},{"$f":"IF(AND($F$125=\"Y\", LEN($G$121)+LEN(Settings!$B$30)<254), $H$121 & Settings!$B$31, $H$121)","v":" [who] SK \r [what] GD, SK \r [when] SK \r [when] SK \r [who] SK \r [where] SK \r [where] SK \r [why] SK \r [how] GD, DD, MD \r\r [Retail Units] FA \r [$] FA \r [$] FA \r"}]
[null,null,"Add Create Table options below column list and <Statement End>",null,null,{"$f":"TRIM(F126 & IF(AND($F$55=\"Dimension\", LEN(Settings!$B$35)<>0), CHAR(13) & Settings!B35,IF(AND($F$55=\"Fact\", LEN(Settings!$B$34)<>0), CHAR(13) & Settings!B34, \"\")) & Settings!$B$36)","v":"/* DDL for Transaction Fact &Table generated by BEAM*Modelstormer 0.97C on 22 May 2017 at 19:16 */\r\rCREATE TABLE ORDERS_FACT\r(CUSTOMER_KEY INTEGER NOT NULL DEFAULT 0,\rPRODUCT_KEY INTEGER NOT NULL DEFAULT 0,\rORDER_DATE_KEY INTEGER NOT NULL DEFAULT 0,\rDELIVERY_DUE_DATE_KEY INTEGER NOT NULL DEFAULT 0,\rSALESPERSON_KEY INTEGER NOT NULL DEFAULT 0,\rSALES_LOCATION_KEY INTEGER NOT NULL DEFAULT 0,\rDELIVERY_ADDRESS_KEY INTEGER NOT NULL DEFAULT 0,\rPROMOTION_KEY INTEGER NOT NULL DEFAULT 0,\rORDER_ID VARCHAR2(15) NOT NULL,\rORDER_QUANTITY INTEGER DEFAULT 1,\rREVENUE NUMBER,\rDISCOUNT NUMBER(8,2) DEFAULT 0);\r"}]
[null,null,"SK Column List (array formulae)",null,null,{"$f":"INDEX(F87:Z87,MATCH(MAX(LEN(F87:Z87)),LEN(F87:Z87),0))","v":"CUSTOMER_KEY, PRODUCT_KEY, ORDER_DATE_KEY, DELIVERY_DUE_DATE_KEY, SALESPERSON_KEY, SALES_LOCATION_KEY, DELIVERY_ADDRESS_KEY, PROMOTION_KEY, "}]
[null,null,"Create Key Column CSV List",null,null,{"$f":"IF($F$120=\"Y\",SUBSTITUTE(Settings!$B$12,\"&Table\",$F$45),IF(LEN($F$128)=0,\"\",LEFT($F$128,LEN($F$128)-2)))","v":"CUSTOMER_KEY, PRODUCT_KEY, ORDER_DATE_KEY, DELIVERY_DUE_DATE_KEY, SALESPERSON_KEY, SALES_LOCATION_KEY, DELIVERY_ADDRESS_KEY, PROMOTION_KEY"}]
[null,null,"Add Dimension Constraint/Index if necessary",null,null,{"$f":"F127 & IF(AND($F$55=\"Dimension\", LEN(Settings!$B$46)<>0), CHAR(13) & Settings!$B$46 & CHAR(13),\"\")","v":"/* DDL for Transaction Fact &Table generated by BEAM*Modelstormer 0.97C on 22 May 2017 at 19:16 */\r\rCREATE TABLE ORDERS_FACT\r(CUSTOMER_KEY INTEGER NOT NULL DEFAULT 0,\rPRODUCT_KEY INTEGER NOT NULL DEFAULT 0,\rORDER_DATE_KEY INTEGER NOT NULL DEFAULT 0,\rDELIVERY_DUE_DATE_KEY INTEGER NOT NULL DEFAULT 0,\rSALESPERSON_KEY INTEGER NOT NULL DEFAULT 0,\rSALES_LOCATION_KEY INTEGER NOT NULL DEFAULT 0,\rDELIVERY_ADDRESS_KEY INTEGER NOT NULL DEFAULT 0,\rPROMOTION_KEY INTEGER NOT NULL DEFAULT 0,\rORDER_ID VARCHAR2(15) NOT NULL,\rORDER_QUANTITY INTEGER DEFAULT 1,\rREVENUE NUMBER,\rDISCOUNT NUMBER(8,2) DEFAULT 0);\r"}]
[null,null,"Substitute Table Name for &Table. Key Column List for &KeyColumns\n\n",null,null,{"$f":"SUBSTITUTE(SUBSTITUTE($F$130, \"&Table\", $F$45),\"&KeyColumns\",$F$129)","v":"/* DDL for Transaction Fact ORDERS_FACT generated by BEAM*Modelstormer 0.97C on 22 May 2017 at 19:16 */\r\rCREATE TABLE ORDERS_FACT\r(CUSTOMER_KEY INTEGER NOT NULL DEFAULT 0,\rPRODUCT_KEY INTEGER NOT NULL DEFAULT 0,\rORDER_DATE_KEY INTEGER NOT NULL DEFAULT 0,\rDELIVERY_DUE_DATE_KEY INTEGER NOT NULL DEFAULT 0,\rSALESPERSON_KEY INTEGER NOT NULL DEFAULT 0,\rSALES_LOCATION_KEY INTEGER NOT NULL DEFAULT 0,\rDELIVERY_ADDRESS_KEY INTEGER NOT NULL DEFAULT 0,\rPROMOTION_KEY INTEGER NOT NULL DEFAULT 0,\rORDER_ID VARCHAR2(15) NOT NULL,\rORDER_QUANTITY INTEGER DEFAULT 1,\rREVENUE NUMBER,\rDISCOUNT NUMBER(8,2) DEFAULT 0);\r"},{"$f":"SUBSTITUTE(G126, \"&Table\", $F$45)","v":"CUSTOMER_KEY\rPRODUCT_KEY\rORDER_DATE_KEY\rDELIVERY_DUE_DATE_KEY\rSALESPERSON_KEY\rSALES_LOCATION_KEY\rDELIVERY_ADDRESS_KEY\rPROMOTION_KEY\rORDER_ID\r\rORDER_QUANTITY\rREVENUE\rDISCOUNT\r"}]
[null,null,"Logical Column Names in Diagram List if required",{"$nulls":3},{"$f":"IF(Settings!$B$44=\"Y\", PROPER(SUBSTITUTE(G131,\"_\",\" \")), F131)","v":"Customer Key\rProduct Key\rOrder Date Key\rDelivery Due Date Key\rSalesperson Key\rSales Location Key\rDelivery Address Key\rPromotion Key\rOrder Id\r\rOrder Quantity\rRevenue\rDiscount\r"}]
[null,null,"Column Comments (Array Function)",null,null,{"$f":"INDEX(F110:Z110,MATCH(MAX(LEN(F110:Z110)),LEN(F110:Z110),0))","v":"Comment on Column ORDERS_FACT.CUSTOMER_KEY is '[who] SK';\rComment on Column ORDERS_FACT.PRODUCT_KEY is '[what] GD, SK';\rComment on Column ORDERS_FACT.ORDER_DATE_KEY is '[when] SK';\rComment on Column ORDERS_FACT.DELIVERY_DUE_DATE_KEY is '[when] SK';\rComment on Column ORDERS_FACT.SALESPERSON_KEY is '[who] SK';\rComment on Column ORDERS_FACT.SALES_LOCATION_KEY is '[where] SK';\rComment on Column ORDERS_FACT.DELIVERY_ADDRESS_KEY is '[where] SK';\rComment on Column ORDERS_FACT.ORDER_QUANTITY is '[Retail Units] FA';\rComment on Column ORDERS_FACT.REVENUE is '[$] FA';\rComment on Column ORDERS_FACT.PROMOTION_KEY is '[why] SK';\rComment on Column ORDERS_FACT.DISCOUNT is '[$] FA';\rComment on Column ORDERS_FACT.ORDER_ID is '[how] GD, DD, MD';\r"}]
[null,null,"Comment on Auto SK",null,null,{"$f":"IF($F$120=\"Y\",SUBSTITUTE(SUBSTITUTE(SUBSTITUTE(Settings!$B$39,\"&Column\", Settings!$B$12),\"&Table\",$F$45),\"&BEAMColumnCodes\",\"SK\"),\"\")","v":""}]
[null,null,"Comments on Admin Attributes",null,null,{"$f":"IF($F$125=\"Y\", SUBSTITUTE(Settings!B32, \"&Table\", $F$45), \"\")","v":""}]
[null,null,"Table and Column Comments if comment option is \"Y\"",null,null,{"$f":"IF(Settings!$B$37=\"Y\", CHAR(13) & $F$52 & $F$134 & $F$133 & $F$135, \"\")","v":"\rComment on Table ORDERS_FACT is 'TF';\rComment on Column ORDERS_FACT.CUSTOMER_KEY is '[who] SK';\rComment on Column ORDERS_FACT.PRODUCT_KEY is '[what] GD, SK';\rComment on Column ORDERS_FACT.ORDER_DATE_KEY is '[when] SK';\rComment on Column ORDERS_FACT.DELIVERY_DUE_DATE_KEY is '[when] SK';\rComment on Column ORDERS_FACT.SALESPERSON_KEY is '[who] SK';\rComment on Column ORDERS_FACT.SALES_LOCATION_KEY is '[where] SK';\rComment on Column ORDERS_FACT.DELIVERY_ADDRESS_KEY is '[where] SK';\rComment on Column ORDERS_FACT.ORDER_QUANTITY is '[Retail Units] FA';\rComment on Column ORDERS_FACT.REVENUE is '[$] FA';\rComment on Column ORDERS_FACT.PROMOTION_KEY is '[why] SK';\rComment on Column ORDERS_FACT.DISCOUNT is '[$] FA';\rComment on Column ORDERS_FACT.ORDER_ID is '[how] GD, DD, MD';\r"}]
[null,null,"Fact table Indices (Array Function)",null,null,{"$f":"INDEX(F113:Z113,MATCH(MAX(LEN(F113:Z113)),LEN(F113:Z113),0))","v":"\rCREATE BITMAP INDEX I_ORDERS_CUSTOMER ON ORDERS_FACT (CUSTOMER_KEY);\rCREATE BITMAP INDEX I_ORDERS_PRODUCT ON ORDERS_FACT (PRODUCT_KEY);\rCREATE BITMAP INDEX I_ORDERS_ORDER_DATE ON ORDERS_FACT (ORDER_DATE_KEY);\rCREATE BITMAP INDEX I_ORDERS_DELIVERY_DUE_DATE ON ORDERS_FACT (DELIVERY_DUE_DATE_KEY);\rCREATE BITMAP INDEX I_ORDERS_SALESPERSON ON ORDERS_FACT (SALESPERSON_KEY);\rCREATE BITMAP INDEX I_ORDERS_SALES_LOCATION ON ORDERS_FACT (SALES_LOCATION_KEY);\rCREATE BITMAP INDEX I_ORDERS_DELIVERY_ADDRESS ON ORDERS_FACT (DELIVERY_ADDRESS_KEY);\rCREATE BITMAP INDEX I_ORDERS_PROMOTION ON ORDERS_FACT (PROMOTION_KEY);"}]
[null,null,"Add Indices and Comments to SQL",null,null,{"$f":"CONCATENATE(F131, F137, IF(LEN(F137)<>0, CHAR(13),\"\"), F136)","v":"/* DDL for Transaction Fact ORDERS_FACT generated by BEAM*Modelstormer 0.97C on 22 May 2017 at 19:16 */\r\rCREATE TABLE ORDERS_FACT\r(CUSTOMER_KEY INTEGER NOT NULL DEFAULT 0,\rPRODUCT_KEY INTEGER NOT NULL DEFAULT 0,\rORDER_DATE_KEY INTEGER NOT NULL DEFAULT 0,\rDELIVERY_DUE_DATE_KEY INTEGER NOT NULL DEFAULT 0,\rSALESPERSON_KEY INTEGER NOT NULL DEFAULT 0,\rSALES_LOCATION_KEY INTEGER NOT NULL DEFAULT 0,\rDELIVERY_ADDRESS_KEY INTEGER NOT NULL DEFAULT 0,\rPROMOTION_KEY INTEGER NOT NULL DEFAULT 0,\rORDER_ID VARCHAR2(15) NOT NULL,\rORDER_QUANTITY INTEGER DEFAULT 1,\rREVENUE NUMBER,\rDISCOUNT NUMBER(8,2) DEFAULT 0);\r\rCREATE BITMAP INDEX I_ORDERS_CUSTOMER ON ORDERS_FACT (CUSTOMER_KEY);\rCREATE BITMAP INDEX I_ORDERS_PRODUCT ON ORDERS_FACT (PRODUCT_KEY);\rCREATE BITMAP INDEX I_ORDERS_ORDER_DATE ON ORDERS_FACT (ORDER_DATE_KEY);\rCREATE BITMAP INDEX I_ORDERS_DELIVERY_DUE_DATE ON ORDERS_FACT (DELIVERY_DUE_DATE_KEY);\rCREATE BITMAP INDEX I_ORDERS_SALESPERSON ON ORDERS_FACT (SALESPERSON_KEY);\rCREATE BITMAP INDEX I_ORDERS_SALES_LOCATION ON ORDERS_FACT (SALES_LOCATION_KEY);\rCREATE BITMAP INDEX I_ORDERS_DELIVERY_ADDRESS ON ORDERS_FACT (DELIVERY_ADDRESS_KEY);\rCREATE BITMAP INDEX I_ORDERS_PROMOTION ON ORDERS_FACT (PROMOTION_KEY);\r\rComment on Table ORDERS_FACT is 'TF';\rComment on Column ORDERS_FACT.CUSTOMER_KEY is '[who] SK';\rComment on Column ORDERS_FACT.PRODUCT_KEY is '[what] GD, SK';\rComment on Column ORDERS_FACT.ORDER_DATE_KEY is '[when] SK';\rComment on Column ORDERS_FACT.DELIVERY_DUE_DATE_KEY is '[when] SK';\rComment on Column ORDERS_FACT.SALESPERSON_KEY is '[who] SK';\rComment on Column ORDERS_FACT.SALES_LOCATION_KEY is '[where] SK';\rComment on Column ORDERS_FACT.DELIVERY_ADDRESS_KEY is '[where] SK';\rComment on Column ORDERS_FACT.ORDER_QUANTITY is '[Retail Units] FA';\rComment on Column ORDERS_FACT.REVENUE is '[$] FA';\rComment on Column ORDERS_FACT.PROMOTION_KEY is '[why] SK';\rComment on Column ORDERS_FACT.DISCOUNT is '[$] FA';\rComment on Column ORDERS_FACT.ORDER_ID is '[how] GD, DD, MD';\r"}]
[null,null,"Finished SQL DLL\n\nContains instruction to add columns if column list is empty",null,null,{"$f":"IF(LEN($F$123)= 0, \"Add column names in F6 to EY6 to generate SQL DDL\", $F$138)","v":"/* DDL for Transaction Fact ORDERS_FACT generated by BEAM*Modelstormer 0.97C on 22 May 2017 at 19:16 */\r\rCREATE TABLE ORDERS_FACT\r(CUSTOMER_KEY INTEGER NOT NULL DEFAULT 0,\rPRODUCT_KEY INTEGER NOT NULL DEFAULT 0,\rORDER_DATE_KEY INTEGER NOT NULL DEFAULT 0,\rDELIVERY_DUE_DATE_KEY INTEGER NOT NULL DEFAULT 0,\rSALESPERSON_KEY INTEGER NOT NULL DEFAULT 0,\rSALES_LOCATION_KEY INTEGER NOT NULL DEFAULT 0,\rDELIVERY_ADDRESS_KEY INTEGER NOT NULL DEFAULT 0,\rPROMOTION_KEY INTEGER NOT NULL DEFAULT 0,\rORDER_ID VARCHAR2(15) NOT NULL,\rORDER_QUANTITY INTEGER DEFAULT 1,\rREVENUE NUMBER,\rDISCOUNT NUMBER(8,2) DEFAULT 0);\r\rCREATE BITMAP INDEX I_ORDERS_CUSTOMER ON ORDERS_FACT (CUSTOMER_KEY);\rCREATE BITMAP INDEX I_ORDERS_PRODUCT ON ORDERS_FACT (PRODUCT_KEY);\rCREATE BITMAP INDEX I_ORDERS_ORDER_DATE ON ORDERS_FACT (ORDER_DATE_KEY);\rCREATE BITMAP INDEX I_ORDERS_DELIVERY_DUE_DATE ON ORDERS_FACT (DELIVERY_DUE_DATE_KEY);\rCREATE BITMAP INDEX I_ORDERS_SALESPERSON ON ORDERS_FACT (SALESPERSON_KEY);\rCREATE BITMAP INDEX I_ORDERS_SALES_LOCATION ON ORDERS_FACT (SALES_LOCATION_KEY);\rCREATE BITMAP INDEX I_ORDERS_DELIVERY_ADDRESS ON ORDERS_FACT (DELIVERY_ADDRESS_KEY);\rCREATE BITMAP INDEX I_ORDERS_PROMOTION ON ORDERS_FACT (PROMOTION_KEY);\r\rComment on Table ORDERS_FACT is 'TF';\rComment on Column ORDERS_FACT.CUSTOMER_KEY is '[who] SK';\rComment on Column ORDERS_FACT.PRODUCT_KEY is '[what] GD, SK';\rComment on Column ORDERS_FACT.ORDER_DATE_KEY is '[when] SK';\rComment on Column ORDERS_FACT.DELIVERY_DUE_DATE_KEY is '[when] SK';\rComment on Column ORDERS_FACT.SALESPERSON_KEY is '[who] SK';\rComment on Column ORDERS_FACT.SALES_LOCATION_KEY is '[where] SK';\rComment on Column ORDERS_FACT.DELIVERY_ADDRESS_KEY is '[where] SK';\rComment on Column ORDERS_FACT.ORDER_QUANTITY is '[Retail Units] FA';\rComment on Column ORDERS_FACT.REVENUE is '[$] FA';\rComment on Column ORDERS_FACT.PROMOTION_KEY is '[why] SK';\rComment on Column ORDERS_FACT.DISCOUNT is '[$] FA';\rComment on Column ORDERS_FACT.ORDER_ID is '[how] GD, DD, MD';\r"}]
[]
[{"$nulls":5},{"$f":"MAX(LEN(G106:S106))","v":388}]
[]
[]
[{"$nulls":5},"Agile Data Warehouse Design",null,"www.modelstorming.com"]

{"sheet":"Example Dimension","index":3,"n_rows":144,"n_cols":19,"rows_kept":144,"merged":[[30,5,35,12],[76,2,76,4]]}
[null,null,"Guide"]
[]
[]
[null,null,"Table | Codes | Description",null,null,"PRODUCT","HV"]
[null,null,"verb | preposition",{"$nulls":3},"has"]
[null,null,"Column Names",null,null,"PRODUCT DESCRIPTION","PRODUCT CODE","PRODUCT TYPE","SUBCATEGORY","PRODUCT WEIGHT","LAUNCH DATE"]
[null,null,"Column Codes",null,null,"MD ","BK, NN",null,null,"CV, MD  ?","FV "]
[null,null,"Source",null,null,"{PRD_DESC} ","{PRD_CODE}","{PRD_TYPE}","{PRD_SCAT}",null,"{PRD_LAUNCH}"]
[null,null,"Data Type Length.Precision",null,null,"C50","C15",null,null,"N","D"]
[null,null,"Example Data",null,"Typical","iPip Blue Suede","IPPBS16G","MP3 Special Ed","Special Editions"," 100g ","2009-03-30"]
[{"$nulls":4},"Different","iPip G1","IPPG15G","MP3","Music"," 500g ","2000-10-23"]
[{"$nulls":5},"iPom Pro","IPMP35G","Tower","Destop"," 5Kg ","2006-08-06"]
[{"$nulls":4},"Missing","Unknown","Missing","N/A","N/A",0,"00/01/2000"]
[{"$nulls":5},"PomBook Air","PBA20G","Laptop","Mobile"," 1Kg ","2008-01-28"]
[{"$nulls":5},"iPom + Printer","PB009","Bundle","Desktop"," 6Kg ","2009-03-02"]
[{"$nulls":5},"iPip Touch","IPMT8G","PDA","Multi-Media"," 120g ","2007-09-04"]
[{"$nulls":5},"iPip Blue Suede","IPPBS16G","MP3 ","Music"," 100g ","2009-03-30"]
[]
[null,null,"Data Profiling Results",null,"Sample Count",500,500,500,500,null,500]
[{"$nulls":4},"Missing","0 (0%)","0 (0%)","10 (2%)","100 (20%)",null,"0 (0%)"]
[{"$nulls":4},"Unique Values","500 (100%)","500 (100%)","20 (4%)","10 (2%)",null,400]
[{"$nulls":4},"Min Value","**no prod","IP001","Bundle","Desktop",null,"2000-10-23"]
[{"$nulls":4},"Min Count","1 (0.2%)","1 (0.2%)","25 (5%)","50 (10%)",null,"1 (0.2%)"]
[{"$nulls":4},"Max Value","zPip Zero","ZZ99","Tower","Special Editions",null,"2009-03-30"]
[{"$nulls":4},"Max Count","1 (0.2%)","1 (0.2%)","10 (2%)","10 (2%)",null,"5 (1%)"]
[{"$nulls":4},"Min Length",10,5,3,5]
[{"$nulls":4},"Max Length",20,7,20,15]
[]
[]
[]
[null,null,"SQL DDL",null,null,{"$f":"F139","v":"/* DDL for Historic Value Dimenson (SCD Type 2) PRODUCT generated by BEAM*Modelstormer 0.97C on 22 May 2017 at 19:16 */\r\rCREATE TABLE PRODUCT\r(PRODUCT_KEY INTEGER NOT NULL DEFAULT 0,\rPRODUCT_CODE VARCHAR2(15) NOT NULL DEFAULT 'Missing',\rPRODUCT_DESCRIPTION VARCHAR2(50) NOT NULL DEFAULT 'Unknown',\rPRODUCT_TYPE VARCHAR2(40) DEFAULT 'N/A',\rSUBCATEGORY VARCHAR2(40) DEFAULT 'N/A',\rLAUNCH_DATE DATE DEFAULT '00/01/2000', \rEFFECTIVE_DATE DATETIME NOT NULL, \rEND_DATE DATETIME NOT NULL DEFAULT '9999-12-31', \rCURRENT_IND CHAR(1) NOT NULL DEFAULT 'Y' CHECK (CURRENT_IND IN ('Y', 'N')));\r\rALTER TABLE PRODUCT ADD CONSTRAINT C_PRODUCT_PK PRIMARY KEY (PRODUCT_KEY);\r\rComment on Table PRODUCT is 'HV';\rComment on Column PRODUCT.PRODUCT_KEY is 'SK';\rComment on Column PRODUCT.PRODUCT_DESCRIPTION is 'MD';\rComment on Column PRODUCT.PRODUCT_CODE is 'BK, NN';\rComment on Column PRODUCT.LAUNCH_DATE is 'FV';\rComment on Column PRODUCT.CURRENT_IND is '[Y/N]';\r"}]
[]
[]
[]
[]
[]
[]
[null,null,"Formula Key",null,null,"Table Level Formula"]
[{"$nulls":5},"Column Level Formula"]
[{"$nulls":5},"Column Level Formula (different)"]
[{"$nulls":5},"Array Formula"]
[]
[null,null,"Version",null,null,{"$f":"Settings!$B$47","v":"0.97C"}]
[null,null,"BEAM SQL Table",null,null,{"$f":"SUBSTITUTE(TRIM(UPPER($F$4)), \" \", \"_\")","v":"PRODUCT"}]
[null,null,"SQL Table Name",null,null,{"$f":"IF(LEN(TRIM($F$4))=0, \"[ Fill in Table Name in F4 ]\", TRIM(SUBSTITUTE(IF($F$55=\"Fact\", Settings!$B$6, Settings!$B$7), \"&BEAMTable\", $F$44)))","v":"PRODUCT"}]
[null,null,"Trimmed Table Code",null,null,{"$f":"IF(LEN(TRIM($F$4))=0, \"\", TRIM(G4))","v":"HV"}]
[null,null,"Start Table Source ({ symbol)",null,null,{"$f":"FIND(\"{\",F46)","v":{"$error":"#VALUE!"}}]
[null,null,"End Table Source (} symbol)",null,null,{"$f":"FIND(\"}\",F46)","v":{"$error":"#VALUE!"}}]
[null,null,"Table Source",null,null,{"$f":"MID(F46,F47,F48-F47+1)","v":{"$error":"#VALUE!"}}]
[null,null,"Table Code without Table Source",null,null,{"$f":"TRIM(IF(ISERROR(F49),F46,SUBSTITUTE( F46, F49,\"\")))","v":"HV"}]
[null,null,"Table Code and Description",null,null,{"$f":"TRIM(F46 & \" \" & H4)","v":"HV"}]
[null,null,"Table Comment",null,null,{"$f":"IF(LEN(F51)=0,\"\",SUBSTITUTE(SUBSTITUTE(Settings!$B$38,\"&Table\",$F$45),\"&BEAMTableCodes\",$F$51))","v":"Comment on Table PRODUCT is 'HV';\r"}]
[null,null,"Diagram Table Name",null,null,{"$f":"IF(Settings!B44=\"Y\",SUBSTITUTE($F$45,\"_\",\" \"), $F$45) & IF(LEN(F50)=0, \"\", SUBSTITUTE(Settings!B40, \"&BEAMTableCodes\", $F$50))","v":"PRODUCT  [ HV ]"}]
[null,null,"Full Table Type",null,null,{"$f":"IF(NOT(ISERROR(FIND(\"TF\",F50))),\"Transaction Fact\",IF(NOT(ISERROR(FIND(\"AS\",F50))),\"Accumulating Snapshot Fact\",IF(NOT(ISERROR(FIND(\"PS\",F50))),\"Periodic Snapshot Fact\",IF(NOT(ISERROR(FIND(\"AG\",F50))),\"Aggregate Fact\",IF(NOT(ISERROR(FIND(\"DF\",F50))),\"Derived Fact\",IF(NOT(ISERROR(FIND(\"DE\",F50))),\"Discrete Event\",IF(NOT(ISERROR(FIND(\"EE\",F50))),\"Evolving Event\",IF(NOT(ISERROR(FIND(\"RE\",F50))),\"Recurring Event\",IF(NOT(ISERROR(FIND(\"HM\",F50))),\"Hierarchy Map\",IF(NOT(ISERROR(FIND(\"HV\",F50))),\"Historic Value Dimenson (SCD Type 2)\",IF(NOT(ISERROR(FIND(\"CV\",F50))),\"Current Value Dimenson (SCD Type 1)\",IF(NOT(ISERROR(FIND(\"FV\",F50))),\"Fixed Value Dimenson (SCD Type 1)\",IF(NOT(ISERROR(FIND(\"HV\",F50))),\"Historic Value Dimenson (SCD Type 2)\",IF(NOT(ISERROR(FIND(\"PD\",F50))),\"Pivoted Dimenson\",IF(NOT(ISERROR(FIND(\"RU\",F50))),\"Rollup Dimenson\",IF(NOT(ISERROR(FIND(\"SD\",F50))),\"Swappable Dimenson\",IF(NOT(ISERROR(FIND(\"RP\",F50))),\"Role-Playing Dimenson\",IF(NOT(ISERROR(FIND(\"MV\",F50))),\"Multi-Valued Dimenson\",\"\"))))))))))))))))))","v":"Historic Value Dimenson (SCD Type 2)"}]
[null,null,"Short Table Type\n [Fact, Dimension, Other]",null,null,{"$f":"IF(NOT(ISERROR(FIND(\"Fact\",F54))),\"Fact\",IF(AND(ISERROR(FIND(\"CV\",$F$50)),ISERROR(FIND(\"HV\",$F$50)),ISERROR(FIND(\"FV\",$F$50)),ISERROR(FIND(\"SD\",$F$50)),ISERROR(FIND(\"HM\",$F$50)),ISERROR(FIND(\"MV\",$F$50)),ISERROR(FIND(\"ML\",$F$50)),ISERROR(FIND(\"RP\",$F$50)),ISERROR(FIND(\"RU\",$F$50)),ISERROR(FIND(\"PD\",$F$50))),\"Other\",\"Dimension\"))","v":"Dimension"}]
[null,null,"Create Table Clause",null,null,{"$f":"SUBSTITUTE(IF($F$55=\"Fact\", Settings!$B$8, IF($F$55=\"Dimension\", Settings!$B$9, Settings!$B$10)),\"&Table\", $F$45)","v":"CREATE TABLE PRODUCT"}]
[null,null,"Ignore Column with\n ? Code, DF or Empty",null,null,{"$f":"IF(OR(AND(Settings!$B$14=\"Y\", NOT(ISERROR(FIND(\"DF\",F7)))), LEN(TRIM(F6))=0, NOT(ISERROR(FIND(\"?\",F7)))),\"Y\",\"_\")","v":"_"},{"$f":"IF(OR(AND(Settings!$B$14=\"Y\", NOT(ISERROR(FIND(\"DF\",G7)))), LEN(TRIM(G6))=0, NOT(ISERROR(FIND(\"?\",G7)))),\"Y\",\"_\")","v":"_"},{"$f":"IF(OR(AND(Settings!$B$14=\"Y\", NOT(ISERROR(FIND(\"DF\",H7)))), LEN(TRIM(H6))=0, NOT(ISERROR(FIND(\"?\",H7)))),\"Y\",\"_\")","v":"_"},{"$f":"IF(OR(AND(Settings!$B$14=\"Y\", NOT(ISERROR(FIND(\"DF\",I7)))), LEN(TRIM(I6))=0, NOT(ISERROR(FIND(\"?\",I7)))),\"Y\",\"_\")","v":"_"},{"$f":"IF(OR(AND(Settings!$B$14=\"Y\", NOT(ISERROR(FIND(\"DF\",J7)))), LEN(TRIM(J6))=0, NOT(ISERROR(FIND(\"?\",J7)))),\"Y\",\"_\")","v":"Y"},{"$f":"IF(OR(AND(Settings!$B$14=\"Y\", NOT(ISERROR(FIND(\"DF\",K7)))), LEN(TRIM(K6))=0, NOT(ISERROR(FIND(\"?\",K7)))),\"Y\",\"_\")","v":"_"},{"$f":"IF(OR(AND(Settings!$B$14=\"Y\", NOT(ISERROR(FIND(\"DF\",L7)))), LEN(TRIM(L6))=0, NOT(ISERROR(FIND(\"?\",L7)))),\"Y\",\"_\")","v":"Y"},{"$f":"IF(OR(AND(Settings!$B$14=\"Y\", NOT(ISERROR(FIND(\"DF\",M7)))), LEN(TRIM(M6))=0, NOT(ISERROR(FIND(\"?\",M7)))),\"Y\",\"_\")","v":"Y"},{"$f":"IF(OR(AND(Settings!$B$14=\"Y\", NOT(ISERROR(FIND(\"DF\",N7)))), LEN(TRIM(N6))=0, NOT(ISERROR(FIND(\"?\",N7)))),\"Y\",\"_\")","v":"Y"},{"$f":"IF(OR(AND(Settings!$B$14=\"Y\", NOT(ISERROR(FIND(\"DF\",O7)))), LEN(TRIM(O6))=0, NOT(ISERROR(FIND(\"?\",O7)))),\"Y\",\"_\")","v":"Y"},{"$f":"IF(OR(AND(Settings!$B$14=\"Y\", NOT(ISERROR(FIND(\"DF\",P7)))), LEN(TRIM(P6))=0, NOT(ISERROR(FIND(\"?\",P7)))),\"Y\",\"_\")","v":"Y"},{"$f":"IF(OR(AND(Settings!$B$14=\"Y\", NOT(ISERROR(FIND(\"DF\",Q7)))), LEN(TRIM(Q6))=0, NOT(ISERROR(FIND(\"?\",Q7)))),\"Y\",\"_\")","v":"Y"},{"$f":"IF(OR(AND(Settings!$B$14=\"Y\", NOT(ISERROR(FIND(\"DF\",R7)))), LEN(TRIM(R6))=0, NOT(ISERROR(FIND(\"?\",R7)))),\"Y\",\"_\")","v":"Y"},{"$f":"IF(OR(AND(Settings!$B$14=\"Y\", NOT(ISERROR(FIND(\"DF\",S7)))), LEN(TRIM(S6))=0, NOT(ISERROR(FIND(\"?\",S7)))),\"Y\",\"_\")","v":"Y"}]
[null,null,"Hide Diagram Column",null,null,{"$f":"IF(OR(F57=\"Y\", AND(Settings!$B$42=\"Y\", F59=\"Y\"), AND(Settings!$B$43=\"Y\", ISERROR(FIND(\"!\",F7)))),\"Y\",\"_\")","v":"_"},{"$f":"IF(OR(G57=\"Y\", AND(Settings!$B$42=\"Y\", G59=\"Y\"), AND(Settings!$B$43=\"Y\", ISERROR(FIND(\"!\",G7)))),\"Y\",\"_\")","v":"_"},{"$f":"IF(OR(H57=\"Y\", AND(Settings!$B$42=\"Y\", H59=\"Y\"), AND(Settings!$B$43=\"Y\", ISERROR(FIND(\"!\",H7)))),\"Y\",\"_\")","v":"_"},{"$f":"IF(OR(I57=\"Y\", AND(Settings!$B$42=\"Y\", I59=\"Y\"), AND(Settings!$B$43=\"Y\", ISERROR(FIND(\"!\",I7)))),\"Y\",\"_\")","v":"_"},{"$f":"IF(OR(J57=\"Y\", AND(Settings!$B$42=\"Y\", J59=\"Y\"), AND(Settings!$B$43=\"Y\", ISERROR(FIND(\"!\",J7)))),\"Y\",\"_\")","v":"Y"},{"$f":"IF(OR(K57=\"Y\", AND(Settings!$B$42=\"Y\", K59=\"Y\"), AND(Settings!$B$43=\"Y\", ISERROR(FIND(\"!\",K7)))),\"Y\",\"_\")","v":"_"},{"$f":"IF(OR(L57=\"Y\", AND(Settings!$B$42=\"Y\", L59=\"Y\"), AND(Settings!$B$43=\"Y\", ISERROR(FIND(\"!\",L7)))),\"Y\",\"_\")","v":"Y"},{"$f":"IF(OR(M57=\"Y\", AND(Settings!$B$42=\"Y\", M59=\"Y\"), AND(Settings!$B$43=\"Y\", ISERROR(FIND(\"!\",M7)))),\"Y\",\"_\")","v":"Y"},{"$f":"IF(OR(N57=\"Y\", AND(Settings!$B$42=\"Y\", N59=\"Y\"), AND(Settings!$B$43=\"Y\", ISERROR(FIND(\"!\",N7)))),\"Y\",\"_\")","v":"Y"},{"$f":"IF(OR(O57=\"Y\", AND(Settings!$B$42=\"Y\", O59=\"Y\"), AND(Settings!$B$43=\"Y\", ISERROR(FIND(\"!\",O7)))),\"Y\",\"_\")","v":"Y"},{"$f":"IF(OR(P57=\"Y\", AND(Settings!$B$42=\"Y\", P59=\"Y\"), AND(Settings!$B$43=\"Y\", ISERROR(FIND(\"!\",P7)))),\"Y\",\"_\")","v":"Y"},{"$f":"IF(OR(Q57=\"Y\", AND(Settings!$B$42=\"Y\", Q59=\"Y\"), AND(Settings!$B$43=\"Y\", ISERROR(FIND(\"!\",Q7)))),\"Y\",\"_\")","v":"Y"},{"$f":"IF(OR(R57=\"Y\", AND(Settings!$B$42=\"Y\", R59=\"Y\"), AND(Settings!$B$43=\"Y\", ISERROR(FIND(\"!\",R7)))),\"Y\",\"_\")","v":"Y"},{"$f":"IF(OR(S57=\"Y\", AND(Settings!$B$42=\"Y\", S59=\"Y\"), AND(Settings!$B$43=\"Y\", ISERROR(FIND(\"!\",S7)))),\"Y\",\"_\")","v":"Y"}]
[null,null,"Surrogate Key (SK)",null,null,{"$f":"IF(ISERROR(FIND(\"SK\",F7)),\"_\",\"Y\")","v":"_"},{"$f":"IF(ISERROR(FIND(\"SK\",G7)),\"_\",\"Y\")","v":"_"},"_","_","_","_","_","_","_","_","_","_","_",{"$f":"IF(ISERROR(FIND(\"SK\",S7)),\"_\",\"Y\")","v":"_"}]
[null,null,"PK or GD Column",null,null,{"$f":"IF(OR(NOT(ISERROR(FIND(\"PK\",F7))), NOT(ISERROR(FIND(\"GD\",F7)))),\"Y\",\"_\")","v":"_"},{"$f":"IF(OR(NOT(ISERROR(FIND(\"PK\",G7))), NOT(ISERROR(FIND(\"GD\",G7)))),\"Y\",\"_\")","v":"_"},"_","_","_","_","_","_","_","_","_","_","_",{"$f":"IF(OR(NOT(ISERROR(FIND(\"PK\",S7))), NOT(ISERROR(FIND(\"GD\",S7)))),\"Y\",\"_\")","v":"_"}]
[null,null,"BK, NK or DD Column",null,null,{"$f":"IF(OR(NOT(ISERROR(FIND(\"BK\",F7))), NOT(ISERROR(FIND(\"NK\",F7))), NOT(ISERROR(FIND(\"DD\",F7)))),\"Y\",\"_\")","v":"_"},{"$f":"IF(OR(NOT(ISERROR(FIND(\"BK\",G7))), NOT(ISERROR(FIND(\"NK\",G7))), NOT(ISERROR(FIND(\"DD\",G7)))),\"Y\",\"_\")","v":"Y"},"_","_","_","_","_","_","_","_","_","_","_",{"$f":"IF(OR(NOT(ISERROR(FIND(\"BK\",S7))), NOT(ISERROR(FIND(\"NK\",S7))), NOT(ISERROR(FIND(\"DD\",S7)))),\"Y\",\"_\")","v":"_"}]
[null,null,"FK or RK Column",null,null,{"$f":"IF(OR(NOT(ISERROR(FIND(\"FK\",F7))), NOT(ISERROR(FIND(\"RK\",F7)))),\"Y\",\"_\")","v":"_"},{"$f":"IF(OR(NOT(ISERROR(FIND(\"FK\",G7))), NOT(ISERROR(FIND(\"RK\",G7)))),\"Y\",\"_\")","v":"_"},"_","_","_","_","_","_","_","_","_","_","_",{"$f":"IF(OR(NOT(ISERROR(FIND(\"FK\",S7))), NOT(ISERROR(FIND(\"RK\",S7)))),\"Y\",\"_\")","v":"_"}]
[null,null,"Sort First Column",null,null,{"$f":"IF(OR(F59=\"Y\", F60=\"Y\", F61=\"Y\", F62=\"Y\"),\"Y\",\"_\")","v":"_"},{"$f":"IF(OR(G59=\"Y\", G60=\"Y\", G61=\"Y\", G62=\"Y\"),\"Y\",\"_\")","v":"Y"},"_","_","_","_","_","_","_","_","_","_","_",{"$f":"IF(OR(S59=\"Y\", S60=\"Y\", S61=\"Y\", S62=\"Y\"),\"Y\",\"_\")","v":"_"}]
[null,null,"Fact Column",null,null,{"$f":"IF(OR(NOT(ISERROR(FIND(\"FA\",F7))), NOT(ISERROR(FIND(\"SA\",F7))), NOT(ISERROR(FIND(\"NA\",F7))), NOT(ISERROR(FIND(\"DF\",F7))) ),\"Y\",\"_\")","v":"_"},{"$f":"IF(OR(NOT(ISERROR(FIND(\"FA\",G7))), NOT(ISERROR(FIND(\"SA\",G7))), NOT(ISERROR(FIND(\"NA\",G7))), NOT(ISERROR(FIND(\"DF\",G7))) ),\"Y\",\"_\")","v":"_"},"_","_","_","_","_","_","_","_","_","_","_",{"$f":"IF(OR(NOT(ISERROR(FIND(\"FA\",S7))), NOT(ISERROR(FIND(\"SA\",S7))), NOT(ISERROR(FIND(\"NA\",S7))), NOT(ISERROR(FIND(\"DF\",S7))) ),\"Y\",\"_\")","v":"_"}]
[null,null,"Not Null (NN or MD if enforced)",null,null,{"$f":"IF(OR(NOT(ISERROR(FIND(\"NN\",F7))), AND(NOT(ISERROR(FIND(\"MD\",F7))), Settings!$B$15=\"Y\")),\"Y\",\"_\")","v":"Y"},{"$f":"IF(OR(NOT(ISERROR(FIND(\"NN\",G7))), AND(NOT(ISERROR(FIND(\"MD\",G7))), Settings!$B$15=\"Y\")),\"Y\",\"_\")","v":"Y"},{"$f":"IF(OR(NOT(ISERROR(FIND(\"NN\",H7))), AND(NOT(ISERROR(FIND(\"MD\",H7))), Settings!$B$15=\"Y\")),\"Y\",\"_\")","v":"_"},{"$f":"IF(OR(NOT(ISERROR(FIND(\"NN\",I7))), AND(NOT(ISERROR(FIND(\"MD\",I7))), Settings!$B$15=\"Y\")),\"Y\",\"_\")","v":"_"},{"$f":"IF(OR(NOT(ISERROR(FIND(\"NN\",J7))), AND(NOT(ISERROR(FIND(\"MD\",J7))), Settings!$B$15=\"Y\")),\"Y\",\"_\")","v":"Y"},{"$f":"IF(OR(NOT(ISERROR(FIND(\"NN\",K7))), AND(NOT(ISERROR(FIND(\"MD\",K7))), Settings!$B$15=\"Y\")),\"Y\",\"_\")","v":"_"},{"$f":"IF(OR(NOT(ISERROR(FIND(\"NN\",L7))), AND(NOT(ISERROR(FIND(\"MD\",L7))), Settings!$B$15=\"Y\")),\"Y\",\"_\")","v":"_"},{"$f":"IF(OR(NOT(ISERROR(FIND(\"NN\",M7))), AND(NOT(ISERROR(FIND(\"MD\",M7))), Settings!$B$15=\"Y\")),\"Y\",\"_\")","v":"_"},{"$f":"IF(OR(NOT(ISERROR(FIND(\"NN\",N7))), AND(NOT(ISERROR(FIND(\"MD\",N7))), Settings!$B$15=\"Y\")),\"Y\",\"_\")","v":"_"},{"$f":"IF(OR(NOT(ISERROR(FIND(\"NN\",O7))), AND(NOT(ISERROR(FIND(\"MD\",O7))), Settings!$B$15=\"Y\")),\"Y\",\"_\")","v":"_"},{"$f":"IF(OR(NOT(ISERROR(FIND(\"NN\",P7))), AND(NOT(ISERROR(FIND(\"MD\",P7))), Settings!$B$15=\"Y\")),\"Y\",\"_\")","v":"_"},{"$f":"IF(OR(NOT(ISERROR(FIND(\"NN\",Q7))), AND(NOT(ISERROR(FIND(\"MD\",Q7))), Settings!$B$15=\"Y\")),\"Y\",\"_\")","v":"_"},{"$f":"IF(OR(NOT(ISERROR(FIND(\"NN\",R7))), AND(NOT(ISERROR(FIND(\"MD\",R7))), Settings!$B$15=\"Y\")),\"Y\",\"_\")","v":"_"},{"$f":"IF(OR(NOT(ISERROR(FIND(\"NN\",S7))), AND(NOT(ISERROR(FIND(\"MD\",S7))), Settings!$B$15=\"Y\")),\"Y\",\"_\")","v":"_"}]
[null,null,"Unique (not currently used)"]
[null,null,"Data Type Code",null,null,{"$f":"IF(AND(F5=\"at\", NOT(ISERROR(FIND(\"when\",F7))), LEN(F9)=0), \"DT\", IF(AND(OR(NOT(ISERROR(FIND(\"when\",F7))), F5=\"on\", F5=\"every\"), LEN(F9)=0),\"D\", IF(F9=\"DT\",\"DT\",LEFT(UPPER(TRIM(F9)),1))))","v":"C"},{"$f":"IF(AND(G5=\"at\", NOT(ISERROR(FIND(\"when\",G7))), LEN(G9)=0), \"DT\", IF(AND(OR(NOT(ISERROR(FIND(\"when\",G7))), G5=\"on\", G5=\"every\"), LEN(G9)=0),\"D\", IF(G9=\"DT\",\"DT\",LEFT(UPPER(TRIM(G9)),1))))","v":"C"},"","","N","D","","","","","","","",{"$f":"IF(AND(S5=\"at\", NOT(ISERROR(FIND(\"when\",S7))), LEN(S9)=0), \"DT\", IF(AND(OR(NOT(ISERROR(FIND(\"when\",S7))), S5=\"on\", S5=\"every\"), LEN(S9)=0),\"D\", IF(S9=\"DT\",\"DT\",LEFT(UPPER(TRIM(S9)),1))))","v":""}]
[null,null,"Length.Precision",null,null,{"$f":"IF(F9=\"DT\",\"\",MID(SUBSTITUTE(F9,\".\",\",\"),2,10))","v":"50"},{"$f":"IF(G9=\"DT\",\"\",MID(SUBSTITUTE(G9,\".\",\",\"),2,10))","v":"15"},{"$f":"IF(H9=\"DT\",\"\",MID(SUBSTITUTE(H9,\".\",\",\"),2,10))","v":""},{"$f":"IF(I9=\"DT\",\"\",MID(SUBSTITUTE(I9,\".\",\",\"),2,10))","v":""},"","","","","","","","","",{"$f":"IF(S9=\"DT\",\"\",MID(SUBSTITUTE(S9,\".\",\",\"),2,10))","v":""}]
[null,null,"Adjusted Length,Percision",null,null,{"$f":"IF( AND(F67=\"C\",LEN(F68)=0), Settings!$B$24, IF(AND(F67=\"N\",LEN(F68)=0), TRIM(Settings!$B$21),F68))","v":"50"},{"$f":"IF( AND(G67=\"C\",LEN(G68)=0), Settings!$B$24, IF(AND(G67=\"N\",LEN(G68)=0), TRIM(Settings!$B$21),G68))","v":"15"},{"$f":"IF( AND(H67=\"C\",LEN(H68)=0), Settings!$B$24, IF(AND(H67=\"N\",LEN(H68)=0), TRIM(Settings!$B$21),H68))","v":""},{"$f":"IF( AND(I67=\"C\",LEN(I68)=0), Settings!$B$24, IF(AND(I67=\"N\",LEN(I68)=0), TRIM(Settings!$B$21),I68))","v":""},{"$f":"IF( AND(J67=\"C\",LEN(J68)=0), Settings!$B$24, IF(AND(J67=\"N\",LEN(J68)=0), TRIM(Settings!$B$21),J68))","v":""},{"$f":"IF( AND(K67=\"C\",LEN(K68)=0), Settings!$B$24, IF(AND(K67=\"N\",LEN(K68)=0), TRIM(Settings!$B$21),K68))","v":""},{"$f":"IF( AND(L67=\"C\",LEN(L68)=0), Settings!$B$24, IF(AND(L67=\"N\",LEN(L68)=0), TRIM(Settings!$B$21),L68))","v":""},{"$f":"IF( AND(M67=\"C\",LEN(M68)=0), Settings!$B$24, IF(AND(M67=\"N\",LEN(M68)=0), TRIM(Settings!$B$21),M68))","v":""},{"$f":"IF( AND(N67=\"C\",LEN(N68)=0), Settings!$B$24, IF(AND(N67=\"N\",LEN(N68)=0), TRIM(Settings!$B$21),N68))","v":""},{"$f":"IF( AND(O67=\"C\",LEN(O68)=0), Settings!$B$24, IF(AND(O67=\"N\",LEN(O68)=0), TRIM(Settings!$B$21),O68))","v":""},{"$f":"IF( AND(P67=\"C\",LEN(P68)=0), Settings!$B$24, IF(AND(P67=\"N\",LEN(P68)=0), TRIM(Settings!$B$21),P68))","v":""},{"$f":"IF( AND(Q67=\"C\",LEN(Q68)=0), Settings!$B$24, IF(AND(Q67=\"N\",LEN(Q68)=0), TRIM(Settings!$B$21),Q68))","v":""},{"$f":"IF( AND(R67=\"C\",LEN(R68)=0), Settings!$B$24, IF(AND(R67=\"N\",LEN(R68)=0), TRIM(Settings!$B$21),R68))","v":""},{"$f":"IF( AND(S67=\"C\",LEN(S68)=0), Settings!$B$24, IF(AND(S67=\"N\",LEN(S68)=0), TRIM(Settings!$B$21),S68))","v":""}]
[null,null,"Column Order",null,null,1,{"$f":"INDIRECT(ADDRESS(ROW(),COLUMN()-1))+1","v":2},{"$f":"INDIRECT(ADDRESS(ROW(),COLUMN()-1))+1","v":3},4,5,6,7,8,9,10,11,12,13,{"$f":"INDIRECT(ADDRESS(ROW(),COLUMN()-1))+1","v":14}]
[null,null,"BEAM SQL Column",null,null,{"$f":"UPPER(IF(F57=\"Y\",\"\",SUBSTITUTE(TRIM(SUBSTITUTE(F6, CHAR(13),\" \")),\" \",\"_\")))","v":"PRODUCT_DESCRIPTION"},{"$f":"UPPER(IF(G57=\"Y\",\"\",SUBSTITUTE(TRIM(SUBSTITUTE(G6, CHAR(13),\" \")),\" \",\"_\")))","v":"PRODUCT_CODE"},"PRODUCT_TYPE","SUBCATEGORY","","LAUNCH_DATE","","","","","","","",{"$f":"UPPER(IF(S57=\"Y\",\"\",SUBSTITUTE(TRIM(SUBSTITUTE(S6, CHAR(13),\" \")),\" \",\"_\")))","v":""}]
[null,null,"DDL SQL Column",null,null,{"$f":"IF(LEN(F71)=0,\"\",TRIM(IF(AND($F$55=\"Fact\",F59=\"Y\"),SUBSTITUTE(Settings!$B$13,\"&BEAMColumn\",F71),F71)))","v":"PRODUCT_DESCRIPTION"},{"$f":"IF(LEN(G71)=0,\"\",TRIM(IF(AND($F$55=\"Fact\",G59=\"Y\"),SUBSTITUTE(Settings!$B$13,\"&BEAMColumn\",G71),G71)))","v":"PRODUCT_CODE"},{"$f":"IF(LEN(H71)=0,\"\",TRIM(IF(AND($F$55=\"Fact\",H59=\"Y\"),SUBSTITUTE(Settings!$B$13,\"&BEAMColumn\",H71),H71)))","v":"PRODUCT_TYPE"},{"$f":"IF(LEN(I71)=0,\"\",TRIM(IF(AND($F$55=\"Fact\",I59=\"Y\"),SUBSTITUTE(Settings!$B$13,\"&BEAMColumn\",I71),I71)))","v":"SUBCATEGORY"},{"$f":"IF(LEN(J71)=0,\"\",TRIM(IF(AND($F$55=\"Fact\",J59=\"Y\"),SUBSTITUTE(Settings!$B$13,\"&BEAMColumn\",J71),J71)))","v":""},{"$f":"IF(LEN(K71)=0,\"\",TRIM(IF(AND($F$55=\"Fact\",K59=\"Y\"),SUBSTITUTE(Settings!$B$13,\"&BEAMColumn\",K71),K71)))","v":"LAUNCH_DATE"},{"$f":"IF(LEN(L71)=0,\"\",TRIM(IF(AND($F$55=\"Fact\",L59=\"Y\"),SUBSTITUTE(Settings!$B$13,\"&BEAMColumn\",L71),L71)))","v":""},{"$f":"IF(LEN(M71)=0,\"\",TRIM(IF(AND($F$55=\"Fact\",M59=\"Y\"),SUBSTITUTE(Settings!$B$13,\"&BEAMColumn\",M71),M71)))","v":""},{"$f":"IF(LEN(N71)=0,\"\",TRIM(IF(AND($F$55=\"Fact\",N59=\"Y\"),SUBSTITUTE(Settings!$B$13,\"&BEAMColumn\",N71),N71)))","v":""},{"$f":"IF(LEN(O71)=0,\"\",TRIM(IF(AND($F$55=\"Fact\",O59=\"Y\"),SUBSTITUTE(Settings!$B$13,\"&BEAMColumn\",O71),O71)))","v":""},{"$f":"IF(LEN(P71)=0,\"\",TRIM(IF(AND($F$55=\"Fact\",P59=\"Y\"),SUBSTITUTE(Settings!$B$13,\"&BEAMColumn\",P71),P71)))","v":""},{"$f":"IF(LEN(Q71)=0,\"\",TRIM(IF(AND($F$55=\"Fact\",Q59=\"Y\"),SUBSTITUTE(Settings!$B$13,\"&BEAMColumn\",Q71),Q71)))","v":""},{"$f":"IF(LEN(R71)=0,\"\",TRIM(IF(AND($F$55=\"Fact\",R59=\"Y\"),SUBSTITUTE(Settings!$B$13,\"&BEAMColumn\",R71),R71)))","v":""},{"$f":"IF(LEN(S71)=0,\"\",TRIM(IF(AND($F$55=\"Fact\",S59=\"Y\"),SUBSTITUTE(Settings!$B$13,\"&BEAMColumn\",S71),S71)))","v":""}]
[null,null,"Max Column Name Length",null,null,{"$f":"MAX(MAX(LEN(F72:R72)),LEN(F45))","v":19}]
[]
[null,null,"Diagram Column Name <CR>",null,null,{"$f":"IF(OR(LEN(F72)=0,F58=\"Y\"),\"\",CONCATENATE(F72, CHAR(13)))","v":"PRODUCT_DESCRIPTION\r"},{"$f":"IF(OR(LEN(G72)=0,G58=\"Y\"),\"\",CONCATENATE(G72, CHAR(13)))","v":"PRODUCT_CODE\r"},"PRODUCT_TYPE\r","SUBCATEGORY\r","","LAUNCH_DATE\r","","","","","","","",{"$f":"IF(OR(LEN(S72)=0,S58=\"Y\"),\"\",CONCATENATE(S72, CHAR(13)))","v":""}]
[null,null,"Diagram Key Column",null,null,{"$f":"IF(F63=\"Y\",F75,\"\")","v":""},{"$f":"IF(G63=\"Y\",G75,\"\")","v":"PRODUCT_CODE\r"},"","","","","","","","","","","",{"$f":"IF(S63=\"Y\",S75,\"\")","v":""}]
[null,null,"Diagram Key Column List \n(previous columns)",{"$nulls":3},{"$f":"INDIRECT(ADDRESS(ROW()+1,COLUMN()-1))","v":""},{"$f":"INDIRECT(ADDRESS(ROW()+1,COLUMN()-1))","v":"PRODUCT_CODE\r"},"PRODUCT_CODE\r","PRODUCT_CODE\r","PRODUCT_CODE\r","PRODUCT_CODE\r","PRODUCT_CODE\r","PRODUCT_CODE\r","PRODUCT_CODE\r","PRODUCT_CODE\r","PRODUCT_CODE\r","PRODUCT_CODE\r",{"$f":"INDIRECT(ADDRESS(ROW()+1,COLUMN()-1))","v":"PRODUCT_CODE\r"}]
[null,null,"Diagram Key Column List",null,null,{"$f":"F76","v":""},{"$f":"IF(NOT(ISERROR(FIND(\"...\",G77))),G77,IF(LEN(G77)>226,G77&\"...\"&CHAR(13),G77&G76))","v":"PRODUCT_CODE\r"},"PRODUCT_CODE\r","PRODUCT_CODE\r","PRODUCT_CODE\r","PRODUCT_CODE\r","PRODUCT_CODE\r","PRODUCT_CODE\r","PRODUCT_CODE\r","PRODUCT_CODE\r","PRODUCT_CODE\r","PRODUCT_CODE\r","PRODUCT_CODE\r",{"$f":"IF(NOT(ISERROR(FIND(\"...\",S77))),S77,IF(LEN(S77)>226,S77&\"...\"&CHAR(13),S77&S76))","v":"PRODUCT_CODE\r"}]
[]
[null,null,"Diagram Non-Key Column",null,null,{"$f":"IF(F63=\"Y\",\"\", F75)","v":"PRODUCT_DESCRIPTION\r"},{"$f":"IF(G63=\"Y\",\"\", G75)","v":""},"PRODUCT_TYPE\r","SUBCATEGORY\r","","LAUNCH_DATE\r","","","","","","","",{"$f":"IF(S63=\"Y\",\"\", S75)","v":""}]
[null,null,"Column List\n (up to previous column)",null,null,{"$f":"IF(LEN(G117)=0,\"\",G117 & CHAR(13))","v":"PRODUCT_CODE\r\r"},{"$f":"INDIRECT(ADDRESS(ROW()+1,COLUMN()-1))","v":"PRODUCT_CODE\r\rPRODUCT_DESCRIPTION\r"},{"$f":"INDIRECT(ADDRESS(ROW()+1,COLUMN()-1))","v":"PRODUCT_CODE\r\rPRODUCT_DESCRIPTION\r"},"PRODUCT_CODE\r\rPRODUCT_DESCRIPTION\rPRODUCT_TYPE\r","PRODUCT_CODE\r\rPRODUCT_DESCRIPTION\rPRODUCT_TYPE\rSUBCATEGORY\r","PRODUCT_CODE\r\rPRODUCT_DESCRIPTION\rPRODUCT_TYPE\rSUBCATEGORY\r","PRODUCT_CODE\r\rPRODUCT_DESCRIPTION\rPRODUCT_TYPE\rSUBCATEGORY\rLAUNCH_DATE\r","PRODUCT_CODE\r\rPRODUCT_DESCRIPTION\rPRODUCT_TYPE\rSUBCATEGORY\rLAUNCH_DATE\r","PRODUCT_CODE\r\rPRODUCT_DESCRIPTION\rPRODUCT_TYPE\rSUBCATEGORY\rLAUNCH_DATE\r","PRODUCT_CODE\r\rPRODUCT_DESCRIPTION\rPRODUCT_TYPE\rSUBCATEGORY\rLAUNCH_DATE\r","PRODUCT_CODE\r\rPRODUCT_DESCRIPTION\rPRODUCT_TYPE\rSUBCATEGORY\rLAUNCH_DATE\r","PRODUCT_CODE\r\rPRODUCT_DESCRIPTION\rPRODUCT_TYPE\rSUBCATEGORY\rLAUNCH_DATE\r","PRODUCT_CODE\r\rPRODUCT_DESCRIPTION\rPRODUCT_TYPE\rSUBCATEGORY\rLAUNCH_DATE\r",{"$f":"INDIRECT(ADDRESS(ROW()+1,COLUMN()-1))","v":"PRODUCT_CODE\r\rPRODUCT_DESCRIPTION\rPRODUCT_TYPE\rSUBCATEGORY\rLAUNCH_DATE\r"}]
[null,null,"Column List",null,null,{"$f":"IF(NOT(ISERROR(FIND(\"...\",F81))),F81,IF(LEN(F81)>226, F81 & \"...\" & CHAR(13), F81 & F80))","v":"PRODUCT_CODE\r\rPRODUCT_DESCRIPTION\r"},{"$f":"IF(NOT(ISERROR(FIND(\"...\",G81))),G81,IF(LEN(G81)>226, G81 & \"...\" & CHAR(13), G81 & G80))","v":"PRODUCT_CODE\r\rPRODUCT_DESCRIPTION\r"},{"$f":"IF(NOT(ISERROR(FIND(\"...\",H81))),H81,IF(LEN(H81)>226, H81 & \"...\" & CHAR(13), H81 & H80))","v":"PRODUCT_CODE\r\rPRODUCT_DESCRIPTION\rPRODUCT_TYPE\r"},"PRODUCT_CODE\r\rPRODUCT_DESCRIPTION\rPRODUCT_TYPE\rSUBCATEGORY\r","PRODUCT_CODE\r\rPRODUCT_DESCRIPTION\rPRODUCT_TYPE\rSUBCATEGORY\r","PRODUCT_CODE\r\rPRODUCT_DESCRIPTION\rPRODUCT_TYPE\rSUBCATEGORY\rLAUNCH_DATE\r","PRODUCT_CODE\r\rPRODUCT_DESCRIPTION\rPRODUCT_TYPE\rSUBCATEGORY\rLAUNCH_DATE\r","PRODUCT_CODE\r\rPRODUCT_DESCRIPTION\rPRODUCT_TYPE\rSUBCATEGORY\rLAUNCH_DATE\r","PRODUCT_CODE\r\rPRODUCT_DESCRIPTION\rPRODUCT_TYPE\rSUBCATEGORY\rLAUNCH_DATE\r","PRODUCT_CODE\r\rPRODUCT_DESCRIPTION\rPRODUCT_TYPE\rSUBCATEGORY\rLAUNCH_DATE\r","PRODUCT_CODE\r\rPRODUCT_DESCRIPTION\rPRODUCT_TYPE\rSUBCATEGORY\rLAUNCH_DATE\r","PRODUCT_CODE\r\rPRODUCT_DESCRIPTION\rPRODUCT_TYPE\rSUBCATEGORY\rLAUNCH_DATE\r","PRODUCT_CODE\r\rPRODUCT_DESCRIPTION\rPRODUCT_TYPE\rSUBCATEGORY\rLAUNCH_DATE\r",{"$f":"IF(NOT(ISERROR(FIND(\"...\",S81))),S81,IF(LEN(S81)>226, S81 & \"...\" & CHAR(13), S81 & S80))","v":"PRODUCT_CODE\r\rPRODUCT_DESCRIPTION\rPRODUCT_TYPE\rSUBCATEGORY\rLAUNCH_DATE\r"}]
[null,null,"Column Code",null,null,{"$f":"IF(LEN(F72)=0,\"\",TRIM(SUBSTITUTE(F7, \"!\", \"\")))","v":"MD"},"BK, NN","","","","FV","","","","","","","",{"$f":"IF(LEN(S72)=0,\"\",TRIM(SUBSTITUTE(S7, \"!\", \"\")))","v":""}]
[null,null,"All Code List",null,null,{"$f":"F83","v":"MD"},{"$f":"CONCATENATE(INDIRECT(ADDRESS(ROW(),COLUMN()-1)),\", \", G83)","v":"MD, BK, NN"},{"$f":"CONCATENATE(INDIRECT(ADDRESS(ROW(),COLUMN()-1)),\", \", H83)","v":"MD, BK, NN, "},"MD, BK, NN, , ","MD, BK, NN, , , ","MD, BK, NN, , , , FV","MD, BK, NN, , , , FV, ","MD, BK, NN, , , , FV, , ","MD, BK, NN, , , , FV, , , ","MD, BK, NN, , , , FV, , , , ","MD, BK, NN, , , , FV, , , , , ","MD, BK, NN, , , , FV, , , , , , ","MD, BK, NN, , , , FV, , , , , , , ",{"$f":"CONCATENATE(INDIRECT(ADDRESS(ROW(),COLUMN()-1)),\", \", S83)","v":"MD, BK, NN, , , , FV, , , , , , , , "}]
[]
[null,null,"SK Column",null,null,{"$f":"IF(F59=\"Y\",F72 & \", \",\"\")","v":""},{"$f":"IF(G59=\"Y\",G72 & \", \",\"\")","v":""},"","","","","","","","","","","",{"$f":"IF(S59=\"Y\",S72 & \", \",\"\")","v":""}]
[null,null,"SK Column List",null,null,{"$f":"F86","v":""},{"$f":"CONCATENATE(INDIRECT(ADDRESS(ROW(),COLUMN()-1)), G86)","v":""},{"$f":"CONCATENATE(INDIRECT(ADDRESS(ROW(),COLUMN()-1)), H86)","v":""},"","","","","","","","","","",{"$f":"CONCATENATE(INDIRECT(ADDRESS(ROW(),COLUMN()-1)), S86)","v":""}]
[null,null,"Visable Column Code",null,null,{"$f":"IF(F58=\"Y\",\"\",F83)","v":"MD"},"BK, NN","","","","FV","","","","","","","",{"$f":"IF(S58=\"Y\",\"\",S83)","v":""}]
[null,null,"Column Code <CR>",null,null,{"$f":"IF(OR(LEN(F72)=0,F58=\"Y\"),\"\",CONCATENATE(IF(LEN(F88)=0,\"\",SUBSTITUTE(Settings!$B$41,\"&BEAMColumnCodes\",F88)),CHAR(13)))","v":" MD \r"},{"$f":"IF(OR(LEN(G72)=0,G58=\"Y\"),\"\",CONCATENATE(IF(LEN(G88)=0,\"\",SUBSTITUTE(Settings!$B$41,\"&BEAMColumnCodes\",G88)),CHAR(13)))","v":" BK, NN \r"},{"$f":"IF(OR(LEN(H72)=0,H58=\"Y\"),\"\",CONCATENATE(IF(LEN(H88)=0,\"\",SUBSTITUTE(Settings!$B$41,\"&BEAMColumnCodes\",H88)),CHAR(13)))","v":"\r"},{"$f":"IF(OR(LEN(I72)=0,I58=\"Y\"),\"\",CONCATENATE(IF(LEN(I88)=0,\"\",SUBSTITUTE(Settings!$B$41,\"&BEAMColumnCodes\",I88)),CHAR(13)))","v":"\r"},{"$f":"IF(OR(LEN(J72)=0,J58=\"Y\"),\"\",CONCATENATE(IF(LEN(J88)=0,\"\",SUBSTITUTE(Settings!$B$41,\"&BEAMColumnCodes\",J88)),CHAR(13)))","v":""},{"$f":"IF(OR(LEN(K72)=0,K58=\"Y\"),\"\",CONCATENATE(IF(LEN(K88)=0,\"\",SUBSTITUTE(Settings!$B$41,\"&BEAMColumnCodes\",K88)),CHAR(13)))","v":" FV \r"},{"$f":"IF(OR(LEN(L72)=0,L58=\"Y\"),\"\",CONCATENATE(IF(LEN(L88)=0,\"\",SUBSTITUTE(Settings!$B$41,\"&BEAMColumnCodes\",L88)),CHAR(13)))","v":""},{"$f":"IF(OR(LEN(M72)=0,M58=\"Y\"),\"\",CONCATENATE(IF(LEN(M88)=0,\"\",SUBSTITUTE(Settings!$B$41,\"&BEAMColumnCodes\",M88)),CHAR(13)))","v":""},{"$f":"IF(OR(LEN(N72)=0,N58=\"Y\"),\"\",CONCATENATE(IF(LEN(N88)=0,\"\",SUBSTITUTE(Settings!$B$41,\"&BEAMColumnCodes\",N88)),CHAR(13)))","v":""},{"$f":"IF(OR(LEN(O72)=0,O58=\"Y\"),\"\",CONCATENATE(IF(LEN(O88)=0,\"\",SUBSTITUTE(Settings!$B$41,\"&BEAMColumnCodes\",O88)),CHAR(13)))","v":""},{"$f":"IF(OR(LEN(P72)=0,P58=\"Y\"),\"\",CONCATENATE(IF(LEN(P88)=0,\"\",SUBSTITUTE(Settings!$B$41,\"&BEAMColumnCodes\",P88)),CHAR(13)))","v":""},{"$f":"IF(OR(LEN(Q72)=0,Q58=\"Y\"),\"\",CONCATENATE(IF(LEN(Q88)=0,\"\",SUBSTITUTE(Settings!$B$41,\"&BEAMColumnCodes\",Q88)),CHAR(13)))","v":""},{"$f":"IF(OR(LEN(R72)=0,R58=\"Y\"),\"\",CONCATENATE(IF(LEN(R88)=0,\"\",SUBSTITUTE(Settings!$B$41,\"&BEAMColumnCodes\",R88)),CHAR(13)))","v":""},{"$f":"IF(OR(LEN(S72)=0,S58=\"Y\"),\"\",CONCATENATE(IF(LEN(S88)=0,\"\",SUBSTITUTE(Settings!$B$41,\"&BEAMColumnCodes\",S88)),CHAR(13)))","v":""}]
[null,null,"Key Code",null,null,{"$f":"IF(F63=\"Y\",F89,\"\")","v":""},{"$f":"IF(G63=\"Y\",G89,\"\")","v":" BK, NN \r"},"","","","","","","","","","","",{"$f":"IF(S63=\"Y\",S89,\"\")","v":""}]
[null,null,"Key Code List",null,null,{"$f":"F90","v":""},{"$f":"CONCATENATE(INDIRECT(ADDRESS(ROW(),COLUMN()-1)),IF(ISERROR(FIND(\"...\",G78)),G90,\"\"))","v":" BK, NN \r"},{"$f":"CONCATENATE(INDIRECT(ADDRESS(ROW(),COLUMN()-1)),IF(ISERROR(FIND(\"...\",H78)),H90,\"\"))","v":" BK, NN \r"}," BK, NN \r"," BK, NN \r"," BK, NN \r"," BK, NN \r"," BK, NN \r"," BK, NN \r"," BK, NN \r"," BK, NN \r"," BK, NN \r"," BK, NN \r",{"$f":"CONCATENATE(INDIRECT(ADDRESS(ROW(),COLUMN()-1)),IF(ISERROR(FIND(\"...\",S78)),S90,\"\"))","v":" BK, NN \r"}]
[null,null,"Non-key Code",null,null,{"$f":"IF(F63=\"Y\",\"\",F89)","v":" MD \r"},{"$f":"IF(G63=\"Y\",\"\",G89)","v":""},"\r","\r",""," FV \r","","","","","","","",{"$f":"IF(S63=\"Y\",\"\",S89)","v":""}]
[null,null,"Key Code List + Non-key Code List",null,null,{"$f":"IF(LEN($H$117)=0, $F$92, $H$117 & CHAR(13) & $F$92)","v":" BK, NN \r\r MD \r"},{"$f":"CONCATENATE(INDIRECT(ADDRESS(ROW(),COLUMN()-1)),IF(ISERROR(FIND(\"...\",G82)),G92,\"\"))","v":" BK, NN \r\r MD \r"},{"$f":"CONCATENATE(INDIRECT(ADDRESS(ROW(),COLUMN()-1)),IF(ISERROR(FIND(\"...\",H82)),H92,\"\"))","v":" BK, NN \r\r MD \r\r"}," BK, NN \r\r MD \r\r\r"," BK, NN \r\r MD \r\r\r"," BK, NN \r\r MD \r\r\r FV \r"," BK, NN \r\r MD \r\r\r FV \r"," BK, NN \r\r MD \r\r\r FV \r"," BK, NN \r\r MD \r\r\r FV \r"," BK, NN \r\r MD \r\r\r FV \r"," BK, NN \r\r MD \r\r\r FV \r"," BK, NN \r\r MD \r\r\r FV \r"," BK, NN \r\r MD \r\r\r FV \r",{"$f":"CONCATENATE(INDIRECT(ADDRESS(ROW(),COLUMN()-1)),IF(ISERROR(FIND(\"...\",S82)),S92,\"\"))","v":" BK, NN \r\r MD \r\r\r FV \r"}]
[]
[null,null," SQL Data Type",null,null,{"$f":"IF(LEN(F72)=0,\"\", \" \" & IF(F59=\"Y\", Settings!$B$19, IF(IFERROR(SEARCH(\"N\",F67,1),0)=1,Settings!$B$20,IF(IFERROR(SEARCH(\"C\",F67,1),0)=1,Settings!$B$23,IF(IFERROR(SEARCH(\"DT\",F67,1),0)=1,Settings!$B$26,IF(IFERROR(SEARCH(\"D\",F67,1),0)=1,Settings!$B$25,IF(IFERROR(SEARCH(\"I\",F67,1),0)=1,Settings!$B$22, IF(F64=\"Y\", Settings!$B$18, Settings!$B$17))))))))","v":" VARCHAR2"},{"$f":"IF(LEN(G72)=0,\"\", \" \" & IF(G59=\"Y\", Settings!$B$19, IF(IFERROR(SEARCH(\"N\",G67,1),0)=1,Settings!$B$20,IF(IFERROR(SEARCH(\"C\",G67,1),0)=1,Settings!$B$23,IF(IFERROR(SEARCH(\"DT\",G67,1),0)=1,Settings!$B$26,IF(IFERROR(SEARCH(\"D\",G67,1),0)=1,Settings!$B$25,IF(IFERROR(SEARCH(\"I\",G67,1),0)=1,Settings!$B$22, IF(G64=\"Y\", Settings!$B$18, Settings!$B$17))))))))","v":" VARCHAR2"},{"$f":"IF(LEN(H72)=0,\"\", \" \" & IF(H59=\"Y\", Settings!$B$19, IF(IFERROR(SEARCH(\"N\",H67,1),0)=1,Settings!$B$20,IF(IFERROR(SEARCH(\"C\",H67,1),0)=1,Settings!$B$23,IF(IFERROR(SEARCH(\"DT\",H67,1),0)=1,Settings!$B$26,IF(IFERROR(SEARCH(\"D\",H67,1),0)=1,Settings!$B$25,IF(IFERROR(SEARCH(\"I\",H67,1),0)=1,Settings!$B$22, IF(H64=\"Y\", Settings!$B$18, Settings!$B$17))))))))","v":" VARCHAR2(40)"},{"$f":"IF(LEN(I72)=0,\"\", \" \" & IF(I59=\"Y\", Settings!$B$19, IF(IFERROR(SEARCH(\"N\",I67,1),0)=1,Settings!$B$20,IF(IFERROR(SEARCH(\"C\",I67,1),0)=1,Settings!$B$23,IF(IFERROR(SEARCH(\"DT\",I67,1),0)=1,Settings!$B$26,IF(IFERROR(SEARCH(\"D\",I67,1),0)=1,Settings!$B$25,IF(IFERROR(SEARCH(\"I\",I67,1),0)=1,Settings!$B$22, IF(I64=\"Y\", Settings!$B$18, Settings!$B$17))))))))","v":" VARCHAR2(40)"},{"$f":"IF(LEN(J72)=0,\"\", \" \" & IF(J59=\"Y\", Settings!$B$19, IF(IFERROR(SEARCH(\"N\",J67,1),0)=1,Settings!$B$20,IF(IFERROR(SEARCH(\"C\",J67,1),0)=1,Settings!$B$23,IF(IFERROR(SEARCH(\"DT\",J67,1),0)=1,Settings!$B$26,IF(IFERROR(SEARCH(\"D\",J67,1),0)=1,Settings!$B$25,IF(IFERROR(SEARCH(\"I\",J67,1),0)=1,Settings!$B$22, IF(J64=\"Y\", Settings!$B$18, Settings!$B$17))))))))","v":""},{"$f":"IF(LEN(K72)=0,\"\", \" \" & IF(K59=\"Y\", Settings!$B$19, IF(IFERROR(SEARCH(\"N\",K67,1),0)=1,Settings!$B$20,IF(IFERROR(SEARCH(\"C\",K67,1),0)=1,Settings!$B$23,IF(IFERROR(SEARCH(\"DT\",K67,1),0)=1,Settings!$B$26,IF(IFERROR(SEARCH(\"D\",K67,1),0)=1,Settings!$B$25,IF(IFERROR(SEARCH(\"I\",K67,1),0)=1,Settings!$B$22, IF(K64=\"Y\", Settings!$B$18, Settings!$B$17))))))))","v":" DATE"},{"$f":"IF(LEN(L72)=0,\"\", \" \" & IF(L59=\"Y\", Settings!$B$19, IF(IFERROR(SEARCH(\"N\",L67,1),0)=1,Settings!$B$20,IF(IFERROR(SEARCH(\"C\",L67,1),0)=1,Settings!$B$23,IF(IFERROR(SEARCH(\"DT\",L67,1),0)=1,Settings!$B$26,IF(IFERROR(SEARCH(\"D\",L67,1),0)=1,Settings!$B$25,IF(IFERROR(SEARCH(\"I\",L67,1),0)=1,Settings!$B$22, IF(L64=\"Y\", Settings!$B$18, Settings!$B$17))))))))","v":""},{"$f":"IF(LEN(M72)=0,\"\", \" \" & IF(M59=\"Y\", Settings!$B$19, IF(IFERROR(SEARCH(\"N\",M67,1),0)=1,Settings!$B$20,IF(IFERROR(SEARCH(\"C\",M67,1),0)=1,Settings!$B$23,IF(IFERROR(SEARCH(\"DT\",M67,1),0)=1,Settings!$B$26,IF(IFERROR(SEARCH(\"D\",M67,1),0)=1,Settings!$B$25,IF(IFERROR(SEARCH(\"I\",M67,1),0)=1,Settings!$B$22, IF(M64=\"Y\", Settings!$B$18, Settings!$B$17))))))))","v":""},{"$f":"IF(LEN(N72)=0,\"\", \" \" & IF(N59=\"Y\", Settings!$B$19, IF(IFERROR(SEARCH(\"N\",N67,1),0)=1,Settings!$B$20,IF(IFERROR(SEARCH(\"C\",N67,1),0)=1,Settings!$B$23,IF(IFERROR(SEARCH(\"DT\",N67,1),0)=1,Settings!$B$26,IF(IFERROR(SEARCH(\"D\",N67,1),0)=1,Settings!$B$25,IF(IFERROR(SEARCH(\"I\",N67,1),0)=1,Settings!$B$22, IF(N64=\"Y\", Settings!$B$18, Settings!$B$17))))))))","v":""},{"$f":"IF(LEN(O72)=0,\"\", \" \" & IF(O59=\"Y\", Settings!$B$19, IF(IFERROR(SEARCH(\"N\",O67,1),0)=1,Settings!$B$20,IF(IFERROR(SEARCH(\"C\",O67,1),0)=1,Settings!$B$23,IF(IFERROR(SEARCH(\"DT\",O67,1),0)=1,Settings!$B$26,IF(IFERROR(SEARCH(\"D\",O67,1),0)=1,Settings!$B$25,IF(IFERROR(SEARCH(\"I\",O67,1),0)=1,Settings!$B$22, IF(O64=\"Y\", Settings!$B$18, Settings!$B$17))))))))","v":""},{"$f":"IF(LEN(P72)=0,\"\", \" \" & IF(P59=\"Y\", Settings!$B$19, IF(IFERROR(SEARCH(\"N\",P67,1),0)=1,Settings!$B$20,IF(IFERROR(SEARCH(\"C\",P67,1),0)=1,Settings!$B$23,IF(IFERROR(SEARCH(\"DT\",P67,1),0)=1,Settings!$B$26,IF(IFERROR(SEARCH(\"D\",P67,1),0)=1,Settings!$B$25,IF(IFERROR(SEARCH(\"I\",P67,1),0)=1,Settings!$B$22, IF(P64=\"Y\", Settings!$B$18, Settings!$B$17))))))))","v":""},{"$f":"IF(LEN(Q72)=0,\"\", \" \" & IF(Q59=\"Y\", Settings!$B$19, IF(IFERROR(SEARCH(\"N\",Q67,1),0)=1,Settings!$B$20,IF(IFERROR(SEARCH(\"C\",Q67,1),0)=1,Settings!$B$23,IF(IFERROR(SEARCH(\"DT\",Q67,1),0)=1,Settings!$B$26,IF(IFERROR(SEARCH(\"D\",Q67,1),0)=1,Settings!$B$25,IF(IFERROR(SEARCH(\"I\",Q67,1),0)=1,Settings!$B$22, IF(Q64=\"Y\", Settings!$B$18, Settings!$B$17))))))))","v":""},{"$f":"IF(LEN(R72)=0,\"\", \" \" & IF(R59=\"Y\", Settings!$B$19, IF(IFERROR(SEARCH(\"N\",R67,1),0)=1,Settings!$B$20,IF(IFERROR(SEARCH(\"C\",R67,1),0)=1,Settings!$B$23,IF(IFERROR(SEARCH(\"DT\",R67,1),0)=1,Settings!$B$26,IF(IFERROR(SEARCH(\"D\",R67,1),0)=1,Settings!$B$25,IF(IFERROR(SEARCH(\"I\",R67,1),0)=1,Settings!$B$22, IF(R64=\"Y\", Settings!$B$18, Settings!$B$17))))))))","v":""},{"$f":"IF(LEN(S72)=0,\"\", \" \" & IF(S59=\"Y\", Settings!$B$19, IF(IFERROR(SEARCH(\"N\",S67,1),0)=1,Settings!$B$20,IF(IFERROR(SEARCH(\"C\",S67,1),0)=1,Settings!$B$23,IF(IFERROR(SEARCH(\"DT\",S67,1),0)=1,Settings!$B$26,IF(IFERROR(SEARCH(\"D\",S67,1),0)=1,Settings!$B$25,IF(IFERROR(SEARCH(\"I\",S67,1),0)=1,Settings!$B$22, IF(S64=\"Y\", Settings!$B$18, Settings!$B$17))))))))","v":""}]
[null,null,"Data Type + Length",null,null,{"$f":"IF(OR(F59=\"Y\", LEN(F67)=0, LEN(F69)=0), F95, CONCATENATE(F95,\"(\",F69,\")\"))","v":" VARCHAR2(50)"}," VARCHAR2(15)"," VARCHAR2(40)"," VARCHAR2(40)",""," DATE","","","","","","","",{"$f":"IF(OR(S59=\"Y\", LEN(S67)=0, LEN(S69)=0), S95, CONCATENATE(S95,\"(\",S69,\")\"))","v":""}]
[null,null,"Column Constraint",null,null,{"$f":"IF(AND(ISTEXT(F72),F65=\"Y\", F57<>\"Y\", ISERROR(FIND(\"SK\",F7))), \" NOT NULL\", \"\")","v":" NOT NULL"},{"$f":"IF(AND(ISTEXT(G72),G65=\"Y\", G57<>\"Y\", ISERROR(FIND(\"SK\",G7))), \" NOT NULL\", \"\")","v":" NOT NULL"},"","","","","","","","","","","",{"$f":"IF(AND(ISTEXT(S72),S65=\"Y\", S57<>\"Y\", ISERROR(FIND(\"SK\",S7))), \" NOT NULL\", \"\")","v":""}]
[null,null,"Missing/Default Value",null,null,{"$f":"IF(LEN(F72)=0,\"\",TRIM(F13))","v":"Unknown"},"Missing","N/A","N/A","","00/01/2000","","","","","","","",{"$f":"IF(LEN(S72)=0,\"\",TRIM(S13))","v":""}]
[null,null,"Adjusted Default Value",null,null,{"$f":"IF(F59=\"Y\", \"\", IF(LEN(F98)=0, \"\",  IF(OR(NOT(ISERROR(FIND(\"N\",F67))), F67=\"I\", F64=\"Y\"), F98, CONCATENATE(\"'\",F98,\"'\"))))","v":"'Unknown'"},{"$f":"IF(G59=\"Y\", \"\", IF(LEN(G98)=0, \"\",  IF(OR(NOT(ISERROR(FIND(\"N\",G67))), G67=\"I\", G64=\"Y\"), G98, CONCATENATE(\"'\",G98,\"'\"))))","v":"'Missing'"},"'N/A'","'N/A'","","'00/01/2000'","","","","","","","",""]
[null,null,"Column Default Clause",null,null,{"$f":"IF(AND(LEN(F99) <> 0, Settings!$B$16 =\"Y\"), CONCATENATE(\" DEFAULT \",F99),\"\")","v":" DEFAULT 'Unknown'"},{"$f":"IF(AND(LEN(G99) <> 0, Settings!$B$16 =\"Y\"), CONCATENATE(\" DEFAULT \",G99),\"\")","v":" DEFAULT 'Missing'"},{"$f":"IF(AND(LEN(H99) <> 0, Settings!$B$16 =\"Y\"), CONCATENATE(\" DEFAULT \",H99),\"\")","v":" DEFAULT 'N/A'"},{"$f":"IF(AND(LEN(I99) <> 0, Settings!$B$16 =\"Y\"), CONCATENATE(\" DEFAULT \",I99),\"\")","v":" DEFAULT 'N/A'"},{"$f":"IF(AND(LEN(J99) <> 0, Settings!$B$16 =\"Y\"), CONCATENATE(\" DEFAULT \",J99),\"\")","v":""},{"$f":"IF(AND(LEN(K99) <> 0, Settings!$B$16 =\"Y\"), CONCATENATE(\" DEFAULT \",K99),\"\")","v":" DEFAULT '00/01/2000'"},{"$f":"IF(AND(LEN(L99) <> 0, Settings!$B$16 =\"Y\"), CONCATENATE(\" DEFAULT \",L99),\"\")","v":""},{"$f":"IF(AND(LEN(M99) <> 0, Settings!$B$16 =\"Y\"), CONCATENATE(\" DEFAULT \",M99),\"\")","v":""},{"$f":"IF(AND(LEN(N99) <> 0, Settings!$B$16 =\"Y\"), CONCATENATE(\" DEFAULT \",N99),\"\")","v":""},{"$f":"IF(AND(LEN(O99) <> 0, Settings!$B$16 =\"Y\"), CONCATENATE(\" DEFAULT \",O99),\"\")","v":""},{"$f":"IF(AND(LEN(P99) <> 0, Settings!$B$16 =\"Y\"), CONCATENATE(\" DEFAULT \",P99),\"\")","v":""},{"$f":"IF(AND(LEN(Q99) <> 0, Settings!$B$16 =\"Y\"), CONCATENATE(\" DEFAULT \",Q99),\"\")","v":""},{"$f":"IF(AND(LEN(R99) <> 0, Settings!$B$16 =\"Y\"), CONCATENATE(\" DEFAULT \",R99),\"\")","v":""},{"$f":"IF(AND(LEN(S99) <> 0, Settings!$B$16 =\"Y\"), CONCATENATE(\" DEFAULT \",S99),\"\")","v":""}]
[null,null,"Trailing Comma and <CR>",null,null,{"$f":"IF(LEN(F72) = 0, \"\", \",\" & CHAR(13))","v":",\r"},{"$f":"IF(LEN(G72) = 0, \"\", \",\" & CHAR(13))","v":",\r"},{"$f":"IF(LEN(H72) = 0, \"\", \",\" & CHAR(13))","v":",\r"},",\r","",",\r","","","","","","","",{"$f":"IF(LEN(S72) = 0, \"\", \",\" & CHAR(13))","v":""}]
[]
[null,null,"Column DDL",null,null,{"$f":"CONCATENATE(F72, F96, F97, F100, F101)","v":"PRODUCT_DESCRIPTION VARCHAR2(50) NOT NULL DEFAULT 'Unknown',\r"},"PRODUCT_CODE VARCHAR2(15) NOT NULL DEFAULT 'Missing',\r","PRODUCT_TYPE VARCHAR2(40) DEFAULT 'N/A',\r","SUBCATEGORY VARCHAR2(40) DEFAULT 'N/A',\r","","LAUNCH_DATE DATE DEFAULT '00/01/2000',\r","","","","","","","",{"$f":"CONCATENATE(S72, S96, S97, S100, S101)","v":""}]
[null,null,"Key Column DDL",null,null,{"$f":"IF(F63=\"Y\",F103,\"\")","v":""},"PRODUCT_CODE VARCHAR2(15) NOT NULL DEFAULT 'Missing',\r","","","","","","","","","","","",{"$f":"IF(S63=\"Y\",S103,\"\")","v":""}]
[null,null,"Non Key Column DDL",null,null,{"$f":"IF(F63=\"Y\",\"\",F103)","v":"PRODUCT_DESCRIPTION VARCHAR2(50) NOT NULL DEFAULT 'Unknown',\r"},"","PRODUCT_TYPE VARCHAR2(40) DEFAULT 'N/A',\r","SUBCATEGORY VARCHAR2(40) DEFAULT 'N/A',\r","","LAUNCH_DATE DATE DEFAULT '00/01/2000',\r","","","","","","","",{"$f":"IF(S63=\"Y\",\"\",S103)","v":""}]
[null,null,"Key Column DDL List ",null,null,{"$f":"F104","v":""},{"$f":"CONCATENATE(INDIRECT(ADDRESS(ROW(),COLUMN()-1)),G104)","v":"PRODUCT_CODE VARCHAR2(15) NOT NULL DEFAULT 'Missing',\r"},{"$f":"CONCATENATE(INDIRECT(ADDRESS(ROW(),COLUMN()-1)),H104)","v":"PRODUCT_CODE VARCHAR2(15) NOT NULL DEFAULT 'Missing',\r"},"PRODUCT_CODE VARCHAR2(15) NOT NULL DEFAULT 'Missing',\r","PRODUCT_CODE VARCHAR2(15) NOT NULL DEFAULT 'Missing',\r","PRODUCT_CODE VARCHAR2(15) NOT NULL DEFAULT 'Missing',\r","PRODUCT_CODE VARCHAR2(15) NOT NULL DEFAULT 'Missing',\r","PRODUCT_CODE VARCHAR2(15) NOT NULL DEFAULT 'Missing',\r","PRODUCT_CODE VARCHAR2(15) NOT NULL DEFAULT 'Missing',\r","PRODUCT_CODE VARCHAR2(15) NOT NULL DEFAULT 'Missing',\r","PRODUCT_CODE VARCHAR2(15) NOT NULL DEFAULT 'Missing',\r","PRODUCT_CODE VARCHAR2(15) NOT NULL DEFAULT 'Missing',\r","PRODUCT_CODE VARCHAR2(15) NOT NULL DEFAULT 'Missing',\r",{"$f":"CONCATENATE(INDIRECT(ADDRESS(ROW(),COLUMN()-1)),S104)","v":"PRODUCT_CODE VARCHAR2(15) NOT NULL DEFAULT 'Missing',\r"}]
[null,null,"Non-Key Column DDL List ",null,null,{"$f":"F105","v":"PRODUCT_DESCRIPTION VARCHAR2(50) NOT NULL DEFAULT 'Unknown',\r"},{"$f":"CONCATENATE(INDIRECT(ADDRESS(ROW(),COLUMN()-1)),G105)","v":"PRODUCT_DESCRIPTION VARCHAR2(50) NOT NULL DEFAULT 'Unknown',\r"},"PRODUCT_DESCRIPTION VARCHAR2(50) NOT NULL DEFAULT 'Unknown',\rPRODUCT_TYPE VARCHAR2(40) DEFAULT 'N/A',\r","PRODUCT_DESCRIPTION VARCHAR2(50) NOT NULL DEFAULT 'Unknown',\rPRODUCT_TYPE VARCHAR2(40) DEFAULT 'N/A',\rSUBCATEGORY VARCHAR2(40) DEFAULT 'N/A',\r","PRODUCT_DESCRIPTION VARCHAR2(50) NOT NULL DEFAULT 'Unknown',\rPRODUCT_TYPE VARCHAR2(40) DEFAULT 'N/A',\rSUBCATEGORY VARCHAR2(40) DEFAULT 'N/A',\r","PRODUCT_DESCRIPTION VARCHAR2(50) NOT NULL DEFAULT 'Unknown',\rPRODUCT_TYPE VARCHAR2(40) DEFAULT 'N/A',\rSUBCATEGORY VARCHAR2(40) DEFAULT 'N/A',\rLAUNCH_DATE DATE DEFAULT '00/01/2000',\r","PRODUCT_DESCRIPTION VARCHAR2(50) NOT NULL DEFAULT 'Unknown',\rPRODUCT_TYPE VARCHAR2(40) DEFAULT 'N/A',\rSUBCATEGORY VARCHAR2(40) DEFAULT 'N/A',\rLAUNCH_DATE DATE DEFAULT '00/01/2000',\r","PRODUCT_DESCRIPTION VARCHAR2(50) NOT NULL DEFAULT 'Unknown',\rPRODUCT_TYPE VARCHAR2(40) DEFAULT 'N/A',\rSUBCATEGORY VARCHAR2(40) DEFAULT 'N/A',\rLAUNCH_DATE DATE DEFAULT '00/01/2000',\r","PRODUCT_DESCRIPTION VARCHAR2(50) NOT NULL DEFAULT 'Unknown',\rPRODUCT_TYPE VARCHAR2(40) DEFAULT 'N/A',\rSUBCATEGORY VARCHAR2(40) DEFAULT 'N/A',\rLAUNCH_DATE DATE DEFAULT '00/01/2000',\r","PRODUCT_DESCRIPTION VARCHAR2(50) NOT NULL DEFAULT 'Unknown',\rPRODUCT_TYPE VARCHAR2(40) DEFAULT 'N/A',\rSUBCATEGORY VARCHAR2(40) DEFAULT 'N/A',\rLAUNCH_DATE DATE DEFAULT '00/01/2000',\r","PRODUCT_DESCRIPTION VARCHAR2(50) NOT NULL DEFAULT 'Unknown',\rPRODUCT_TYPE VARCHAR2(40) DEFAULT 'N/A',\rSUBCATEGORY VARCHAR2(40) DEFAULT 'N/A',\rLAUNCH_DATE DATE DEFAULT '00/01/2000',\r","PRODUCT_DESCRIPTION VARCHAR2(50) NOT NULL DEFAULT 'Unknown',\rPRODUCT_TYPE VARCHAR2(40) DEFAULT 'N/A',\rSUBCATEGORY VARCHAR2(40) DEFAULT 'N/A',\rLAUNCH_DATE DATE DEFAULT '00/01/2000',\r","PRODUCT_DESCRIPTION VARCHAR2(50) NOT NULL DEFAULT 'Unknown',\rPRODUCT_TYPE VARCHAR2(40) DEFAULT 'N/A',\rSUBCATEGORY VARCHAR2(40) DEFAULT 'N/A',\rLAUNCH_DATE DATE DEFAULT '00/01/2000',\r","PRODUCT_DESCRIPTION VARCHAR2(50) NOT NULL DEFAULT 'Unknown',\rPRODUCT_TYPE VARCHAR2(40) DEFAULT 'N/A',\rSUBCATEGORY VARCHAR2(40) DEFAULT 'N/A',\rLAUNCH_DATE DATE DEFAULT '00/01/2000',\r"]
[]
[null,null,"Column Comments",null,null,{"$f":"IF(LEN(F83)=0,\"\",SUBSTITUTE(SUBSTITUTE(SUBSTITUTE(Settings!$B$39,\"&Table\",$F$45),\"&Column\",F72),\"&BEAMColumnCodes\",F83))","v":"Comment on Column PRODUCT.PRODUCT_DESCRIPTION is 'MD';\r"},{"$f":"IF(LEN(G83)=0,\"\",SUBSTITUTE(SUBSTITUTE(SUBSTITUTE(Settings!$B$39,\"&Table\",$F$45),\"&Column\",G72),\"&BEAMColumnCodes\",G83))","v":"Comment on Column PRODUCT.PRODUCT_CODE is 'BK, NN';\r"},{"$f":"IF(LEN(H83)=0,\"\",SUBSTITUTE(SUBSTITUTE(SUBSTITUTE(Settings!$B$39,\"&Table\",$F$45),\"&Column\",H72),\"&BEAMColumnCodes\",H83))","v":""},{"$f":"IF(LEN(I83)=0,\"\",SUBSTITUTE(SUBSTITUTE(SUBSTITUTE(Settings!$B$39,\"&Table\",$F$45),\"&Column\",I72),\"&BEAMColumnCodes\",I83))","v":""},{"$f":"IF(LEN(J83)=0,\"\",SUBSTITUTE(SUBSTITUTE(SUBSTITUTE(Settings!$B$39,\"&Table\",$F$45),\"&Column\",J72),\"&BEAMColumnCodes\",J83))","v":""},{"$f":"IF(LEN(K83)=0,\"\",SUBSTITUTE(SUBSTITUTE(SUBSTITUTE(Settings!$B$39,\"&Table\",$F$45),\"&Column\",K72),\"&BEAMColumnCodes\",K83))","v":"Comment on Column PRODUCT.LAUNCH_DATE is 'FV';\r"},{"$f":"IF(LEN(L83)=0,\"\",SUBSTITUTE(SUBSTITUTE(SUBSTITUTE(Settings!$B$39,\"&Table\",$F$45),\"&Column\",L72),\"&BEAMColumnCodes\",L83))","v":""},{"$f":"IF(LEN(M83)=0,\"\",SUBSTITUTE(SUBSTITUTE(SUBSTITUTE(Settings!$B$39,\"&Table\",$F$45),\"&Column\",M72),\"&BEAMColumnCodes\",M83))","v":""},{"$f":"IF(LEN(N83)=0,\"\",SUBSTITUTE(SUBSTITUTE(SUBSTITUTE(Settings!$B$39,\"&Table\",$F$45),\"&Column\",N72),\"&BEAMColumnCodes\",N83))","v":""},{"$f":"IF(LEN(O83)=0,\"\",SUBSTITUTE(SUBSTITUTE(SUBSTITUTE(Settings!$B$39,\"&Table\",$F$45),\"&Column\",O72),\"&BEAMColumnCodes\",O83))","v":""},{"$f":"IF(LEN(P83)=0,\"\",SUBSTITUTE(SUBSTITUTE(SUBSTITUTE(Settings!$B$39,\"&Table\",$F$45),\"&Column\",P72),\"&BEAMColumnCodes\",P83))","v":""},{"$f":"IF(LEN(Q83)=0,\"\",SUBSTITUTE(SUBSTITUTE(SUBSTITUTE(Settings!$B$39,\"&Table\",$F$45),\"&Column\",Q72),\"&BEAMColumnCodes\",Q83))","v":""},{"$f":"IF(LEN(R83)=0,\"\",SUBSTITUTE(SUBSTITUTE(SUBSTITUTE(Settings!$B$39,\"&Table\",$F$45),\"&Column\",R72),\"&BEAMColumnCodes\",R83))","v":""},{"$f":"IF(LEN(S83)=0,\"\",SUBSTITUTE(SUBSTITUTE(SUBSTITUTE(Settings!$B$39,\"&Table\",$F$45),\"&Column\",S72),\"&BEAMColumnCodes\",S83))","v":""}]
[null,null,"Column Comments List",null,null,{"$f":"F109","v":"Comment on Column PRODUCT.PRODUCT_DESCRIPTION is 'MD';\r"},{"$f":"CONCATENATE(INDIRECT(ADDRESS(ROW(),COLUMN()-1)),G109)","v":"Comment on Column PRODUCT.PRODUCT_DESCRIPTION is 'MD';\rComment on Column PRODUCT.PRODUCT_CODE is 'BK, NN';\r"},{"$f":"CONCATENATE(INDIRECT(ADDRESS(ROW(),COLUMN()-1)),H109)","v":"Comment on Column PRODUCT.PRODUCT_DESCRIPTION is 'MD';\rComment on Column PRODUCT.PRODUCT_CODE is 'BK, NN';\r"},"Comment on Column PRODUCT.PRODUCT_DESCRIPTION is 'MD';\rComment on Column PRODUCT.PRODUCT_CODE is 'BK, NN';\r","Comment on Column PRODUCT.PRODUCT_DESCRIPTION is 'MD';\rComment on Column PRODUCT.PRODUCT_CODE is 'BK, NN';\r","Comment on Column PRODUCT.PRODUCT_DESCRIPTION is 'MD';\rComment on Column PRODUCT.PRODUCT_CODE is 'BK, NN';\rComment on Column PRODUCT.LAUNCH_DATE is 'FV';\r","Comment on Column PRODUCT.PRODUCT_DESCRIPTION is 'MD';\rComment on Column PRODUCT.PRODUCT_CODE is 'BK, NN';\rComment on Column PRODUCT.LAUNCH_DATE is 'FV';\r","Comment on Column PRODUCT.PRODUCT_DESCRIPTION is 'MD';\rComment on Column PRODUCT.PRODUCT_CODE is 'BK, NN';\rComment on Column PRODUCT.LAUNCH_DATE is 'FV';\r","Comment on Column PRODUCT.PRODUCT_DESCRIPTION is 'MD';\rComment on Column PRODUCT.PRODUCT_CODE is 'BK, NN';\rComment on Column PRODUCT.LAUNCH_DATE is 'FV';\r","Comment on Column PRODUCT.PRODUCT_DESCRIPTION is 'MD';\rComment on Column PRODUCT.PRODUCT_CODE is 'BK, NN';\rComment on Column PRODUCT.LAUNCH_DATE is 'FV';\r","Comment on Column PRODUCT.PRODUCT_DESCRIPTION is 'MD';\rComment on Column PRODUCT.PRODUCT_CODE is 'BK, NN';\rComment on Column PRODUCT.LAUNCH_DATE is 'FV';\r","Comment on Column PRODUCT.PRODUCT_DESCRIPTION is 'MD';\rComment on Column PRODUCT.PRODUCT_CODE is 'BK, NN';\rComment on Column PRODUCT.LAUNCH_DATE is 'FV';\r","Comment on Column PRODUCT.PRODUCT_DESCRIPTION is 'MD';\rComment on Column PRODUCT.PRODUCT_CODE is 'BK, NN';\rComment on Column PRODUCT.LAUNCH_DATE is 'FV';\r",{"$f":"CONCATENATE(INDIRECT(ADDRESS(ROW(),COLUMN()-1)),S109)","v":"Comment on Column PRODUCT.PRODUCT_DESCRIPTION is 'MD';\rComment on Column PRODUCT.PRODUCT_CODE is 'BK, NN';\rComment on Column PRODUCT.LAUNCH_DATE is 'FV';\r"}]
[]
[null,null,"Column Index",null,null,{"$f":"IF(AND(F57<>\"Y\",$F$55=\"Fact\",F59=\"Y\"),CHAR(13)& SUBSTITUTE(SUBSTITUTE(SUBSTITUTE(SUBSTITUTE(Settings!$B$45,\"&BEAMColumn\",F71),\"&BEAMTable\",$F$44),\"&Column\", F72),\"&Table\",$F$45),\"\")","v":""},{"$f":"IF(AND(G57<>\"Y\",$F$55=\"Fact\",G59=\"Y\"),CHAR(13)& SUBSTITUTE(SUBSTITUTE(SUBSTITUTE(SUBSTITUTE(Settings!$B$45,\"&BEAMColumn\",G71),\"&BEAMTable\",$F$44),\"&Column\", G72),\"&Table\",$F$45),\"\")","v":""},{"$f":"IF(AND(H57<>\"Y\",$F$55=\"Fact\",H59=\"Y\"),CHAR(13)& SUBSTITUTE(SUBSTITUTE(SUBSTITUTE(SUBSTITUTE(Settings!$B$45,\"&BEAMColumn\",H71),\"&BEAMTable\",$F$44),\"&Column\", H72),\"&Table\",$F$45),\"\")","v":""},{"$f":"IF(AND(I57<>\"Y\",$F$55=\"Fact\",I59=\"Y\"),CHAR(13)& SUBSTITUTE(SUBSTITUTE(SUBSTITUTE(SUBSTITUTE(Settings!$B$45,\"&BEAMColumn\",I71),\"&BEAMTable\",$F$44),\"&Column\", I72),\"&Table\",$F$45),\"\")","v":""},{"$f":"IF(AND(J57<>\"Y\",$F$55=\"Fact\",J59=\"Y\"),CHAR(13)& SUBSTITUTE(SUBSTITUTE(SUBSTITUTE(SUBSTITUTE(Settings!$B$45,\"&BEAMColumn\",J71),\"&BEAMTable\",$F$44),\"&Column\", J72),\"&Table\",$F$45),\"\")","v":""},{"$f":"IF(AND(K57<>\"Y\",$F$55=\"Fact\",K59=\"Y\"),CHAR(13)& SUBSTITUTE(SUBSTITUTE(SUBSTITUTE(SUBSTITUTE(Settings!$B$45,\"&BEAMColumn\",K71),\"&BEAMTable\",$F$44),\"&Column\", K72),\"&Table\",$F$45),\"\")","v":""},{"$f":"IF(AND(L57<>\"Y\",$F$55=\"Fact\",L59=\"Y\"),CHAR(13)& SUBSTITUTE(SUBSTITUTE(SUBSTITUTE(SUBSTITUTE(Settings!$B$45,\"&BEAMColumn\",L71),\"&BEAMTable\",$F$44),\"&Column\", L72),\"&Table\",$F$45),\"\")","v":""},{"$f":"IF(AND(M57<>\"Y\",$F$55=\"Fact\",M59=\"Y\"),CHAR(13)& SUBSTITUTE(SUBSTITUTE(SUBSTITUTE(SUBSTITUTE(Settings!$B$45,\"&BEAMColumn\",M71),\"&BEAMTable\",$F$44),\"&Column\", M72),\"&Table\",$F$45),\"\")","v":""},{"$f":"IF(AND(N57<>\"Y\",$F$55=\"Fact\",N59=\"Y\"),CHAR(13)& SUBSTITUTE(SUBSTITUTE(SUBSTITUTE(SUBSTITUTE(Settings!$B$45,\"&BEAMColumn\",N71),\"&BEAMTable\",$F$44),\"&Column\", N72),\"&Table\",$F$45),\"\")","v":""},{"$f":"IF(AND(O57<>\"Y\",$F$55=\"Fact\",O59=\"Y\"),CHAR(13)& SUBSTITUTE(SUBSTITUTE(SUBSTITUTE(SUBSTITUTE(Settings!$B$45,\"&BEAMColumn\",O71),\"&BEAMTable\",$F$44),\"&Column\", O72),\"&Table\",$F$45),\"\")","v":""},{"$f":"IF(AND(P57<>\"Y\",$F$55=\"Fact\",P59=\"Y\"),CHAR(13)& SUBSTITUTE(SUBSTITUTE(SUBSTITUTE(SUBSTITUTE(Settings!$B$45,\"&BEAMColumn\",P71),\"&BEAMTable\",$F$44),\"&Column\", P72),\"&Table\",$F$45),\"\")","v":""},{"$f":"IF(AND(Q57<>\"Y\",$F$55=\"Fact\",Q59=\"Y\"),CHAR(13)& SUBSTITUTE(SUBSTITUTE(SUBSTITUTE(SUBSTITUTE(Settings!$B$45,\"&BEAMColumn\",Q71),\"&BEAMTable\",$F$44),\"&Column\", Q72),\"&Table\",$F$45),\"\")","v":""},{"$f":"IF(AND(R57<>\"Y\",$F$55=\"Fact\",R59=\"Y\"),CHAR(13)& SUBSTITUTE(SUBSTITUTE(SUBSTITUTE(SUBSTITUTE(Settings!$B$45,\"&BEAMColumn\",R71),\"&BEAMTable\",$F$44),\"&Column\", R72),\"&Table\",$F$45),\"\")","v":""},{"$f":"IF(AND(S57<>\"Y\",$F$55=\"Fact\",S59=\"Y\"),CHAR(13)& SUBSTITUTE(SUBSTITUTE(SUBSTITUTE(SUBSTITUTE(Settings!$B$45,\"&BEAMColumn\",S71),\"&BEAMTable\",$F$44),\"&Column\", S72),\"&Table\",$F$45),\"\")","v":""}]
[null,null,"Index List",null,null,{"$f":"F112","v":""},{"$f":"CONCATENATE(INDIRECT(ADDRESS(ROW(),COLUMN()-1)),G112)","v":""},{"$f":"CONCATENATE(INDIRECT(ADDRESS(ROW(),COLUMN()-1)),H112)","v":""},"","","","","","","","","","",{"$f":"CONCATENATE(INDIRECT(ADDRESS(ROW(),COLUMN()-1)),S112)","v":""}]
[]
[]
[{"$nulls":5},"SQL","Visable Display Columns","Viable Key Codes"]
[null,null,"Raw Key Lists (Array functions)",null,null,{"$f":"INDEX(F106:S106,MATCH(MAX(LEN(F106:S106)),LEN(F106:S106),0))","v":"PRODUCT_CODE VARCHAR2(15) NOT NULL DEFAULT 'Missing',\r"},{"$f":"INDEX(F78:S78,MATCH(MAX(LEN(F78:S78)),LEN(F78:S78),0))","v":"PRODUCT_CODE\r"},{"$f":"INDEX(F91:S91,MATCH(MAX(LEN(F91:S91)),LEN(F91:S91),0))","v":" BK, NN \r"}]
[null,null,"Raw Non-key Lists",null,null,{"$f":"INDEX(F107:S107,MATCH(MAX(LEN(F107:S107)),LEN(F107:S107),0))","v":"PRODUCT_DESCRIPTION VARCHAR2(50) NOT NULL DEFAULT 'Unknown',\rPRODUCT_TYPE VARCHAR2(40) DEFAULT 'N/A',\rSUBCATEGORY VARCHAR2(40) DEFAULT 'N/A',\rLAUNCH_DATE DATE DEFAULT '00/01/2000',\r"},{"$f":"INDEX(F82:S82,MATCH(MAX(LEN(F82:S82)),LEN(F82:S82),0))","v":"PRODUCT_CODE\r\rPRODUCT_DESCRIPTION\rPRODUCT_TYPE\rSUBCATEGORY\rLAUNCH_DATE\r"},{"$f":"INDEX(F93:S93,MATCH(MAX(LEN(F93:S93)),LEN(F93:S93),0))","v":" BK, NN \r\r MD \r\r\r FV \r"}]
[null,null,"All Column codes (hidden and visable)",null,null,{"$f":"INDEX(F84:S84,MATCH(MAX(LEN(F84:S84)),LEN(F84:S84),0))","v":"MD, BK, NN, , , , FV, , , , , , , , "}]
[null,null,"Add Auto Surrogate Key to Dimension Key Column list if no explicitely SK defined",null,null,{"$f":"IF(AND($F$55=\"Dimension\",ISERROR(FIND(\"SK\",$F$119))),\"Y\",\"\")","v":"Y"}]
[null,null,"Auto Surrogate Key Processing",null,null,{"$f":"IF($F$120=\"Y\", CONCATENATE(Settings!$B$12,\" \", Settings!B19, \",\",CHAR(13), F117),  F117)","v":"&Table_KEY INTEGER NOT NULL DEFAULT 0,\rPRODUCT_CODE VARCHAR2(15) NOT NULL DEFAULT 'Missing',\r"},{"$f":"IF(AND($F$120=\"Y\", Settings!$B$42<>\"Y\"), CONCATENATE(Settings!$B$12,CHAR(13), IF(LEN(G117)=0,CHAR(13),\"\"), G118),  G118)","v":"&Table_KEY\rPRODUCT_CODE\r\rPRODUCT_DESCRIPTION\rPRODUCT_TYPE\rSUBCATEGORY\rLAUNCH_DATE\r"},{"$f":"IF(AND($F$120=\"Y\", Settings!$B$42<>\"Y\"), CONCATENATE(SUBSTITUTE(Settings!$B$41,\"&BEAMColumnCodes\",\"SK\"),CHAR(13), IF(LEN($H$117)=0,CHAR(13),\"\"), $H$118),  $H$118)","v":" SK \r BK, NN \r\r MD \r\r\r FV \r"}]
[null,null,"Add Key and Non-Key Column Lists",null,null,{"$f":"F121 & F118","v":"&Table_KEY INTEGER NOT NULL DEFAULT 0,\rPRODUCT_CODE VARCHAR2(15) NOT NULL DEFAULT 'Missing',\rPRODUCT_DESCRIPTION VARCHAR2(50) NOT NULL DEFAULT 'Unknown',\rPRODUCT_TYPE VARCHAR2(40) DEFAULT 'N/A',\rSUBCATEGORY VARCHAR2(40) DEFAULT 'N/A',\rLAUNCH_DATE DATE DEFAULT '00/01/2000',\r"}]
[null,null,"Remove trailing comma and <CR> from Column List. \n\nEmpty if no valid SQL columns",null,null,{"$f":"IF(LEN($F$122)=0,\"\",LEFT(F122,LEN(F122)-2))","v":"&Table_KEY INTEGER NOT NULL DEFAULT 0,\rPRODUCT_CODE VARCHAR2(15) NOT NULL DEFAULT 'Missing',\rPRODUCT_DESCRIPTION VARCHAR2(50) NOT NULL DEFAULT 'Unknown',\rPRODUCT_TYPE VARCHAR2(40) DEFAULT 'N/A',\rSUBCATEGORY VARCHAR2(40) DEFAULT 'N/A',\rLAUNCH_DATE DATE DEFAULT '00/01/2000'"}]
[null,null,"Add DDL Comment Create Table Clause",null,null,{"$f":"CONCATENATE(Settings!B3, \" DDL for \", F54, \" &Table generated by BEAM*Modelstormer \", $F$43, \" on \", TEXT(NOW(),\"d mmm yyyy at hh:mm\"), \" \", Settings!B4, CHAR(13), CHAR(13), F56, Settings!B11, F123)","v":"/* DDL for Historic Value Dimenson (SCD Type 2) &Table generated by BEAM*Modelstormer 0.97C on 22 May 2017 at 19:16 */\r\rCREATE TABLE PRODUCT\r(&Table_KEY INTEGER NOT NULL DEFAULT 0,\rPRODUCT_CODE VARCHAR2(15) NOT NULL DEFAULT 'Missing',\rPRODUCT_DESCRIPTION VARCHAR2(50) NOT NULL DEFAULT 'Unknown',\rPRODUCT_TYPE VARCHAR2(40) DEFAULT 'N/A',\rSUBCATEGORY VARCHAR2(40) DEFAULT 'N/A',\rLAUNCH_DATE DATE DEFAULT '00/01/2000'"}]
[null,null,"Add Admin Attributes if table is a HV dimension",null,null,{"$f":"IF(AND($F$55=\"Dimension\",NOT(ISERROR(FIND(\"HV\",$F$50)))),\"Y\",\"\")","v":"Y"}]
[null,null,"Adding Admin Attributes. \n\nEnd column list in SQL",null,null,{"$f":"IF($F$125=\"Y\",$F$124 & Settings!$B$29 & Settings!$B$33, $F$124 & Settings!$B$33)","v":"/* DDL for Historic Value Dimenson (SCD Type 2) &Table generated by BEAM*Modelstormer 0.97C on 22 May 2017 at 19:16 */\r\rCREATE TABLE PRODUCT\r(&Table_KEY INTEGER NOT NULL DEFAULT 0,\rPRODUCT_CODE VARCHAR2(15) NOT NULL DEFAULT 'Missing',\rPRODUCT_DESCRIPTION VARCHAR2(50) NOT NULL DEFAULT 'Unknown',\rPRODUCT_TYPE VARCHAR2(40) DEFAULT 'N/A',\rSUBCATEGORY VARCHAR2(40) DEFAULT 'N/A',\rLAUNCH_DATE DATE DEFAULT '00/01/2000', \rEFFECTIVE_DATE DATETIME NOT NULL, \rEND_DATE DATETIME NOT NULL DEFAULT '9999-12-31', \rCURRENT_IND CHAR(1) NOT NULL DEFAULT 'Y' CHECK (CURRENT_IND IN ('Y', 'N')))"},{"$f":"IF($F$125<>\"Y\", $G$121, IF(LEN($G$121) + LEN(Settings!$B$30)<254,$G$121 & Settings!$B$30, $G$121 & \"…\"))","v":"&Table_KEY\rPRODUCT_CODE\r\rPRODUCT_DESCRIPTION\rPRODUCT_TYPE\rSUBCATEGORY\rLAUNCH_DATE\r\rEFFECTIVE_DATE \rEND_DATE\rCURRENT_IND"},{"$f":"IF(AND($F$125=\"Y\", LEN($G$121)+LEN(Settings!$B$30)<254), $H$121 & Settings!$B$31, $H$121)","v":" SK \r BK, NN \r\r MD \r\r\r FV \r\r \r\r[Y/N]"}]
[null,null,"Add Create Table options below column list and <Statement End>",null,null,{"$f":"TRIM(F126 & IF(AND($F$55=\"Dimension\", LEN(Settings!$B$35)<>0), CHAR(13) & Settings!B35,IF(AND($F$55=\"Fact\", LEN(Settings!$B$34)<>0), CHAR(13) & Settings!B34, \"\")) & Settings!$B$36)","v":"/* DDL for Historic Value Dimenson (SCD Type 2) &Table generated by BEAM*Modelstormer 0.97C on 22 May 2017 at 19:16 */\r\rCREATE TABLE PRODUCT\r(&Table_KEY INTEGER NOT NULL DEFAULT 0,\rPRODUCT_CODE VARCHAR2(15) NOT NULL DEFAULT 'Missing',\rPRODUCT_DESCRIPTION VARCHAR2(50) NOT NULL DEFAULT 'Unknown',\rPRODUCT_TYPE VARCHAR2(40) DEFAULT 'N/A',\rSUBCATEGORY VARCHAR2(40) DEFAULT 'N/A',\rLAUNCH_DATE DATE DEFAULT '00/01/2000', \rEFFECTIVE_DATE DATETIME NOT NULL, \rEND_DATE DATETIME NOT NULL DEFAULT '9999-12-31', \rCURRENT_IND CHAR(1) NOT NULL DEFAULT 'Y' CHECK (CURRENT_IND IN ('Y', 'N')));\r"}]
[null,null,"SK Column List (array formulae)",null,null,{"$f":"INDEX(F87:S87,MATCH(MAX(LEN(F87:S87)),LEN(F87:S87),0))","v":""}]
[null,null,"Create Key Column CSV List",null,null,{"$f":"IF($F$120=\"Y\",SUBSTITUTE(Settings!$B$12,\"&Table\",$F$45),IF(LEN($F$128)=0,\"\",LEFT($F$128,LEN($F$128)-2)))","v":"PRODUCT_KEY"}]
[null,null,"Add Dimension Constraint/Index if necessary",null,null,{"$f":"F127 & IF(AND($F$55=\"Dimension\", LEN(Settings!$B$46)<>0), CHAR(13) & Settings!$B$46 & CHAR(13),\"\")","v":"/* DDL for Historic Value Dimenson (SCD Type 2) &Table generated by BEAM*Modelstormer 0.97C on 22 May 2017 at 19:16 */\r\rCREATE TABLE PRODUCT\r(&Table_KEY INTEGER NOT NULL DEFAULT 0,\rPRODUCT_CODE VARCHAR2(15) NOT NULL DEFAULT 'Missing',\rPRODUCT_DESCRIPTION VARCHAR2(50) NOT NULL DEFAULT 'Unknown',\rPRODUCT_TYPE VARCHAR2(40) DEFAULT 'N/A',\rSUBCATEGORY VARCHAR2(40) DEFAULT 'N/A',\rLAUNCH_DATE DATE DEFAULT '00/01/2000', \rEFFECTIVE_DATE DATETIME NOT NULL, \rEND_DATE DATETIME NOT NULL DEFAULT '9999-12-31', \rCURRENT_IND CHAR(1) NOT NULL DEFAULT 'Y' CHECK (CURRENT_IND IN ('Y', 'N')));\r\rALTER TABLE &Table ADD CONSTRAINT C_&Table_PK PRIMARY KEY (&KeyColumns);\r"}]
[null,null,"Substitute Table Name for &Table. Key Column List for &KeyColumns\n\n",null,null,{"$f":"SUBSTITUTE(SUBSTITUTE($F$130, \"&Table\", $F$45),\"&KeyColumns\",$F$129)","v":"/* DDL for Historic Value Dimenson (SCD Type 2) PRODUCT generated by BEAM*Modelstormer 0.97C on 22 May 2017 at 19:16 */\r\rCREATE TABLE PRODUCT\r(PRODUCT_KEY INTEGER NOT NULL DEFAULT 0,\rPRODUCT_CODE VARCHAR2(15) NOT NULL DEFAULT 'Missing',\rPRODUCT_DESCRIPTION VARCHAR2(50) NOT NULL DEFAULT 'Unknown',\rPRODUCT_TYPE VARCHAR2(40) DEFAULT 'N/A',\rSUBCATEGORY VARCHAR2(40) DEFAULT 'N/A',\rLAUNCH_DATE DATE DEFAULT '00/01/2000', \rEFFECTIVE_DATE DATETIME NOT NULL, \rEND_DATE DATETIME NOT NULL DEFAULT '9999-12-31', \rCURRENT_IND CHAR(1) NOT NULL DEFAULT 'Y' CHECK (CURRENT_IND IN ('Y', 'N')));\r\rALTER TABLE PRODUCT ADD CONSTRAINT C_PRODUCT_PK PRIMARY KEY (PRODUCT_KEY);\r"},{"$f":"SUBSTITUTE(G126, \"&Table\", $F$45)","v":"PRODUCT_KEY\rPRODUCT_CODE\r\rPRODUCT_DESCRIPTION\rPRODUCT_TYPE\rSUBCATEGORY\rLAUNCH_DATE\r\rEFFECTIVE_DATE \rEND_DATE\rCURRENT_IND"}]
[null,null,"Logical Column Names in Diagram List if required",{"$nulls":3},{"$f":"IF(Settings!$B$44=\"Y\", PROPER(SUBSTITUTE(G131,\"_\",\" \")), F131)","v":"Product Key\rProduct Code\r\rProduct Description\rProduct Type\rSubcategory\rLaunch Date\r\rEffective Date \rEnd Date\rCurrent Ind"}]
[null,null,"Column Comments (Array Function)",null,null,{"$f":"INDEX(F110:S110,MATCH(MAX(LEN(F110:S110)),LEN(F110:S110),0))","v":"Comment on Column PRODUCT.PRODUCT_DESCRIPTION is 'MD';\rComment on Column PRODUCT.PRODUCT_CODE is 'BK, NN';\rComment on Column PRODUCT.LAUNCH_DATE is 'FV';\r"}]
[null,null,"Comment on Auto SK",null,null,{"$f":"IF($F$120=\"Y\",SUBSTITUTE(SUBSTITUTE(SUBSTITUTE(Settings!$B$39,\"&Column\", Settings!$B$12),\"&Table\",$F$45),\"&BEAMColumnCodes\",\"SK\"),\"\")","v":"Comment on Column PRODUCT.PRODUCT_KEY is 'SK';\r"}]
[null,null,"Comments on Admin Attributes",null,null,{"$f":"IF($F$125=\"Y\", SUBSTITUTE(Settings!B32, \"&Table\", $F$45), \"\")","v":"Comment on Column PRODUCT.CURRENT_IND is '[Y/N]';\r"}]
[null,null,"Table and Column Comments if comment option is \"Y\"",null,null,{"$f":"IF(Settings!$B$37=\"Y\", CHAR(13) & $F$52 & $F$134 & $F$133 & $F$135, \"\")","v":"\rComment on Table PRODUCT is 'HV';\rComment on Column PRODUCT.PRODUCT_KEY is 'SK';\rComment on Column PRODUCT.PRODUCT_DESCRIPTION is 'MD';\rComment on Column PRODUCT.PRODUCT_CODE is 'BK, NN';\rComment on Column PRODUCT.LAUNCH_DATE is 'FV';\rComment on Column PRODUCT.CURRENT_IND is '[Y/N]';\r"}]
[null,null,"Fact table Indices (Array Function)",null,null,{"$f":"INDEX(F113:S113,MATCH(MAX(LEN(F113:S113)),LEN(F113:S113),0))","v":""}]
[null,null,"Add Indices and Comments to SQL",null,null,{"$f":"CONCATENATE(F131, F137, IF(LEN(F137)<>0, CHAR(13),\"\"), F136)","v":"/* DDL for Historic Value Dimenson (SCD Type 2) PRODUCT generated by BEAM*Modelstormer 0.97C on 22 May 2017 at 19:16 */\r\rCREATE TABLE PRODUCT\r(PRODUCT_KEY INTEGER NOT NULL DEFAULT 0,\rPRODUCT_CODE VARCHAR2(15) NOT NULL DEFAULT 'Missing',\rPRODUCT_DESCRIPTION VARCHAR2(50) NOT NULL DEFAULT 'Unknown',\rPRODUCT_TYPE VARCHAR2(40) DEFAULT 'N/A',\rSUBCATEGORY VARCHAR2(40) DEFAULT 'N/A',\rLAUNCH_DATE DATE DEFAULT '00/01/2000', \rEFFECTIVE_DATE DATETIME NOT NULL, \rEND_DATE DATETIME NOT NULL DEFAULT '9999-12-31', \rCURRENT_IND CHAR(1) NOT NULL DEFAULT 'Y' CHECK (CURRENT_IND IN ('Y', 'N')));\r\rALTER TABLE PRODUCT ADD CONSTRAINT C_PRODUCT_PK PRIMARY KEY (PRODUCT_KEY);\r\rComment on Table PRODUCT is 'HV';\rComment on Column PRODUCT.PRODUCT_KEY is 'SK';\rComment on Column PRODUCT.PRODUCT_DESCRIPTION is 'MD';\rComment on Column PRODUCT.PRODUCT_CODE is 'BK, NN';\rComment on Column PRODUCT.LAUNCH_DATE is 'FV';\rComment on Column PRODUCT.CURRENT_IND is '[Y/N]';\r"}]
[null,null,"Finished SQL DLL\n\nContains instruction to add columns if column list is empty",null,null,{"$f":"IF(LEN($F$123)= 0, \"Add column names in F6 to EY6 to generate SQL DDL\", $F$138)","v":"/* DDL for Historic Value Dimenson (SCD Type 2) PRODUCT generated by BEAM*Modelstormer 0.97C on 22 May 2017 at 19:16 */\r\rCREATE TABLE PRODUCT\r(PRODUCT_KEY INTEGER NOT NULL DEFAULT 0,\rPRODUCT_CODE VARCHAR2(15) NOT NULL DEFAULT 'Missing',\rPRODUCT_DESCRIPTION VARCHAR2(50) NOT NULL DEFAULT 'Unknown',\rPRODUCT_TYPE VARCHAR2(40) DEFAULT 'N/A',\rSUBCATEGORY VARCHAR2(40) DEFAULT 'N/A',\rLAUNCH_DATE DATE DEFAULT '00/01/2000', \rEFFECTIVE_DATE DATETIME NOT NULL, \rEND_DATE DATETIME NOT NULL DEFAULT '9999-12-31', \rCURRENT_IND CHAR(1) NOT NULL DEFAULT 'Y' CHECK (CURRENT_IND IN ('Y', 'N')));\r\rALTER TABLE PRODUCT ADD CONSTRAINT C_PRODUCT_PK PRIMARY KEY (PRODUCT_KEY);\r\rComment on Table PRODUCT is 'HV';\rComment on Column PRODUCT.PRODUCT_KEY is 'SK';\rComment on Column PRODUCT.PRODUCT_DESCRIPTION is 'MD';\rComment on Column PRODUCT.PRODUCT_CODE is 'BK, NN';\rComment on Column PRODUCT.LAUNCH_DATE is 'FV';\rComment on Column PRODUCT.CURRENT_IND is '[Y/N]';\r"}]
[]
[{"$nulls":5},{"$f":"MAX(LEN(G106:R106))","v":54}]
[]
[]
[{"$nulls":5},"Agile Data Warehouse Design",null,"www.modelstorming.com"]

{"sheet":"Empty Table","index":4,"n_rows":144,"n_cols":155,"rows_kept":144,"merged":[[30,5,35,12],[76,2,76,4],[116,46,116,49]]}
[null,null,"Guide"]
[null,null," 'Detail about Detail' scratchpad"]
[]
[null,null,"Table | Codes | Description"]
[null,null,"verb | preposition"]
[null,null,"Column Names"]
[null,null,"Column Codes"]
[null,null,"Source"]
[null,null,"Data Type Length.Precision"]
[null,null,"Example Data",null,"Typical"]
[{"$nulls":4},"Different"]
[{"$nulls":4},"Repeat"]
[{"$nulls":4},"Missing"]
[{"$nulls":4},"Range"]
[{"$nulls":4},"Change"]
[]
[]
[]
[null,null,"Data Profiling Results",null,"Sample Count"]
[{"$nulls":4},"Missing"]
[{"$nulls":4},"Unique Values"]
[{"$nulls":4},"Min Value"]
[{"$nulls":4},"Min Count"]
[{"$nulls":4},"Max Value"]
[{"$nulls":4},"Max Count"]
[{"$nulls":4},"Min Length"]
[{"$nulls":4},"Max Length"]
[]
[]
[]
[null,null,"SQL DDL",null,null,{"$f":"F139","v":"Add column names in F6 to EY6 to generate SQL DDL"}]
[]
[]
[]
[]
[]
[]
[null,null,"Formula Key",null,null,"Table Level Formula"]
[{"$nulls":5},"Column Level Formula"]
[{"$nulls":5},"Column Level Formula (different)"]
[{"$nulls":5},"Array Formula"]
[]
[null,null,"Version",null,null,{"$f":"Settings!$B$47","v":"0.97C"}]
[null,null,"BEAM SQL Table",null,null,{"$f":"SUBSTITUTE(TRIM(UPPER($F$4)), \" \", \"_\")","v":""}]
[null,null,"SQL Table Name",null,null,{"$f":"IF(LEN(TRIM($F$4))=0, \"[ Fill in Table Name in F4 ]\", TRIM(SUBSTITUTE(IF($F$55=\"Fact\", Settings!$B$6, Settings!$B$7), \"&BEAMTable\", $F$44)))","v":"[ Fill in Table Name in F4 ]"}]
[null,null,"Trimmed Table Code",null,null,{"$f":"IF(LEN(TRIM($F$4))=0, \"\", TRIM(G4))","v":""}]
[null,null,"Start Table Source ({ symbol)",null,null,{"$f":"FIND(\"{\",F46)","v":{"$error":"#VALUE!"}}]
[null,null,"End Table Source (} symbol)",null,null,{"$f":"FIND(\"}\",F46)","v":{"$error":"#VALUE!"}}]
[null,null,"Table Source",null,null,{"$f":"MID(F46,F47,F48-F47+1)","v":{"$error":"#VALUE!"}}]
[null,null,"Table Code without Table Source",null,null,{"$f":"TRIM(IF(ISERROR(F49),F46,SUBSTITUTE( F46, F49,\"\")))","v":""}]
[null,null,"Table Code and Description",null,null,{"$f":"TRIM(F46 & \" \" & H4)","v":""}]
[null,null,"Table Comment",null,null,{"$f":"IF(LEN(F51)=0,\"\",SUBSTITUTE(SUBSTITUTE(Settings!$B$38,\"&Table\",$F$45),\"&BEAMTableCodes\",$F$51))","v":""}]
[null,null,"Diagram Table Name",null,null,{"$f":"IF(Settings!B44=\"Y\",SUBSTITUTE($F$45,\"_\",\" \"), $F$45) & IF(LEN(F50)=0, \"\", SUBSTITUTE(Settings!B40, \"&BEAMTableCodes\", $F$50))","v":"[ Fill in Table Name in F4 ]"}]
[null,null,"Full Table Type",null,null,{"$f":"IF(NOT(ISERROR(FIND(\"TF\",F50))),\"Transaction Fact\",IF(NOT(ISERROR(FIND(\"AS\",F50))),\"Accumulating Snapshot Fact\",IF(NOT(ISERROR(FIND(\"PS\",F50))),\"Periodic Snapshot Fact\",IF(NOT(ISERROR(FIND(\"AG\",F50))),\"Aggregate Fact\",IF(NOT(ISERROR(FIND(\"DF\",F50))),\"Derived Fact\",IF(NOT(ISERROR(FIND(\"DE\",F50))),\"Discrete Event\",IF(NOT(ISERROR(FIND(\"EE\",F50))),\"Evolving Event\",IF(NOT(ISERROR(FIND(\"RE\",F50))),\"Recurring Event\",IF(NOT(ISERROR(FIND(\"HM\",F50))),\"Hierarchy Map\",IF(NOT(ISERROR(FIND(\"HV\",F50))),\"Historic Value Dimenson (SCD Type 2)\",IF(NOT(ISERROR(FIND(\"CV\",F50))),\"Current Value Dimenson (SCD Type 1)\",IF(NOT(ISERROR(FIND(\"FV\",F50))),\"Fixed Value Dimenson (SCD Type 1)\",IF(NOT(ISERROR(FIND(\"HV\",F50))),\"Historic Value Dimenson (SCD Type 2)\",IF(NOT(ISERROR(FIND(\"PD\",F50))),\"Pivoted Dimenson\",IF(NOT(ISERROR(FIND(\"RU\",F50))),\"Rollup Dimenson\",IF(NOT(ISERROR(FIND(\"SD\",F50))),\"Swappable Dimenson\",IF(NOT(ISERROR(FIND(\"RP\",F50))),\"Role-Playing Dimenson\",IF(NOT(ISERROR(FIND(\"MV\",F50))),\"Multi-Valued Dimenson\",\"\"))))))))))))))))))","v":""}]
[null,null,"Short Table Type\n [Fact, Dimension, Other]",null,null,{"$f":"IF(NOT(ISERROR(FIND(\"Fact\",F54))),\"Fact\",IF(AND(ISERROR(FIND(\"CV\",$F$50)),ISERROR(FIND(\"HV\",$F$50)),ISERROR(FIND(\"FV\",$F$50)),ISERROR(FIND(\"SD\",$F$50)),ISERROR(FIND(\"HM\",$F$50)),ISERROR(FIND(\"MV\",$F$50)),ISERROR(FIND(\"ML\",$F$50)),ISERROR(FIND(\"RP\",$F$50)),ISERROR(FIND(\"RU\",$F$50)),ISERROR(FIND(\"PD\",$F$50))),\"Other\",\"Dimension\"))","v":"Other"}]
[null,null,"Create Table Clause",null,null,{"$f":"SUBSTITUTE(IF($F$55=\"Fact\", Settings!$B$8, IF($F$55=\"Dimension\", Settings!$B$9, Settings!$B$10)),\"&Table\", $F$45)","v":"CREATE TABLE [ Fill in Table Name in F4 ]"}]
[null,null,"Ignore Column with\n ? Code, DF or Empty",null,null,{"$f":"IF(OR(AND(Settings!$B$14=\"Y\", NOT(ISERROR(FIND(\"DF\",F7)))), LEN(TRIM(F6))=0, NOT(ISERROR(FIND(\"?\",F7)))),\"Y\",\"_\")","v":"Y"},{"$f":"IF(OR(AND(Settings!$B$14=\"Y\", NOT(ISERROR(FIND(\"DF\",G7)))), LEN(TRIM(G6))=0, NOT(ISERROR(FIND(\"?\",G7)))),\"Y\",\"_\")","v":"Y"},{"$f":"IF(OR(AND(Settings!$B$14=\"Y\", NOT(ISERROR(FIND(\"DF\",H7)))), LEN(TRIM(H6))=0, NOT(ISERROR(FIND(\"?\",H7)))),\"Y\",\"_\")","v":"Y"},{"$f":"IF(OR(AND(Settings!$B$14=\"Y\", NOT(ISERROR(FIND(\"DF\",I7)))), LEN(TRIM(I6))=0, NOT(ISERROR(FIND(\"?\",I7)))),\"Y\",\"_\")","v":"Y"},{"$f":"IF(OR(AND(Settings!$B$14=\"Y\", NOT(ISERROR(FIND(\"DF\",J7)))), LEN(TRIM(J6))=0, NOT(ISERROR(FIND(\"?\",J7)))),\"Y\",\"_\")","v":"Y"},{"$f":"IF(OR(AND(Settings!$B$14=\"Y\", NOT(ISERROR(FIND(\"DF\",K7)))), LEN(TRIM(K6))=0, NOT(ISERROR(FIND(\"?\",K7)))),\"Y\",\"_\")","v":"Y"},{"$f":"IF(OR(AND(Settings!$B$14=\"Y\", NOT(ISERROR(FIND(\"DF\",L7)))), LEN(TRIM(L6))=0, NOT(ISERROR(FIND(\"?\",L7)))),\"Y\",\"_\")","v":"Y"},{"$f":"IF(OR(AND(Settings!$B$14=\"Y\", NOT(ISERROR(FIND(\"DF\",M7)))), LEN(TRIM(M6))=0, NOT(ISERROR(FIND(\"?\",M7)))),\"Y\",\"_\")","v":"Y"},{"$f":"IF(OR(AND(Settings!$B$14=\"Y\", NOT(ISERROR(FIND(\"DF\",N7)))), LEN(TRIM(N6))=0, NOT(ISERROR(FIND(\"?\",N7)))),\"Y\",\"_\")","v":"Y"},{"$f":"IF(OR(AND(Settings!$B$14=\"Y\", NOT(ISERROR(FIND(\"DF\",O7)))), LEN(TRIM(O6))=0, NOT(ISERROR(FIND(\"?\",O7)))),\"Y\",\"_\")","v":"Y"},{"$f":"IF(OR(AND(Settings!$B$14=\"Y\", NOT(ISERROR(FIND(\"DF\",P7)))), LEN(TRIM(P6))=0, NOT(ISERROR(FIND(\"?\",P7)))),\"Y\",\"_\")","v":"Y"},{"$f":"IF(OR(AND(Settings!$B$14=\"Y\", NOT(ISERROR(FIND(\"DF\",Q7)))), LEN(TRIM(Q6))=0, NOT(ISERROR(FIND(\"?\",Q7)))),\"Y\",\"_\")","v":"Y"},{"$f":"IF(OR(AND(Settings!$B$14=\"Y\", NOT(ISERROR(FIND(\"DF\",R7)))), LEN(TRIM(R6))=0, NOT(ISERROR(FIND(\"?\",R7)))),\"Y\",\"_\")","v":"Y"},{"$f":"IF(OR(AND(Settings!$B$14=\"Y\", NOT(ISERROR(FIND(\"DF\",S7)))), LEN(TRIM(S6))=0, NOT(ISERROR(FIND(\"?\",S7)))),\"Y\",\"_\")","v":"Y"},{"$f":"IF(OR(AND(Settings!$B$14=\"Y\", NOT(ISERROR(FIND(\"DF\",T7)))), LEN(TRIM(T6))=0, NOT(ISERROR(FIND(\"?\",T7)))),\"Y\",\"_\")","v":"Y"},{"$f":"IF(OR(AND(Settings!$B$14=\"Y\", NOT(ISERROR(FIND(\"DF\",U7)))), LEN(TRIM(U6))=0, NOT(ISERROR(FIND(\"?\",U7)))),\"Y\",\"_\")","v":"Y"},{"$f":"IF(OR(AND(Settings!$B$14=\"Y\", NOT(ISERROR(FIND(\"DF\",V7)))), LEN(TRIM(V6))=0, NOT(ISERROR(FIND(\"?\",V7)))),\"Y\",\"_\")","v":"Y"},{"$f":"IF(OR(AND(Settings!$B$14=\"Y\", NOT(ISERROR(FIND(\"DF\",W7)))), LEN(TRIM(W6))=0, NOT(ISERROR(FIND(\"?\",W7)))),\"Y\",\"_\")","v":"Y"},{"$f":"IF(OR(AND(Settings!$B$14=\"Y\", NOT(ISERROR(FIND(\"DF\",X7)))), LEN(TRIM(X6))=0, NOT(ISERROR(FIND(\"?\",X7)))),\"Y\",\"_\")","v":"Y"},{"$f":"IF(OR(AND(Settings!$B$14=\"Y\", NOT(ISERROR(FIND(\"DF\",Y7)))), LEN(TRIM(Y6))=0, NOT(ISERROR(FIND(\"?\",Y7)))),\"Y\",\"_\")","v":"Y"},{"$f":"IF(OR(AND(Settings!$B$14=\"Y\", NOT(ISERROR(FIND(\"DF\",Z7)))), LEN(TRIM(Z6))=0, NOT(ISERROR(FIND(\"?\",Z7)))),\"Y\",\"_\")","v":"Y"},{"$f":"IF(OR(AND(Settings!$B$14=\"Y\", NOT(ISERROR(FIND(\"DF\",AA7)))), LEN(TRIM(AA6))=0, NOT(ISERROR(FIND(\"?\",AA7)))),\"Y\",\"_\")","v":"Y"},{"$f":"IF(OR(AND(Settings!$B$14=\"Y\", NOT(ISERROR(FIND(\"DF\",AB7)))), LEN(TRIM(AB6))=0, NOT(ISERROR(FIND(\"?\",AB7)))),\"Y\",\"_\")","v":"Y"},{"$f":"IF(OR(AND(Settings!$B$14=\"Y\", NOT(ISERROR(FIND(\"DF\",AC7)))), LEN(TRIM(AC6))=0, NOT(ISERROR(FIND(\"?\",AC7)))),\"Y\",\"_\")","v":"Y"},{"$f":"IF(OR(AND(Settings!$B$14=\"Y\", NOT(ISERROR(FIND(\"DF\",AD7)))), LEN(TRIM(AD6))=0, NOT(ISERROR(FIND(\"?\",AD7)))),\"Y\",\"_\")","v":"Y"},{"$f":"IF(OR(AND(Settings!$B$14=\"Y\", NOT(ISERROR(FIND(\"DF\",AE7)))), LEN(TRIM(AE6))=0, NOT(ISERROR(FIND(\"?\",AE7)))),\"Y\",\"_\")","v":"Y"},{"$f":"IF(OR(AND(Settings!$B$14=\"Y\", NOT(ISERROR(FIND(\"DF\",AF7)))), LEN(TRIM(AF6))=0, NOT(ISERROR(FIND(\"?\",AF7)))),\"Y\",\"_\")","v":"Y"},{"$f":"IF(OR(AND(Settings!$B$14=\"Y\", NOT(ISERROR(FIND(\"DF\",AG7)))), LEN(TRIM(AG6))=0, NOT(ISERROR(FIND(\"?\",AG7)))),\"Y\",\"_\")","v":"Y"},{"$f":"IF(OR(AND(Settings!$B$14=\"Y\", NOT(ISERROR(FIND(\"DF\",AH7)))), LEN(TRIM(AH6))=0, NOT(ISERROR(FIND(\"?\",AH7)))),\"Y\",\"_\")","v":"Y"},{"$f":"IF(OR(AND(Settings!$B$14=\"Y\", NOT(ISERROR(FIND(\"DF\",AI7)))), LEN(TRIM(AI6))=0, NOT(ISERROR(FIND(\"?\",AI7)))),\"Y\",\"_\")","v":"Y"},{"$f":"IF(OR(AND(Settings!$B$14=\"Y\", NOT(ISERROR(FIND(\"DF\",AJ7)))), LEN(TRIM(AJ6))=0, NOT(ISERROR(FIND(\"?\",AJ7)))),\"Y\",\"_\")","v":"Y"},{"$f":"IF(OR(AND(Settings!$B$14=\"Y\", NOT(ISERROR(FIND(\"DF\",AK7)))), LEN(TRIM(AK6))=0, NOT(ISERROR(FIND(\"?\",AK7)))),\"Y\",\"_\")","v":"Y"},{"$f":"IF(OR(AND(Settings!$B$14=\"Y\", NOT(ISERROR(FIND(\"DF\",AL7)))), LEN(TRIM(AL6))=0, NOT(ISERROR(FIND(\"?\",AL7)))),\"Y\",\"_\")","v":"Y"},{"$f":"IF(OR(AND(Settings!$B$14=\"Y\", NOT(ISERROR(FIND(\"DF\",AM7)))), LEN(TRIM(AM6))=0, NOT(ISERROR(FIND(\"?\",AM7)))),\"Y\",\"_\")","v":"Y"},{"$f":"IF(OR(AND(Settings!$B$14=\"Y\", NOT(ISERROR(FIND(\"DF\",AN7)))), LEN(TRIM(AN6))=0, NOT(ISERROR(FIND(\"?\",AN7)))),\"Y\",\"_\")","v":"Y"},{"$f":"IF(OR(AND(Settings!$B$14=\"Y\", NOT(ISERROR(FIND(\"DF\",AO7)))), LEN(TRIM(AO6))=0, NOT(ISERROR(FIND(\"?\",AO7)))),\"Y\",\"_\")","v":"Y"},{"$f":"IF(OR(AND(Settings!$B$14=\"Y\", NOT(ISERROR(FIND(\"DF\",AP7)))), LEN(TRIM(AP6))=0, NOT(ISERROR(FIND(\"?\",AP7)))),\"Y\",\"_\")","v":"Y"},{"$f":"IF(OR(AND(Settings!$B$14=\"Y\", NOT(ISERROR(FIND(\"DF\",AQ7)))), LEN(TRIM(AQ6))=0, NOT(ISERROR(FIND(\"?\",AQ7)))),\"Y\",\"_\")","v":"Y"},{"$f":"IF(OR(AND(Settings!$B$14=\"Y\", NOT(ISERROR(FIND(\"DF\",AR7)))), LEN(TRIM(AR6))=0, NOT(ISERROR(FIND(\"?\",AR7)))),\"Y\",\"_\")","v":"Y"},{"$f":"IF(OR(AND(Settings!$B$14=\"Y\", NOT(ISERROR(FIND(\"DF\",AS7)))), LEN(TRIM(AS6))=0, NOT(ISERROR(FIND(\"?\",AS7)))),\"Y\",\"_\")","v":"Y"},{"$f":"IF(OR(AND(Settings!$B$14=\"Y\", NOT(ISERROR(FIND(\"DF\",AT7)))), LEN(TRIM(AT6))=0, NOT(ISERROR(FIND(\"?\",AT7)))),\"Y\",\"_\")","v":"Y"},{"$f":"IF(OR(AND(Settings!$B$14=\"Y\", NOT(ISERROR(FIND(\"DF\",AU7)))), LEN(TRIM(AU6))=0, NOT(ISERROR(FIND(\"?\",AU7)))),\"Y\",\"_\")","v":"Y"},{"$f":"IF(OR(AND(Settings!$B$14=\"Y\", NOT(ISERROR(FIND(\"DF\",AV7)))), LEN(TRIM(AV6))=0, NOT(ISERROR(FIND(\"?\",AV7)))),\"Y\",\"_\")","v":"Y"},{"$f":"IF(OR(AND(Settings!$B$14=\"Y\", NOT(ISERROR(FIND(\"DF\",AW7)))), LEN(TRIM(AW6))=0, NOT(ISERROR(FIND(\"?\",AW7)))),\"Y\",\"_\")","v":"Y"},{"$f":"IF(OR(AND(Settings!$B$14=\"Y\", NOT(ISERROR(FIND(\"DF\",AX7)))), LEN(TRIM(AX6))=0, NOT(ISERROR(FIND(\"?\",AX7)))),\"Y\",\"_\")","v":"Y"},{"$f":"IF(OR(AND(Settings!$B$14=\"Y\", NOT(ISERROR(FIND(\"DF\",AY7)))), LEN(TRIM(AY6))=0, NOT(ISERROR(FIND(\"?\",AY7)))),\"Y\",\"_\")","v":"Y"},{"$f":"IF(OR(AND(Settings!$B$14=\"Y\", NOT(ISERROR(FIND(\"DF\",AZ7)))), LEN(TRIM(AZ6))=0, NOT(ISERROR(FIND(\"?\",AZ7)))),\"Y\",\"_\")","v":"Y"},{"$f":"IF(OR(AND(Settings!$B$14=\"Y\", NOT(ISERROR(FIND(\"DF\",BA7)))), LEN(TRIM(BA6))=0, NOT(ISERROR(FIND(\"?\",BA7)))),\"Y\",\"_\")","v":"Y"},{"$f":"IF(OR(AND(Settings!$B$14=\"Y\", NOT(ISERROR(FIND(\"DF\",BB7)))), LEN(TRIM(BB6))=0, NOT(ISERROR(FIND(\"?\",BB7)))),\"Y\",\"_\")","v":"Y"},{"$f":"IF(OR(AND(Settings!$B$14=\"Y\", NOT(ISERROR(FIND(\"DF\",BC7)))), LEN(TRIM(BC6))=0, NOT(ISERROR(FIND(\"?\",BC7)))),\"Y\",\"_\")","v":"Y"},{"$f":"IF(OR(AND(Settings!$B$14=\"Y\", NOT(ISERROR(FIND(\"DF\",BD7)))), LEN(TRIM(BD6))=0, NOT(ISERROR(FIND(\"?\",BD7)))),\"Y\",\"_\")","v":"Y"},{"$f":"IF(OR(AND(Settings!$B$14=\"Y\", NOT(ISERROR(FIND(\"DF\",BE7)))), LEN(TRIM(BE6))=0, NOT(ISERROR(FIND(\"?\",BE7)))),\"Y\",\"_\")","v":"Y"},{"$f":"IF(OR(AND(Settings!$B$14=\"Y\", NOT(ISERROR(FIND(\"DF\",BF7)))), LEN(TRIM(BF6))=0, NOT(ISERROR(FIND(\"?\",BF7)))),\"Y\",\"_\")","v":"Y"},{"$f":"IF(OR(AND(Settings!$B$14=\"Y\", NOT(ISERROR(FIND(\"DF\",BG7)))), LEN(TRIM(BG6))=0, NOT(ISERROR(FIND(\"?\",BG7)))),\"Y\",\"_\")","v":"Y"},{"$f":"IF(OR(AND(Settings!$B$14=\"Y\", NOT(ISERROR(FIND(\"DF\",BH7)))), LEN(TRIM(BH6))=0, NOT(ISERROR(FIND(\"?\",BH7)))),\"Y\",\"_\")","v":"Y"},{"$f":"IF(OR(AND(Settings!$B$14=\"Y\", NOT(ISERROR(FIND(\"DF\",BI7)))), LEN(TRIM(BI6))=0, NOT(ISERROR(FIND(\"?\",BI7)))),\"Y\",\"_\")","v":"Y"},{"$f":"IF(OR(AND(Settings!$B$14=\"Y\", NOT(ISERROR(FIND(\"DF\",BJ7)))), LEN(TRIM(BJ6))=0, NOT(ISERROR(FIND(\"?\",BJ7)))),\"Y\",\"_\")","v":"Y"},{"$f":"IF(OR(AND(Settings!$B$14=\"Y\", NOT(ISERROR(FIND(\"DF\",BK7)))), LEN(TRIM(BK6))=0, NOT(ISERROR(FIND(\"?\",BK7)))),\"Y\",\"_\")","v":"Y"},{"$f":"IF(OR(AND(Settings!$B$14=\"Y\", NOT(ISERROR(FIND(\"DF\",BL7)))), LEN(TRIM(BL6))=0, NOT(ISERROR(FIND(\"?\",BL7)))),\"Y\",\"_\")","v":"Y"},{"$f":"IF(OR(AND(Settings!$B$14=\"Y\", NOT(ISERROR(FIND(\"DF\",BM7)))), LEN(TRIM(BM6))=0, NOT(ISERROR(FIND(\"?\",BM7)))),\"Y\",\"_\")","v":"Y"},{"$f":"IF(OR(AND(Settings!$B$14=\"Y\", NOT(ISERROR(FIND(\"DF\",BN7)))), LEN(TRIM(BN6))=0, NOT(ISERROR(FIND(\"?\",BN7)))),\"Y\",\"_\")","v":"Y"},{"$f":"IF(OR(AND(Settings!$B$14=\"Y\", NOT(ISERROR(FIND(\"DF\",BO7)))), LEN(TRIM(BO6))=0, NOT(ISERROR(FIND(\"?\",BO7)))),\"Y\",\"_\")","v":"Y"},{"$f":"IF(OR(AND(Settings!$B$14=\"Y\", NOT(ISERROR(FIND(\"DF\",BP7)))), LEN(TRIM(BP6))=0, NOT(ISERROR(FIND(\"?\",BP7)))),\"Y\",\"_\")","v":"Y"},{"$f":"IF(OR(AND(Settings!$B$14=\"Y\", NOT(ISERROR(FIND(\"DF\",BQ7)))), LEN(TRIM(BQ6))=0, NOT(ISERROR(FIND(\"?\",BQ7)))),\"Y\",\"_\")","v":"Y"},{"$f":"IF(OR(AND(Settings!$B$14=\"Y\", NOT(ISERROR(FIND(\"DF\",BR7)))), LEN(TRIM(BR6))=0, NOT(ISERROR(FIND(\"?\",BR7)))),\"Y\",\"_\")","v":"Y"},{"$f":"IF(OR(AND(Settings!$B$14=\"Y\", NOT(ISERROR(FIND(\"DF\",BS7)))), LEN(TRIM(BS6))=0, NOT(ISERROR(FIND(\"?\",BS7)))),\"Y\",\"_\")","v":"Y"},{"$f":"IF(OR(AND(Settings!$B$14=\"Y\", NOT(ISERROR(FIND(\"DF\",BT7)))), LEN(TRIM(BT6))=0, NOT(ISERROR(FIND(\"?\",BT7)))),\"Y\",\"_\")","v":"Y"},{"$f":"IF(OR(AND(Settings!$B$14=\"Y\", NOT(ISERROR(FIND(\"DF\",BU7)))), LEN(TRIM(BU6))=0, NOT(ISERROR(FIND(\"?\",BU7)))),\"Y\",\"_\")","v":"Y"},{"$f":"IF(OR(AND(Settings!$B$14=\"Y\", NOT(ISERROR(FIND(\"DF\",BV7)))), LEN(TRIM(BV6))=0, NOT(ISERROR(FIND(\"?\",BV7)))),\"Y\",\"_\")","v":"Y"},{"$f":"IF(OR(AND(Settings!$B$14=\"Y\", NOT(ISERROR(FIND(\"DF\",BW7)))), LEN(TRIM(BW6))=0, NOT(ISERROR(FIND(\"?\",BW7)))),\"Y\",\"_\")","v":"Y"},{"$f":"IF(OR(AND(Settings!$B$14=\"Y\", NOT(ISERROR(FIND(\"DF\",BX7)))), LEN(TRIM(BX6))=0, NOT(ISERROR(FIND(\"?\",BX7)))),\"Y\",\"_\")","v":"Y"},{"$f":"IF(OR(AND(Settings!$B$14=\"Y\", NOT(ISERROR(FIND(\"DF\",BY7)))), LEN(TRIM(BY6))=0, NOT(ISERROR(FIND(\"?\",BY7)))),\"Y\",\"_\")","v":"Y"},{"$f":"IF(OR(AND(Settings!$B$14=\"Y\", NOT(ISERROR(FIND(\"DF\",BZ7)))), LEN(TRIM(BZ6))=0, NOT(ISERROR(FIND(\"?\",BZ7)))),\"Y\",\"_\")","v":"Y"},{"$f":"IF(OR(AND(Settings!$B$14=\"Y\", NOT(ISERROR(FIND(\"DF\",CA7)))), LEN(TRIM(CA6))=0, NOT(ISERROR(FIND(\"?\",CA7)))),\"Y\",\"_\")","v":"Y"},{"$f":"IF(OR(AND(Settings!$B$14=\"Y\", NOT(ISERROR(FIND(\"DF\",CB7)))), LEN(TRIM(CB6))=0, NOT(ISERROR(FIND(\"?\",CB7)))),\"Y\",\"_\")","v":"Y"},{"$f":"IF(OR(AND(Settings!$B$14=\"Y\", NOT(ISERROR(FIND(\"DF\",CC7)))), LEN(TRIM(CC6))=0, NOT(ISERROR(FIND(\"?\",CC7)))),\"Y\",\"_\")","v":"Y"},{"$f":"IF(OR(AND(Settings!$B$14=\"Y\", NOT(ISERROR(FIND(\"DF\",CD7)))), LEN(TRIM(CD6))=0, NOT(ISERROR(FIND(\"?\",CD7)))),\"Y\",\"_\")","v":"Y"},{"$f":"IF(OR(AND(Settings!$B$14=\"Y\", NOT(ISERROR(FIND(\"DF\",CE7)))), LEN(TRIM(CE6))=0, NOT(ISERROR(FIND(\"?\",CE7)))),\"Y\",\"_\")","v":"Y"},{"$f":"IF(OR(AND(Settings!$B$14=\"Y\", NOT(ISERROR(FIND(\"DF\",CF7)))), LEN(TRIM(CF6))=0, NOT(ISERROR(FIND(\"?\",CF7)))),\"Y\",\"_\")","v":"Y"},{"$f":"IF(OR(AND(Settings!$B$14=\"Y\", NOT(ISERROR(FIND(\"DF\",CG7)))), LEN(TRIM(CG6))=0, NOT(ISERROR(FIND(\"?\",CG7)))),\"Y\",\"_\")","v":"Y"},{"$f":"IF(OR(AND(Settings!$B$14=\"Y\", NOT(ISERROR(FIND(\"DF\",CH7)))), LEN(TRIM(CH6))=0, NOT(ISERROR(FIND(\"?\",CH7)))),\"Y\",\"_\")","v":"Y"},{"$f":"IF(OR(AND(Settings!$B$14=\"Y\", NOT(ISERROR(FIND(\"DF\",CI7)))), LEN(TRIM(CI6))=0, NOT(ISERROR(FIND(\"?\",CI7)))),\"Y\",\"_\")","v":"Y"},{"$f":"IF(OR(AND(Settings!$B$14=\"Y\", NOT(ISERROR(FIND(\"DF\",CJ7)))), LEN(TRIM(CJ6))=0, NOT(ISERROR(FIND(\"?\",CJ7)))),\"Y\",\"_\")","v":"Y"},{"$f":"IF(OR(AND(Settings!$B$14=\"Y\", NOT(ISERROR(FIND(\"DF\",CK7)))), LEN(TRIM(CK6))=0, NOT(ISERROR(FIND(\"?\",CK7)))),\"Y\",\"_\")","v":"Y"},{"$f":"IF(OR(AND(Settings!$B$14=\"Y\", NOT(ISERROR(FIND(\"DF\",CL7)))), LEN(TRIM(CL6))=0, NOT(ISERROR(FIND(\"?\",CL7)))),\"Y\",\"_\")","v":"Y"},{"$f":"IF(OR(AND(Settings!$B$14=\"Y\", NOT(ISERROR(FIND(\"DF\",CM7)))), LEN(TRIM(CM6))=0, NOT(ISERROR(FIND(\"?\",CM7)))),\"Y\",\"_\")","v":"Y"},{"$f":"IF(OR(AND(Settings!$B$14=\"Y\", NOT(ISERROR(FIND(\"DF\",CN7)))), LEN(TRIM(CN6))=0, NOT(ISERROR(FIND(\"?\",CN7)))),\"Y\",\"_\")","v":"Y"},{"$f":"IF(OR(AND(Settings!$B$14=\"Y\", NOT(ISERROR(FIND(\"DF\",CO7)))), LEN(TRIM(CO6))=0, NOT(ISERROR(FIND(\"?\",CO7)))),\"Y\",\"_\")","v":"Y"},{"$f":"IF(OR(AND(Settings!$B$14=\"Y\", NOT(ISERROR(FIND(\"DF\",CP7)))), LEN(TRIM(CP6))=0, NOT(ISERROR(FIND(\"?\",CP7)))),\"Y\",\"_\")","v":"Y"},{"$f":"IF(OR(AND(Settings!$B$14=\"Y\", NOT(ISERROR(FIND(\"DF\",CQ7)))), LEN(TRIM(CQ6))=0, NOT(ISERROR(FIND(\"?\",CQ7)))),\"Y\",\"_\")","v":"Y"},{"$f":"IF(OR(AND(Settings!$B$14=\"Y\", NOT(ISERROR(FIND(\"DF\",CR7)))), LEN(TRIM(CR6))=0, NOT(ISERROR(FIND(\"?\",CR7)))),\"Y\",\"_\")","v":"Y"},{"$f":"IF(OR(AND(Settings!$B$14=\"Y\", NOT(ISERROR(FIND(\"DF\",CS7)))), LEN(TRIM(CS6))=0, NOT(ISERROR(FIND(\"?\",CS7)))),\"Y\",\"_\")","v":"Y"},{"$f":"IF(OR(AND(Settings!$B$14=\"Y\", NOT(ISERROR(FIND(\"DF\",CT7)))), LEN(TRIM(CT6))=0, NOT(ISERROR(FIND(\"?\",CT7)))),\"Y\",\"_\")","v":"Y"},{"$f":"IF(OR(AND(Settings!$B$14=\"Y\", NOT(ISERROR(FIND(\"DF\",CU7)))), LEN(TRIM(CU6))=0, NOT(ISERROR(FIND(\"?\",CU7)))),\"Y\",\"_\")","v":"Y"},{"$f":"IF(OR(AND(Settings!$B$14=\"Y\", NOT(ISERROR(FIND(\"DF\",CV7)))), LEN(TRIM(CV6))=0, NOT(ISERROR(FIND(\"?\",CV7)))),\"Y\",\"_\")","v":"Y"},{"$f":"IF(OR(AND(Settings!$B$14=\"Y\", NOT(ISERROR(FIND(\"DF\",CW7)))), LEN(TRIM(CW6))=0, NOT(ISERROR(FIND(\"?\",CW7)))),\"Y\",\"_\")","v":"Y"},{"$f":"IF(OR(AND(Settings!$B$14=\"Y\", NOT(ISERROR(FIND(\"DF\",CX7)))), LEN(TRIM(CX6))=0, NOT(ISERROR(FIND(\"?\",CX7)))),\"Y\",\"_\")","v":"Y"},{"$f":"IF(OR(AND(Settings!$B$14=\"Y\", NOT(ISERROR(FIND(\"DF\",CY7)))), LEN(TRIM(CY6))=0, NOT(ISERROR(FIND(\"?\",CY7)))),\"Y\",\"_\")","v":"Y"},{"$f":"IF(OR(AND(Settings!$B$14=\"Y\", NOT(ISERROR(FIND(\"DF\",CZ7)))), LEN(TRIM(CZ6))=0, NOT(ISERROR(FIND(\"?\",CZ7)))),\"Y\",\"_\")","v":"Y"},{"$f":"IF(OR(AND(Settings!$B$14=\"Y\", NOT(ISERROR(FIND(\"DF\",DA7)))), LEN(TRIM(DA6))=0, NOT(ISERROR(FIND(\"?\",DA7)))),\"Y\",\"_\")","v":"Y"},{"$f":"IF(OR(AND(Settings!$B$14=\"Y\", NOT(ISERROR(FIND(\"DF\",DB7)))), LEN(TRIM(DB6))=0, NOT(ISERROR(FIND(\"?\",DB7)))),\"Y\",\"_\")","v":"Y"},{"$f":"IF(OR(AND(Settings!$B$14=\"Y\", NOT(ISERROR(FIND(\"DF\",DC7)))), LEN(TRIM(DC6))=0, NOT(ISERROR(FIND(\"?\",DC7)))),\"Y\",\"_\")","v":"Y"},{"$f":"IF(OR(AND(Settings!$B$14=\"Y\", NOT(ISERROR(FIND(\"DF\",DD7)))), LEN(TRIM(DD6))=0, NOT(ISERROR(FIND(\"?\",DD7)))),\"Y\",\"_\")","v":"Y"},{"$f":"IF(OR(AND(Settings!$B$14=\"Y\", NOT(ISERROR(FIND(\"DF\",DE7)))), LEN(TRIM(DE6))=0, NOT(ISERROR(FIND(\"?\",DE7)))),\"Y\",\"_\")","v":"Y"},{"$f":"IF(OR(AND(Settings!$B$14=\"Y\", NOT(ISERROR(FIND(\"DF\",DF7)))), LEN(TRIM(DF6))=0, NOT(ISERROR(FIND(\"?\",DF7)))),\"Y\",\"_\")","v":"Y"},{"$f":"IF(OR(AND(Settings!$B$14=\"Y\", NOT(ISERROR(FIND(\"DF\",DG7)))), LEN(TRIM(DG6))=0, NOT(ISERROR(FIND(\"?\",DG7)))),\"Y\",\"_\")","v":"Y"},{"$f":"IF(OR(AND(Settings!$B$14=\"Y\", NOT(ISERROR(FIND(\"DF\",DH7)))), LEN(TRIM(DH6))=0, NOT(ISERROR(FIND(\"?\",DH7)))),\"Y\",\"_\")","v":"Y"},{"$f":"IF(OR(AND(Settings!$B$14=\"Y\", NOT(ISERROR(FIND(\"DF\",DI7)))), LEN(TRIM(DI6))=0, NOT(ISERROR(FIND(\"?\",DI7)))),\"Y\",\"_\")","v":"Y"},{"$f":"IF(OR(AND(Settings!$B$14=\"Y\", NOT(ISERROR(FIND(\"DF\",DJ7)))), LEN(TRIM(DJ6))=0, NOT(ISERROR(FIND(\"?\",DJ7)))),\"Y\",\"_\")","v":"Y"},{"$f":"IF(OR(AND(Settings!$B$14=\"Y\", NOT(ISERROR(FIND(\"DF\",DK7)))), LEN(TRIM(DK6))=0, NOT(ISERROR(FIND(\"?\",DK7)))),\"Y\",\"_\")","v":"Y"},{"$f":"IF(OR(AND(Settings!$B$14=\"Y\", NOT(ISERROR(FIND(\"DF\",DL7)))), LEN(TRIM(DL6))=0, NOT(ISERROR(FIND(\"?\",DL7)))),\"Y\",\"_\")","v":"Y"},{"$f":"IF(OR(AND(Settings!$B$14=\"Y\", NOT(ISERROR(FIND(\"DF\",DM7)))), LEN(TRIM(DM6))=0, NOT(ISERROR(FIND(\"?\",DM7)))),\"Y\",\"_\")","v":"Y"},{"$f":"IF(OR(AND(Settings!$B$14=\"Y\", NOT(ISERROR(FIND(\"DF\",DN7)))), LEN(TRIM(DN6))=0, NOT(ISERROR(FIND(\"?\",DN7)))),\"Y\",\"_\")","v":"Y"},{"$f":"IF(OR(AND(Settings!$B$14=\"Y\", NOT(ISERROR(FIND(\"DF\",DO7)))), LEN(TRIM(DO6))=0, NOT(ISERROR(FIND(\"?\",DO7)))),\"Y\",\"_\")","v":"Y"},{"$f":"IF(OR(AND(Settings!$B$14=\"Y\", NOT(ISERROR(FIND(\"DF\",DP7)))), LEN(TRIM(DP6))=0, NOT(ISERROR(FIND(\"?\",DP7)))),\"Y\",\"_\")","v":"Y"},{"$f":"IF(OR(AND(Settings!$B$14=\"Y\", NOT(ISERROR(FIND(\"DF\",DQ7)))), LEN(TRIM(DQ6))=0, NOT(ISERROR(FIND(\"?\",DQ7)))),\"Y\",\"_\")","v":"Y"},{"$f":"IF(OR(AND(Settings!$B$14=\"Y\", NOT(ISERROR(FIND(\"DF\",DR7)))), LEN(TRIM(DR6))=0, NOT(ISERROR(FIND(\"?\",DR7)))),\"Y\",\"_\")","v":"Y"},{"$f":"IF(OR(AND(Settings!$B$14=\"Y\", NOT(ISERROR(FIND(\"DF\",DS7)))), LEN(TRIM(DS6))=0, NOT(ISERROR(FIND(\"?\",DS7)))),\"Y\",\"_\")","v":"Y"},{"$f":"IF(OR(AND(Settings!$B$14=\"Y\", NOT(ISERROR(FIND(\"DF\",DT7)))), LEN(TRIM(DT6))=0, NOT(ISERROR(FIND(\"?\",DT7)))),\"Y\",\"_\")","v":"Y"},{"$f":"IF(OR(AND(Settings!$B$14=\"Y\", NOT(ISERROR(FIND(\"DF\",DU7)))), LEN(TRIM(DU6))=0, NOT(ISERROR(FIND(\"?\",DU7)))),\"Y\",\"_\")","v":"Y"},{"$f":"IF(OR(AND(Settings!$B$14=\"Y\", NOT(ISERROR(FIND(\"DF\",DV7)))), LEN(TRIM(DV6))=0, NOT(ISERROR(FIND(\"?\",DV7)))),\"Y\",\"_\")","v":"Y"},{"$f":"IF(OR(AND(Settings!$B$14=\"Y\", NOT(ISERROR(FIND(\"DF\",DW7)))), LEN(TRIM(DW6))=0, NOT(ISERROR(FIND(\"?\",DW7)))),\"Y\",\"_\")","v":"Y"},{"$f":"IF(OR(AND(Settings!$B$14=\"Y\", NOT(ISERROR(FIND(\"DF\",DX7)))), LEN(TRIM(DX6))=0, NOT(ISERROR(FIND(\"?\",DX7)))),\"Y\",\"_\")","v":"Y"},{"$f":"IF(OR(AND(Settings!$B$14=\"Y\", NOT(ISERROR(FIND(\"DF\",DY7)))), LEN(TRIM(DY6))=0, NOT(ISERROR(FIND(\"?\",DY7)))),\"Y\",\"_\")","v":"Y"},{"$f":"IF(OR(AND(Settings!$B$14=\"Y\", NOT(ISERROR(FIND(\"DF\",DZ7)))), LEN(TRIM(DZ6))=0, NOT(ISERROR(FIND(\"?\",DZ7)))),\"Y\",\"_\")","v":"Y"},{"$f":"IF(OR(AND(Settings!$B$14=\"Y\", NOT(ISERROR(FIND(\"DF\",EA7)))), LEN(TRIM(EA6))=0, NOT(ISERROR(FIND(\"?\",EA7)))),\"Y\",\"_\")","v":"Y"},{"$f":"IF(OR(AND(Settings!$B$14=\"Y\", NOT(ISERROR(FIND(\"DF\",EB7)))), LEN(TRIM(EB6))=0, NOT(ISERROR(FIND(\"?\",EB7)))),\"Y\",\"_\")","v":"Y"},{"$f":"IF(OR(AND(Settings!$B$14=\"Y\", NOT(ISERROR(FIND(\"DF\",EC7)))), LEN(TRIM(EC6))=0, NOT(ISERROR(FIND(\"?\",EC7)))),\"Y\",\"_\")","v":"Y"},{"$f":"IF(OR(AND(Settings!$B$14=\"Y\", NOT(ISERROR(FIND(\"DF\",ED7)))), LEN(TRIM(ED6))=0, NOT(ISERROR(FIND(\"?\",ED7)))),\"Y\",\"_\")","v":"Y"},{"$f":"IF(OR(AND(Settings!$B$14=\"Y\", NOT(ISERROR(FIND(\"DF\",EE7)))), LEN(TRIM(EE6))=0, NOT(ISERROR(FIND(\"?\",EE7)))),\"Y\",\"_\")","v":"Y"},{"$f":"IF(OR(AND(Settings!$B$14=\"Y\", NOT(ISERROR(FIND(\"DF\",EF7)))), LEN(TRIM(EF6))=0, NOT(ISERROR(FIND(\"?\",EF7)))),\"Y\",\"_\")","v":"Y"},{"$f":"IF(OR(AND(Settings!$B$14=\"Y\", NOT(ISERROR(FIND(\"DF\",EG7)))), LEN(TRIM(EG6))=0, NOT(ISERROR(FIND(\"?\",EG7)))),\"Y\",\"_\")","v":"Y"},{"$f":"IF(OR(AND(Settings!$B$14=\"Y\", NOT(ISERROR(FIND(\"DF\",EH7)))), LEN(TRIM(EH6))=0, NOT(ISERROR(FIND(\"?\",EH7)))),\"Y\",\"_\")","v":"Y"},{"$f":"IF(OR(AND(Settings!$B$14=\"Y\", NOT(ISERROR(FIND(\"DF\",EI7)))), LEN(TRIM(EI6))=0, NOT(ISERROR(FIND(\"?\",EI7)))),\"Y\",\"_\")","v":"Y"},{"$f":"IF(OR(AND(Settings!$B$14=\"Y\", NOT(ISERROR(FIND(\"DF\",EJ7)))), LEN(TRIM(EJ6))=0, NOT(ISERROR(FIND(\"?\",EJ7)))),\"Y\",\"_\")","v":"Y"},{"$f":"IF(OR(AND(Settings!$B$14=\"Y\", NOT(ISERROR(FIND(\"DF\",EK7)))), LEN(TRIM(EK6))=0, NOT(ISERROR(FIND(\"?\",EK7)))),\"Y\",\"_\")","v":"Y"},{"$f":"IF(OR(AND(Settings!$B$14=\"Y\", NOT(ISERROR(FIND(\"DF\",EL7)))), LEN(TRIM(EL6))=0, NOT(ISERROR(FIND(\"?\",EL7)))),\"Y\",\"_\")","v":"Y"},{"$f":"IF(OR(AND(Settings!$B$14=\"Y\", NOT(ISERROR(FIND(\"DF\",EM7)))), LEN(TRIM(EM6))=0, NOT(ISERROR(FIND(\"?\",EM7)))),\"Y\",\"_\")","v":"Y"},{"$f":"IF(OR(AND(Settings!$B$14=\"Y\", NOT(ISERROR(FIND(\"DF\",EN7)))), LEN(TRIM(EN6))=0, NOT(ISERROR(FIND(\"?\",EN7)))),\"Y\",\"_\")","v":"Y"},{"$f":"IF(OR(AND(Settings!$B$14=\"Y\", NOT(ISERROR(FIND(\"DF\",EO7)))), LEN(TRIM(EO6))=0, NOT(ISERROR(FIND(\"?\",EO7)))),\"Y\",\"_\")","v":"Y"},{"$f":"IF(OR(AND(Settings!$B$14=\"Y\", NOT(ISERROR(FIND(\"DF\",EP7)))), LEN(TRIM(EP6))=0, NOT(ISERROR(FIND(\"?\",EP7)))),\"Y\",\"_\")","v":"Y"},{"$f":"IF(OR(AND(Settings!$B$14=\"Y\", NOT(ISERROR(FIND(\"DF\",EQ7)))), LEN(TRIM(EQ6))=0, NOT(ISERROR(FIND(\"?\",EQ7)))),\"Y\",\"_\")","v":"Y"},{"$f":"IF(OR(AND(Settings!$B$14=\"Y\", NOT(ISERROR(FIND(\"DF\",ER7)))), LEN(TRIM(ER6))=0, NOT(ISERROR(FIND(\"?\",ER7)))),\"Y\",\"_\")","v":"Y"},{"$f":"IF(OR(AND(Settings!$B$14=\"Y\", NOT(ISERROR(FIND(\"DF\",ES7)))), LEN(TRIM(ES6))=0, NOT(ISERROR(FIND(\"?\",ES7)))),\"Y\",\"_\")","v":"Y"},{"$f":"IF(OR(AND(Settings!$B$14=\"Y\", NOT(ISERROR(FIND(\"DF\",ET7)))), LEN(TRIM(ET6))=0, NOT(ISERROR(FIND(\"?\",ET7)))),\"Y\",\"_\")","v":"Y"},{"$f":"IF(OR(AND(Settings!$B$14=\"Y\", NOT(ISERROR(FIND(\"DF\",EU7)))), LEN(TRIM(EU6))=0, NOT(ISERROR(FIND(\"?\",EU7)))),\"Y\",\"_\")","v":"Y"},{"$f":"IF(OR(AND(Settings!$B$14=\"Y\", NOT(ISERROR(FIND(\"DF\",EV7)))), LEN(TRIM(EV6))=0, NOT(ISERROR(FIND(\"?\",EV7)))),\"Y\",\"_\")","v":"Y"},{"$f":"IF(OR(AND(Settings!$B$14=\"Y\", NOT(ISERROR(FIND(\"DF\",EW7)))), LEN(TRIM(EW6))=0, NOT(ISERROR(FIND(\"?\",EW7)))),\"Y\",\"_\")","v":"Y"},{"$f":"IF(OR(AND(Settings!$B$14=\"Y\", NOT(ISERROR(FIND(\"DF\",EX7)))), LEN(TRIM(EX6))=0, NOT(ISERROR(FIND(\"?\",EX7)))),\"Y\",\"_\")","v":"Y"},{"$f":"IF(OR(AND(Settings!$B$14=\"Y\", NOT(ISERROR(FIND(\"DF\",EY7)))), LEN(TRIM(EY6))=0, NOT(ISERROR(FIND(\"?\",EY7)))),\"Y\",\"_\")","v":"Y"}]
[null,null,"Hide Diagram Column",null,null,{"$f":"IF(OR(F57=\"Y\", AND(Settings!$B$42=\"Y\", F59=\"Y\"), AND(Settings!$B$43=\"Y\", ISERROR(FIND(\"!\",F7)))),\"Y\",\"_\")","v":"Y"},{"$f":"IF(OR(G57=\"Y\", AND(Settings!$B$42=\"Y\", G59=\"Y\"), AND(Settings!$B$43=\"Y\", ISERROR(FIND(\"!\",G7)))),\"Y\",\"_\")","v":"Y"},{"$f":"IF(OR(H57=\"Y\", AND(Settings!$B$42=\"Y\", H59=\"Y\"), AND(Settings!$B$43=\"Y\", ISERROR(FIND(\"!\",H7)))),\"Y\",\"_\")","v":"Y"},{"$f":"IF(OR(I57=\"Y\", AND(Settings!$B$42=\"Y\", I59=\"Y\"), AND(Settings!$B$43=\"Y\", ISERROR(FIND(\"!\",I7)))),\"Y\",\"_\")","v":"Y"},{"$f":"IF(OR(J57=\"Y\", AND(Settings!$B$42=\"Y\", J59=\"Y\"), AND(Settings!$B$43=\"Y\", ISERROR(FIND(\"!\",J7)))),\"Y\",\"_\")","v":"Y"},{"$f":"IF(OR(K57=\"Y\", AND(Settings!$B$42=\"Y\", K59=\"Y\"), AND(Settings!$B$43=\"Y\", ISERROR(FIND(\"!\",K7)))),\"Y\",\"_\")","v":"Y"},{"$f":"IF(OR(L57=\"Y\", AND(Settings!$B$42=\"Y\", L59=\"Y\"), AND(Settings!$B$43=\"Y\", ISERROR(FIND(\"!\",L7)))),\"Y\",\"_\")","v":"Y"},{"$f":"IF(OR(M57=\"Y\", AND(Settings!$B$42=\"Y\", M59=\"Y\"), AND(Settings!$B$43=\"Y\", ISERROR(FIND(\"!\",M7)))),\"Y\",\"_\")","v":"Y"},{"$f":"IF(OR(N57=\"Y\", AND(Settings!$B$42=\"Y\", N59=\"Y\"), AND(Settings!$B$43=\"Y\", ISERROR(FIND(\"!\",N7)))),\"Y\",\"_\")","v":"Y"},{"$f":"IF(OR(O57=\"Y\", AND(Settings!$B$42=\"Y\", O59=\"Y\"), AND(Settings!$B$43=\"Y\", ISERROR(FIND(\"!\",O7)))),\"Y\",\"_\")","v":"Y"},{"$f":"IF(OR(P57=\"Y\", AND(Settings!$B$42=\"Y\", P59=\"Y\"), AND(Settings!$B$43=\"Y\", ISERROR(FIND(\"!\",P7)))),\"Y\",\"_\")","v":"Y"},{"$f":"IF(OR(Q57=\"Y\", AND(Settings!$B$42=\"Y\", Q59=\"Y\"), AND(Settings!$B$43=\"Y\", ISERROR(FIND(\"!\",Q7)))),\"Y\",\"_\")","v":"Y"},{"$f":"IF(OR(R57=\"Y\", AND(Settings!$B$42=\"Y\", R59=\"Y\"), AND(Settings!$B$43=\"Y\", ISERROR(FIND(\"!\",R7)))),\"Y\",\"_\")","v":"Y"},{"$f":"IF(OR(S57=\"Y\", AND(Settings!$B$42=\"Y\", S59=\"Y\"), AND(Settings!$B$43=\"Y\", ISERROR(FIND(\"!\",S7)))),\"Y\",\"_\")","v":"Y"},{"$f":"IF(OR(T57=\"Y\", AND(Settings!$B$42=\"Y\", T59=\"Y\"), AND(Settings!$B$43=\"Y\", ISERROR(FIND(\"!\",T7)))),\"Y\",\"_\")","v":"Y"},{"$f":"IF(OR(U57=\"Y\", AND(Settings!$B$42=\"Y\", U59=\"Y\"), AND(Settings!$B$43=\"Y\", ISERROR(FIND(\"!\",U7)))),\"Y\",\"_\")","v":"Y"},{"$f":"IF(OR(V57=\"Y\", AND(Settings!$B$42=\"Y\", V59=\"Y\"), AND(Settings!$B$43=\"Y\", ISERROR(FIND(\"!\",V7)))),\"Y\",\"_\")","v":"Y"},{"$f":"IF(OR(W57=\"Y\", AND(Settings!$B$42=\"Y\", W59=\"Y\"), AND(Settings!$B$43=\"Y\", ISERROR(FIND(\"!\",W7)))),\"Y\",\"_\")","v":"Y"},{"$f":"IF(OR(X57=\"Y\", AND(Settings!$B$42=\"Y\", X59=\"Y\"), AND(Settings!$B$43=\"Y\", ISERROR(FIND(\"!\",X7)))),\"Y\",\"_\")","v":"Y"},{"$f":"IF(OR(Y57=\"Y\", AND(Settings!$B$42=\"Y\", Y59=\"Y\"), AND(Settings!$B$43=\"Y\", ISERROR(FIND(\"!\",Y7)))),\"Y\",\"_\")","v":"Y"},{"$f":"IF(OR(Z57=\"Y\", AND(Settings!$B$42=\"Y\", Z59=\"Y\"), AND(Settings!$B$43=\"Y\", ISERROR(FIND(\"!\",Z7)))),\"Y\",\"_\")","v":"Y"},{"$f":"IF(OR(AA57=\"Y\", AND(Settings!$B$42=\"Y\", AA59=\"Y\"), AND(Settings!$B$43=\"Y\", ISERROR(FIND(\"!\",AA7)))),\"Y\",\"_\")","v":"Y"},{"$f":"IF(OR(AB57=\"Y\", AND(Settings!$B$42=\"Y\", AB59=\"Y\"), AND(Settings!$B$43=\"Y\", ISERROR(FIND(\"!\",AB7)))),\"Y\",\"_\")","v":"Y"},{"$f":"IF(OR(AC57=\"Y\", AND(Settings!$B$42=\"Y\", AC59=\"Y\"), AND(Settings!$B$43=\"Y\", ISERROR(FIND(\"!\",AC7)))),\"Y\",\"_\")","v":"Y"},{"$f":"IF(OR(AD57=\"Y\", AND(Settings!$B$42=\"Y\", AD59=\"Y\"), AND(Settings!$B$43=\"Y\", ISERROR(FIND(\"!\",AD7)))),\"Y\",\"_\")","v":"Y"},{"$f":"IF(OR(AE57=\"Y\", AND(Settings!$B$42=\"Y\", AE59=\"Y\"), AND(Settings!$B$43=\"Y\", ISERROR(FIND(\"!\",AE7)))),\"Y\",\"_\")","v":"Y"},{"$f":"IF(OR(AF57=\"Y\", AND(Settings!$B$42=\"Y\", AF59=\"Y\"), AND(Settings!$B$43=\"Y\", ISERROR(FIND(\"!\",AF7)))),\"Y\",\"_\")","v":"Y"},{"$f":"IF(OR(AG57=\"Y\", AND(Settings!$B$42=\"Y\", AG59=\"Y\"), AND(Settings!$B$43=\"Y\", ISERROR(FIND(\"!\",AG7)))),\"Y\",\"_\")","v":"Y"},{"$f":"IF(OR(AH57=\"Y\", AND(Settings!$B$42=\"Y\", AH59=\"Y\"), AND(Settings!$B$43=\"Y\", ISERROR(FIND(\"!\",AH7)))),\"Y\",\"_\")","v":"Y"},{"$f":"IF(OR(AI57=\"Y\", AND(Settings!$B$42=\"Y\", AI59=\"Y\"), AND(Settings!$B$43=\"Y\", ISERROR(FIND(\"!\",AI7)))),\"Y\",\"_\")","v":"Y"},{"$f":"IF(OR(AJ57=\"Y\", AND(Settings!$B$42=\"Y\", AJ59=\"Y\"), AND(Settings!$B$43=\"Y\", ISERROR(FIND(\"!\",AJ7)))),\"Y\",\"_\")","v":"Y"},{"$f":"IF(OR(AK57=\"Y\", AND(Settings!$B$42=\"Y\", AK59=\"Y\"), AND(Settings!$B$43=\"Y\", ISERROR(FIND(\"!\",AK7)))),\"Y\",\"_\")","v":"Y"},{"$f":"IF(OR(AL57=\"Y\", AND(Settings!$B$42=\"Y\", AL59=\"Y\"), AND(Settings!$B$43=\"Y\", ISERROR(FIND(\"!\",AL7)))),\"Y\",\"_\")","v":"Y"},{"$f":"IF(OR(AM57=\"Y\", AND(Settings!$B$42=\"Y\", AM59=\"Y\"), AND(Settings!$B$43=\"Y\", ISERROR(FIND(\"!\",AM7)))),\"Y\",\"_\")","v":"Y"},{"$f":"IF(OR(AN57=\"Y\", AND(Settings!$B$42=\"Y\", AN59=\"Y\"), AND(Settings!$B$43=\"Y\", ISERROR(FIND(\"!\",AN7)))),\"Y\",\"_\")","v":"Y"},{"$f":"IF(OR(AO57=\"Y\", AND(Settings!$B$42=\"Y\", AO59=\"Y\"), AND(Settings!$B$43=\"Y\", ISERROR(FIND(\"!\",AO7)))),\"Y\",\"_\")","v":"Y"},{"$f":"IF(OR(AP57=\"Y\", AND(Settings!$B$42=\"Y\", AP59=\"Y\"), AND(Settings!$B$43=\"Y\", ISERROR(FIND(\"!\",AP7)))),\"Y\",\"_\")","v":"Y"},{"$f":"IF(OR(AQ57=\"Y\", AND(Settings!$B$42=\"Y\", AQ59=\"Y\"), AND(Settings!$B$43=\"Y\", ISERROR(FIND(\"!\",AQ7)))),\"Y\",\"_\")","v":"Y"},{"$f":"IF(OR(AR57=\"Y\", AND(Settings!$B$42=\"Y\", AR59=\"Y\"), AND(Settings!$B$43=\"Y\", ISERROR(FIND(\"!\",AR7)))),\"Y\",\"_\")","v":"Y"},{"$f":"IF(OR(AS57=\"Y\", AND(Settings!$B$42=\"Y\", AS59=\"Y\"), AND(Settings!$B$43=\"Y\", ISERROR(FIND(\"!\",AS7)))),\"Y\",\"_\")","v":"Y"},{"$f":"IF(OR(AT57=\"Y\", AND(Settings!$B$42=\"Y\", AT59=\"Y\"), AND(Settings!$B$43=\"Y\", ISERROR(FIND(\"!\",AT7)))),\"Y\",\"_\")","v":"Y"},{"$f":"IF(OR(AU57=\"Y\", AND(Settings!$B$42=\"Y\", AU59=\"Y\"), AND(Settings!$B$43=\"Y\", ISERROR(FIND(\"!\",AU7)))),\"Y\",\"_\")","v":"Y"},{"$f":"IF(OR(AV57=\"Y\", AND(Settings!$B$42=\"Y\", AV59=\"Y\"), AND(Settings!$B$43=\"Y\", ISERROR(FIND(\"!\",AV7)))),\"Y\",\"_\")","v":"Y"},{"$f":"IF(OR(AW57=\"Y\", AND(Settings!$B$42=\"Y\", AW59=\"Y\"), AND(Settings!$B$43=\"Y\", ISERROR(FIND(\"!\",AW7)))),\"Y\",\"_\")","v":"Y"},{"$f":"IF(OR(AX57=\"Y\", AND(Settings!$B$42=\"Y\", AX59=\"Y\"), AND(Settings!$B$43=\"Y\", ISERROR(FIND(\"!\",AX7)))),\"Y\",\"_\")","v":"Y"},{"$f":"IF(OR(AY57=\"Y\", AND(Settings!$B$42=\"Y\", AY59=\"Y\"), AND(Settings!$B$43=\"Y\", ISERROR(FIND(\"!\",AY7)))),\"Y\",\"_\")","v":"Y"},{"$f":"IF(OR(AZ57=\"Y\", AND(Settings!$B$42=\"Y\", AZ59=\"Y\"), AND(Settings!$B$43=\"Y\", ISERROR(FIND(\"!\",AZ7)))),\"Y\",\"_\")","v":"Y"},{"$f":"IF(OR(BA57=\"Y\", AND(Settings!$B$42=\"Y\", BA59=\"Y\"), AND(Settings!$B$43=\"Y\", ISERROR(FIND(\"!\",BA7)))),\"Y\",\"_\")","v":"Y"},{"$f":"IF(OR(BB57=\"Y\", AND(Settings!$B$42=\"Y\", BB59=\"Y\"), AND(Settings!$B$43=\"Y\", ISERROR(FIND(\"!\",BB7)))),\"Y\",\"_\")","v":"Y"},{"$f":"IF(OR(BC57=\"Y\", AND(Settings!$B$42=\"Y\", BC59=\"Y\"), AND(Settings!$B$43=\"Y\", ISERROR(FIND(\"!\",BC7)))),\"Y\",\"_\")","v":"Y"},{"$f":"IF(OR(BD57=\"Y\", AND(Settings!$B$42=\"Y\", BD59=\"Y\"), AND(Settings!$B$43=\"Y\", ISERROR(FIND(\"!\",BD7)))),\"Y\",\"_\")","v":"Y"},{"$f":"IF(OR(BE57=\"Y\", AND(Settings!$B$42=\"Y\", BE59=\"Y\"), AND(Settings!$B$43=\"Y\", ISERROR(FIND(\"!\",BE7)))),\"Y\",\"_\")","v":"Y"},{"$f":"IF(OR(BF57=\"Y\", AND(Settings!$B$42=\"Y\", BF59=\"Y\"), AND(Settings!$B$43=\"Y\", ISERROR(FIND(\"!\",BF7)))),\"Y\",\"_\")","v":"Y"},{"$f":"IF(OR(BG57=\"Y\", AND(Settings!$B$42=\"Y\", BG59=\"Y\"), AND(Settings!$B$43=\"Y\", ISERROR(FIND(\"!\",BG7)))),\"Y\",\"_\")","v":"Y"},{"$f":"IF(OR(BH57=\"Y\", AND(Settings!$B$42=\"Y\", BH59=\"Y\"), AND(Settings!$B$43=\"Y\", ISERROR(FIND(\"!\",BH7)))),\"Y\",\"_\")","v":"Y"},{"$f":"IF(OR(BI57=\"Y\", AND(Settings!$B$42=\"Y\", BI59=\"Y\"), AND(Settings!$B$43=\"Y\", ISERROR(FIND(\"!\",BI7)))),\"Y\",\"_\")","v":"Y"},{"$f":"IF(OR(BJ57=\"Y\", AND(Settings!$B$42=\"Y\", BJ59=\"Y\"), AND(Settings!$B$43=\"Y\", ISERROR(FIND(\"!\",BJ7)))),\"Y\",\"_\")","v":"Y"},{"$f":"IF(OR(BK57=\"Y\", AND(Settings!$B$42=\"Y\", BK59=\"Y\"), AND(Settings!$B$43=\"Y\", ISERROR(FIND(\"!\",BK7)))),\"Y\",\"_\")","v":"Y"},{"$f":"IF(OR(BL57=\"Y\", AND(Settings!$B$42=\"Y\", BL59=\"Y\"), AND(Settings!$B$43=\"Y\", ISERROR(FIND(\"!\",BL7)))),\"Y\",\"_\")","v":"Y"},{"$f":"IF(OR(BM57=\"Y\", AND(Settings!$B$42=\"Y\", BM59=\"Y\"), AND(Settings!$B$43=\"Y\", ISERROR(FIND(\"!\",BM7)))),\"Y\",\"_\")","v":"Y"},{"$f":"IF(OR(BN57=\"Y\", AND(Settings!$B$42=\"Y\", BN59=\"Y\"), AND(Settings!$B$43=\"Y\", ISERROR(FIND(\"!\",BN7)))),\"Y\",\"_\")","v":"Y"},{"$f":"IF(OR(BO57=\"Y\", AND(Settings!$B$42=\"Y\", BO59=\"Y\"), AND(Settings!$B$43=\"Y\", ISERROR(FIND(\"!\",BO7)))),\"Y\",\"_\")","v":"Y"},{"$f":"IF(OR(BP57=\"Y\", AND(Settings!$B$42=\"Y\", BP59=\"Y\"), AND(Settings!$B$43=\"Y\", ISERROR(FIND(\"!\",BP7)))),\"Y\",\"_\")","v":"Y"},{"$f":"IF(OR(BQ57=\"Y\", AND(Settings!$B$42=\"Y\", BQ59=\"Y\"), AND(Settings!$B$43=\"Y\", ISERROR(FIND(\"!\",BQ7)))),\"Y\",\"_\")","v":"Y"},{"$f":"IF(OR(BR57=\"Y\", AND(Settings!$B$42=\"Y\", BR59=\"Y\"), AND(Settings!$B$43=\"Y\", ISERROR(FIND(\"!\",BR7)))),\"Y\",\"_\")","v":"Y"},{"$f":"IF(OR(BS57=\"Y\", AND(Settings!$B$42=\"Y\", BS59=\"Y\"), AND(Settings!$B$43=\"Y\", ISERROR(FIND(\"!\",BS7)))),\"Y\",\"_\")","v":"Y"},{"$f":"IF(OR(BT57=\"Y\", AND(Settings!$B$42=\"Y\", BT59=\"Y\"), AND(Settings!$B$43=\"Y\", ISERROR(FIND(\"!\",BT7)))),\"Y\",\"_\")","v":"Y"},{"$f":"IF(OR(BU57=\"Y\", AND(Settings!$B$42=\"Y\", BU59=\"Y\"), AND(Settings!$B$43=\"Y\", ISERROR(FIND(\"!\",BU7)))),\"Y\",\"_\")","v":"Y"},{"$f":"IF(OR(BV57=\"Y\", AND(Settings!$B$42=\"Y\", BV59=\"Y\"), AND(Settings!$B$43=\"Y\", ISERROR(FIND(\"!\",BV7)))),\"Y\",\"_\")","v":"Y"},{"$f":"IF(OR(BW57=\"Y\", AND(Settings!$B$42=\"Y\", BW59=\"Y\"), AND(Settings!$B$43=\"Y\", ISERROR(FIND(\"!\",BW7)))),\"Y\",\"_\")","v":"Y"},{"$f":"IF(OR(BX57=\"Y\", AND(Settings!$B$42=\"Y\", BX59=\"Y\"), AND(Settings!$B$43=\"Y\", ISERROR(FIND(\"!\",BX7)))),\"Y\",\"_\")","v":"Y"},{"$f":"IF(OR(BY57=\"Y\", AND(Settings!$B$42=\"Y\", BY59=\"Y\"), AND(Settings!$B$43=\"Y\", ISERROR(FIND(\"!\",BY7)))),\"Y\",\"_\")","v":"Y"},{"$f":"IF(OR(BZ57=\"Y\", AND(Settings!$B$42=\"Y\", BZ59=\"Y\"), AND(Settings!$B$43=\"Y\", ISERROR(FIND(\"!\",BZ7)))),\"Y\",\"_\")","v":"Y"},{"$f":"IF(OR(CA57=\"Y\", AND(Settings!$B$42=\"Y\", CA59=\"Y\"), AND(Settings!$B$43=\"Y\", ISERROR(FIND(\"!\",CA7)))),\"Y\",\"_\")","v":"Y"},{"$f":"IF(OR(CB57=\"Y\", AND(Settings!$B$42=\"Y\", CB59=\"Y\"), AND(Settings!$B$43=\"Y\", ISERROR(FIND(\"!\",CB7)))),\"Y\",\"_\")","v":"Y"},{"$f":"IF(OR(CC57=\"Y\", AND(Settings!$B$42=\"Y\", CC59=\"Y\"), AND(Settings!$B$43=\"Y\", ISERROR(FIND(\"!\",CC7)))),\"Y\",\"_\")","v":"Y"},{"$f":"IF(OR(CD57=\"Y\", AND(Settings!$B$42=\"Y\", CD59=\"Y\"), AND(Settings!$B$43=\"Y\", ISERROR(FIND(\"!\",CD7)))),\"Y\",\"_\")","v":"Y"},{"$f":"IF(OR(CE57=\"Y\", AND(Settings!$B$42=\"Y\", CE59=\"Y\"), AND(Settings!$B$43=\"Y\", ISERROR(FIND(\"!\",CE7)))),\"Y\",\"_\")","v":"Y"},{"$f":"IF(OR(CF57=\"Y\", AND(Settings!$B$42=\"Y\", CF59=\"Y\"), AND(Settings!$B$43=\"Y\", ISERROR(FIND(\"!\",CF7)))),\"Y\",\"_\")","v":"Y"},{"$f":"IF(OR(CG57=\"Y\", AND(Settings!$B$42=\"Y\", CG59=\"Y\"), AND(Settings!$B$43=\"Y\", ISERROR(FIND(\"!\",CG7)))),\"Y\",\"_\")","v":"Y"},{"$f":"IF(OR(CH57=\"Y\", AND(Settings!$B$42=\"Y\", CH59=\"Y\"), AND(Settings!$B$43=\"Y\", ISERROR(FIND(\"!\",CH7)))),\"Y\",\"_\")","v":"Y"},{"$f":"IF(OR(CI57=\"Y\", AND(Settings!$B$42=\"Y\", CI59=\"Y\"), AND(Settings!$B$43=\"Y\", ISERROR(FIND(\"!\",CI7)))),\"Y\",\"_\")","v":"Y"},{"$f":"IF(OR(CJ57=\"Y\", AND(Settings!$B$42=\"Y\", CJ59=\"Y\"), AND(Settings!$B$43=\"Y\", ISERROR(FIND(\"!\",CJ7)))),\"Y\",\"_\")","v":"Y"},{"$f":"IF(OR(CK57=\"Y\", AND(Settings!$B$42=\"Y\", CK59=\"Y\"), AND(Settings!$B$43=\"Y\", ISERROR(FIND(\"!\",CK7)))),\"Y\",\"_\")","v":"Y"},{"$f":"IF(OR(CL57=\"Y\", AND(Settings!$B$42=\"Y\", CL59=\"Y\"), AND(Settings!$B$43=\"Y\", ISERROR(FIND(\"!\",CL7)))),\"Y\",\"_\")","v":"Y"},{"$f":"IF(OR(CM57=\"Y\", AND(Settings!$B$42=\"Y\", CM59=\"Y\"), AND(Settings!$B$43=\"Y\", ISERROR(FIND(\"!\",CM7)))),\"Y\",\"_\")","v":"Y"},{"$f":"IF(OR(CN57=\"Y\", AND(Settings!$B$42=\"Y\", CN59=\"Y\"), AND(Settings!$B$43=\"Y\", ISERROR(FIND(\"!\",CN7)))),\"Y\",\"_\")","v":"Y"},{"$f":"IF(OR(CO57=\"Y\", AND(Settings!$B$42=\"Y\", CO59=\"Y\"), AND(Settings!$B$43=\"Y\", ISERROR(FIND(\"!\",CO7)))),\"Y\",\"_\")","v":"Y"},{"$f":"IF(OR(CP57=\"Y\", AND(Settings!$B$42=\"Y\", CP59=\"Y\"), AND(Settings!$B$43=\"Y\", ISERROR(FIND(\"!\",CP7)))),\"Y\",\"_\")","v":"Y"},{"$f":"IF(OR(CQ57=\"Y\", AND(Settings!$B$42=\"Y\", CQ59=\"Y\"), AND(Settings!$B$43=\"Y\", ISERROR(FIND(\"!\",CQ7)))),\"Y\",\"_\")","v":"Y"},{"$f":"IF(OR(CR57=\"Y\", AND(Settings!$B$42=\"Y\", CR59=\"Y\"), AND(Settings!$B$43=\"Y\", ISERROR(FIND(\"!\",CR7)))),\"Y\",\"_\")","v":"Y"},{"$f":"IF(OR(CS57=\"Y\", AND(Settings!$B$42=\"Y\", CS59=\"Y\"), AND(Settings!$B$43=\"Y\", ISERROR(FIND(\"!\",CS7)))),\"Y\",\"_\")","v":"Y"},{"$f":"IF(OR(CT57=\"Y\", AND(Settings!$B$42=\"Y\", CT59=\"Y\"), AND(Settings!$B$43=\"Y\", ISERROR(FIND(\"!\",CT7)))),\"Y\",\"_\")","v":"Y"},{"$f":"IF(OR(CU57=\"Y\", AND(Settings!$B$42=\"Y\", CU59=\"Y\"), AND(Settings!$B$43=\"Y\", ISERROR(FIND(\"!\",CU7)))),\"Y\",\"_\")","v":"Y"},{"$f":"IF(OR(CV57=\"Y\", AND(Settings!$B$42=\"Y\", CV59=\"Y\"), AND(Settings!$B$43=\"Y\", ISERROR(FIND(\"!\",CV7)))),\"Y\",\"_\")","v":"Y"},{"$f":"IF(OR(CW57=\"Y\", AND(Settings!$B$42=\"Y\", CW59=\"Y\"), AND(Settings!$B$43=\"Y\", ISERROR(FIND(\"!\",CW7)))),\"Y\",\"_\")","v":"Y"},{"$f":"IF(OR(CX57=\"Y\", AND(Settings!$B$42=\"Y\", CX59=\"Y\"), AND(Settings!$B$43=\"Y\", ISERROR(FIND(\"!\",CX7)))),\"Y\",\"_\")","v":"Y"},{"$f":"IF(OR(CY57=\"Y\", AND(Settings!$B$42=\"Y\", CY59=\"Y\"), AND(Settings!$B$43=\"Y\", ISERROR(FIND(\"!\",CY7)))),\"Y\",\"_\")","v":"Y"},{"$f":"IF(OR(CZ57=\"Y\", AND(Settings!$B$42=\"Y\", CZ59=\"Y\"), AND(Settings!$B$43=\"Y\", ISERROR(FIND(\"!\",CZ7)))),\"Y\",\"_\")","v":"Y"},{"$f":"IF(OR(DA57=\"Y\", AND(Settings!$B$42=\"Y\", DA59=\"Y\"), AND(Settings!$B$43=\"Y\", ISERROR(FIND(\"!\",DA7)))),\"Y\",\"_\")","v":"Y"},{"$f":"IF(OR(DB57=\"Y\", AND(Settings!$B$42=\"Y\", DB59=\"Y\"), AND(Settings!$B$43=\"Y\", ISERROR(FIND(\"!\",DB7)))),\"Y\",\"_\")","v":"Y"},{"$f":"IF(OR(DC57=\"Y\", AND(Settings!$B$42=\"Y\", DC59=\"Y\"), AND(Settings!$B$43=\"Y\", ISERROR(FIND(\"!\",DC7)))),\"Y\",\"_\")","v":"Y"},{"$f":"IF(OR(DD57=\"Y\", AND(Settings!$B$42=\"Y\", DD59=\"Y\"), AND(Settings!$B$43=\"Y\", ISERROR(FIND(\"!\",DD7)))),\"Y\",\"_\")","v":"Y"},{"$f":"IF(OR(DE57=\"Y\", AND(Settings!$B$42=\"Y\", DE59=\"Y\"), AND(Settings!$B$43=\"Y\", ISERROR(FIND(\"!\",DE7)))),\"Y\",\"_\")","v":"Y"},{"$f":"IF(OR(DF57=\"Y\", AND(Settings!$B$42=\"Y\", DF59=\"Y\"), AND(Settings!$B$43=\"Y\", ISERROR(FIND(\"!\",DF7)))),\"Y\",\"_\")","v":"Y"},{"$f":"IF(OR(DG57=\"Y\", AND(Settings!$B$42=\"Y\", DG59=\"Y\"), AND(Settings!$B$43=\"Y\", ISERROR(FIND(\"!\",DG7)))),\"Y\",\"_\")","v":"Y"},{"$f":"IF(OR(DH57=\"Y\", AND(Settings!$B$42=\"Y\", DH59=\"Y\"), AND(Settings!$B$43=\"Y\", ISERROR(FIND(\"!\",DH7)))),\"Y\",\"_\")","v":"Y"},{"$f":"IF(OR(DI57=\"Y\", AND(Settings!$B$42=\"Y\", DI59=\"Y\"), AND(Settings!$B$43=\"Y\", ISERROR(FIND(\"!\",DI7)))),\"Y\",\"_\")","v":"Y"},{"$f":"IF(OR(DJ57=\"Y\", AND(Settings!$B$42=\"Y\", DJ59=\"Y\"), AND(Settings!$B$43=\"Y\", ISERROR(FIND(\"!\",DJ7)))),\"Y\",\"_\")","v":"Y"},{"$f":"IF(OR(DK57=\"Y\", AND(Settings!$B$42=\"Y\", DK59=\"Y\"), AND(Settings!$B$43=\"Y\", ISERROR(FIND(\"!\",DK7)))),\"Y\",\"_\")","v":"Y"},{"$f":"IF(OR(DL57=\"Y\", AND(Settings!$B$42=\"Y\", DL59=\"Y\"), AND(Settings!$B$43=\"Y\", ISERROR(FIND(\"!\",DL7)))),\"Y\",\"_\")","v":"Y"},{"$f":"IF(OR(DM57=\"Y\", AND(Settings!$B$42=\"Y\", DM59=\"Y\"), AND(Settings!$B$43=\"Y\", ISERROR(FIND(\"!\",DM7)))),\"Y\",\"_\")","v":"Y"},{"$f":"IF(OR(DN57=\"Y\", AND(Settings!$B$42=\"Y\", DN59=\"Y\"), AND(Settings!$B$43=\"Y\", ISERROR(FIND(\"!\",DN7)))),\"Y\",\"_\")","v":"Y"},{"$f":"IF(OR(DO57=\"Y\", AND(Settings!$B$42=\"Y\", DO59=\"Y\"), AND(Settings!$B$43=\"Y\", ISERROR(FIND(\"!\",DO7)))),\"Y\",\"_\")","v":"Y"},{"$f":"IF(OR(DP57=\"Y\", AND(Settings!$B$42=\"Y\", DP59=\"Y\"), AND(Settings!$B$43=\"Y\", ISERROR(FIND(\"!\",DP7)))),\"Y\",\"_\")","v":"Y"},{"$f":"IF(OR(DQ57=\"Y\", AND(Settings!$B$42=\"Y\", DQ59=\"Y\"), AND(Settings!$B$43=\"Y\", ISERROR(FIND(\"!\",DQ7)))),\"Y\",\"_\")","v":"Y"},{"$f":"IF(OR(DR57=\"Y\", AND(Settings!$B$42=\"Y\", DR59=\"Y\"), AND(Settings!$B$43=\"Y\", ISERROR(FIND(\"!\",DR7)))),\"Y\",\"_\")","v":"Y"},{"$f":"IF(OR(DS57=\"Y\", AND(Settings!$B$42=\"Y\", DS59=\"Y\"), AND(Settings!$B$43=\"Y\", ISERROR(FIND(\"!\",DS7)))),\"Y\",\"_\")","v":"Y"},{"$f":"IF(OR(DT57=\"Y\", AND(Settings!$B$42=\"Y\", DT59=\"Y\"), AND(Settings!$B$43=\"Y\", ISERROR(FIND(\"!\",DT7)))),\"Y\",\"_\")","v":"Y"},{"$f":"IF(OR(DU57=\"Y\", AND(Settings!$B$42=\"Y\", DU59=\"Y\"), AND(Settings!$B$43=\"Y\", ISERROR(FIND(\"!\",DU7)))),\"Y\",\"_\")","v":"Y"},{"$f":"IF(OR(DV57=\"Y\", AND(Settings!$B$42=\"Y\", DV59=\"Y\"), AND(Settings!$B$43=\"Y\", ISERROR(FIND(\"!\",DV7)))),\"Y\",\"_\")","v":"Y"},{"$f":"IF(OR(DW57=\"Y\", AND(Settings!$B$42=\"Y\", DW59=\"Y\"), AND(Settings!$B$43=\"Y\", ISERROR(FIND(\"!\",DW7)))),\"Y\",\"_\")","v":"Y"},{"$f":"IF(OR(DX57=\"Y\", AND(Settings!$B$42=\"Y\", DX59=\"Y\"), AND(Settings!$B$43=\"Y\", ISERROR(FIND(\"!\",DX7)))),\"Y\",\"_\")","v":"Y"},{"$f":"IF(OR(DY57=\"Y\", AND(Settings!$B$42=\"Y\", DY59=\"Y\"), AND(Settings!$B$43=\"Y\", ISERROR(FIND(\"!\",DY7)))),\"Y\",\"_\")","v":"Y"},{"$f":"IF(OR(DZ57=\"Y\", AND(Settings!$B$42=\"Y\", DZ59=\"Y\"), AND(Settings!$B$43=\"Y\", ISERROR(FIND(\"!\",DZ7)))),\"Y\",\"_\")","v":"Y"},{"$f":"IF(OR(EA57=\"Y\", AND(Settings!$B$42=\"Y\", EA59=\"Y\"), AND(Settings!$B$43=\"Y\", ISERROR(FIND(\"!\",EA7)))),\"Y\",\"_\")","v":"Y"},{"$f":"IF(OR(EB57=\"Y\", AND(Settings!$B$42=\"Y\", EB59=\"Y\"), AND(Settings!$B$43=\"Y\", ISERROR(FIND(\"!\",EB7)))),\"Y\",\"_\")","v":"Y"},{"$f":"IF(OR(EC57=\"Y\", AND(Settings!$B$42=\"Y\", EC59=\"Y\"), AND(Settings!$B$43=\"Y\", ISERROR(FIND(\"!\",EC7)))),\"Y\",\"_\")","v":"Y"},{"$f":"IF(OR(ED57=\"Y\", AND(Settings!$B$42=\"Y\", ED59=\"Y\"), AND(Settings!$B$43=\"Y\", ISERROR(FIND(\"!\",ED7)))),\"Y\",\"_\")","v":"Y"},{"$f":"IF(OR(EE57=\"Y\", AND(Settings!$B$42=\"Y\", EE59=\"Y\"), AND(Settings!$B$43=\"Y\", ISERROR(FIND(\"!\",EE7)))),\"Y\",\"_\")","v":"Y"},{"$f":"IF(OR(EF57=\"Y\", AND(Settings!$B$42=\"Y\", EF59=\"Y\"), AND(Settings!$B$43=\"Y\", ISERROR(FIND(\"!\",EF7)))),\"Y\",\"_\")","v":"Y"},{"$f":"IF(OR(EG57=\"Y\", AND(Settings!$B$42=\"Y\", EG59=\"Y\"), AND(Settings!$B$43=\"Y\", ISERROR(FIND(\"!\",EG7)))),\"Y\",\"_\")","v":"Y"},{"$f":"IF(OR(EH57=\"Y\", AND(Settings!$B$42=\"Y\", EH59=\"Y\"), AND(Settings!$B$43=\"Y\", ISERROR(FIND(\"!\",EH7)))),\"Y\",\"_\")","v":"Y"},{"$f":"IF(OR(EI57=\"Y\", AND(Settings!$B$42=\"Y\", EI59=\"Y\"), AND(Settings!$B$43=\"Y\", ISERROR(FIND(\"!\",EI7)))),\"Y\",\"_\")","v":"Y"},{"$f":"IF(OR(EJ57=\"Y\", AND(Settings!$B$42=\"Y\", EJ59=\"Y\"), AND(Settings!$B$43=\"Y\", ISERROR(FIND(\"!\",EJ7)))),\"Y\",\"_\")","v":"Y"},{"$f":"IF(OR(EK57=\"Y\", AND(Settings!$B$42=\"Y\", EK59=\"Y\"), AND(Settings!$B$43=\"Y\", ISERROR(FIND(\"!\",EK7)))),\"Y\",\"_\")","v":"Y"},{"$f":"IF(OR(EL57=\"Y\", AND(Settings!$B$42=\"Y\", EL59=\"Y\"), AND(Settings!$B$43=\"Y\", ISERROR(FIND(\"!\",EL7)))),\"Y\",\"_\")","v":"Y"},{"$f":"IF(OR(EM57=\"Y\", AND(Settings!$B$42=\"Y\", EM59=\"Y\"), AND(Settings!$B$43=\"Y\", ISERROR(FIND(\"!\",EM7)))),\"Y\",\"_\")","v":"Y"},{"$f":"IF(OR(EN57=\"Y\", AND(Settings!$B$42=\"Y\", EN59=\"Y\"), AND(Settings!$B$43=\"Y\", ISERROR(FIND(\"!\",EN7)))),\"Y\",\"_\")","v":"Y"},{"$f":"IF(OR(EO57=\"Y\", AND(Settings!$B$42=\"Y\", EO59=\"Y\"), AND(Settings!$B$43=\"Y\", ISERROR(FIND(\"!\",EO7)))),\"Y\",\"_\")","v":"Y"},{"$f":"IF(OR(EP57=\"Y\", AND(Settings!$B$42=\"Y\", EP59=\"Y\"), AND(Settings!$B$43=\"Y\", ISERROR(FIND(\"!\",EP7)))),\"Y\",\"_\")","v":"Y"},{"$f":"IF(OR(EQ57=\"Y\", AND(Settings!$B$42=\"Y\", EQ59=\"Y\"), AND(Settings!$B$43=\"Y\", ISERROR(FIND(\"!\",EQ7)))),\"Y\",\"_\")","v":"Y"},{"$f":"IF(OR(ER57=\"Y\", AND(Settings!$B$42=\"Y\", ER59=\"Y\"), AND(Settings!$B$43=\"Y\", ISERROR(FIND(\"!\",ER7)))),\"Y\",\"_\")","v":"Y"},{"$f":"IF(OR(ES57=\"Y\", AND(Settings!$B$42=\"Y\", ES59=\"Y\"), AND(Settings!$B$43=\"Y\", ISERROR(FIND(\"!\",ES7)))),\"Y\",\"_\")","v":"Y"},{"$f":"IF(OR(ET57=\"Y\", AND(Settings!$B$42=\"Y\", ET59=\"Y\"), AND(Settings!$B$43=\"Y\", ISERROR(FIND(\"!\",ET7)))),\"Y\",\"_\")","v":"Y"},{"$f":"IF(OR(EU57=\"Y\", AND(Settings!$B$42=\"Y\", EU59=\"Y\"), AND(Settings!$B$43=\"Y\", ISERROR(FIND(\"!\",EU7)))),\"Y\",\"_\")","v":"Y"},{"$f":"IF(OR(EV57=\"Y\", AND(Settings!$B$42=\"Y\", EV59=\"Y\"), AND(Settings!$B$43=\"Y\", ISERROR(FIND(\"!\",EV7)))),\"Y\",\"_\")","v":"Y"},{"$f":"IF(OR(EW57=\"Y\", AND(Settings!$B$42=\"Y\", EW59=\"Y\"), AND(Settings!$B$43=\"Y\", ISERROR(FIND(\"!\",EW7)))),\"Y\",\"_\")","v":"Y"},{"$f":"IF(OR(EX57=\"Y\", AND(Settings!$B$42=\"Y\", EX59=\"Y\"), AND(Settings!$B$43=\"Y\", ISERROR(FIND(\"!\",EX7)))),\"Y\",\"_\")","v":"Y"},{"$f":"IF(OR(EY57=\"Y\", AND(Settings!$B$42=\"Y\", EY59=\"Y\"), AND(Settings!$B$43=\"Y\", ISERROR(FIND(\"!\",EY7)))),\"Y\",\"_\")","v":"Y"}]
[null,null,"Surrogate Key (SK)",null,null,{"$f":"IF(ISERROR(FIND(\"SK\",F7)),\"_\",\"Y\")","v":"_"},{"$f":"IF(ISERROR(FIND(\"SK\",G7)),\"_\",\"Y\")","v":"_"},"_","_","_","_","_","_","_","_","_","_","_","_","_","_","_","_","_","_","_","_","_","_","_","_","_","_","_","_","_","_","_","_","_","_","_","_","_","_","_","_","_","_","_","_","_","_","_","_","_","_","_","_","_","_","_","_","_","_","_","_","_","_","_",{"$f":"IF(ISERROR(FIND(\"SK\",BS7)),\"_\",\"Y\")","v":"_"},"_","_","_","_","_","_","_","_","_","_","_","_","_","_","_","_","_","_","_","_","_","_","_","_","_","_","_","_","_","_","_","_","_","_","_","_","_","_","_","_","_","_","_","_","_","_","_","_","_","_","_","_","_","_","_","_","_","_","_","_","_","_","_",{"$f":"IF(ISERROR(FIND(\"SK\",EE7)),\"_\",\"Y\")","v":"_"},"_","_","_","_","_","_","_","_","_","_","_","_","_","_","_","_","_","_","_","_"]
[null,null,"PK or GD Column",null,null,{"$f":"IF(OR(NOT(ISERROR(FIND(\"PK\",F7))), NOT(ISERROR(FIND(\"GD\",F7)))),\"Y\",\"_\")","v":"_"},{"$f":"IF(OR(NOT(ISERROR(FIND(\"PK\",G7))), NOT(ISERROR(FIND(\"GD\",G7)))),\"Y\",\"_\")","v":"_"},"_","_","_","_","_","_","_","_","_","_","_","_","_","_","_","_","_","_","_","_","_","_","_","_","_","_","_","_","_","_","_","_","_","_","_","_","_","_","_","_","_","_","_","_","_","_","_","_","_","_","_","_","_","_","_","_","_","_","_","_","_","_","_",{"$f":"IF(OR(NOT(ISERROR(FIND(\"PK\",BS7))), NOT(ISERROR(FIND(\"GD\",BS7)))),\"Y\",\"_\")","v":"_"},"_","_","_","_","_","_","_","_","_","_","_","_","_","_","_","_","_","_","_","_","_","_","_","_","_","_","_","_","_","_","_","_","_","_","_","_","_","_","_","_","_","_","_","_","_","_","_","_","_","_","_","_","_","_","_","_","_","_","_","_","_","_","_",{"$f":"IF(OR(NOT(ISERROR(FIND(\"PK\",EE7))), NOT(ISERROR(FIND(\"GD\",EE7)))),\"Y\",\"_\")","v":"_"},"_","_","_","_","_","_","_","_","_","_","_","_","_","_","_","_","_","_","_","_"]
[null,null,"BK, NK or DD Column",null,null,{"$f":"IF(OR(NOT(ISERROR(FIND(\"BK\",F7))), NOT(ISERROR(FIND(\"NK\",F7))), NOT(ISERROR(FIND(\"DD\",F7)))),\"Y\",\"_\")","v":"_"},{"$f":"IF(OR(NOT(ISERROR(FIND(\"BK\",G7))), NOT(ISERROR(FIND(\"NK\",G7))), NOT(ISERROR(FIND(\"DD\",G7)))),\"Y\",\"_\")","v":"_"},"_","_","_","_","_","_","_","_","_","_","_","_","_","_","_","_","_","_","_","_","_","_","_","_","_","_","_","_","_","_","_","_","_","_","_","_","_","_","_","_","_","_","_","_","_","_","_","_","_","_","_","_","_","_","_","_","_","_","_","_","_","_","_",{"$f":"IF(OR(NOT(ISERROR(FIND(\"BK\",BS7))), NOT(ISERROR(FIND(\"NK\",BS7))), NOT(ISERROR(FIND(\"DD\",BS7)))),\"Y\",\"_\")","v":"_"},"_","_","_","_","_","_","_","_","_","_","_","_","_","_","_","_","_","_","_","_","_","_","_","_","_","_","_","_","_","_","_","_","_","_","_","_","_","_","_","_","_","_","_","_","_","_","_","_","_","_","_","_","_","_","_","_","_","_","_","_","_","_","_",{"$f":"IF(OR(NOT(ISERROR(FIND(\"BK\",EE7))), NOT(ISERROR(FIND(\"NK\",EE7))), NOT(ISERROR(FIND(\"DD\",EE7)))),\"Y\",\"_\")","v":"_"},"_","_","_","_","_","_","_","_","_","_","_","_","_","_","_","_","_","_","_","_"]
[null,null,"FK or RK Column",null,null,{"$f":"IF(OR(NOT(ISERROR(FIND(\"FK\",F7))), NOT(ISERROR(FIND(\"RK\",F7)))),\"Y\",\"_\")","v":"_"},{"$f":"IF(OR(NOT(ISERROR(FIND(\"FK\",G7))), NOT(ISERROR(FIND(\"RK\",G7)))),\"Y\",\"_\")","v":"_"},"_","_","_","_","_","_","_","_","_","_","_","_","_","_","_","_","_","_","_","_","_","_","_","_","_","_","_","_","_","_","_","_","_","_","_","_","_","_","_","_","_","_","_","_","_","_","_","_","_","_","_","_","_","_","_","_","_","_","_","_","_","_","_",{"$f":"IF(OR(NOT(ISERROR(FIND(\"FK\",BS7))), NOT(ISERROR(FIND(\"RK\",BS7)))),\"Y\",\"_\")","v":"_"},"_","_","_","_","_","_","_","_","_","_","_","_","_","_","_","_","_","_","_","_","_","_","_","_","_","_","_","_","_","_","_","_","_","_","_","_","_","_","_","_","_","_","_","_","_","_","_","_","_","_","_","_","_","_","_","_","_","_","_","_","_","_","_",{"$f":"IF(OR(NOT(ISERROR(FIND(\"FK\",EE7))), NOT(ISERROR(FIND(\"RK\",EE7)))),\"Y\",\"_\")","v":"_"},"_","_","_","_","_","_","_","_","_","_","_","_","_","_","_","_","_","_","_","_"]
[null,null,"Sort First Column",null,null,{"$f":"IF(OR(F59=\"Y\", F60=\"Y\", F61=\"Y\", F62=\"Y\"),\"Y\",\"_\")","v":"_"},{"$f":"IF(OR(G59=\"Y\", G60=\"Y\", G61=\"Y\", G62=\"Y\"),\"Y\",\"_\")","v":"_"},"_","_","_","_","_","_","_","_","_","_","_","_","_","_","_","_","_","_","_","_","_","_","_","_","_","_","_","_","_","_","_","_","_","_","_","_","_","_","_","_","_","_","_","_","_","_","_","_","_","_","_","_","_","_","_","_","_","_","_","_","_","_","_",{"$f":"IF(OR(BS59=\"Y\", BS60=\"Y\", BS61=\"Y\", BS62=\"Y\"),\"Y\",\"_\")","v":"_"},"_","_","_","_","_","_","_","_","_","_","_","_","_","_","_","_","_","_","_","_","_","_","_","_","_","_","_","_","_","_","_","_","_","_","_","_","_","_","_","_","_","_","_","_","_","_","_","_","_","_","_","_","_","_","_","_","_","_","_","_","_","_","_",{"$f":"IF(OR(EE59=\"Y\", EE60=\"Y\", EE61=\"Y\", EE62=\"Y\"),\"Y\",\"_\")","v":"_"},"_","_","_","_","_","_","_","_","_","_","_","_","_","_","_","_","_","_","_","_"]
[null,null,"Fact Column",null,null,{"$f":"IF(OR(NOT(ISERROR(FIND(\"FA\",F7))), NOT(ISERROR(FIND(\"SA\",F7))), NOT(ISERROR(FIND(\"NA\",F7))), NOT(ISERROR(FIND(\"DF\",F7))) ),\"Y\",\"_\")","v":"_"},{"$f":"IF(OR(NOT(ISERROR(FIND(\"FA\",G7))), NOT(ISERROR(FIND(\"SA\",G7))), NOT(ISERROR(FIND(\"NA\",G7))), NOT(ISERROR(FIND(\"DF\",G7))) ),\"Y\",\"_\")","v":"_"},"_","_","_","_","_","_","_","_","_","_","_","_","_","_","_","_","_","_","_","_","_","_","_","_","_","_","_","_","_","_","_","_","_","_","_","_","_","_","_","_","_","_","_","_","_","_","_","_","_","_","_","_","_","_","_","_","_","_","_","_","_","_","_",{"$f":"IF(OR(NOT(ISERROR(FIND(\"FA\",BS7))), NOT(ISERROR(FIND(\"SA\",BS7))), NOT(ISERROR(FIND(\"NA\",BS7))), NOT(ISERROR(FIND(\"DF\",BS7))) ),\"Y\",\"_\")","v":"_"},"_","_","_","_","_","_","_","_","_","_","_","_","_","_","_","_","_","_","_","_","_","_","_","_","_","_","_","_","_","_","_","_","_","_","_","_","_","_","_","_","_","_","_","_","_","_","_","_","_","_","_","_","_","_","_","_","_","_","_","_","_","_","_",{"$f":"IF(OR(NOT(ISERROR(FIND(\"FA\",EE7))), NOT(ISERROR(FIND(\"SA\",EE7))), NOT(ISERROR(FIND(\"NA\",EE7))), NOT(ISERROR(FIND(\"DF\",EE7))) ),\"Y\",\"_\")","v":"_"},"_","_","_","_","_","_","_","_","_","_","_","_","_","_","_","_","_","_","_","_"]
[null,null,"Not Null (NN or MD if enforced)",null,null,{"$f":"IF(OR(NOT(ISERROR(FIND(\"NN\",F7))), AND(NOT(ISERROR(FIND(\"MD\",F7))), Settings!$B$15=\"Y\")),\"Y\",\"_\")","v":"_"},{"$f":"IF(OR(NOT(ISERROR(FIND(\"NN\",G7))), AND(NOT(ISERROR(FIND(\"MD\",G7))), Settings!$B$15=\"Y\")),\"Y\",\"_\")","v":"_"},{"$f":"IF(OR(NOT(ISERROR(FIND(\"NN\",H7))), AND(NOT(ISERROR(FIND(\"MD\",H7))), Settings!$B$15=\"Y\")),\"Y\",\"_\")","v":"_"},{"$f":"IF(OR(NOT(ISERROR(FIND(\"NN\",I7))), AND(NOT(ISERROR(FIND(\"MD\",I7))), Settings!$B$15=\"Y\")),\"Y\",\"_\")","v":"_"},{"$f":"IF(OR(NOT(ISERROR(FIND(\"NN\",J7))), AND(NOT(ISERROR(FIND(\"MD\",J7))), Settings!$B$15=\"Y\")),\"Y\",\"_\")","v":"_"},{"$f":"IF(OR(NOT(ISERROR(FIND(\"NN\",K7))), AND(NOT(ISERROR(FIND(\"MD\",K7))), Settings!$B$15=\"Y\")),\"Y\",\"_\")","v":"_"},{"$f":"IF(OR(NOT(ISERROR(FIND(\"NN\",L7))), AND(NOT(ISERROR(FIND(\"MD\",L7))), Settings!$B$15=\"Y\")),\"Y\",\"_\")","v":"_"},{"$f":"IF(OR(NOT(ISERROR(FIND(\"NN\",M7))), AND(NOT(ISERROR(FIND(\"MD\",M7))), Settings!$B$15=\"Y\")),\"Y\",\"_\")","v":"_"},{"$f":"IF(OR(NOT(ISERROR(FIND(\"NN\",N7))), AND(NOT(ISERROR(FIND(\"MD\",N7))), Settings!$B$15=\"Y\")),\"Y\",\"_\")","v":"_"},{"$f":"IF(OR(NOT(ISERROR(FIND(\"NN\",O7))), AND(NOT(ISERROR(FIND(\"MD\",O7))), Settings!$B$15=\"Y\")),\"Y\",\"_\")","v":"_"},{"$f":"IF(OR(NOT(ISERROR(FIND(\"NN\",P7))), AND(NOT(ISERROR(FIND(\"MD\",P7))), Settings!$B$15=\"Y\")),\"Y\",\"_\")","v":"_"},{"$f":"IF(OR(NOT(ISERROR(FIND(\"NN\",Q7))), AND(NOT(ISERROR(FIND(\"MD\",Q7))), Settings!$B$15=\"Y\")),\"Y\",\"_\")","v":"_"},{"$f":"IF(OR(NOT(ISERROR(FIND(\"NN\",R7))), AND(NOT(ISERROR(FIND(\"MD\",R7))), Settings!$B$15=\"Y\")),\"Y\",\"_\")","v":"_"},{"$f":"IF(OR(NOT(ISERROR(FIND(\"NN\",S7))), AND(NOT(ISERROR(FIND(\"MD\",S7))), Settings!$B$15=\"Y\")),\"Y\",\"_\")","v":"_"},{"$f":"IF(OR(NOT(ISERROR(FIND(\"NN\",T7))), AND(NOT(ISERROR(FIND(\"MD\",T7))), Settings!$B$15=\"Y\")),\"Y\",\"_\")","v":"_"},{"$f":"IF(OR(NOT(ISERROR(FIND(\"NN\",U7))), AND(NOT(ISERROR(FIND(\"MD\",U7))), Settings!$B$15=\"Y\")),\"Y\",\"_\")","v":"_"},{"$f":"IF(OR(NOT(ISERROR(FIND(\"NN\",V7))), AND(NOT(ISERROR(FIND(\"MD\",V7))), Settings!$B$15=\"Y\")),\"Y\",\"_\")","v":"_"},{"$f":"IF(OR(NOT(ISERROR(FIND(\"NN\",W7))), AND(NOT(ISERROR(FIND(\"MD\",W7))), Settings!$B$15=\"Y\")),\"Y\",\"_\")","v":"_"},{"$f":"IF(OR(NOT(ISERROR(FIND(\"NN\",X7))), AND(NOT(ISERROR(FIND(\"MD\",X7))), Settings!$B$15=\"Y\")),\"Y\",\"_\")","v":"_"},{"$f":"IF(OR(NOT(ISERROR(FIND(\"NN\",Y7))), AND(NOT(ISERROR(FIND(\"MD\",Y7))), Settings!$B$15=\"Y\")),\"Y\",\"_\")","v":"_"},{"$f":"IF(OR(NOT(ISERROR(FIND(\"NN\",Z7))), AND(NOT(ISERROR(FIND(\"MD\",Z7))), Settings!$B$15=\"Y\")),\"Y\",\"_\")","v":"_"},{"$f":"IF(OR(NOT(ISERROR(FIND(\"NN\",AA7))), AND(NOT(ISERROR(FIND(\"MD\",AA7))), Settings!$B$15=\"Y\")),\"Y\",\"_\")","v":"_"},{"$f":"IF(OR(NOT(ISERROR(FIND(\"NN\",AB7))), AND(NOT(ISERROR(FIND(\"MD\",AB7))), Settings!$B$15=\"Y\")),\"Y\",\"_\")","v":"_"},{"$f":"IF(OR(NOT(ISERROR(FIND(\"NN\",AC7))), AND(NOT(ISERROR(FIND(\"MD\",AC7))), Settings!$B$15=\"Y\")),\"Y\",\"_\")","v":"_"},{"$f":"IF(OR(NOT(ISERROR(FIND(\"NN\",AD7))), AND(NOT(ISERROR(FIND(\"MD\",AD7))), Settings!$B$15=\"Y\")),\"Y\",\"_\")","v":"_"},{"$f":"IF(OR(NOT(ISERROR(FIND(\"NN\",AE7))), AND(NOT(ISERROR(FIND(\"MD\",AE7))), Settings!$B$15=\"Y\")),\"Y\",\"_\")","v":"_"},{"$f":"IF(OR(NOT(ISERROR(FIND(\"NN\",AF7))), AND(NOT(ISERROR(FIND(\"MD\",AF7))), Settings!$B$15=\"Y\")),\"Y\",\"_\")","v":"_"},{"$f":"IF(OR(NOT(ISERROR(FIND(\"NN\",AG7))), AND(NOT(ISERROR(FIND(\"MD\",AG7))), Settings!$B$15=\"Y\")),\"Y\",\"_\")","v":"_"},{"$f":"IF(OR(NOT(ISERROR(FIND(\"NN\",AH7))), AND(NOT(ISERROR(FIND(\"MD\",AH7))), Settings!$B$15=\"Y\")),\"Y\",\"_\")","v":"_"},{"$f":"IF(OR(NOT(ISERROR(FIND(\"NN\",AI7))), AND(NOT(ISERROR(FIND(\"MD\",AI7))), Settings!$B$15=\"Y\")),\"Y\",\"_\")","v":"_"},{"$f":"IF(OR(NOT(ISERROR(FIND(\"NN\",AJ7))), AND(NOT(ISERROR(FIND(\"MD\",AJ7))), Settings!$B$15=\"Y\")),\"Y\",\"_\")","v":"_"},{"$f":"IF(OR(NOT(ISERROR(FIND(\"NN\",AK7))), AND(NOT(ISERROR(FIND(\"MD\",AK7))), Settings!$B$15=\"Y\")),\"Y\",\"_\")","v":"_"},{"$f":"IF(OR(NOT(ISERROR(FIND(\"NN\",AL7))), AND(NOT(ISERROR(FIND(\"MD\",AL7))), Settings!$B$15=\"Y\")),\"Y\",\"_\")","v":"_"},{"$f":"IF(OR(NOT(ISERROR(FIND(\"NN\",AM7))), AND(NOT(ISERROR(FIND(\"MD\",AM7))), Settings!$B$15=\"Y\")),\"Y\",\"_\")","v":"_"},{"$f":"IF(OR(NOT(ISERROR(FIND(\"NN\",AN7))), AND(NOT(ISERROR(FIND(\"MD\",AN7))), Settings!$B$15=\"Y\")),\"Y\",\"_\")","v":"_"},{"$f":"IF(OR(NOT(ISERROR(FIND(\"NN\",AO7))), AND(NOT(ISERROR(FIND(\"MD\",AO7))), Settings!$B$15=\"Y\")),\"Y\",\"_\")","v":"_"},{"$f":"IF(OR(NOT(ISERROR(FIND(\"NN\",AP7))), AND(NOT(ISERROR(FIND(\"MD\",AP7))), Settings!$B$15=\"Y\")),\"Y\",\"_\")","v":"_"},{"$f":"IF(OR(NOT(ISERROR(FIND(\"NN\",AQ7))), AND(NOT(ISERROR(FIND(\"MD\",AQ7))), Settings!$B$15=\"Y\")),\"Y\",\"_\")","v":"_"},{"$f":"IF(OR(NOT(ISERROR(FIND(\"NN\",AR7))), AND(NOT(ISERROR(FIND(\"MD\",AR7))), Settings!$B$15=\"Y\")),\"Y\",\"_\")","v":"_"},{"$f":"IF(OR(NOT(ISERROR(FIND(\"NN\",AS7))), AND(NOT(ISERROR(FIND(\"MD\",AS7))), Settings!$B$15=\"Y\")),\"Y\",\"_\")","v":"_"},{"$f":"IF(OR(NOT(ISERROR(FIND(\"NN\",AT7))), AND(NOT(ISERROR(FIND(\"MD\",AT7))), Settings!$B$15=\"Y\")),\"Y\",\"_\")","v":"_"},{"$f":"IF(OR(NOT(ISERROR(FIND(\"NN\",AU7))), AND(NOT(ISERROR(FIND(\"MD\",AU7))), Settings!$B$15=\"Y\")),\"Y\",\"_\")","v":"_"},{"$f":"IF(OR(NOT(ISERROR(FIND(\"NN\",AV7))), AND(NOT(ISERROR(FIND(\"MD\",AV7))), Settings!$B$15=\"Y\")),\"Y\",\"_\")","v":"_"},{"$f":"IF(OR(NOT(ISERROR(FIND(\"NN\",AW7))), AND(NOT(ISERROR(FIND(\"MD\",AW7))), Settings!$B$15=\"Y\")),\"Y\",\"_\")","v":"_"},{"$f":"IF(OR(NOT(ISERROR(FIND(\"NN\",AX7))), AND(NOT(ISERROR(FIND(\"MD\",AX7))), Settings!$B$15=\"Y\")),\"Y\",\"_\")","v":"_"},{"$f":"IF(OR(NOT(ISERROR(FIND(\"NN\",AY7))), AND(NOT(ISERROR(FIND(\"MD\",AY7))), Settings!$B$15=\"Y\")),\"Y\",\"_\")","v":"_"},{"$f":"IF(OR(NOT(ISERROR(FIND(\"NN\",AZ7))), AND(NOT(ISERROR(FIND(\"MD\",AZ7))), Settings!$B$15=\"Y\")),\"Y\",\"_\")","v":"_"},{"$f":"IF(OR(NOT(ISERROR(FIND(\"NN\",BA7))), AND(NOT(ISERROR(FIND(\"MD\",BA7))), Settings!$B$15=\"Y\")),\"Y\",\"_\")","v":"_"},{"$f":"IF(OR(NOT(ISERROR(FIND(\"NN\",BB7))), AND(NOT(ISERROR(FIND(\"MD\",BB7))), Settings!$B$15=\"Y\")),\"Y\",\"_\")","v":"_"},{"$f":"IF(OR(NOT(ISERROR(FIND(\"NN\",BC7))), AND(NOT(ISERROR(FIND(\"MD\",BC7))), Settings!$B$15=\"Y\")),\"Y\",\"_\")","v":"_"},{"$f":"IF(OR(NOT(ISERROR(FIND(\"NN\",BD7))), AND(NOT(ISERROR(FIND(\"MD\",BD7))), Settings!$B$15=\"Y\")),\"Y\",\"_\")","v":"_"},{"$f":"IF(OR(NOT(ISERROR(FIND(\"NN\",BE7))), AND(NOT(ISERROR(FIND(\"MD\",BE7))), Settings!$B$15=\"Y\")),\"Y\",\"_\")","v":"_"},{"$f":"IF(OR(NOT(ISERROR(FIND(\"NN\",BF7))), AND(NOT(ISERROR(FIND(\"MD\",BF7))), Settings!$B$15=\"Y\")),\"Y\",\"_\")","v":"_"},{"$f":"IF(OR(NOT(ISERROR(FIND(\"NN\",BG7))), AND(NOT(ISERROR(FIND(\"MD\",BG7))), Settings!$B$15=\"Y\")),\"Y\",\"_\")","v":"_"},{"$f":"IF(OR(NOT(ISERROR(FIND(\"NN\",BH7))), AND(NOT(ISERROR(FIND(\"MD\",BH7))), Settings!$B$15=\"Y\")),\"Y\",\"_\")","v":"_"},{"$f":"IF(OR(NOT(ISERROR(FIND(\"NN\",BI7))), AND(NOT(ISERROR(FIND(\"MD\",BI7))), Settings!$B$15=\"Y\")),\"Y\",\"_\")","v":"_"},{"$f":"IF(OR(NOT(ISERROR(FIND(\"NN\",BJ7))), AND(NOT(ISERROR(FIND(\"MD\",BJ7))), Settings!$B$15=\"Y\")),\"Y\",\"_\")","v":"_"},{"$f":"IF(OR(NOT(ISERROR(FIND(\"NN\",BK7))), AND(NOT(ISERROR(FIND(\"MD\",BK7))), Settings!$B$15=\"Y\")),\"Y\",\"_\")","v":"_"},{"$f":"IF(OR(NOT(ISERROR(FIND(\"NN\",BL7))), AND(NOT(ISERROR(FIND(\"MD\",BL7))), Settings!$B$15=\"Y\")),\"Y\",\"_\")","v":"_"},{"$f":"IF(OR(NOT(ISERROR(FIND(\"NN\",BM7))), AND(NOT(ISERROR(FIND(\"MD\",BM7))), Settings!$B$15=\"Y\")),\"Y\",\"_\")","v":"_"},{"$f":"IF(OR(NOT(ISERROR(FIND(\"NN\",BN7))), AND(NOT(ISERROR(FIND(\"MD\",BN7))), Settings!$B$15=\"Y\")),\"Y\",\"_\")","v":"_"},{"$f":"IF(OR(NOT(ISERROR(FIND(\"NN\",BO7))), AND(NOT(ISERROR(FIND(\"MD\",BO7))), Settings!$B$15=\"Y\")),\"Y\",\"_\")","v":"_"},{"$f":"IF(OR(NOT(ISERROR(FIND(\"NN\",BP7))), AND(NOT(ISERROR(FIND(\"MD\",BP7))), Settings!$B$15=\"Y\")),\"Y\",\"_\")","v":"_"},{"$f":"IF(OR(NOT(ISERROR(FIND(\"NN\",BQ7))), AND(NOT(ISERROR(FIND(\"MD\",BQ7))), Settings!$B$15=\"Y\")),\"Y\",\"_\")","v":"_"},{"$f":"IF(OR(NOT(ISERROR(FIND(\"NN\",BR7))), AND(NOT(ISERROR(FIND(\"MD\",BR7))), Settings!$B$15=\"Y\")),\"Y\",\"_\")","v":"_"},{"$f":"IF(OR(NOT(ISERROR(FIND(\"NN\",BS7))), AND(NOT(ISERROR(FIND(\"MD\",BS7))), Settings!$B$15=\"Y\")),\"Y\",\"_\")","v":"_"},{"$f":"IF(OR(NOT(ISERROR(FIND(\"NN\",BT7))), AND(NOT(ISERROR(FIND(\"MD\",BT7))), Settings!$B$15=\"Y\")),\"Y\",\"_\")","v":"_"},{"$f":"IF(OR(NOT(ISERROR(FIND(\"NN\",BU7))), AND(NOT(ISERROR(FIND(\"MD\",BU7))), Settings!$B$15=\"Y\")),\"Y\",\"_\")","v":"_"},{"$f":"IF(OR(NOT(ISERROR(FIND(\"NN\",BV7))), AND(NOT(ISERROR(FIND(\"MD\",BV7))), Settings!$B$15=\"Y\")),\"Y\",\"_\")","v":"_"},{"$f":"IF(OR(NOT(ISERROR(FIND(\"NN\",BW7))), AND(NOT(ISERROR(FIND(\"MD\",BW7))), Settings!$B$15=\"Y\")),\"Y\",\"_\")","v":"_"},{"$f":"IF(OR(NOT(ISERROR(FIND(\"NN\",BX7))), AND(NOT(ISERROR(FIND(\"MD\",BX7))), Settings!$B$15=\"Y\")),\"Y\",\"_\")","v":"_"},{"$f":"IF(OR(NOT(ISERROR(FIND(\"NN\",BY7))), AND(NOT(ISERROR(FIND(\"MD\",BY7))), Settings!$B$15=\"Y\")),\"Y\",\"_\")","v":"_"},{"$f":"IF(OR(NOT(ISERROR(FIND(\"NN\",BZ7))), AND(NOT(ISERROR(FIND(\"MD\",BZ7))), Settings!$B$15=\"Y\")),\"Y\",\"_\")","v":"_"},{"$f":"IF(OR(NOT(ISERROR(FIND(\"NN\",CA7))), AND(NOT(ISERROR(FIND(\"MD\",CA7))), Settings!$B$15=\"Y\")),\"Y\",\"_\")","v":"_"},{"$f":"IF(OR(NOT(ISERROR(FIND(\"NN\",CB7))), AND(NOT(ISERROR(FIND(\"MD\",CB7))), Settings!$B$15=\"Y\")),\"Y\",\"_\")","v":"_"},{"$f":"IF(OR(NOT(ISERROR(FIND(\"NN\",CC7))), AND(NOT(ISERROR(FIND(\"MD\",CC7))), Settings!$B$15=\"Y\")),\"Y\",\"_\")","v":"_"},{"$f":"IF(OR(NOT(ISERROR(FIND(\"NN\",CD7))), AND(NOT(ISERROR(FIND(\"MD\",CD7))), Settings!$B$15=\"Y\")),\"Y\",\"_\")","v":"_"},{"$f":"IF(OR(NOT(ISERROR(FIND(\"NN\",CE7))), AND(NOT(ISERROR(FIND(\"MD\",CE7))), Settings!$B$15=\"Y\")),\"Y\",\"_\")","v":"_"},{"$f":"IF(OR(NOT(ISERROR(FIND(\"NN\",CF7))), AND(NOT(ISERROR(FIND(\"MD\",CF7))), Settings!$B$15=\"Y\")),\"Y\",\"_\")","v":"_"},{"$f":"IF(OR(NOT(ISERROR(FIND(\"NN\",CG7))), AND(NOT(ISERROR(FIND(\"MD\",CG7))), Settings!$B$15=\"Y\")),\"Y\",\"_\")","v":"_"},{"$f":"IF(OR(NOT(ISERROR(FIND(\"NN\",CH7))), AND(NOT(ISERROR(FIND(\"MD\",CH7))), Settings!$B$15=\"Y\")),\"Y\",\"_\")","v":"_"},{"$f":"IF(OR(NOT(ISERROR(FIND(\"NN\",CI7))), AND(NOT(ISERROR(FIND(\"MD\",CI7))), Settings!$B$15=\"Y\")),\"Y\",\"_\")","v":"_"},{"$f":"IF(OR(NOT(ISERROR(FIND(\"NN\",CJ7))), AND(NOT(ISERROR(FIND(\"MD\",CJ7))), Settings!$B$15=\"Y\")),\"Y\",\"_\")","v":"_"},{"$f":"IF(OR(NOT(ISERROR(FIND(\"NN\",CK7))), AND(NOT(ISERROR(FIND(\"MD\",CK7))), Settings!$B$15=\"Y\")),\"Y\",\"_\")","v":"_"},{"$f":"IF(OR(NOT(ISERROR(FIND(\"NN\",CL7))), AND(NOT(ISERROR(FIND(\"MD\",CL7))), Settings!$B$15=\"Y\")),\"Y\",\"_\")","v":"_"},{"$f":"IF(OR(NOT(ISERROR(FIND(\"NN\",CM7))), AND(NOT(ISERROR(FIND(\"MD\",CM7))), Settings!$B$15=\"Y\")),\"Y\",\"_\")","v":"_"},{"$f":"IF(OR(NOT(ISERROR(FIND(\"NN\",CN7))), AND(NOT(ISERROR(FIND(\"MD\",CN7))), Settings!$B$15=\"Y\")),\"Y\",\"_\")","v":"_"},{"$f":"IF(OR(NOT(ISERROR(FIND(\"NN\",CO7))), AND(NOT(ISERROR(FIND(\"MD\",CO7))), Settings!$B$15=\"Y\")),\"Y\",\"_\")","v":"_"},{"$f":"IF(OR(NOT(ISERROR(FIND(\"NN\",CP7))), AND(NOT(ISERROR(FIND(\"MD\",CP7))), Settings!$B$15=\"Y\")),\"Y\",\"_\")","v":"_"},{"$f":"IF(OR(NOT(ISERROR(FIND(\"NN\",CQ7))), AND(NOT(ISERROR(FIND(\"MD\",CQ7))), Settings!$B$15=\"Y\")),\"Y\",\"_\")","v":"_"},{"$f":"IF(OR(NOT(ISERROR(FIND(\"NN\",CR7))), AND(NOT(ISERROR(FIND(\"MD\",CR7))), Settings!$B$15=\"Y\")),\"Y\",\"_\")","v":"_"},{"$f":"IF(OR(NOT(ISERROR(FIND(\"NN\",CS7))), AND(NOT(ISERROR(FIND(\"MD\",CS7))), Settings!$B$15=\"Y\")),\"Y\",\"_\")","v":"_"},{"$f":"IF(OR(NOT(ISERROR(FIND(\"NN\",CT7))), AND(NOT(ISERROR(FIND(\"MD\",CT7))), Settings!$B$15=\"Y\")),\"Y\",\"_\")","v":"_"},{"$f":"IF(OR(NOT(ISERROR(FIND(\"NN\",CU7))), AND(NOT(ISERROR(FIND(\"MD\",CU7))), Settings!$B$15=\"Y\")),\"Y\",\"_\")","v":"_"},{"$f":"IF(OR(NOT(ISERROR(FIND(\"NN\",CV7))), AND(NOT(ISERROR(FIND(\"MD\",CV7))), Settings!$B$15=\"Y\")),\"Y\",\"_\")","v":"_"},{"$f":"IF(OR(NOT(ISERROR(FIND(\"NN\",CW7))), AND(NOT(ISERROR(FIND(\"MD\",CW7))), Settings!$B$15=\"Y\")),\"Y\",\"_\")","v":"_"},{"$f":"IF(OR(NOT(ISERROR(FIND(\"NN\",CX7))), AND(NOT(ISERROR(FIND(\"MD\",CX7))), Settings!$B$15=\"Y\")),\"Y\",\"_\")","v":"_"},{"$f":"IF(OR(NOT(ISERROR(FIND(\"NN\",CY7))), AND(NOT(ISERROR(FIND(\"MD\",CY7))), Settings!$B$15=\"Y\")),\"Y\",\"_\")","v":"_"},{"$f":"IF(OR(NOT(ISERROR(FIND(\"NN\",CZ7))), AND(NOT(ISERROR(FIND(\"MD\",CZ7))), Settings!$B$15=\"Y\")),\"Y\",\"_\")","v":"_"},{"$f":"IF(OR(NOT(ISERROR(FIND(\"NN\",DA7))), AND(NOT(ISERROR(FIND(\"MD\",DA7))), Settings!$B$15=\"Y\")),\"Y\",\"_\")","v":"_"},{"$f":"IF(OR(NOT(ISERROR(FIND(\"NN\",DB7))), AND(NOT(ISERROR(FIND(\"MD\",DB7))), Settings!$B$15=\"Y\")),\"Y\",\"_\")","v":"_"},{"$f":"IF(OR(NOT(ISERROR(FIND(\"NN\",DC7))), AND(NOT(ISERROR(FIND(\"MD\",DC7))), Settings!$B$15=\"Y\")),\"Y\",\"_\")","v":"_"},{"$f":"IF(OR(NOT(ISERROR(FIND(\"NN\",DD7))), AND(NOT(ISERROR(FIND(\"MD\",DD7))), Settings!$B$15=\"Y\")),\"Y\",\"_\")","v":"_"},{"$f":"IF(OR(NOT(ISERROR(FIND(\"NN\",DE7))), AND(NOT(ISERROR(FIND(\"MD\",DE7))), Settings!$B$15=\"Y\")),\"Y\",\"_\")","v":"_"},{"$f":"IF(OR(NOT(ISERROR(FIND(\"NN\",DF7))), AND(NOT(ISERROR(FIND(\"MD\",DF7))), Settings!$B$15=\"Y\")),\"Y\",\"_\")","v":"_"},{"$f":"IF(OR(NOT(ISERROR(FIND(\"NN\",DG7))), AND(NOT(ISERROR(FIND(\"MD\",DG7))), Settings!$B$15=\"Y\")),\"Y\",\"_\")","v":"_"},{"$f":"IF(OR(NOT(ISERROR(FIND(\"NN\",DH7))), AND(NOT(ISERROR(FIND(\"MD\",DH7))), Settings!$B$15=\"Y\")),\"Y\",\"_\")","v":"_"},{"$f":"IF(OR(NOT(ISERROR(FIND(\"NN\",DI7))), AND(NOT(ISERROR(FIND(\"MD\",DI7))), Settings!$B$15=\"Y\")),\"Y\",\"_\")","v":"_"},{"$f":"IF(OR(NOT(ISERROR(FIND(\"NN\",DJ7))), AND(NOT(ISERROR(FIND(\"MD\",DJ7))), Settings!$B$15=\"Y\")),\"Y\",\"_\")","v":"_"},{"$f":"IF(OR(NOT(ISERROR(FIND(\"NN\",DK7))), AND(NOT(ISERROR(FIND(\"MD\",DK7))), Settings!$B$15=\"Y\")),\"Y\",\"_\")","v":"_"},{"$f":"IF(OR(NOT(ISERROR(FIND(\"NN\",DL7))), AND(NOT(ISERROR(FIND(\"MD\",DL7))), Settings!$B$15=\"Y\")),\"Y\",\"_\")","v":"_"},{"$f":"IF(OR(NOT(ISERROR(FIND(\"NN\",DM7))), AND(NOT(ISERROR(FIND(\"MD\",DM7))), Settings!$B$15=\"Y\")),\"Y\",\"_\")","v":"_"},{"$f":"IF(OR(NOT(ISERROR(FIND(\"NN\",DN7))), AND(NOT(ISERROR(FIND(\"MD\",DN7))), Settings!$B$15=\"Y\")),\"Y\",\"_\")","v":"_"},{"$f":"IF(OR(NOT(ISERROR(FIND(\"NN\",DO7))), AND(NOT(ISERROR(FIND(\"MD\",DO7))), Settings!$B$15=\"Y\")),\"Y\",\"_\")","v":"_"},{"$f":"IF(OR(NOT(ISERROR(FIND(\"NN\",DP7))), AND(NOT(ISERROR(FIND(\"MD\",DP7))), Settings!$B$15=\"Y\")),\"Y\",\"_\")","v":"_"},{"$f":"IF(OR(NOT(ISERROR(FIND(\"NN\",DQ7))), AND(NOT(ISERROR(FIND(\"MD\",DQ7))), Settings!$B$15=\"Y\")),\"Y\",\"_\")","v":"_"},{"$f":"IF(OR(NOT(ISERROR(FIND(\"NN\",DR7))), AND(NOT(ISERROR(FIND(\"MD\",DR7))), Settings!$B$15=\"Y\")),\"Y\",\"_\")","v":"_"},{"$f":"IF(OR(NOT(ISERROR(FIND(\"NN\",DS7))), AND(NOT(ISERROR(FIND(\"MD\",DS7))), Settings!$B$15=\"Y\")),\"Y\",\"_\")","v":"_"},{"$f":"IF(OR(NOT(ISERROR(FIND(\"NN\",DT7))), AND(NOT(ISERROR(FIND(\"MD\",DT7))), Settings!$B$15=\"Y\")),\"Y\",\"_\")","v":"_"},{"$f":"IF(OR(NOT(ISERROR(FIND(\"NN\",DU7))), AND(NOT(ISERROR(FIND(\"MD\",DU7))), Settings!$B$15=\"Y\")),\"Y\",\"_\")","v":"_"},{"$f":"IF(OR(NOT(ISERROR(FIND(\"NN\",DV7))), AND(NOT(ISERROR(FIND(\"MD\",DV7))), Settings!$B$15=\"Y\")),\"Y\",\"_\")","v":"_"},{"$f":"IF(OR(NOT(ISERROR(FIND(\"NN\",DW7))), AND(NOT(ISERROR(FIND(\"MD\",DW7))), Settings!$B$15=\"Y\")),\"Y\",\"_\")","v":"_"},{"$f":"IF(OR(NOT(ISERROR(FIND(\"NN\",DX7))), AND(NOT(ISERROR(FIND(\"MD\",DX7))), Settings!$B$15=\"Y\")),\"Y\",\"_\")","v":"_"},{"$f":"IF(OR(NOT(ISERROR(FIND(\"NN\",DY7))), AND(NOT(ISERROR(FIND(\"MD\",DY7))), Settings!$B$15=\"Y\")),\"Y\",\"_\")","v":"_"},{"$f":"IF(OR(NOT(ISERROR(FIND(\"NN\",DZ7))), AND(NOT(ISERROR(FIND(\"MD\",DZ7))), Settings!$B$15=\"Y\")),\"Y\",\"_\")","v":"_"},{"$f":"IF(OR(NOT(ISERROR(FIND(\"NN\",EA7))), AND(NOT(ISERROR(FIND(\"MD\",EA7))), Settings!$B$15=\"Y\")),\"Y\",\"_\")","v":"_"},{"$f":"IF(OR(NOT(ISERROR(FIND(\"NN\",EB7))), AND(NOT(ISERROR(FIND(\"MD\",EB7))), Settings!$B$15=\"Y\")),\"Y\",\"_\")","v":"_"},{"$f":"IF(OR(NOT(ISERROR(FIND(\"NN\",EC7))), AND(NOT(ISERROR(FIND(\"MD\",EC7))), Settings!$B$15=\"Y\")),\"Y\",\"_\")","v":"_"},{"$f":"IF(OR(NOT(ISERROR(FIND(\"NN\",ED7))), AND(NOT(ISERROR(FIND(\"MD\",ED7))), Settings!$B$15=\"Y\")),\"Y\",\"_\")","v":"_"},{"$f":"IF(OR(NOT(ISERROR(FIND(\"NN\",EE7))), AND(NOT(ISERROR(FIND(\"MD\",EE7))), Settings!$B$15=\"Y\")),\"Y\",\"_\")","v":"_"},{"$f":"IF(OR(NOT(ISERROR(FIND(\"NN\",EF7))), AND(NOT(ISERROR(FIND(\"MD\",EF7))), Settings!$B$15=\"Y\")),\"Y\",\"_\")","v":"_"},{"$f":"IF(OR(NOT(ISERROR(FIND(\"NN\",EG7))), AND(NOT(ISERROR(FIND(\"MD\",EG7))), Settings!$B$15=\"Y\")),\"Y\",\"_\")","v":"_"},{"$f":"IF(OR(NOT(ISERROR(FIND(\"NN\",EH7))), AND(NOT(ISERROR(FIND(\"MD\",EH7))), Settings!$B$15=\"Y\")),\"Y\",\"_\")","v":"_"},{"$f":"IF(OR(NOT(ISERROR(FIND(\"NN\",EI7))), AND(NOT(ISERROR(FIND(\"MD\",EI7))), Settings!$B$15=\"Y\")),\"Y\",\"_\")","v":"_"},{"$f":"IF(OR(NOT(ISERROR(FIND(\"NN\",EJ7))), AND(NOT(ISERROR(FIND(\"MD\",EJ7))), Settings!$B$15=\"Y\")),\"Y\",\"_\")","v":"_"},{"$f":"IF(OR(NOT(ISERROR(FIND(\"NN\",EK7))), AND(NOT(ISERROR(FIND(\"MD\",EK7))), Settings!$B$15=\"Y\")),\"Y\",\"_\")","v":"_"},{"$f":"IF(OR(NOT(ISERROR(FIND(\"NN\",EL7))), AND(NOT(ISERROR(FIND(\"MD\",EL7))), Settings!$B$15=\"Y\")),\"Y\",\"_\")","v":"_"},{"$f":"IF(OR(NOT(ISERROR(FIND(\"NN\",EM7))), AND(NOT(ISERROR(FIND(\"MD\",EM7))), Settings!$B$15=\"Y\")),\"Y\",\"_\")","v":"_"},{"$f":"IF(OR(NOT(ISERROR(FIND(\"NN\",EN7))), AND(NOT(ISERROR(FIND(\"MD\",EN7))), Settings!$B$15=\"Y\")),\"Y\",\"_\")","v":"_"},{"$f":"IF(OR(NOT(ISERROR(FIND(\"NN\",EO7))), AND(NOT(ISERROR(FIND(\"MD\",EO7))), Settings!$B$15=\"Y\")),\"Y\",\"_\")","v":"_"},{"$f":"IF(OR(NOT(ISERROR(FIND(\"NN\",EP7))), AND(NOT(ISERROR(FIND(\"MD\",EP7))), Settings!$B$15=\"Y\")),\"Y\",\"_\")","v":"_"},{"$f":"IF(OR(NOT(ISERROR(FIND(\"NN\",EQ7))), AND(NOT(ISERROR(FIND(\"MD\",EQ7))), Settings!$B$15=\"Y\")),\"Y\",\"_\")","v":"_"},{"$f":"IF(OR(NOT(ISERROR(FIND(\"NN\",ER7))), AND(NOT(ISERROR(FIND(\"MD\",ER7))), Settings!$B$15=\"Y\")),\"Y\",\"_\")","v":"_"},{"$f":"IF(OR(NOT(ISERROR(FIND(\"NN\",ES7))), AND(NOT(ISERROR(FIND(\"MD\",ES7))), Settings!$B$15=\"Y\")),\"Y\",\"_\")","v":"_"},{"$f":"IF(OR(NOT(ISERROR(FIND(\"NN\",ET7))), AND(NOT(ISERROR(FIND(\"MD\",ET7))), Settings!$B$15=\"Y\")),\"Y\",\"_\")","v":"_"},{"$f":"IF(OR(NOT(ISERROR(FIND(\"NN\",EU7))), AND(NOT(ISERROR(FIND(\"MD\",EU7))), Settings!$B$15=\"Y\")),\"Y\",\"_\")","v":"_"},{"$f":"IF(OR(NOT(ISERROR(FIND(\"NN\",EV7))), AND(NOT(ISERROR(FIND(\"MD\",EV7))), Settings!$B$15=\"Y\")),\"Y\",\"_\")","v":"_"},{"$f":"IF(OR(NOT(ISERROR(FIND(\"NN\",EW7))), AND(NOT(ISERROR(FIND(\"MD\",EW7))), Settings!$B$15=\"Y\")),\"Y\",\"_\")","v":"_"},{"$f":"IF(OR(NOT(ISERROR(FIND(\"NN\",EX7))), AND(NOT(ISERROR(FIND(\"MD\",EX7))), Settings!$B$15=\"Y\")),\"Y\",\"_\")","v":"_"},{"$f":"IF(OR(NOT(ISERROR(FIND(\"NN\",EY7))), AND(NOT(ISERROR(FIND(\"MD\",EY7))), Settings!$B$15=\"Y\")),\"Y\",\"_\")","v":"_"}]
[null,null,"Unique (not currently used)"]
[null,null,"Data Type Code",null,null,{"$f":"IF(AND(F5=\"at\", NOT(ISERROR(FIND(\"when\",F7))), LEN(F9)=0), \"DT\", IF(AND(OR(NOT(ISERROR(FIND(\"when\",F7))), F5=\"on\", F5=\"every\"), LEN(F9)=0),\"D\", IF(F9=\"DT\",\"DT\",LEFT(UPPER(TRIM(F9)),1))))","v":""},{"$f":"IF(AND(G5=\"at\", NOT(ISERROR(FIND(\"when\",G7))), LEN(G9)=0), \"DT\", IF(AND(OR(NOT(ISERROR(FIND(\"when\",G7))), G5=\"on\", G5=\"every\"), LEN(G9)=0),\"D\", IF(G9=\"DT\",\"DT\",LEFT(UPPER(TRIM(G9)),1))))","v":""},"","","","","","","","","","","","","","","","","","","","","","","","","","","","","","","","","","","","","","","","","","","","","","","","","","","","","","","","","","","","","","","",{"$f":"IF(AND(BS5=\"at\", NOT(ISERROR(FIND(\"when\",BS7))), LEN(BS9)=0), \"DT\", IF(AND(OR(NOT(ISERROR(FIND(\"when\",BS7))), BS5=\"on\", BS5=\"every\"), LEN(BS9)=0),\"D\", IF(BS9=\"DT\",\"DT\",LEFT(UPPER(TRIM(BS9)),1))))","v":""},"","","","","","","","","","","","","","","","","","","","","","","","","","","","","","","","","","","","","","","","","","","","","","","","","","","","","","","","","","","","","","","",{"$f":"IF(AND(EE5=\"at\", NOT(ISERROR(FIND(\"when\",EE7))), LEN(EE9)=0), \"DT\", IF(AND(OR(NOT(ISERROR(FIND(\"when\",EE7))), EE5=\"on\", EE5=\"every\"), LEN(EE9)=0),\"D\", IF(EE9=\"DT\",\"DT\",LEFT(UPPER(TRIM(EE9)),1))))","v":""},"","","","","","","","","","","","","","","","","","","",""]
[null,null,"Length.Precision",null,null,{"$f":"IF(F9=\"DT\",\"\",MID(SUBSTITUTE(F9,\".\",\",\"),2,10))","v":""},{"$f":"IF(G9=\"DT\",\"\",MID(SUBSTITUTE(G9,\".\",\",\"),2,10))","v":""},{"$f":"IF(H9=\"DT\",\"\",MID(SUBSTITUTE(H9,\".\",\",\"),2,10))","v":""},{"$f":"IF(I9=\"DT\",\"\",MID(SUBSTITUTE(I9,\".\",\",\"),2,10))","v":""},"","","","","","","","","","","","","","","","","","","","","","","","","","","","","","","","","","","","","","","","","","","","","","","","","","","","","","","","","","","","","","","",{"$f":"IF(BU9=\"DT\",\"\",MID(SUBSTITUTE(BU9,\".\",\",\"),2,10))","v":""},"","","","","","","","","","","","","","","","","","","","","","","","","","","","","","","","","","","","","","","","","","","","","","","","","","","","","","","","","","","","","","","",{"$f":"IF(EG9=\"DT\",\"\",MID(SUBSTITUTE(EG9,\".\",\",\"),2,10))","v":""},"","","","","","","","","","","","","","","","","",""]
[null,null,"Adjusted Length,Percision",null,null,{"$f":"IF( AND(F67=\"C\",LEN(F68)=0), Settings!$B$24, IF(AND(F67=\"N\",LEN(F68)=0), TRIM(Settings!$B$21),F68))","v":""},{"$f":"IF( AND(G67=\"C\",LEN(G68)=0), Settings!$B$24, IF(AND(G67=\"N\",LEN(G68)=0), TRIM(Settings!$B$21),G68))","v":""},{"$f":"IF( AND(H67=\"C\",LEN(H68)=0), Settings!$B$24, IF(AND(H67=\"N\",LEN(H68)=0), TRIM(Settings!$B$21),H68))","v":""},{"$f":"IF( AND(I67=\"C\",LEN(I68)=0), Settings!$B$24, IF(AND(I67=\"N\",LEN(I68)=0), TRIM(Settings!$B$21),I68))","v":""},{"$f":"IF( AND(J67=\"C\",LEN(J68)=0), Settings!$B$24, IF(AND(J67=\"N\",LEN(J68)=0), TRIM(Settings!$B$21),J68))","v":""},{"$f":"IF( AND(K67=\"C\",LEN(K68)=0), Settings!$B$24, IF(AND(K67=\"N\",LEN(K68)=0), TRIM(Settings!$B$21),K68))","v":""},{"$f":"IF( AND(L67=\"C\",LEN(L68)=0), Settings!$B$24, IF(AND(L67=\"N\",LEN(L68)=0), TRIM(Settings!$B$21),L68))","v":""},{"$f":"IF( AND(M67=\"C\",LEN(M68)=0), Settings!$B$24, IF(AND(M67=\"N\",LEN(M68)=0), TRIM(Settings!$B$21),M68))","v":""},{"$f":"IF( AND(N67=\"C\",LEN(N68)=0), Settings!$B$24, IF(AND(N67=\"N\",LEN(N68)=0), TRIM(Settings!$B$21),N68))","v":""},{"$f":"IF( AND(O67=\"C\",LEN(O68)=0), Settings!$B$24, IF(AND(O67=\"N\",LEN(O68)=0), TRIM(Settings!$B$21),O68))","v":""},{"$f":"IF( AND(P67=\"C\",LEN(P68)=0), Settings!$B$24, IF(AND(P67=\"N\",LEN(P68)=0), TRIM(Settings!$B$21),P68))","v":""},{"$f":"IF( AND(Q67=\"C\",LEN(Q68)=0), Settings!$B$24, IF(AND(Q67=\"N\",LEN(Q68)=0), TRIM(Settings!$B$21),Q68))","v":""},{"$f":"IF( AND(R67=\"C\",LEN(R68)=0), Settings!$B$24, IF(AND(R67=\"N\",LEN(R68)=0), TRIM(Settings!$B$21),R68))","v":""},{"$f":"IF( AND(S67=\"C\",LEN(S68)=0), Settings!$B$24, IF(AND(S67=\"N\",LEN(S68)=0), TRIM(Settings!$B$21),S68))","v":""},{"$f":"IF( AND(T67=\"C\",LEN(T68)=0), Settings!$B$24, IF(AND(T67=\"N\",LEN(T68)=0), TRIM(Settings!$B$21),T68))","v":""},{"$f":"IF( AND(U67=\"C\",LEN(U68)=0), Settings!$B$24, IF(AND(U67=\"N\",LEN(U68)=0), TRIM(Settings!$B$21),U68))","v":""},{"$f":"IF( AND(V67=\"C\",LEN(V68)=0), Settings!$B$24, IF(AND(V67=\"N\",LEN(V68)=0), TRIM(Settings!$B$21),V68))","v":""},{"$f":"IF( AND(W67=\"C\",LEN(W68)=0), Settings!$B$24, IF(AND(W67=\"N\",LEN(W68)=0), TRIM(Settings!$B$21),W68))","v":""},{"$f":"IF( AND(X67=\"C\",LEN(X68)=0), Settings!$B$24, IF(AND(X67=\"N\",LEN(X68)=0), TRIM(Settings!$B$21),X68))","v":""},{"$f":"IF( AND(Y67=\"C\",LEN(Y68)=0), Settings!$B$24, IF(AND(Y67=\"N\",LEN(Y68)=0), TRIM(Settings!$B$21),Y68))","v":""},{"$f":"IF( AND(Z67=\"C\",LEN(Z68)=0), Settings!$B$24, IF(AND(Z67=\"N\",LEN(Z68)=0), TRIM(Settings!$B$21),Z68))","v":""},{"$f":"IF( AND(AA67=\"C\",LEN(AA68)=0), Settings!$B$24, IF(AND(AA67=\"N\",LEN(AA68)=0), TRIM(Settings!$B$21),AA68))","v":""},{"$f":"IF( AND(AB67=\"C\",LEN(AB68)=0), Settings!$B$24, IF(AND(AB67=\"N\",LEN(AB68)=0), TRIM(Settings!$B$21),AB68))","v":""},{"$f":"IF( AND(AC67=\"C\",LEN(AC68)=0), Settings!$B$24, IF(AND(AC67=\"N\",LEN(AC68)=0), TRIM(Settings!$B$21),AC68))","v":""},{"$f":"IF( AND(AD67=\"C\",LEN(AD68)=0), Settings!$B$24, IF(AND(AD67=\"N\",LEN(AD68)=0), TRIM(Settings!$B$21),AD68))","v":""},{"$f":"IF( AND(AE67=\"C\",LEN(AE68)=0), Settings!$B$24, IF(AND(AE67=\"N\",LEN(AE68)=0), TRIM(Settings!$B$21),AE68))","v":""},{"$f":"IF( AND(AF67=\"C\",LEN(AF68)=0), Settings!$B$24, IF(AND(AF67=\"N\",LEN(AF68)=0), TRIM(Settings!$B$21),AF68))","v":""},{"$f":"IF( AND(AG67=\"C\",LEN(AG68)=0), Settings!$B$24, IF(AND(AG67=\"N\",LEN(AG68)=0), TRIM(Settings!$B$21),AG68))","v":""},{"$f":"IF( AND(AH67=\"C\",LEN(AH68)=0), Settings!$B$24, IF(AND(AH67=\"N\",LEN(AH68)=0), TRIM(Settings!$B$21),AH68))","v":""},{"$f":"IF( AND(AI67=\"C\",LEN(AI68)=0), Settings!$B$24, IF(AND(AI67=\"N\",LEN(AI68)=0), TRIM(Settings!$B$21),AI68))","v":""},{"$f":"IF( AND(AJ67=\"C\",LEN(AJ68)=0), Settings!$B$24, IF(AND(AJ67=\"N\",LEN(AJ68)=0), TRIM(Settings!$B$21),AJ68))","v":""},{"$f":"IF( AND(AK67=\"C\",LEN(AK68)=0), Settings!$B$24, IF(AND(AK67=\"N\",LEN(AK68)=0), TRIM(Settings!$B$21),AK68))","v":""},{"$f":"IF( AND(AL67=\"C\",LEN(AL68)=0), Settings!$B$24, IF(AND(AL67=\"N\",LEN(AL68)=0), TRIM(Settings!$B$21),AL68))","v":""},{"$f":"IF( AND(AM67=\"C\",LEN(AM68)=0), Settings!$B$24, IF(AND(AM67=\"N\",LEN(AM68)=0), TRIM(Settings!$B$21),AM68))","v":""},{"$f":"IF( AND(AN67=\"C\",LEN(AN68)=0), Settings!$B$24, IF(AND(AN67=\"N\",LEN(AN68)=0), TRIM(Settings!$B$21),AN68))","v":""},{"$f":"IF( AND(AO67=\"C\",LEN(AO68)=0), Settings!$B$24, IF(AND(AO67=\"N\",LEN(AO68)=0), TRIM(Settings!$B$21),AO68))","v":""},{"$f":"IF( AND(AP67=\"C\",LEN(AP68)=0), Settings!$B$24, IF(AND(AP67=\"N\",LEN(AP68)=0), TRIM(Settings!$B$21),AP68))","v":""},{"$f":"IF( AND(AQ67=\"C\",LEN(AQ68)=0), Settings!$B$24, IF(AND(AQ67=\"N\",LEN(AQ68)=0), TRIM(Settings!$B$21),AQ68))","v":""},{"$f":"IF( AND(AR67=\"C\",LEN(AR68)=0), Settings!$B$24, IF(AND(AR67=\"N\",LEN(AR68)=0), TRIM(Settings!$B$21),AR68))","v":""},{"$f":"IF( AND(AS67=\"C\",LEN(AS68)=0), Settings!$B$24, IF(AND(AS67=\"N\",LEN(AS68)=0), TRIM(Settings!$B$21),AS68))","v":""},{"$f":"IF( AND(AT67=\"C\",LEN(AT68)=0), Settings!$B$24, IF(AND(AT67=\"N\",LEN(AT68)=0), TRIM(Settings!$B$21),AT68))","v":""},{"$f":"IF( AND(AU67=\"C\",LEN(AU68)=0), Settings!$B$24, IF(AND(AU67=\"N\",LEN(AU68)=0), TRIM(Settings!$B$21),AU68))","v":""},{"$f":"IF( AND(AV67=\"C\",LEN(AV68)=0), Settings!$B$24, IF(AND(AV67=\"N\",LEN(AV68)=0), TRIM(Settings!$B$21),AV68))","v":""},{"$f":"IF( AND(AW67=\"C\",LEN(AW68)=0), Settings!$B$24, IF(AND(AW67=\"N\",LEN(AW68)=0), TRIM(Settings!$B$21),AW68))","v":""},{"$f":"IF( AND(AX67=\"C\",LEN(AX68)=0), Settings!$B$24, IF(AND(AX67=\"N\",LEN(AX68)=0), TRIM(Settings!$B$21),AX68))","v":""},{"$f":"IF( AND(AY67=\"C\",LEN(AY68)=0), Settings!$B$24, IF(AND(AY67=\"N\",LEN(AY68)=0), TRIM(Settings!$B$21),AY68))","v":""},{"$f":"IF( AND(AZ67=\"C\",LEN(AZ68)=0), Settings!$B$24, IF(AND(AZ67=\"N\",LEN(AZ68)=0), TRIM(Settings!$B$21),AZ68))","v":""},{"$f":"IF( AND(BA67=\"C\",LEN(BA68)=0), Settings!$B$24, IF(AND(BA67=\"N\",LEN(BA68)=0), TRIM(Settings!$B$21),BA68))","v":""},{"$f":"IF( AND(BB67=\"C\",LEN(BB68)=0), Settings!$B$24, IF(AND(BB67=\"N\",LEN(BB68)=0), TRIM(Settings!$B$21),BB68))","v":""},{"$f":"IF( AND(BC67=\"C\",LEN(BC68)=0), Settings!$B$24, IF(AND(BC67=\"N\",LEN(BC68)=0), TRIM(Settings!$B$21),BC68))","v":""},{"$f":"IF( AND(BD67=\"C\",LEN(BD68)=0), Settings!$B$24, IF(AND(BD67=\"N\",LEN(BD68)=0), TRIM(Settings!$B$21),BD68))","v":""},{"$f":"IF( AND(BE67=\"C\",LEN(BE68)=0), Settings!$B$24, IF(AND(BE67=\"N\",LEN(BE68)=0), TRIM(Settings!$B$21),BE68))","v":""},{"$f":"IF( AND(BF67=\"C\",LEN(BF68)=0), Settings!$B$24, IF(AND(BF67=\"N\",LEN(BF68)=0), TRIM(Settings!$B$21),BF68))","v":""},{"$f":"IF( AND(BG67=\"C\",LEN(BG68)=0), Settings!$B$24, IF(AND(BG67=\"N\",LEN(BG68)=0), TRIM(Settings!$B$21),BG68))","v":""},{"$f":"IF( AND(BH67=\"C\",LEN(BH68)=0), Settings!$B$24, IF(AND(BH67=\"N\",LEN(BH68)=0), TRIM(Settings!$B$21),BH68))","v":""},{"$f":"IF( AND(BI67=\"C\",LEN(BI68)=0), Settings!$B$24, IF(AND(BI67=\"N\",LEN(BI68)=0), TRIM(Settings!$B$21),BI68))","v":""},{"$f":"IF( AND(BJ67=\"C\",LEN(BJ68)=0), Settings!$B$24, IF(AND(BJ67=\"N\",LEN(BJ68)=0), TRIM(Settings!$B$21),BJ68))","v":""},{"$f":"IF( AND(BK67=\"C\",LEN(BK68)=0), Settings!$B$24, IF(AND(BK67=\"N\",LEN(BK68)=0), TRIM(Settings!$B$21),BK68))","v":""},{"$f":"IF( AND(BL67=\"C\",LEN(BL68)=0), Settings!$B$24, IF(AND(BL67=\"N\",LEN(BL68)=0), TRIM(Settings!$B$21),BL68))","v":""},{"$f":"IF( AND(BM67=\"C\",LEN(BM68)=0), Settings!$B$24, IF(AND(BM67=\"N\",LEN(BM68)=0), TRIM(Settings!$B$21),BM68))","v":""},{"$f":"IF( AND(BN67=\"C\",LEN(BN68)=0), Settings!$B$24, IF(AND(BN67=\"N\",LEN(BN68)=0), TRIM(Settings!$B$21),BN68))","v":""},{"$f":"IF( AND(BO67=\"C\",LEN(BO68)=0), Settings!$B$24, IF(AND(BO67=\"N\",LEN(BO68)=0), TRIM(Settings!$B$21),BO68))","v":""},{"$f":"IF( AND(BP67=\"C\",LEN(BP68)=0), Settings!$B$24, IF(AND(BP67=\"N\",LEN(BP68)=0), TRIM(Settings!$B$21),BP68))","v":""},{"$f":"IF( AND(BQ67=\"C\",LEN(BQ68)=0), Settings!$B$24, IF(AND(BQ67=\"N\",LEN(BQ68)=0), TRIM(Settings!$B$21),BQ68))","v":""},{"$f":"IF( AND(BR67=\"C\",LEN(BR68)=0), Settings!$B$24, IF(AND(BR67=\"N\",LEN(BR68)=0), TRIM(Settings!$B$21),BR68))","v":""},{"$f":"IF( AND(BS67=\"C\",LEN(BS68)=0), Settings!$B$24, IF(AND(BS67=\"N\",LEN(BS68)=0), TRIM(Settings!$B$21),BS68))","v":""},{"$f":"IF( AND(BT67=\"C\",LEN(BT68)=0), Settings!$B$24, IF(AND(BT67=\"N\",LEN(BT68)=0), TRIM(Settings!$B$21),BT68))","v":""},{"$f":"IF( AND(BU67=\"C\",LEN(BU68)=0), Settings!$B$24, IF(AND(BU67=\"N\",LEN(BU68)=0), TRIM(Settings!$B$21),BU68))","v":""},{"$f":"IF( AND(BV67=\"C\",LEN(BV68)=0), Settings!$B$24, IF(AND(BV67=\"N\",LEN(BV68)=0), TRIM(Settings!$B$21),BV68))","v":""},{"$f":"IF( AND(BW67=\"C\",LEN(BW68)=0), Settings!$B$24, IF(AND(BW67=\"N\",LEN(BW68)=0), TRIM(Settings!$B$21),BW68))","v":""},{"$f":"IF( AND(BX67=\"C\",LEN(BX68)=0), Settings!$B$24, IF(AND(BX67=\"N\",LEN(BX68)=0), TRIM(Settings!$B$21),BX68))","v":""},{"$f":"IF( AND(BY67=\"C\",LEN(BY68)=0), Settings!$B$24, IF(AND(BY67=\"N\",LEN(BY68)=0), TRIM(Settings!$B$21),BY68))","v":""},{"$f":"IF( AND(BZ67=\"C\",LEN(BZ68)=0), Settings!$B$24, IF(AND(BZ67=\"N\",LEN(BZ68)=0), TRIM(Settings!$B$21),BZ68))","v":""},{"$f":"IF( AND(CA67=\"C\",LEN(CA68)=0), Settings!$B$24, IF(AND(CA67=\"N\",LEN(CA68)=0), TRIM(Settings!$B$21),CA68))","v":""},{"$f":"IF( AND(CB67=\"C\",LEN(CB68)=0), Settings!$B$24, IF(AND(CB67=\"N\",LEN(CB68)=0), TRIM(Settings!$B$21),CB68))","v":""},{"$f":"IF( AND(CC67=\"C\",LEN(CC68)=0), Settings!$B$24, IF(AND(CC67=\"N\",LEN(CC68)=0), TRIM(Settings!$B$21),CC68))","v":""},{"$f":"IF( AND(CD67=\"C\",LEN(CD68)=0), Settings!$B$24, IF(AND(CD67=\"N\",LEN(CD68)=0), TRIM(Settings!$B$21),CD68))","v":""},{"$f":"IF( AND(CE67=\"C\",LEN(CE68)=0), Settings!$B$24, IF(AND(CE67=\"N\",LEN(CE68)=0), TRIM(Settings!$B$21),CE68))","v":""},{"$f":"IF( AND(CF67=\"C\",LEN(CF68)=0), Settings!$B$24, IF(AND(CF67=\"N\",LEN(CF68)=0), TRIM(Settings!$B$21),CF68))","v":""},{"$f":"IF( AND(CG67=\"C\",LEN(CG68)=0), Settings!$B$24, IF(AND(CG67=\"N\",LEN(CG68)=0), TRIM(Settings!$B$21),CG68))","v":""},{"$f":"IF( AND(CH67=\"C\",LEN(CH68)=0), Settings!$B$24, IF(AND(CH67=\"N\",LEN(CH68)=0), TRIM(Settings!$B$21),CH68))","v":""},{"$f":"IF( AND(CI67=\"C\",LEN(CI68)=0), Settings!$B$24, IF(AND(CI67=\"N\",LEN(CI68)=0), TRIM(Settings!$B$21),CI68))","v":""},{"$f":"IF( AND(CJ67=\"C\",LEN(CJ68)=0), Settings!$B$24, IF(AND(CJ67=\"N\",LEN(CJ68)=0), TRIM(Settings!$B$21),CJ68))","v":""},{"$f":"IF( AND(CK67=\"C\",LEN(CK68)=0), Settings!$B$24, IF(AND(CK67=\"N\",LEN(CK68)=0), TRIM(Settings!$B$21),CK68))","v":""},{"$f":"IF( AND(CL67=\"C\",LEN(CL68)=0), Settings!$B$24, IF(AND(CL67=\"N\",LEN(CL68)=0), TRIM(Settings!$B$21),CL68))","v":""},{"$f":"IF( AND(CM67=\"C\",LEN(CM68)=0), Settings!$B$24, IF(AND(CM67=\"N\",LEN(CM68)=0), TRIM(Settings!$B$21),CM68))","v":""},{"$f":"IF( AND(CN67=\"C\",LEN(CN68)=0), Settings!$B$24, IF(AND(CN67=\"N\",LEN(CN68)=0), TRIM(Settings!$B$21),CN68))","v":""},{"$f":"IF( AND(CO67=\"C\",LEN(CO68)=0), Settings!$B$24, IF(AND(CO67=\"N\",LEN(CO68)=0), TRIM(Settings!$B$21),CO68))","v":""},{"$f":"IF( AND(CP67=\"C\",LEN(CP68)=0), Settings!$B$24, IF(AND(CP67=\"N\",LEN(CP68)=0), TRIM(Settings!$B$21),CP68))","v":""},{"$f":"IF( AND(CQ67=\"C\",LEN(CQ68)=0), Settings!$B$24, IF(AND(CQ67=\"N\",LEN(CQ68)=0), TRIM(Settings!$B$21),CQ68))","v":""},{"$f":"IF( AND(CR67=\"C\",LEN(CR68)=0), Settings!$B$24, IF(AND(CR67=\"N\",LEN(CR68)=0), TRIM(Settings!$B$21),CR68))","v":""},{"$f":"IF( AND(CS67=\"C\",LEN(CS68)=0), Settings!$B$24, IF(AND(CS67=\"N\",LEN(CS68)=0), TRIM(Settings!$B$21),CS68))","v":""},{"$f":"IF( AND(CT67=\"C\",LEN(CT68)=0), Settings!$B$24, IF(AND(CT67=\"N\",LEN(CT68)=0), TRIM(Settings!$B$21),CT68))","v":""},{"$f":"IF( AND(CU67=\"C\",LEN(CU68)=0), Settings!$B$24, IF(AND(CU67=\"N\",LEN(CU68)=0), TRIM(Settings!$B$21),CU68))","v":""},{"$f":"IF( AND(CV67=\"C\",LEN(CV68)=0), Settings!$B$24, IF(AND(CV67=\"N\",LEN(CV68)=0), TRIM(Settings!$B$21),CV68))","v":""},{"$f":"IF( AND(CW67=\"C\",LEN(CW68)=0), Settings!$B$24, IF(AND(CW67=\"N\",LEN(CW68)=0), TRIM(Settings!$B$21),CW68))","v":""},{"$f":"IF( AND(CX67=\"C\",LEN(CX68)=0), Settings!$B$24, IF(AND(CX67=\"N\",LEN(CX68)=0), TRIM(Settings!$B$21),CX68))","v":""},{"$f":"IF( AND(CY67=\"C\",LEN(CY68)=0), Settings!$B$24, IF(AND(CY67=\"N\",LEN(CY68)=0), TRIM(Settings!$B$21),CY68))","v":""},{"$f":"IF( AND(CZ67=\"C\",LEN(CZ68)=0), Settings!$B$24, IF(AND(CZ67=\"N\",LEN(CZ68)=0), TRIM(Settings!$B$21),CZ68))","v":""},{"$f":"IF( AND(DA67=\"C\",LEN(DA68)=0), Settings!$B$24, IF(AND(DA67=\"N\",LEN(DA68)=0), TRIM(Settings!$B$21),DA68))","v":""},{"$f":"IF( AND(DB67=\"C\",LEN(DB68)=0), Settings!$B$24, IF(AND(DB67=\"N\",LEN(DB68)=0), TRIM(Settings!$B$21),DB68))","v":""},{"$f":"IF( AND(DC67=\"C\",LEN(DC68)=0), Settings!$B$24, IF(AND(DC67=\"N\",LEN(DC68)=0), TRIM(Settings!$B$21),DC68))","v":""},{"$f":"IF( AND(DD67=\"C\",LEN(DD68)=0), Settings!$B$24, IF(AND(DD67=\"N\",LEN(DD68)=0), TRIM(Settings!$B$21),DD68))","v":""},{"$f":"IF( AND(DE67=\"C\",LEN(DE68)=0), Settings!$B$24, IF(AND(DE67=\"N\",LEN(DE68)=0), TRIM(Settings!$B$21),DE68))","v":""},{"$f":"IF( AND(DF67=\"C\",LEN(DF68)=0), Settings!$B$24, IF(AND(DF67=\"N\",LEN(DF68)=0), TRIM(Settings!$B$21),DF68))","v":""},{"$f":"IF( AND(DG67=\"C\",LEN(DG68)=0), Settings!$B$24, IF(AND(DG67=\"N\",LEN(DG68)=0), TRIM(Settings!$B$21),DG68))","v":""},{"$f":"IF( AND(DH67=\"C\",LEN(DH68)=0), Settings!$B$24, IF(AND(DH67=\"N\",LEN(DH68)=0), TRIM(Settings!$B$21),DH68))","v":""},{"$f":"IF( AND(DI67=\"C\",LEN(DI68)=0), Settings!$B$24, IF(AND(DI67=\"N\",LEN(DI68)=0), TRIM(Settings!$B$21),DI68))","v":""},{"$f":"IF( AND(DJ67=\"C\",LEN(DJ68)=0), Settings!$B$24, IF(AND(DJ67=\"N\",LEN(DJ68)=0), TRIM(Settings!$B$21),DJ68))","v":""},{"$f":"IF( AND(DK67=\"C\",LEN(DK68)=0), Settings!$B$24, IF(AND(DK67=\"N\",LEN(DK68)=0), TRIM(Settings!$B$21),DK68))","v":""},{"$f":"IF( AND(DL67=\"C\",LEN(DL68)=0), Settings!$B$24, IF(AND(DL67=\"N\",LEN(DL68)=0), TRIM(Settings!$B$21),DL68))","v":""},{"$f":"IF( AND(DM67=\"C\",LEN(DM68)=0), Settings!$B$24, IF(AND(DM67=\"N\",LEN(DM68)=0), TRIM(Settings!$B$21),DM68))","v":""},{"$f":"IF( AND(DN67=\"C\",LEN(DN68)=0), Settings!$B$24, IF(AND(DN67=\"N\",LEN(DN68)=0), TRIM(Settings!$B$21),DN68))","v":""},{"$f":"IF( AND(DO67=\"C\",LEN(DO68)=0), Settings!$B$24, IF(AND(DO67=\"N\",LEN(DO68)=0), TRIM(Settings!$B$21),DO68))","v":""},{"$f":"IF( AND(DP67=\"C\",LEN(DP68)=0), Settings!$B$24, IF(AND(DP67=\"N\",LEN(DP68)=0), TRIM(Settings!$B$21),DP68))","v":""},{"$f":"IF( AND(DQ67=\"C\",LEN(DQ68)=0), Settings!$B$24, IF(AND(DQ67=\"N\",LEN(DQ68)=0), TRIM(Settings!$B$21),DQ68))","v":""},{"$f":"IF( AND(DR67=\"C\",LEN(DR68)=0), Settings!$B$24, IF(AND(DR67=\"N\",LEN(DR68)=0), TRIM(Settings!$B$21),DR68))","v":""},{"$f":"IF( AND(DS67=\"C\",LEN(DS68)=0), Settings!$B$24, IF(AND(DS67=\"N\",LEN(DS68)=0), TRIM(Settings!$B$21),DS68))","v":""},{"$f":"IF( AND(DT67=\"C\",LEN(DT68)=0), Settings!$B$24, IF(AND(DT67=\"N\",LEN(DT68)=0), TRIM(Settings!$B$21),DT68))","v":""},{"$f":"IF( AND(DU67=\"C\",LEN(DU68)=0), Settings!$B$24, IF(AND(DU67=\"N\",LEN(DU68)=0), TRIM(Settings!$B$21),DU68))","v":""},{"$f":"IF( AND(DV67=\"C\",LEN(DV68)=0), Settings!$B$24, IF(AND(DV67=\"N\",LEN(DV68)=0), TRIM(Settings!$B$21),DV68))","v":""},{"$f":"IF( AND(DW67=\"C\",LEN(DW68)=0), Settings!$B$24, IF(AND(DW67=\"N\",LEN(DW68)=0), TRIM(Settings!$B$21),DW68))","v":""},{"$f":"IF( AND(DX67=\"C\",LEN(DX68)=0), Settings!$B$24, IF(AND(DX67=\"N\",LEN(DX68)=0), TRIM(Settings!$B$21),DX68))","v":""},{"$f":"IF( AND(DY67=\"C\",LEN(DY68)=0), Settings!$B$24, IF(AND(DY67=\"N\",LEN(DY68)=0), TRIM(Settings!$B$21),DY68))","v":""},{"$f":"IF( AND(DZ67=\"C\",LEN(DZ68)=0), Settings!$B$24, IF(AND(DZ67=\"N\",LEN(DZ68)=0), TRIM(Settings!$B$21),DZ68))","v":""},{"$f":"IF( AND(EA67=\"C\",LEN(EA68)=0), Settings!$B$24, IF(AND(EA67=\"N\",LEN(EA68)=0), TRIM(Settings!$B$21),EA68))","v":""},{"$f":"IF( AND(EB67=\"C\",LEN(EB68)=0), Settings!$B$24, IF(AND(EB67=\"N\",LEN(EB68)=0), TRIM(Settings!$B$21),EB68))","v":""},{"$f":"IF( AND(EC67=\"C\",LEN(EC68)=0), Settings!$B$24, IF(AND(EC67=\"N\",LEN(EC68)=0), TRIM(Settings!$B$21),EC68))","v":""},{"$f":"IF( AND(ED67=\"C\",LEN(ED68)=0), Settings!$B$24, IF(AND(ED67=\"N\",LEN(ED68)=0), TRIM(Settings!$B$21),ED68))","v":""},{"$f":"IF( AND(EE67=\"C\",LEN(EE68)=0), Settings!$B$24, IF(AND(EE67=\"N\",LEN(EE68)=0), TRIM(Settings!$B$21),EE68))","v":""},{"$f":"IF( AND(EF67=\"C\",LEN(EF68)=0), Settings!$B$24, IF(AND(EF67=\"N\",LEN(EF68)=0), TRIM(Settings!$B$21),EF68))","v":""},{"$f":"IF( AND(EG67=\"C\",LEN(EG68)=0), Settings!$B$24, IF(AND(EG67=\"N\",LEN(EG68)=0), TRIM(Settings!$B$21),EG68))","v":""},{"$f":"IF( AND(EH67=\"C\",LEN(EH68)=0), Settings!$B$24, IF(AND(EH67=\"N\",LEN(EH68)=0), TRIM(Settings!$B$21),EH68))","v":""},{"$f":"IF( AND(EI67=\"C\",LEN(EI68)=0), Settings!$B$24, IF(AND(EI67=\"N\",LEN(EI68)=0), TRIM(Settings!$B$21),EI68))","v":""},{"$f":"IF( AND(EJ67=\"C\",LEN(EJ68)=0), Settings!$B$24, IF(AND(EJ67=\"N\",LEN(EJ68)=0), TRIM(Settings!$B$21),EJ68))","v":""},{"$f":"IF( AND(EK67=\"C\",LEN(EK68)=0), Settings!$B$24, IF(AND(EK67=\"N\",LEN(EK68)=0), TRIM(Settings!$B$21),EK68))","v":""},{"$f":"IF( AND(EL67=\"C\",LEN(EL68)=0), Settings!$B$24, IF(AND(EL67=\"N\",LEN(EL68)=0), TRIM(Settings!$B$21),EL68))","v":""},{"$f":"IF( AND(EM67=\"C\",LEN(EM68)=0), Settings!$B$24, IF(AND(EM67=\"N\",LEN(EM68)=0), TRIM(Settings!$B$21),EM68))","v":""},{"$f":"IF( AND(EN67=\"C\",LEN(EN68)=0), Settings!$B$24, IF(AND(EN67=\"N\",LEN(EN68)=0), TRIM(Settings!$B$21),EN68))","v":""},{"$f":"IF( AND(EO67=\"C\",LEN(EO68)=0), Settings!$B$24, IF(AND(EO67=\"N\",LEN(EO68)=0), TRIM(Settings!$B$21),EO68))","v":""},{"$f":"IF( AND(EP67=\"C\",LEN(EP68)=0), Settings!$B$24, IF(AND(EP67=\"N\",LEN(EP68)=0), TRIM(Settings!$B$21),EP68))","v":""},{"$f":"IF( AND(EQ67=\"C\",LEN(EQ68)=0), Settings!$B$24, IF(AND(EQ67=\"N\",LEN(EQ68)=0), TRIM(Settings!$B$21),EQ68))","v":""},{"$f":"IF( AND(ER67=\"C\",LEN(ER68)=0), Settings!$B$24, IF(AND(ER67=\"N\",LEN(ER68)=0), TRIM(Settings!$B$21),ER68))","v":""},{"$f":"IF( AND(ES67=\"C\",LEN(ES68)=0), Settings!$B$24, IF(AND(ES67=\"N\",LEN(ES68)=0), TRIM(Settings!$B$21),ES68))","v":""},{"$f":"IF( AND(ET67=\"C\",LEN(ET68)=0), Settings!$B$24, IF(AND(ET67=\"N\",LEN(ET68)=0), TRIM(Settings!$B$21),ET68))","v":""},{"$f":"IF( AND(EU67=\"C\",LEN(EU68)=0), Settings!$B$24, IF(AND(EU67=\"N\",LEN(EU68)=0), TRIM(Settings!$B$21),EU68))","v":""},{"$f":"IF( AND(EV67=\"C\",LEN(EV68)=0), Settings!$B$24, IF(AND(EV67=\"N\",LEN(EV68)=0), TRIM(Settings!$B$21),EV68))","v":""},{"$f":"IF( AND(EW67=\"C\",LEN(EW68)=0), Settings!$B$24, IF(AND(EW67=\"N\",LEN(EW68)=0), TRIM(Settings!$B$21),EW68))","v":""},{"$f":"IF( AND(EX67=\"C\",LEN(EX68)=0), Settings!$B$24, IF(AND(EX67=\"N\",LEN(EX68)=0), TRIM(Settings!$B$21),EX68))","v":""},{"$f":"IF( AND(EY67=\"C\",LEN(EY68)=0), Settings!$B$24, IF(AND(EY67=\"N\",LEN(EY68)=0), TRIM(Settings!$B$21),EY68))","v":""}]
[null,null,"Column Order",null,null,1,{"$f":"INDIRECT(ADDRESS(ROW(),COLUMN()-1))+1","v":2},{"$f":"INDIRECT(ADDRESS(ROW(),COLUMN()-1))+1","v":3},4,5,6,7,8,9,10,11,12,13,14,15,16,17,18,19,20,21,22,23,24,25,26,27,28,29,30,31,32,33,34,35,36,37,38,39,40,41,42,43,44,45,46,47,48,49,50,51,52,53,54,55,56,57,58,59,60,61,62,63,64,65,66,{"$f":"INDIRECT(ADDRESS(ROW(),COLUMN()-1))+1","v":67},68,69,70,71,72,73,74,75,76,77,78,79,80,81,82,83,84,85,86,87,88,89,90,91,92,93,94,95,96,97,98,99,100,101,102,103,104,105,106,107,108,109,110,111,112,113,114,115,116,117,118,119,120,121,122,123,124,125,126,127,128,129,130,{"$f":"INDIRECT(ADDRESS(ROW(),COLUMN()-1))+1","v":131},132,133,134,135,136,137,138,139,140,141,142,143,144,145,146,147,148,149,150]
[null,null,"BEAM SQL Column",null,null,{"$f":"UPPER(IF(F57=\"Y\",\"\",SUBSTITUTE(TRIM(SUBSTITUTE(F6, CHAR(13),\" \")),\" \",\"_\")))","v":""},{"$f":"UPPER(IF(G57=\"Y\",\"\",SUBSTITUTE(TRIM(SUBSTITUTE(G6, CHAR(13),\" \")),\" \",\"_\")))","v":""},"","","","","","","","","","","","","","","","","","","","","","","","","","","","","","","","","","","","","","","","","","","","","","","","","","","","","","","","","","","","","","","",{"$f":"UPPER(IF(BS57=\"Y\",\"\",SUBSTITUTE(TRIM(SUBSTITUTE(BS6, CHAR(13),\" \")),\" \",\"_\")))","v":""},"","","","","","","","","","","","","","","","","","","","","","","","","","","","","","","","","","","","","","","","","","","","","","","","","","","","","","","","","","","","","","","",{"$f":"UPPER(IF(EE57=\"Y\",\"\",SUBSTITUTE(TRIM(SUBSTITUTE(EE6, CHAR(13),\" \")),\" \",\"_\")))","v":""},"","","","","","","","","","","","","","","","","","","",""]
[null,null,"DDL SQL Column",null,null,{"$f":"IF(LEN(F71)=0,\"\",TRIM(IF(AND($F$55=\"Fact\",F59=\"Y\"),SUBSTITUTE(Settings!$B$13,\"&BEAMColumn\",F71),F71)))","v":""},{"$f":"IF(LEN(G71)=0,\"\",TRIM(IF(AND($F$55=\"Fact\",G59=\"Y\"),SUBSTITUTE(Settings!$B$13,\"&BEAMColumn\",G71),G71)))","v":""},{"$f":"IF(LEN(H71)=0,\"\",TRIM(IF(AND($F$55=\"Fact\",H59=\"Y\"),SUBSTITUTE(Settings!$B$13,\"&BEAMColumn\",H71),H71)))","v":""},{"$f":"IF(LEN(I71)=0,\"\",TRIM(IF(AND($F$55=\"Fact\",I59=\"Y\"),SUBSTITUTE(Settings!$B$13,\"&BEAMColumn\",I71),I71)))","v":""},{"$f":"IF(LEN(J71)=0,\"\",TRIM(IF(AND($F$55=\"Fact\",J59=\"Y\"),SUBSTITUTE(Settings!$B$13,\"&BEAMColumn\",J71),J71)))","v":""},{"$f":"IF(LEN(K71)=0,\"\",TRIM(IF(AND($F$55=\"Fact\",K59=\"Y\"),SUBSTITUTE(Settings!$B$13,\"&BEAMColumn\",K71),K71)))","v":""},{"$f":"IF(LEN(L71)=0,\"\",TRIM(IF(AND($F$55=\"Fact\",L59=\"Y\"),SUBSTITUTE(Settings!$B$13,\"&BEAMColumn\",L71),L71)))","v":""},{"$f":"IF(LEN(M71)=0,\"\",TRIM(IF(AND($F$55=\"Fact\",M59=\"Y\"),SUBSTITUTE(Settings!$B$13,\"&BEAMColumn\",M71),M71)))","v":""},{"$f":"IF(LEN(N71)=0,\"\",TRIM(IF(AND($F$55=\"Fact\",N59=\"Y\"),SUBSTITUTE(Settings!$B$13,\"&BEAMColumn\",N71),N71)))","v":""},{"$f":"IF(LEN(O71)=0,\"\",TRIM(IF(AND($F$55=\"Fact\",O59=\"Y\"),SUBSTITUTE(Settings!$B$13,\"&BEAMColumn\",O71),O71)))","v":""},{"$f":"IF(LEN(P71)=0,\"\",TRIM(IF(AND($F$55=\"Fact\",P59=\"Y\"),SUBSTITUTE(Settings!$B$13,\"&BEAMColumn\",P71),P71)))","v":""},{"$f":"IF(LEN(Q71)=0,\"\",TRIM(IF(AND($F$55=\"Fact\",Q59=\"Y\"),SUBSTITUTE(Settings!$B$13,\"&BEAMColumn\",Q71),Q71)))","v":""},{"$f":"IF(LEN(R71)=0,\"\",TRIM(IF(AND($F$55=\"Fact\",R59=\"Y\"),SUBSTITUTE(Settings!$B$13,\"&BEAMColumn\",R71),R71)))","v":""},{"$f":"IF(LEN(S71)=0,\"\",TRIM(IF(AND($F$55=\"Fact\",S59=\"Y\"),SUBSTITUTE(Settings!$B$13,\"&BEAMColumn\",S71),S71)))","v":""},{"$f":"IF(LEN(T71)=0,\"\",TRIM(IF(AND($F$55=\"Fact\",T59=\"Y\"),SUBSTITUTE(Settings!$B$13,\"&BEAMColumn\",T71),T71)))","v":""},{"$f":"IF(LEN(U71)=0,\"\",TRIM(IF(AND($F$55=\"Fact\",U59=\"Y\"),SUBSTITUTE(Settings!$B$13,\"&BEAMColumn\",U71),U71)))","v":""},{"$f":"IF(LEN(V71)=0,\"\",TRIM(IF(AND($F$55=\"Fact\",V59=\"Y\"),SUBSTITUTE(Settings!$B$13,\"&BEAMColumn\",V71),V71)))","v":""},{"$f":"IF(LEN(W71)=0,\"\",TRIM(IF(AND($F$55=\"Fact\",W59=\"Y\"),SUBSTITUTE(Settings!$B$13,\"&BEAMColumn\",W71),W71)))","v":""},{"$f":"IF(LEN(X71)=0,\"\",TRIM(IF(AND($F$55=\"Fact\",X59=\"Y\"),SUBSTITUTE(Settings!$B$13,\"&BEAMColumn\",X71),X71)))","v":""},{"$f":"IF(LEN(Y71)=0,\"\",TRIM(IF(AND($F$55=\"Fact\",Y59=\"Y\"),SUBSTITUTE(Settings!$B$13,\"&BEAMColumn\",Y71),Y71)))","v":""},{"$f":"IF(LEN(Z71)=0,\"\",TRIM(IF(AND($F$55=\"Fact\",Z59=\"Y\"),SUBSTITUTE(Settings!$B$13,\"&BEAMColumn\",Z71),Z71)))","v":""},{"$f":"IF(LEN(AA71)=0,\"\",TRIM(IF(AND($F$55=\"Fact\",AA59=\"Y\"),SUBSTITUTE(Settings!$B$13,\"&BEAMColumn\",AA71),AA71)))","v":""},{"$f":"IF(LEN(AB71)=0,\"\",TRIM(IF(AND($F$55=\"Fact\",AB59=\"Y\"),SUBSTITUTE(Settings!$B$13,\"&BEAMColumn\",AB71),AB71)))","v":""},{"$f":"IF(LEN(AC71)=0,\"\",TRIM(IF(AND($F$55=\"Fact\",AC59=\"Y\"),SUBSTITUTE(Settings!$B$13,\"&BEAMColumn\",AC71),AC71)))","v":""},{"$f":"IF(LEN(AD71)=0,\"\",TRIM(IF(AND($F$55=\"Fact\",AD59=\"Y\"),SUBSTITUTE(Settings!$B$13,\"&BEAMColumn\",AD71),AD71)))","v":""},{"$f":"IF(LEN(AE71)=0,\"\",TRIM(IF(AND($F$55=\"Fact\",AE59=\"Y\"),SUBSTITUTE(Settings!$B$13,\"&BEAMColumn\",AE71),AE71)))","v":""},{"$f":"IF(LEN(AF71)=0,\"\",TRIM(IF(AND($F$55=\"Fact\",AF59=\"Y\"),SUBSTITUTE(Settings!$B$13,\"&BEAMColumn\",AF71),AF71)))","v":""},{"$f":"IF(LEN(AG71)=0,\"\",TRIM(IF(AND($F$55=\"Fact\",AG59=\"Y\"),SUBSTITUTE(Settings!$B$13,\"&BEAMColumn\",AG71),AG71)))","v":""},{"$f":"IF(LEN(AH71)=0,\"\",TRIM(IF(AND($F$55=\"Fact\",AH59=\"Y\"),SUBSTITUTE(Settings!$B$13,\"&BEAMColumn\",AH71),AH71)))","v":""},{"$f":"IF(LEN(AI71)=0,\"\",TRIM(IF(AND($F$55=\"Fact\",AI59=\"Y\"),SUBSTITUTE(Settings!$B$13,\"&BEAMColumn\",AI71),AI71)))","v":""},{"$f":"IF(LEN(AJ71)=0,\"\",TRIM(IF(AND($F$55=\"Fact\",AJ59=\"Y\"),SUBSTITUTE(Settings!$B$13,\"&BEAMColumn\",AJ71),AJ71)))","v":""},{"$f":"IF(LEN(AK71)=0,\"\",TRIM(IF(AND($F$55=\"Fact\",AK59=\"Y\"),SUBSTITUTE(Settings!$B$13,\"&BEAMColumn\",AK71),AK71)))","v":""},{"$f":"IF(LEN(AL71)=0,\"\",TRIM(IF(AND($F$55=\"Fact\",AL59=\"Y\"),SUBSTITUTE(Settings!$B$13,\"&BEAMColumn\",AL71),AL71)))","v":""},{"$f":"IF(LEN(AM71)=0,\"\",TRIM(IF(AND($F$55=\"Fact\",AM59=\"Y\"),SUBSTITUTE(Settings!$B$13,\"&BEAMColumn\",AM71),AM71)))","v":""},{"$f":"IF(LEN(AN71)=0,\"\",TRIM(IF(AND($F$55=\"Fact\",AN59=\"Y\"),SUBSTITUTE(Settings!$B$13,\"&BEAMColumn\",AN71),AN71)))","v":""},{"$f":"IF(LEN(AO71)=0,\"\",TRIM(IF(AND($F$55=\"Fact\",AO59=\"Y\"),SUBSTITUTE(Settings!$B$13,\"&BEAMColumn\",AO71),AO71)))","v":""},{"$f":"IF(LEN(AP71)=0,\"\",TRIM(IF(AND($F$55=\"Fact\",AP59=\"Y\"),SUBSTITUTE(Settings!$B$13,\"&BEAMColumn\",AP71),AP71)))","v":""},{"$f":"IF(LEN(AQ71)=0,\"\",TRIM(IF(AND($F$55=\"Fact\",AQ59=\"Y\"),SUBSTITUTE(Settings!$B$13,\"&BEAMColumn\",AQ71),AQ71)))","v":""},{"$f":"IF(LEN(AR71)=0,\"\",TRIM(IF(AND($F$55=\"Fact\",AR59=\"Y\"),SUBSTITUTE(Settings!$B$13,\"&BEAMColumn\",AR71),AR71)))","v":""},{"$f":"IF(LEN(AS71)=0,\"\",TRIM(IF(AND($F$55=\"Fact\",AS59=\"Y\"),SUBSTITUTE(Settings!$B$13,\"&BEAMColumn\",AS71),AS71)))","v":""},{"$f":"IF(LEN(AT71)=0,\"\",TRIM(IF(AND($F$55=\"Fact\",AT59=\"Y\"),SUBSTITUTE(Settings!$B$13,\"&BEAMColumn\",AT71),AT71)))","v":""},{"$f":"IF(LEN(AU71)=0,\"\",TRIM(IF(AND($F$55=\"Fact\",AU59=\"Y\"),SUBSTITUTE(Settings!$B$13,\"&BEAMColumn\",AU71),AU71)))","v":""},{"$f":"IF(LEN(AV71)=0,\"\",TRIM(IF(AND($F$55=\"Fact\",AV59=\"Y\"),SUBSTITUTE(Settings!$B$13,\"&BEAMColumn\",AV71),AV71)))","v":""},{"$f":"IF(LEN(AW71)=0,\"\",TRIM(IF(AND($F$55=\"Fact\",AW59=\"Y\"),SUBSTITUTE(Settings!$B$13,\"&BEAMColumn\",AW71),AW71)))","v":""},{"$f":"IF(LEN(AX71)=0,\"\",TRIM(IF(AND($F$55=\"Fact\",AX59=\"Y\"),SUBSTITUTE(Settings!$B$13,\"&BEAMColumn\",AX71),AX71)))","v":""},{"$f":"IF(LEN(AY71)=0,\"\",TRIM(IF(AND($F$55=\"Fact\",AY59=\"Y\"),SUBSTITUTE(Settings!$B$13,\"&BEAMColumn\",AY71),AY71)))","v":""},{"$f":"IF(LEN(AZ71)=0,\"\",TRIM(IF(AND($F$55=\"Fact\",AZ59=\"Y\"),SUBSTITUTE(Settings!$B$13,\"&BEAMColumn\",AZ71),AZ71)))","v":""},{"$f":"IF(LEN(BA71)=0,\"\",TRIM(IF(AND($F$55=\"Fact\",BA59=\"Y\"),SUBSTITUTE(Settings!$B$13,\"&BEAMColumn\",BA71),BA71)))","v":""},{"$f":"IF(LEN(BB71)=0,\"\",TRIM(IF(AND($F$55=\"Fact\",BB59=\"Y\"),SUBSTITUTE(Settings!$B$13,\"&BEAMColumn\",BB71),BB71)))","v":""},{"$f":"IF(LEN(BC71)=0,\"\",TRIM(IF(AND($F$55=\"Fact\",BC59=\"Y\"),SUBSTITUTE(Settings!$B$13,\"&BEAMColumn\",BC71),BC71)))","v":""},{"$f":"IF(LEN(BD71)=0,\"\",TRIM(IF(AND($F$55=\"Fact\",BD59=\"Y\"),SUBSTITUTE(Settings!$B$13,\"&BEAMColumn\",BD71),BD71)))","v":""},{"$f":"IF(LEN(BE71)=0,\"\",TRIM(IF(AND($F$55=\"Fact\",BE59=\"Y\"),SUBSTITUTE(Settings!$B$13,\"&BEAMColumn\",BE71),BE71)))","v":""},{"$f":"IF(LEN(BF71)=0,\"\",TRIM(IF(AND($F$55=\"Fact\",BF59=\"Y\"),SUBSTITUTE(Settings!$B$13,\"&BEAMColumn\",BF71),BF71)))","v":""},{"$f":"IF(LEN(BG71)=0,\"\",TRIM(IF(AND($F$55=\"Fact\",BG59=\"Y\"),SUBSTITUTE(Settings!$B$13,\"&BEAMColumn\",BG71),BG71)))","v":""},{"$f":"IF(LEN(BH71)=0,\"\",TRIM(IF(AND($F$55=\"Fact\",BH59=\"Y\"),SUBSTITUTE(Settings!$B$13,\"&BEAMColumn\",BH71),BH71)))","v":""},{"$f":"IF(LEN(BI71)=0,\"\",TRIM(IF(AND($F$55=\"Fact\",BI59=\"Y\"),SUBSTITUTE(Settings!$B$13,\"&BEAMColumn\",BI71),BI71)))","v":""},{"$f":"IF(LEN(BJ71)=0,\"\",TRIM(IF(AND($F$55=\"Fact\",BJ59=\"Y\"),SUBSTITUTE(Settings!$B$13,\"&BEAMColumn\",BJ71),BJ71)))","v":""},{"$f":"IF(LEN(BK71)=0,\"\",TRIM(IF(AND($F$55=\"Fact\",BK59=\"Y\"),SUBSTITUTE(Settings!$B$13,\"&BEAMColumn\",BK71),BK71)))","v":""},{"$f":"IF(LEN(BL71)=0,\"\",TRIM(IF(AND($F$55=\"Fact\",BL59=\"Y\"),SUBSTITUTE(Settings!$B$13,\"&BEAMColumn\",BL71),BL71)))","v":""},{"$f":"IF(LEN(BM71)=0,\"\",TRIM(IF(AND($F$55=\"Fact\",BM59=\"Y\"),SUBSTITUTE(Settings!$B$13,\"&BEAMColumn\",BM71),BM71)))","v":""},{"$f":"IF(LEN(BN71)=0,\"\",TRIM(IF(AND($F$55=\"Fact\",BN59=\"Y\"),SUBSTITUTE(Settings!$B$13,\"&BEAMColumn\",BN71),BN71)))","v":""},{"$f":"IF(LEN(BO71)=0,\"\",TRIM(IF(AND($F$55=\"Fact\",BO59=\"Y\"),SUBSTITUTE(Settings!$B$13,\"&BEAMColumn\",BO71),BO71)))","v":""},{"$f":"IF(LEN(BP71)=0,\"\",TRIM(IF(AND($F$55=\"Fact\",BP59=\"Y\"),SUBSTITUTE(Settings!$B$13,\"&BEAMColumn\",BP71),BP71)))","v":""},{"$f":"IF(LEN(BQ71)=0,\"\",TRIM(IF(AND($F$55=\"Fact\",BQ59=\"Y\"),SUBSTITUTE(Settings!$B$13,\"&BEAMColumn\",BQ71),BQ71)))","v":""},{"$f":"IF(LEN(BR71)=0,\"\",TRIM(IF(AND($F$55=\"Fact\",BR59=\"Y\"),SUBSTITUTE(Settings!$B$13,\"&BEAMColumn\",BR71),BR71)))","v":""},{"$f":"IF(LEN(BS71)=0,\"\",TRIM(IF(AND($F$55=\"Fact\",BS59=\"Y\"),SUBSTITUTE(Settings!$B$13,\"&BEAMColumn\",BS71),BS71)))","v":""},{"$f":"IF(LEN(BT71)=0,\"\",TRIM(IF(AND($F$55=\"Fact\",BT59=\"Y\"),SUBSTITUTE(Settings!$B$13,\"&BEAMColumn\",BT71),BT71)))","v":""},{"$f":"IF(LEN(BU71)=0,\"\",TRIM(IF(AND($F$55=\"Fact\",BU59=\"Y\"),SUBSTITUTE(Settings!$B$13,\"&BEAMColumn\",BU71),BU71)))","v":""},{"$f":"IF(LEN(BV71)=0,\"\",TRIM(IF(AND($F$55=\"Fact\",BV59=\"Y\"),SUBSTITUTE(Settings!$B$13,\"&BEAMColumn\",BV71),BV71)))","v":""},{"$f":"IF(LEN(BW71)=0,\"\",TRIM(IF(AND($F$55=\"Fact\",BW59=\"Y\"),SUBSTITUTE(Settings!$B$13,\"&BEAMColumn\",BW71),BW71)))","v":""},{"$f":"IF(LEN(BX71)=0,\"\",TRIM(IF(AND($F$55=\"Fact\",BX59=\"Y\"),SUBSTITUTE(Settings!$B$13,\"&BEAMColumn\",BX71),BX71)))","v":""},{"$f":"IF(LEN(BY71)=0,\"\",TRIM(IF(AND($F$55=\"Fact\",BY59=\"Y\"),SUBSTITUTE(Settings!$B$13,\"&BEAMColumn\",BY71),BY71)))","v":""},{"$f":"IF(LEN(BZ71)=0,\"\",TRIM(IF(AND($F$55=\"Fact\",BZ59=\"Y\"),SUBSTITUTE(Settings!$B$13,\"&BEAMColumn\",BZ71),BZ71)))","v":""},{"$f":"IF(LEN(CA71)=0,\"\",TRIM(IF(AND($F$55=\"Fact\",CA59=\"Y\"),SUBSTITUTE(Settings!$B$13,\"&BEAMColumn\",CA71),CA71)))","v":""},{"$f":"IF(LEN(CB71)=0,\"\",TRIM(IF(AND($F$55=\"Fact\",CB59=\"Y\"),SUBSTITUTE(Settings!$B$13,\"&BEAMColumn\",CB71),CB71)))","v":""},{"$f":"IF(LEN(CC71)=0,\"\",TRIM(IF(AND($F$55=\"Fact\",CC59=\"Y\"),SUBSTITUTE(Settings!$B$13,\"&BEAMColumn\",CC71),CC71)))","v":""},{"$f":"IF(LEN(CD71)=0,\"\",TRIM(IF(AND($F$55=\"Fact\",CD59=\"Y\"),SUBSTITUTE(Settings!$B$13,\"&BEAMColumn\",CD71),CD71)))","v":""},{"$f":"IF(LEN(CE71)=0,\"\",TRIM(IF(AND($F$55=\"Fact\",CE59=\"Y\"),SUBSTITUTE(Settings!$B$13,\"&BEAMColumn\",CE71),CE71)))","v":""},{"$f":"IF(LEN(CF71)=0,\"\",TRIM(IF(AND($F$55=\"Fact\",CF59=\"Y\"),SUBSTITUTE(Settings!$B$13,\"&BEAMColumn\",CF71),CF71)))","v":""},{"$f":"IF(LEN(CG71)=0,\"\",TRIM(IF(AND($F$55=\"Fact\",CG59=\"Y\"),SUBSTITUTE(Settings!$B$13,\"&BEAMColumn\",CG71),CG71)))","v":""},{"$f":"IF(LEN(CH71)=0,\"\",TRIM(IF(AND($F$55=\"Fact\",CH59=\"Y\"),SUBSTITUTE(Settings!$B$13,\"&BEAMColumn\",CH71),CH71)))","v":""},{"$f":"IF(LEN(CI71)=0,\"\",TRIM(IF(AND($F$55=\"Fact\",CI59=\"Y\"),SUBSTITUTE(Settings!$B$13,\"&BEAMColumn\",CI71),CI71)))","v":""},{"$f":"IF(LEN(CJ71)=0,\"\",TRIM(IF(AND($F$55=\"Fact\",CJ59=\"Y\"),SUBSTITUTE(Settings!$B$13,\"&BEAMColumn\",CJ71),CJ71)))","v":""},{"$f":"IF(LEN(CK71)=0,\"\",TRIM(IF(AND($F$55=\"Fact\",CK59=\"Y\"),SUBSTITUTE(Settings!$B$13,\"&BEAMColumn\",CK71),CK71)))","v":""},{"$f":"IF(LEN(CL71)=0,\"\",TRIM(IF(AND($F$55=\"Fact\",CL59=\"Y\"),SUBSTITUTE(Settings!$B$13,\"&BEAMColumn\",CL71),CL71)))","v":""},{"$f":"IF(LEN(CM71)=0,\"\",TRIM(IF(AND($F$55=\"Fact\",CM59=\"Y\"),SUBSTITUTE(Settings!$B$13,\"&BEAMColumn\",CM71),CM71)))","v":""},{"$f":"IF(LEN(CN71)=0,\"\",TRIM(IF(AND($F$55=\"Fact\",CN59=\"Y\"),SUBSTITUTE(Settings!$B$13,\"&BEAMColumn\",CN71),CN71)))","v":""},{"$f":"IF(LEN(CO71)=0,\"\",TRIM(IF(AND($F$55=\"Fact\",CO59=\"Y\"),SUBSTITUTE(Settings!$B$13,\"&BEAMColumn\",CO71),CO71)))","v":""},{"$f":"IF(LEN(CP71)=0,\"\",TRIM(IF(AND($F$55=\"Fact\",CP59=\"Y\"),SUBSTITUTE(Settings!$B$13,\"&BEAMColumn\",CP71),CP71)))","v":""},{"$f":"IF(LEN(CQ71)=0,\"\",TRIM(IF(AND($F$55=\"Fact\",CQ59=\"Y\"),SUBSTITUTE(Settings!$B$13,\"&BEAMColumn\",CQ71),CQ71)))","v":""},{"$f":"IF(LEN(CR71)=0,\"\",TRIM(IF(AND($F$55=\"Fact\",CR59=\"Y\"),SUBSTITUTE(Settings!$B$13,\"&BEAMColumn\",CR71),CR71)))","v":""},{"$f":"IF(LEN(CS71)=0,\"\",TRIM(IF(AND($F$55=\"Fact\",CS59=\"Y\"),SUBSTITUTE(Settings!$B$13,\"&BEAMColumn\",CS71),CS71)))","v":""},{"$f":"IF(LEN(CT71)=0,\"\",TRIM(IF(AND($F$55=\"Fact\",CT59=\"Y\"),SUBSTITUTE(Settings!$B$13,\"&BEAMColumn\",CT71),CT71)))","v":""},{"$f":"IF(LEN(CU71)=0,\"\",TRIM(IF(AND($F$55=\"Fact\",CU59=\"Y\"),SUBSTITUTE(Settings!$B$13,\"&BEAMColumn\",CU71),CU71)))","v":""},{"$f":"IF(LEN(CV71)=0,\"\",TRIM(IF(AND($F$55=\"Fact\",CV59=\"Y\"),SUBSTITUTE(Settings!$B$13,\"&BEAMColumn\",CV71),CV71)))","v":""},{"$f":"IF(LEN(CW71)=0,\"\",TRIM(IF(AND($F$55=\"Fact\",CW59=\"Y\"),SUBSTITUTE(Settings!$B$13,\"&BEAMColumn\",CW71),CW71)))","v":""},{"$f":"IF(LEN(CX71)=0,\"\",TRIM(IF(AND($F$55=\"Fact\",CX59=\"Y\"),SUBSTITUTE(Settings!$B$13,\"&BEAMColumn\",CX71),CX71)))","v":""},{"$f":"IF(LEN(CY71)=0,\"\",TRIM(IF(AND($F$55=\"Fact\",CY59=\"Y\"),SUBSTITUTE(Settings!$B$13,\"&BEAMColumn\",CY71),CY71)))","v":""},{"$f":"IF(LEN(CZ71)=0,\"\",TRIM(IF(AND($F$55=\"Fact\",CZ59=\"Y\"),SUBSTITUTE(Settings!$B$13,\"&BEAMColumn\",CZ71),CZ71)))","v":""},{"$f":"IF(LEN(DA71)=0,\"\",TRIM(IF(AND($F$55=\"Fact\",DA59=\"Y\"),SUBSTITUTE(Settings!$B$13,\"&BEAMColumn\",DA71),DA71)))","v":""},{"$f":"IF(LEN(DB71)=0,\"\",TRIM(IF(AND($F$55=\"Fact\",DB59=\"Y\"),SUBSTITUTE(Settings!$B$13,\"&BEAMColumn\",DB71),DB71)))","v":""},{"$f":"IF(LEN(DC71)=0,\"\",TRIM(IF(AND($F$55=\"Fact\",DC59=\"Y\"),SUBSTITUTE(Settings!$B$13,\"&BEAMColumn\",DC71),DC71)))","v":""},{"$f":"IF(LEN(DD71)=0,\"\",TRIM(IF(AND($F$55=\"Fact\",DD59=\"Y\"),SUBSTITUTE(Settings!$B$13,\"&BEAMColumn\",DD71),DD71)))","v":""},{"$f":"IF(LEN(DE71)=0,\"\",TRIM(IF(AND($F$55=\"Fact\",DE59=\"Y\"),SUBSTITUTE(Settings!$B$13,\"&BEAMColumn\",DE71),DE71)))","v":""},{"$f":"IF(LEN(DF71)=0,\"\",TRIM(IF(AND($F$55=\"Fact\",DF59=\"Y\"),SUBSTITUTE(Settings!$B$13,\"&BEAMColumn\",DF71),DF71)))","v":""},{"$f":"IF(LEN(DG71)=0,\"\",TRIM(IF(AND($F$55=\"Fact\",DG59=\"Y\"),SUBSTITUTE(Settings!$B$13,\"&BEAMColumn\",DG71),DG71)))","v":""},{"$f":"IF(LEN(DH71)=0,\"\",TRIM(IF(AND($F$55=\"Fact\",DH59=\"Y\"),SUBSTITUTE(Settings!$B$13,\"&BEAMColumn\",DH71),DH71)))","v":""},{"$f":"IF(LEN(DI71)=0,\"\",TRIM(IF(AND($F$55=\"Fact\",DI59=\"Y\"),SUBSTITUTE(Settings!$B$13,\"&BEAMColumn\",DI71),DI71)))","v":""},{"$f":"IF(LEN(DJ71)=0,\"\",TRIM(IF(AND($F$55=\"Fact\",DJ59=\"Y\"),SUBSTITUTE(Settings!$B$13,\"&BEAMColumn\",DJ71),DJ71)))","v":""},{"$f":"IF(LEN(DK71)=0,\"\",TRIM(IF(AND($F$55=\"Fact\",DK59=\"Y\"),SUBSTITUTE(Settings!$B$13,\"&BEAMColumn\",DK71),DK71)))","v":""},{"$f":"IF(LEN(DL71)=0,\"\",TRIM(IF(AND($F$55=\"Fact\",DL59=\"Y\"),SUBSTITUTE(Settings!$B$13,\"&BEAMColumn\",DL71),DL71)))","v":""},{"$f":"IF(LEN(DM71)=0,\"\",TRIM(IF(AND($F$55=\"Fact\",DM59=\"Y\"),SUBSTITUTE(Settings!$B$13,\"&BEAMColumn\",DM71),DM71)))","v":""},{"$f":"IF(LEN(DN71)=0,\"\",TRIM(IF(AND($F$55=\"Fact\",DN59=\"Y\"),SUBSTITUTE(Settings!$B$13,\"&BEAMColumn\",DN71),DN71)))","v":""},{"$f":"IF(LEN(DO71)=0,\"\",TRIM(IF(AND($F$55=\"Fact\",DO59=\"Y\"),SUBSTITUTE(Settings!$B$13,\"&BEAMColumn\",DO71),DO71)))","v":""},{"$f":"IF(LEN(DP71)=0,\"\",TRIM(IF(AND($F$55=\"Fact\",DP59=\"Y\"),SUBSTITUTE(Settings!$B$13,\"&BEAMColumn\",DP71),DP71)))","v":""},{"$f":"IF(LEN(DQ71)=0,\"\",TRIM(IF(AND($F$55=\"Fact\",DQ59=\"Y\"),SUBSTITUTE(Settings!$B$13,\"&BEAMColumn\",DQ71),DQ71)))","v":""},{"$f":"IF(LEN(DR71)=0,\"\",TRIM(IF(AND($F$55=\"Fact\",DR59=\"Y\"),SUBSTITUTE(Settings!$B$13,\"&BEAMColumn\",DR71),DR71)))","v":""},{"$f":"IF(LEN(DS71)=0,\"\",TRIM(IF(AND($F$55=\"Fact\",DS59=\"Y\"),SUBSTITUTE(Settings!$B$13,\"&BEAMColumn\",DS71),DS71)))","v":""},{"$f":"IF(LEN(DT71)=0,\"\",TRIM(IF(AND($F$55=\"Fact\",DT59=\"Y\"),SUBSTITUTE(Settings!$B$13,\"&BEAMColumn\",DT71),DT71)))","v":""},{"$f":"IF(LEN(DU71)=0,\"\",TRIM(IF(AND($F$55=\"Fact\",DU59=\"Y\"),SUBSTITUTE(Settings!$B$13,\"&BEAMColumn\",DU71),DU71)))","v":""},{"$f":"IF(LEN(DV71)=0,\"\",TRIM(IF(AND($F$55=\"Fact\",DV59=\"Y\"),SUBSTITUTE(Settings!$B$13,\"&BEAMColumn\",DV71),DV71)))","v":""},{"$f":"IF(LEN(DW71)=0,\"\",TRIM(IF(AND($F$55=\"Fact\",DW59=\"Y\"),SUBSTITUTE(Settings!$B$13,\"&BEAMColumn\",DW71),DW71)))","v":""},{"$f":"IF(LEN(DX71)=0,\"\",TRIM(IF(AND($F$55=\"Fact\",DX59=\"Y\"),SUBSTITUTE(Settings!$B$13,\"&BEAMColumn\",DX71),DX71)))","v":""},{"$f":"IF(LEN(DY71)=0,\"\",TRIM(IF(AND($F$55=\"Fact\",DY59=\"Y\"),SUBSTITUTE(Settings!$B$13,\"&BEAMColumn\",DY71),DY71)))","v":""},{"$f":"IF(LEN(DZ71)=0,\"\",TRIM(IF(AND($F$55=\"Fact\",DZ59=\"Y\"),SUBSTITUTE(Settings!$B$13,\"&BEAMColumn\",DZ71),DZ71)))","v":""},{"$f":"IF(LEN(EA71)=0,\"\",TRIM(IF(AND($F$55=\"Fact\",EA59=\"Y\"),SUBSTITUTE(Settings!$B$13,\"&BEAMColumn\",EA71),EA71)))","v":""},{"$f":"IF(LEN(EB71)=0,\"\",TRIM(IF(AND($F$55=\"Fact\",EB59=\"Y\"),SUBSTITUTE(Settings!$B$13,\"&BEAMColumn\",EB71),EB71)))","v":""},{"$f":"IF(LEN(EC71)=0,\"\",TRIM(IF(AND($F$55=\"Fact\",EC59=\"Y\"),SUBSTITUTE(Settings!$B$13,\"&BEAMColumn\",EC71),EC71)))","v":""},{"$f":"IF(LEN(ED71)=0,\"\",TRIM(IF(AND($F$55=\"Fact\",ED59=\"Y\"),SUBSTITUTE(Settings!$B$13,\"&BEAMColumn\",ED71),ED71)))","v":""},{"$f":"IF(LEN(EE71)=0,\"\",TRIM(IF(AND($F$55=\"Fact\",EE59=\"Y\"),SUBSTITUTE(Settings!$B$13,\"&BEAMColumn\",EE71),EE71)))","v":""},{"$f":"IF(LEN(EF71)=0,\"\",TRIM(IF(AND($F$55=\"Fact\",EF59=\"Y\"),SUBSTITUTE(Settings!$B$13,\"&BEAMColumn\",EF71),EF71)))","v":""},{"$f":"IF(LEN(EG71)=0,\"\",TRIM(IF(AND($F$55=\"Fact\",EG59=\"Y\"),SUBSTITUTE(Settings!$B$13,\"&BEAMColumn\",EG71),EG71)))","v":""},{"$f":"IF(LEN(EH71)=0,\"\",TRIM(IF(AND($F$55=\"Fact\",EH59=\"Y\"),SUBSTITUTE(Settings!$B$13,\"&BEAMColumn\",EH71),EH71)))","v":""},{"$f":"IF(LEN(EI71)=0,\"\",TRIM(IF(AND($F$55=\"Fact\",EI59=\"Y\"),SUBSTITUTE(Settings!$B$13,\"&BEAMColumn\",EI71),EI71)))","v":""},{"$f":"IF(LEN(EJ71)=0,\"\",TRIM(IF(AND($F$55=\"Fact\",EJ59=\"Y\"),SUBSTITUTE(Settings!$B$13,\"&BEAMColumn\",EJ71),EJ71)))","v":""},{"$f":"IF(LEN(EK71)=0,\"\",TRIM(IF(AND($F$55=\"Fact\",EK59=\"Y\"),SUBSTITUTE(Settings!$B$13,\"&BEAMColumn\",EK71),EK71)))","v":""},{"$f":"IF(LEN(EL71)=0,\"\",TRIM(IF(AND($F$55=\"Fact\",EL59=\"Y\"),SUBSTITUTE(Settings!$B$13,\"&BEAMColumn\",EL71),EL71)))","v":""},{"$f":"IF(LEN(EM71)=0,\"\",TRIM(IF(AND($F$55=\"Fact\",EM59=\"Y\"),SUBSTITUTE(Settings!$B$13,\"&BEAMColumn\",EM71),EM71)))","v":""},{"$f":"IF(LEN(EN71)=0,\"\",TRIM(IF(AND($F$55=\"Fact\",EN59=\"Y\"),SUBSTITUTE(Settings!$B$13,\"&BEAMColumn\",EN71),EN71)))","v":""},{"$f":"IF(LEN(EO71)=0,\"\",TRIM(IF(AND($F$55=\"Fact\",EO59=\"Y\"),SUBSTITUTE(Settings!$B$13,\"&BEAMColumn\",EO71),EO71)))","v":""},{"$f":"IF(LEN(EP71)=0,\"\",TRIM(IF(AND($F$55=\"Fact\",EP59=\"Y\"),SUBSTITUTE(Settings!$B$13,\"&BEAMColumn\",EP71),EP71)))","v":""},{"$f":"IF(LEN(EQ71)=0,\"\",TRIM(IF(AND($F$55=\"Fact\",EQ59=\"Y\"),SUBSTITUTE(Settings!$B$13,\"&BEAMColumn\",EQ71),EQ71)))","v":""},{"$f":"IF(LEN(ER71)=0,\"\",TRIM(IF(AND($F$55=\"Fact\",ER59=\"Y\"),SUBSTITUTE(Settings!$B$13,\"&BEAMColumn\",ER71),ER71)))","v":""},{"$f":"IF(LEN(ES71)=0,\"\",TRIM(IF(AND($F$55=\"Fact\",ES59=\"Y\"),SUBSTITUTE(Settings!$B$13,\"&BEAMColumn\",ES71),ES71)))","v":""},{"$f":"IF(LEN(ET71)=0,\"\",TRIM(IF(AND($F$55=\"Fact\",ET59=\"Y\"),SUBSTITUTE(Settings!$B$13,\"&BEAMColumn\",ET71),ET71)))","v":""},{"$f":"IF(LEN(EU71)=0,\"\",TRIM(IF(AND($F$55=\"Fact\",EU59=\"Y\"),SUBSTITUTE(Settings!$B$13,\"&BEAMColumn\",EU71),EU71)))","v":""},{"$f":"IF(LEN(EV71)=0,\"\",TRIM(IF(AND($F$55=\"Fact\",EV59=\"Y\"),SUBSTITUTE(Settings!$B$13,\"&BEAMColumn\",EV71),EV71)))","v":""},{"$f":"IF(LEN(EW71)=0,\"\",TRIM(IF(AND($F$55=\"Fact\",EW59=\"Y\"),SUBSTITUTE(Settings!$B$13,\"&BEAMColumn\",EW71),EW71)))","v":""},{"$f":"IF(LEN(EX71)=0,\"\",TRIM(IF(AND($F$55=\"Fact\",EX59=\"Y\"),SUBSTITUTE(Settings!$B$13,\"&BEAMColumn\",EX71),EX71)))","v":""},{"$f":"IF(LEN(EY71)=0,\"\",TRIM(IF(AND($F$55=\"Fact\",EY59=\"Y\"),SUBSTITUTE(Settings!$B$13,\"&BEAMColumn\",EY71),EY71)))","v":""}]
[null,null,"Max Column Name Length",null,null,{"$f":"MAX(MAX(LEN(F72:AX72)),LEN(F45))","v":28}]
[]
[null,null,"Diagram Column Name <CR>",null,null,{"$f":"IF(OR(LEN(F72)=0,F58=\"Y\"),\"\",CONCATENATE(F72, CHAR(13)))","v":""},{"$f":"IF(OR(LEN(G72)=0,G58=\"Y\"),\"\",CONCATENATE(G72, CHAR(13)))","v":""},"","","","","","","","","","","","","","","","","","","","","","","","","","","","","","","","","","","","","","","","","","","","","","","","","","","","","","","","","","","","","","","",{"$f":"IF(OR(LEN(BS72)=0,BS58=\"Y\"),\"\",CONCATENATE(BS72, CHAR(13)))","v":""},"","","","","","","","","","","","","","","","","","","","","","","","","","","","","","","","","","","","","","","","","","","","","","","","","","","","","","","","","","","","","","","",{"$f":"IF(OR(LEN(EE72)=0,EE58=\"Y\"),\"\",CONCATENATE(EE72, CHAR(13)))","v":""},"","","","","","","","","","","","","","","","","","","",""]
[null,null,"Diagram Key Column",null,null,{"$f":"IF(F63=\"Y\",F75,\"\")","v":""},{"$f":"IF(G63=\"Y\",G75,\"\")","v":""},"","","","","","","","","","","","","","","","","","","","","","","","","","","","","","","","","","","","","","","","","","","","","","","","","","","","","","","","","","","","","","","",{"$f":"IF(BS63=\"Y\",BS75,\"\")","v":""},"","","","","","","","","","","","","","","","","","","","","","","","","","","","","","","","","","","","","","","","","","","","","","","","","","","","","","","","","","","","","","","",{"$f":"IF(EE63=\"Y\",EE75,\"\")","v":""},"","","","","","","","","","","","","","","","","","","",""]
[null,null,"Diagram Key Column List \n(previous columns)",{"$nulls":3},{"$f":"INDIRECT(ADDRESS(ROW()+1,COLUMN()-1))","v":""},{"$f":"INDIRECT(ADDRESS(ROW()+1,COLUMN()-1))","v":""},"","","","","","","","","","","","","","","","","","","","","","","","","","","","","","","","","","","","","","","","","","","","","","","","","","","","","","","","","","","","","","","",{"$f":"INDIRECT(ADDRESS(ROW()+1,COLUMN()-1))","v":""},"","","","","","","","","","","","","","","","","","","","","","","","","","","","","","","","","","","","","","","","","","","","","","","","","","","","","","","","","","","","","","","",{"$f":"INDIRECT(ADDRESS(ROW()+1,COLUMN()-1))","v":""},"","","","","","","","","","","","","","","","","","",""]
[null,null,"Diagram Key Column List",null,null,{"$f":"F76","v":""},{"$f":"IF(NOT(ISERROR(FIND(\"...\",G77))),G77,IF(LEN(G77)>226,G77&\"...\"&CHAR(13),G77&G76))","v":""},"","","","","","","","","","","","","","","","","","","","","","","","","","","","","","","","","","","","","","","","","","","","","","","","","","","","","","","","","","","","","","","",{"$f":"IF(NOT(ISERROR(FIND(\"...\",BS77))),BS77,IF(LEN(BS77)>226,BS77&\"...\"&CHAR(13),BS77&BS76))","v":""},"","","","","","","","","","","","","","","","","","","","","","","","","","","","","","","","","","","","","","","","","","","","","","","","","","","","","","","","","","","","","","","",{"$f":"IF(NOT(ISERROR(FIND(\"...\",EE77))),EE77,IF(LEN(EE77)>226,EE77&\"...\"&CHAR(13),EE77&EE76))","v":""},"","","","","","","","","","","","","","","","","","","",""]
[]
[null,null,"Diagram Non-Key Column",null,null,{"$f":"IF(F63=\"Y\",\"\", F75)","v":""},{"$f":"IF(G63=\"Y\",\"\", G75)","v":""},"","","","","","","","","","","","","","","","","","","","","","","","","","","","","","","","","","","","","","","","","","","","","","","","","","","","","","","","","","","","","","","",{"$f":"IF(BS63=\"Y\",\"\", BS75)","v":""},"","","","","","","","","","","","","","","","","","","","","","","","","","","","","","","","","","","","","","","","","","","","","","","","","","","","","","","","","","","","","","","",{"$f":"IF(EE63=\"Y\",\"\", EE75)","v":""},"","","","","","","","","","","","","","","","","","","",""]
[null,null,"Column List\n (up to previous column)",null,null,{"$f":"IF(LEN(G117)=0,\"\",G117 & CHAR(13))","v":""},{"$f":"INDIRECT(ADDRESS(ROW()+1,COLUMN()-1))","v":""},{"$f":"INDIRECT(ADDRESS(ROW()+1,COLUMN()-1))","v":""},"","","","","","","","","","","","","","","","","","","","","","","","","","","","","","","","","","","","","","","","","","","","","","","","","","","","","","","","","","","","","","","",{"$f":"INDIRECT(ADDRESS(ROW()+1,COLUMN()-1))","v":""},"","","","","","","","","","","","","","","","","","","","","","","","","","","","","","","","","","","","","","","","","","","","","","","","","","","","","","","","","","","","","","","",{"$f":"INDIRECT(ADDRESS(ROW()+1,COLUMN()-1))","v":""},"","","","","","","","","","","","","","","","","","",""]
[null,null,"Column List",null,null,{"$f":"IF(NOT(ISERROR(FIND(\"...\",F81))),F81,IF(LEN(F81)>226, F81 & \"...\" & CHAR(13), F81 & F80))","v":""},{"$f":"IF(NOT(ISERROR(FIND(\"...\",G81))),G81,IF(LEN(G81)>226, G81 & \"...\" & CHAR(13), G81 & G80))","v":""},{"$f":"IF(NOT(ISERROR(FIND(\"...\",H81))),H81,IF(LEN(H81)>226, H81 & \"...\" & CHAR(13), H81 & H80))","v":""},"","","","","","","","","","","","","","","","","","","","","","","","","","","","","","","","","","","","","","","","","","","","","","","","","","","","","","","","","","","","","","","",{"$f":"IF(NOT(ISERROR(FIND(\"...\",BT81))),BT81,IF(LEN(BT81)>226, BT81 & \"...\" & CHAR(13), BT81 & BT80))","v":""},"","","","","","","","","","","","","","","","","","","","","","","","","","","","","","","","","","","","","","","","","","","","","","","","","","","","","","","","","","","","","","","",{"$f":"IF(NOT(ISERROR(FIND(\"...\",EF81))),EF81,IF(LEN(EF81)>226, EF81 & \"...\" & CHAR(13), EF81 & EF80))","v":""},"","","","","","","","","","","","","","","","","","",""]
[null,null,"Column Code",null,null,{"$f":"IF(LEN(F72)=0,\"\",TRIM(SUBSTITUTE(F7, \"!\", \"\")))","v":""},"","","","","","","","","","","","","","","","","","","","","","","","","","","","","","","","","","","","","","","","","","","","","","","","","","","","","","","","","","","","","","","",{"$f":"IF(LEN(BR72)=0,\"\",TRIM(SUBSTITUTE(BR7, \"!\", \"\")))","v":""},"","","","","","","","","","","","","","","","","","","","","","","","","","","","","","","","","","","","","","","","","","","","","","","","","","","","","","","","","","","","","","","",{"$f":"IF(LEN(ED72)=0,\"\",TRIM(SUBSTITUTE(ED7, \"!\", \"\")))","v":""},"","","","","","","","","","","","","","","","","","","","",""]
[null,null,"All Code List",null,null,{"$f":"F83","v":""},{"$f":"CONCATENATE(INDIRECT(ADDRESS(ROW(),COLUMN()-1)),\", \", G83)","v":", "},{"$f":"CONCATENATE(INDIRECT(ADDRESS(ROW(),COLUMN()-1)),\", \", H83)","v":", , "},", , , ",", , , , ",", , , , , ",", , , , , , ",", , , , , , , ",", , , , , , , , ",", , , , , , , , , ",", , , , , , , , , , ",", , , , , , , , , , , ",", , , , , , , , , , , , ",", , , , , , , , , , , , , ",", , , , , , , , , , , , , , ",", , , , , , , , , , , , , , , ",", , , , , , , , , , , , , , , , ",", , , , , , , , , , , , , , , , , ",", , , , , , , , , , , , , , , , , , ",", , , , , , , , , , , , , , , , , , , ",", , , , , , , , , , , , , , , , , , , , ",", , , , , , , , , , , , , , , , , , , , , ",", , , , , , , , , , , , , , , , , , , , , , ",", , , , , , , , , , , , , , , , , , , , , , , ",", , , , , , , , , , , , , , , , , , , , , , , , ",", , , , , , , , , , , , , , , , , , , , , , , , , ",", , , , , , , , , , , , , , , , , , , , , , , , , , ",", , , , , , , , , , , , , , , , , , , , , , , , , , , ",", , , , , , , , , , , , , , , , , , , , , , , , , , , , ",", , , , , , , , , , , , , , , , , , , , , , , , , , , , , ",", , , , , , , , , , , , , , , , , , , , , , , , , , , , , , ",", , , , , , , , , , , , , , , , , , , , , , , , , , , , , , , ",", , , , , , , , , , , , , , , , , , , , , , , , , , , , , , , , ",", , , , , , , , , , , , , , , , , , , , , , , , , , , , , , , , , ",", , , , , , , , , , , , , , , , , , , , , , , , , , , , , , , , , , ",", , , , , , , , , , , , , , , , , , , , , , , , , , , , , , , , , , , ",", , , , , , , , , , , , , , , , , , , , , , , , , , , , , , , , , , , , ",", , , , , , , , , , , , , , , , , , , , , , , , , , , , , , , , , , , , , ",", , , , , , , , , , , , , , , , , , , , , , , , , , , , , , , , , , , , , , ",", , , , , , , , , , , , , , , , , , , , , , , , , , , , , , , , , , , , , , , ",", , , , , , , , , , , , , , , , , , , , , , , , , , , , , , , , , , , , , , , , ",", , , , , , , , , , , , , , , , , , , , , , , , , , , , , , , , , , , , , , , , , ",", , , , , , , , , , , , , , , , , , , , , , , , , , , , , , , , , , , , , , , , , , ",", , , , , , , , , , , , , , , , , , , , , , , , , , , , , , , , , , , , , , , , , , , ",", , , , , , , , , , , , , , , , , , , , , , , , , , , , , , , , , , , , , , , , , , , , ",", , , , , , , , , , , , , , , , , , , , , , , , , , , , , , , , , , , , , , , , , , , , , ",", , , , , , , , , , , , , , , , , , , , , , , , , , , , , , , , , , , , , , , , , , , , , , ",", , , , , , , , , , , , , , , , , , , , , , , , , , , , , , , , , , , , , , , , , , , , , , , ",", , , , , , , , , , , , , , , , , , , , , , , , , , , , , , , , , , , , , , , , , , , , , , , , ",", , , , , , , , , , , , , , , , , , , , , , , , , , , , , , , , , , , , , , , , , , , , , , , , , ",", , , , , , , , , , , , , , , , , , , , , , , , , , , , , , , , , , , , , , , , , , , , , , , , , , ",", , , , , , , , , , , , , , , , , , , , , , , , , , , , , , , , , , , , , , , , , , , , , , , , , , , ",", , , , , , , , , , , , , , , , , , , , , , , , , , , , , , , , , , , , , , , , , , , , , , , , , , , , ",", , , , , , , , , , , , , , , , , , , , , , , , , , , , , , , , , , , , , , , , , , , , , , , , , , , , , ",", , , , , , , , , , , , , , , , , , , , , , , , , , , , , , , , , , , , , , , , , , , , , , , , , , , , , , ",", , , , , , , , , , , , , , , , , , , , , , , , , , , , , , , , , , , , , , , , , , , , , , , , , , , , , , , ",", , , , , , , , , , , , , , , , , , , , , , , , , , , , , , , , , , , , , , , , , , , , , , , , , , , , , , , , ",", , , , , , , , , , , , , , , , , , , , , , , , , , , , , , , , , , , , , , , , , , , , , , , , , , , , , , , , , ",", , , , , , , , , , , , , , , , , , , , , , , , , , , , , , , , , , , , , , , , , , , , , , , , , , , , , , , , , , ",", , , , , , , , , , , , , , , , , , , , , , , , , , , , , , , , , , , , , , , , , , , , , , , , , , , , , , , , , , , ",", , , , , , , , , , , , , , , , , , , , , , , , , , , , , , , , , , , , , , , , , , , , , , , , , , , , , , , , , , , , ",", , , , , , , , , , , , , , , , , , , , , , , , , , , , , , , , , , , , , , , , , , , , , , , , , , , , , , , , , , , , , ",", , , , , , , , , , , , , , , , , , , , , , , , , , , , , , , , , , , , , , , , , , , , , , , , , , , , , , , , , , , , , , ",", , , , , , , , , , , , , , , , , , , , , , , , , , , , , , , , , , , , , , , , , , , , , , , , , , , , , , , , , , , , , , , ",", , , , , , , , , , , , , , , , , , , , , , , , , , , , , , , , , , , , , , , , , , , , , , , , , , , , , , , , , , , , , , , , ",", , , , , , , , , , , , , , , , , , , , , , , , , , , , , , , , , , , , , , , , , , , , , , , , , , , , , , , , , , , , , , , , , ",{"$f":"CONCATENATE(INDIRECT(ADDRESS(ROW(),COLUMN()-1)),\", \", BT83)","v":", , , , , , , , , , , , , , , , , , , , , , , , , , , , , , , , , , , , , , , , , , , , , , , , , , , , , , , , , , , , , , , , , , "},", , , , , , , , , , , , , , , , , , , , , , , , , , , , , , , , , , , , , , , , , , , , , , , , , , , , , , , , , , , , , , , , , , , ",", , , , , , , , , , , , , , , , , , , , , , , , , , , , , , , , , , , , , , , , , , , , , , , , , , , , , , , , , , , , , , , , , , , , ",", , , , , , , , , , , , , , , , , , , , , , , , , , , , , , , , , , , , , , , , , , , , , , , , , , , , , , , , , , , , , , , , , , , , , ",", , , , , , , , , , , , , , , , , , , , , , , , , , , , , , , , , , , , , , , , , , , , , , , , , , , , , , , , , , , , , , , , , , , , , , ",", , , , , , , , , , , , , , , , , , , , , , , , , , , , , , , , , , , , , , , , , , , , , , , , , , , , , , , , , , , , , , , , , , , , , , , ",", , , , , , , , , , , , , , , , , , , , , , , , , , , , , , , , , , , , , , , , , , , , , , , , , , , , , , , , , , , , , , , , , , , , , , , , ",", , , , , , , , , , , , , , , , , , , , , , , , , , , , , , , , , , , , , , , , , , , , , , , , , , , , , , , , , , , , , , , , , , , , , , , , , ",", , , , , , , , , , , , , , , , , , , , , , , , , , , , , , , , , , , , , , , , , , , , , , , , , , , , , , , , , , , , , , , , , , , , , , , , , , ",", , , , , , , , , , , , , , , , , , , , , , , , , , , , , , , , , , , , , , , , , , , , , , , , , , , , , , , , , , , , , , , , , , , , , , , , , , , ",", , , , , , , , , , , , , , , , , , , , , , , , , , , , , , , , , , , , , , , , , , , , , , , , , , , , , , , , , , , , , , , , , , , , , , , , , , , , ",", , , , , , , , , , , , , , , , , , , , , , , , , , , , , , , , , , , , , , , , , , , , , , , , , , , , , , , , , , , , , , , , , , , , , , , , , , , , , ",", , , , , , , , , , , , , , , , , , , , , , , , , , , , , , , , , , , , , , , , , , , , , , , , , , , , , , , , , , , , , , , , , , , , , , , , , , , , , , ",", , , , , , , , , , , , , , , , , , , , , , , , , , , , , , , , , , , , , , , , , , , , , , , , , , , , , , , , , , , , , , , , , , , , , , , , , , , , , , , ",", , , , , , , , , , , , , , , , , , , , , , , , , , , , , , , , , , , , , , , , , , , , , , , , , , , , , , , , , , , , , , , , , , , , , , , , , , , , , , , , ",", , , , , , , , , , , , , , , , , , , , , , , , , , , , , , , , , , , , , , , , , , , , , , , , , , , , , , , , , , , , , , , , , , , , , , , , , , , , , , , , , ",", , , , , , , , , , , , , , , , , , , , , , , , , , , , , , , , , , , , , , , , , , , , , , , , , , , , , , , , , , , , , , , , , , , , , , , , , , , , , , , , , , ",", , , , , , , , , , , , , , , , , , , , , , , , , , , , , , , , , , , , , , , , , , , , , , , , , , , , , , , , , , , , , , , , , , , , , , , , , , , , , , , , , , , ",", , , , , , , , , , , , , , , , , , , , , , , , , , , , , , , , , , , , , , , , , , , , , , , , , , , , , , , , , , , , , , , , , , , , , , , , , , , , , , , , , , , , ",", , , , , , , , , , , , , , , , , , , , , , , , , , , , , , , , , , , , , , , , , , , , , , , , , , , , , , , , , , , , , , , , , , , , , , , , , , , , , , , , , , , , , ",", , , , , , , , , , , , , , , , , , , , , , , , , , , , , , , , , , , , , , , , , , , , , , , , , , , , , , , , , , , , , , , , , , , , , , , , , , , , , , , , , , , , , , ",", , , , , , , , , , , , , , , , , , , , , , , , , , , , , , , , , , , , , , , , , , , , , , , , , , , , , , , , , , , , , , , , , , , , , , , , , , , , , , , , , , , , , , , ",", , , , , , , , , , , , , , , , , , , , , , , , , , , , , , , , , , , , , , , , , , , , , , , , , , , , , , , , , , , , , , , , , , , , , , , , , , , , , , , , , , , , , , , , ",", , , , , , , , , , , , , , , , , , , , , , , , , , , , , , , , , , , , , , , , , , , , , , , , , , , , , , , , , , , , , , , , , , , , , , , , , , , , , , , , , , , , , , , , , ",", , , , , , , , , , , , , , , , , , , , , , , , , , , , , , , , , , , , , , , , , , , , , , , , , , , , , , , , , , , , , , , , , , , , , , , , , , , , , , , , , , , , , , , , , , ",", , , , , , , , , , , , , , , , , , , , , , , , , , , , , , , , , , , , , , , , , , , , , , , , , , , , , , , , , , , , , , , , , , , , , , , , , , , , , , , , , , , , , , , , , , , ",", , , , , , , , , , , , , , , , , , , , , , , , , , , , , , , , , , , , , , , , , , , , , , , , , , , , , , , , , , , , , , , , , , , , , , , , , , , , , , , , , , , , , , , , , , , , ",", , , , , , , , , , , , , , , , , , , , , , , , , , , , , , , , , , , , , , , , , , , , , , , , , , , , , , , , , , , , , , , , , , , , , , , , , , , , , , , , , , , , , , , , , , , , , ",", , , , , , , , , , , , , , , , , , , , , , , , , , , , , , , , , , , , , , , , , , , , , , , , , , , , , , , , , , , , , , , , , , , , , , , , , , , , , , , , , , , , , , , , , , , , , , ",", , , , , , , , , , , , , , , , , , , , , , , , , , , , , , , , , , , , , , , , , , , , , , , , , , , , , , , , , , , , , , , , , , , , , , , , , , , , , , , , , , , , , , , , , , , , , , , ",", , , , , , , , , , , , , , , , , , , , , , , , , , , , , , , , , , , , , , , , , , , , , , , , , , , , , , , , , , , , , , , , , , , , , , , , , , , , , , , , , , , , , , , , , , , , , , , , ",", , , , , , , , , , , , , , , , , , , , , , , , , , , , , , , , , , , , , , , , , , , , , , , , , , , , , , , , , , , , , , , , , , , , , , , , , , , , , , , , , , , , , , , , , , , , , , , , , ",", , , , , , , , , , , , , , , , , , , , , , , , , , , , , , , , , , , , , , , , , , , , , , , , , , , , , , , , , , , , , , , , , , , , , , , , , , , , , , , , , , , , , , , , , , , , , , , , , , ",", , , , , , , , , , , , , , , , , , , , , , , , , , , , , , , , , , , , , , , , , , , , , , , , , , , , , , , , , , , , , , , , , , , , , , , , , , , , , , , , , , , , , , , , , , , , , , , , , , , ",", , , , , , , , , , , , , , , , , , , , , , , , , , , , , , , , , , , , , , , , , , , , , , , , , , , , , , , , , , , , , , , , , , , , , , , , , , , , , , , , , , , , , , , , , , , , , , , , , , , , ",", , , , , , , , , , , , , , , , , , , , , , , , , , , , , , , , , , , , , , , , , , , , , , , , , , , , , , , , , , , , , , , , , , , , , , , , , , , , , , , , , , , , , , , , , , , , , , , , , , , , , ",", , , , , , , , , , , , , , , , , , , , , , , , , , , , , , , , , , , , , , , , , , , , , , , , , , , , , , , , , , , , , , , , , , , , , , , , , , , , , , , , , , , , , , , , , , , , , , , , , , , , , , ",", , , , , , , , , , , , , , , , , , , , , , , , , , , , , , , , , , , , , , , , , , , , , , , , , , , , , , , , , , , , , , , , , , , , , , , , , , , , , , , , , , , , , , , , , , , , , , , , , , , , , , , ",", , , , , , , , , , , , , , , , , , , , , , , , , , , , , , , , , , , , , , , , , , , , , , , , , , , , , , , , , , , , , , , , , , , , , , , , , , , , , , , , , , , , , , , , , , , , , , , , , , , , , , , , ",", , , , , , , , , , , , , , , , , , , , , , , , , , , , , , , , , , , , , , , , , , , , , , , , , , , , , , , , , , , , , , , , , , , , , , , , , , , , , , , , , , , , , , , , , , , , , , , , , , , , , , , , , ",", , , , , , , , , , , , , , , , , , , , , , , , , , , , , , , , , , , , , , , , , , , , , , , , , , , , , , , , , , , , , , , , , , , , , , , , , , , , , , , , , , , , , , , , , , , , , , , , , , , , , , , , , , ",", , , , , , , , , , , , , , , , , , , , , , , , , , , , , , , , , , , , , , , , , , , , , , , , , , , , , , , , , , , , , , , , , , , , , , , , , , , , , , , , , , , , , , , , , , , , , , , , , , , , , , , , , , , ",", , , , , , , , , , , , , , , , , , , , , , , , , , , , , , , , , , , , , , , , , , , , , , , , , , , , , , , , , , , , , , , , , , , , , , , , , , , , , , , , , , , , , , , , , , , , , , , , , , , , , , , , , , , , ",", , , , , , , , , , , , , , , , , , , , , , , , , , , , , , , , , , , , , , , , , , , , , , , , , , , , , , , , , , , , , , , , , , , , , , , , , , , , , , , , , , , , , , , , , , , , , , , , , , , , , , , , , , , , , ",", , , , , , , , , , , , , , , , , , , , , , , , , , , , , , , , , , , , , , , , , , , , , , , , , , , , , , , , , , , , , , , , , , , , , , , , , , , , , , , , , , , , , , , , , , , , , , , , , , , , , , , , , , , , , , ",", , , , , , , , , , , , , , , , , , , , , , , , , , , , , , , , , , , , , , , , , , , , , , , , , , , , , , , , , , , , , , , , , , , , , , , , , , , , , , , , , , , , , , , , , , , , , , , , , , , , , , , , , , , , , , , ",", , , , , , , , , , , , , , , , , , , , , , , , , , , , , , , , , , , , , , , , , , , , , , , , , , , , , , , , , , , , , , , , , , , , , , , , , , , , , , , , , , , , , , , , , , , , , , , , , , , , , , , , , , , , , , , , ",", , , , , , , , , , , , , , , , , , , , , , , , , , , , , , , , , , , , , , , , , , , , , , , , , , , , , , , , , , , , , , , , , , , , , , , , , , , , , , , , , , , , , , , , , , , , , , , , , , , , , , , , , , , , , , , , , ",", , , , , , , , , , , , , , , , , , , , , , , , , , , , , , , , , , , , , , , , , , , , , , , , , , , , , , , , , , , , , , , , , , , , , , , , , , , , , , , , , , , , , , , , , , , , , , , , , , , , , , , , , , , , , , , , , , ",", , , , , , , , , , , , , , , , , , , , , , , , , , , , , , , , , , , , , , , , , , , , , , , , , , , , , , , , , , , , , , , , , , , , , , , , , , , , , , , , , , , , , , , , , , , , , , , , , , , , , , , , , , , , , , , , , , , ",", , , , , , , , , , , , , , , , , , , , , , , , , , , , , , , , , , , , , , , , , , , , , , , , , , , , , , , , , , , , , , , , , , , , , , , , , , , , , , , , , , , , , , , , , , , , , , , , , , , , , , , , , , , , , , , , , , , , ",", , , , , , , , , , , , , , , , , , , , , , , , , , , , , , , , , , , , , , , , , , , , , , , , , , , , , , , , , , , , , , , , , , , , , , , , , , , , , , , , , , , , , , , , , , , , , , , , , , , , , , , , , , , , , , , , , , , , , ",", , , , , , , , , , , , , , , , , , , , , , , , , , , , , , , , , , , , , , , , , , , , , , , , , , , , , , , , , , , , , , , , , , , , , , , , , , , , , , , , , , , , , , , , , , , , , , , , , , , , , , , , , , , , , , , , , , , , , , ",", , , , , , , , , , , , , , , , , , , , , , , , , , , , , , , , , , , , , , , , , , , , , , , , , , , , , , , , , , , , , , , , , , , , , , , , , , , , , , , , , , , , , , , , , , , , , , , , , , , , , , , , , , , , , , , , , , , , , , , ",", , , , , , , , , , , , , , , , , , , , , , , , , , , , , , , , , , , , , , , , , , , , , , , , , , , , , , , , , , , , , , , , , , , , , , , , , , , , , , , , , , , , , , , , , , , , , , , , , , , , , , , , , , , , , , , , , , , , , , , , ",", , , , , , , , , , , , , , , , , , , , , , , , , , , , , , , , , , , , , , , , , , , , , , , , , , , , , , , , , , , , , , , , , , , , , , , , , , , , , , , , , , , , , , , , , , , , , , , , , , , , , , , , , , , , , , , , , , , , , , , , , ",", , , , , , , , , , , , , , , , , , , , , , , , , , , , , , , , , , , , , , , , , , , , , , , , , , , , , , , , , , , , , , , , , , , , , , , , , , , , , , , , , , , , , , , , , , , , , , , , , , , , , , , , , , , , , , , , , , , , , , , , , , ",", , , , , , , , , , , , , , , , , , , , , , , , , , , , , , , , , , , , , , , , , , , , , , , , , , , , , , , , , , , , , , , , , , , , , , , , , , , , , , , , , , , , , , , , , , , , , , , , , , , , , , , , , , , , , , , , , , , , , , , , , , , ",", , , , , , , , , , , , , , , , , , , , , , , , , , , , , , , , , , , , , , , , , , , , , , , , , , , , , , , , , , , , , , , , , , , , , , , , , , , , , , , , , , , , , , , , , , , , , , , , , , , , , , , , , , , , , , , , , , , , , , , , , , , , ",", , , , , , , , , , , , , , , , , , , , , , , , , , , , , , , , , , , , , , , , , , , , , , , , , , , , , , , , , , , , , , , , , , , , , , , , , , , , , , , , , , , , , , , , , , , , , , , , , , , , , , , , , , , , , , , , , , , , , , , , , , , , , ",", , , , , , , , , , , , , , , , , , , , , , , , , , , , , , , , , , , , , , , , , , , , , , , , , , , , , , , , , , , , , , , , , , , , , , , , , , , , , , , , , , , , , , , , , , , , , , , , , , , , , , , , , , , , , , , , , , , , , , , , , , , , , , ",", , , , , , , , , , , , , , , , , , , , , , , , , , , , , , , , , , , , , , , , , , , , , , , , , , , , , , , , , , , , , , , , , , , , , , , , , , , , , , , , , , , , , , , , , , , , , , , , , , , , , , , , , , , , , , , , , , , , , , , , , , , , , , , ",", , , , , , , , , , , , , , , , , , , , , , , , , , , , , , , , , , , , , , , , , , , , , , , , , , , , , , , , , , , , , , , , , , , , , , , , , , , , , , , , , , , , , , , , , , , , , , , , , , , , , , , , , , , , , , , , , , , , , , , , , , , , , , , , ",", , , , , , , , , , , , , , , , , , , , , , , , , , , , , , , , , , , , , , , , , , , , , , , , , , , , , , , , , , , , , , , , , , , , , , , , , , , , , , , , , , , , , , , , , , , , , , , , , , , , , , , , , , , , , , , , , , , , , , , , , , , , , , , , , ",{"$f":"CONCATENATE(INDIRECT(ADDRESS(ROW(),COLUMN()-1)),\", \", EF83)","v":", , , , , , , , , , , , , , , , , , , , , , , , , , , , , , , , , , , , , , , , , , , , , , , , , , , , , , , , , , , , , , , , , , , , , , , , , , , , , , , , , , , , , , , , , , , , , , , , , , , , , , , , , , , , , , , , , , , , , , , , , , , , , , , , , , "},", , , , , , , , , , , , , , , , , , , , , , , , , , , , , , , , , , , , , , , , , , , , , , , , , , , , , , , , , , , , , , , , , , , , , , , , , , , , , , , , , , , , , , , , , , , , , , , , , , , , , , , , , , , , , , , , , , , , , , , , , , , , , , , , , , , ",", , , , , , , , , , , , , , , , , , , , , , , , , , , , , , , , , , , , , , , , , , , , , , , , , , , , , , , , , , , , , , , , , , , , , , , , , , , , , , , , , , , , , , , , , , , , , , , , , , , , , , , , , , , , , , , , , , , , , , , , , , , , , , , , , , , , ",", , , , , , , , , , , , , , , , , , , , , , , , , , , , , , , , , , , , , , , , , , , , , , , , , , , , , , , , , , , , , , , , , , , , , , , , , , , , , , , , , , , , , , , , , , , , , , , , , , , , , , , , , , , , , , , , , , , , , , , , , , , , , , , , , , , , , ",", , , , , , , , , , , , , , , , , , , , , , , , , , , , , , , , , , , , , , , , , , , , , , , , , , , , , , , , , , , , , , , , , , , , , , , , , , , , , , , , , , , , , , , , , , , , , , , , , , , , , , , , , , , , , , , , , , , , , , , , , , , , , , , , , , , , , , ",", , , , , , , , , , , , , , , , , , , , , , , , , , , , , , , , , , , , , , , , , , , , , , , , , , , , , , , , , , , , , , , , , , , , , , , , , , , , , , , , , , , , , , , , , , , , , , , , , , , , , , , , , , , , , , , , , , , , , , , , , , , , , , , , , , , , , , , ",", , , , , , , , , , , , , , , , , , , , , , , , , , , , , , , , , , , , , , , , , , , , , , , , , , , , , , , , , , , , , , , , , , , , , , , , , , , , , , , , , , , , , , , , , , , , , , , , , , , , , , , , , , , , , , , , , , , , , , , , , , , , , , , , , , , , , , , , ",", , , , , , , , , , , , , , , , , , , , , , , , , , , , , , , , , , , , , , , , , , , , , , , , , , , , , , , , , , , , , , , , , , , , , , , , , , , , , , , , , , , , , , , , , , , , , , , , , , , , , , , , , , , , , , , , , , , , , , , , , , , , , , , , , , , , , , , , , ",", , , , , , , , , , , , , , , , , , , , , , , , , , , , , , , , , , , , , , , , , , , , , , , , , , , , , , , , , , , , , , , , , , , , , , , , , , , , , , , , , , , , , , , , , , , , , , , , , , , , , , , , , , , , , , , , , , , , , , , , , , , , , , , , , , , , , , , , , , ",", , , , , , , , , , , , , , , , , , , , , , , , , , , , , , , , , , , , , , , , , , , , , , , , , , , , , , , , , , , , , , , , , , , , , , , , , , , , , , , , , , , , , , , , , , , , , , , , , , , , , , , , , , , , , , , , , , , , , , , , , , , , , , , , , , , , , , , , , , , ",", , , , , , , , , , , , , , , , , , , , , , , , , , , , , , , , , , , , , , , , , , , , , , , , , , , , , , , , , , , , , , , , , , , , , , , , , , , , , , , , , , , , , , , , , , , , , , , , , , , , , , , , , , , , , , , , , , , , , , , , , , , , , , , , , , , , , , , , , , , , ",", , , , , , , , , , , , , , , , , , , , , , , , , , , , , , , , , , , , , , , , , , , , , , , , , , , , , , , , , , , , , , , , , , , , , , , , , , , , , , , , , , , , , , , , , , , , , , , , , , , , , , , , , , , , , , , , , , , , , , , , , , , , , , , , , , , , , , , , , , , , , ",", , , , , , , , , , , , , , , , , , , , , , , , , , , , , , , , , , , , , , , , , , , , , , , , , , , , , , , , , , , , , , , , , , , , , , , , , , , , , , , , , , , , , , , , , , , , , , , , , , , , , , , , , , , , , , , , , , , , , , , , , , , , , , , , , , , , , , , , , , , , , , ",", , , , , , , , , , , , , , , , , , , , , , , , , , , , , , , , , , , , , , , , , , , , , , , , , , , , , , , , , , , , , , , , , , , , , , , , , , , , , , , , , , , , , , , , , , , , , , , , , , , , , , , , , , , , , , , , , , , , , , , , , , , , , , , , , , , , , , , , , , , , , , , ",", , , , , , , , , , , , , , , , , , , , , , , , , , , , , , , , , , , , , , , , , , , , , , , , , , , , , , , , , , , , , , , , , , , , , , , , , , , , , , , , , , , , , , , , , , , , , , , , , , , , , , , , , , , , , , , , , , , , , , , , , , , , , , , , , , , , , , , , , , , , , , , , ",", , , , , , , , , , , , , , , , , , , , , , , , , , , , , , , , , , , , , , , , , , , , , , , , , , , , , , , , , , , , , , , , , , , , , , , , , , , , , , , , , , , , , , , , , , , , , , , , , , , , , , , , , , , , , , , , , , , , , , , , , , , , , , , , , , , , , , , , , , , , , , , , , ",", , , , , , , , , , , , , , , , , , , , , , , , , , , , , , , , , , , , , , , , , , , , , , , , , , , , , , , , , , , , , , , , , , , , , , , , , , , , , , , , , , , , , , , , , , , , , , , , , , , , , , , , , , , , , , , , , , , , , , , , , , , , , , , , , , , , , , , , , , , , , , , , , , ",", , , , , , , , , , , , , , , , , , , , , , , , , , , , , , , , , , , , , , , , , , , , , , , , , , , , , , , , , , , , , , , , , , , , , , , , , , , , , , , , , , , , , , , , , , , , , , , , , , , , , , , , , , , , , , , , , , , , , , , , , , , , , , , , , , , , , , , , , , , , , , , , , , , ",", , , , , , , , , , , , , , , , , , , , , , , , , , , , , , , , , , , , , , , , , , , , , , , , , , , , , , , , , , , , , , , , , , , , , , , , , , , , , , , , , , , , , , , , , , , , , , , , , , , , , , , , , , , , , , , , , , , , , , , , , , , , , , , , , , , , , , , , , , , , , , , , , , , , ",", , , , , , , , , , , , , , , , , , , , , , , , , , , , , , , , , , , , , , , , , , , , , , , , , , , , , , , , , , , , , , , , , , , , , , , , , , , , , , , , , , , , , , , , , , , , , , , , , , , , , , , , , , , , , , , , , , , , , , , , , , , , , , , , , , , , , , , , , , , , , , , , , , , , , "]
[]
[null,null,"SK Column",null,null,{"$f":"IF(F59=\"Y\",F72 & \", \",\"\")","v":""},{"$f":"IF(G59=\"Y\",G72 & \", \",\"\")","v":""},"","","","","","","","","","","","","","","","","","","","","","","","","","","","","","","","","","","","","","","","","","","","","","","","","","","","","","","","","","","","","","","",{"$f":"IF(BS59=\"Y\",BS72 & \", \",\"\")","v":""},"","","","","","","","","","","","","","","","","","","","","","","","","","","","","","","","","","","","","","","","","","","","","","","","","","","","","","","","","","","","","","","",{"$f":"IF(EE59=\"Y\",EE72 & \", \",\"\")","v":""},"","","","","","","","","","","","","","","","","","","",""]
[null,null,"SK Column List",null,null,{"$f":"F86","v":""},{"$f":"CONCATENATE(INDIRECT(ADDRESS(ROW(),COLUMN()-1)), G86)","v":""},{"$f":"CONCATENATE(INDIRECT(ADDRESS(ROW(),COLUMN()-1)), H86)","v":""},"","","","","","","","","","","","","","","","","","","","","","","","","","","","","","","","","","","","","","","","","","","","","","","","","","","","","","","","","","","","","","","",{"$f":"CONCATENATE(INDIRECT(ADDRESS(ROW(),COLUMN()-1)), BT86)","v":""},"","","","","","","","","","","","","","","","","","","","","","","","","","","","","","","","","","","","","","","","","","","","","","","","","","","","","","","","","","","","","","","",{"$f":"CONCATENATE(INDIRECT(ADDRESS(ROW(),COLUMN()-1)), EF86)","v":""},"","","","","","","","","","","","","","","","","","",""]
[null,null,"Visable Column Code",null,null,{"$f":"IF(F58=\"Y\",\"\",F83)","v":""},"","","","","","","","","","","","","","","","","","","","","","","","","","","","","","","","","","","","","","","","","","","","","","","","","","","","","","","","","","","","","","","",{"$f":"IF(BR58=\"Y\",\"\",BR83)","v":""},"","","","","","","","","","","","","","","","","","","","","","","","","","","","","","","","","","","","","","","","","","","","","","","","","","","","","","","","","","","","","","","",{"$f":"IF(ED58=\"Y\",\"\",ED83)","v":""},"","","","","","","","","","","","","","","","","","","","",""]
[null,null,"Column Code <CR>",null,null,{"$f":"IF(OR(LEN(F72)=0,F58=\"Y\"),\"\",CONCATENATE(IF(LEN(F88)=0,\"\",SUBSTITUTE(Settings!$B$41,\"&BEAMColumnCodes\",F88)),CHAR(13)))","v":""},{"$f":"IF(OR(LEN(G72)=0,G58=\"Y\"),\"\",CONCATENATE(IF(LEN(G88)=0,\"\",SUBSTITUTE(Settings!$B$41,\"&BEAMColumnCodes\",G88)),CHAR(13)))","v":""},{"$f":"IF(OR(LEN(H72)=0,H58=\"Y\"),\"\",CONCATENATE(IF(LEN(H88)=0,\"\",SUBSTITUTE(Settings!$B$41,\"&BEAMColumnCodes\",H88)),CHAR(13)))","v":""},{"$f":"IF(OR(LEN(I72)=0,I58=\"Y\"),\"\",CONCATENATE(IF(LEN(I88)=0,\"\",SUBSTITUTE(Settings!$B$41,\"&BEAMColumnCodes\",I88)),CHAR(13)))","v":""},{"$f":"IF(OR(LEN(J72)=0,J58=\"Y\"),\"\",CONCATENATE(IF(LEN(J88)=0,\"\",SUBSTITUTE(Settings!$B$41,\"&BEAMColumnCodes\",J88)),CHAR(13)))","v":""},{"$f":"IF(OR(LEN(K72)=0,K58=\"Y\"),\"\",CONCATENATE(IF(LEN(K88)=0,\"\",SUBSTITUTE(Settings!$B$41,\"&BEAMColumnCodes\",K88)),CHAR(13)))","v":""},{"$f":"IF(OR(LEN(L72)=0,L58=\"Y\"),\"\",CONCATENATE(IF(LEN(L88)=0,\"\",SUBSTITUTE(Settings!$B$41,\"&BEAMColumnCodes\",L88)),CHAR(13)))","v":""},{"$f":"IF(OR(LEN(M72)=0,M58=\"Y\"),\"\",CONCATENATE(IF(LEN(M88)=0,\"\",SUBSTITUTE(Settings!$B$41,\"&BEAMColumnCodes\",M88)),CHAR(13)))","v":""},{"$f":"IF(OR(LEN(N72)=0,N58=\"Y\"),\"\",CONCATENATE(IF(LEN(N88)=0,\"\",SUBSTITUTE(Settings!$B$41,\"&BEAMColumnCodes\",N88)),CHAR(13)))","v":""},{"$f":"IF(OR(LEN(O72)=0,O58=\"Y\"),\"\",CONCATENATE(IF(LEN(O88)=0,\"\",SUBSTITUTE(Settings!$B$41,\"&BEAMColumnCodes\",O88)),CHAR(13)))","v":""},{"$f":"IF(OR(LEN(P72)=0,P58=\"Y\"),\"\",CONCATENATE(IF(LEN(P88)=0,\"\",SUBSTITUTE(Settings!$B$41,\"&BEAMColumnCodes\",P88)),CHAR(13)))","v":""},{"$f":"IF(OR(LEN(Q72)=0,Q58=\"Y\"),\"\",CONCATENATE(IF(LEN(Q88)=0,\"\",SUBSTITUTE(Settings!$B$41,\"&BEAMColumnCodes\",Q88)),CHAR(13)))","v":""},{"$f":"IF(OR(LEN(R72)=0,R58=\"Y\"),\"\",CONCATENATE(IF(LEN(R88)=0,\"\",SUBSTITUTE(Settings!$B$41,\"&BEAMColumnCodes\",R88)),CHAR(13)))","v":""},{"$f":"IF(OR(LEN(S72)=0,S58=\"Y\"),\"\",CONCATENATE(IF(LEN(S88)=0,\"\",SUBSTITUTE(Settings!$B$41,\"&BEAMColumnCodes\",S88)),CHAR(13)))","v":""},{"$f":"IF(OR(LEN(T72)=0,T58=\"Y\"),\"\",CONCATENATE(IF(LEN(T88)=0,\"\",SUBSTITUTE(Settings!$B$41,\"&BEAMColumnCodes\",T88)),CHAR(13)))","v":""},{"$f":"IF(OR(LEN(U72)=0,U58=\"Y\"),\"\",CONCATENATE(IF(LEN(U88)=0,\"\",SUBSTITUTE(Settings!$B$41,\"&BEAMColumnCodes\",U88)),CHAR(13)))","v":""},{"$f":"IF(OR(LEN(V72)=0,V58=\"Y\"),\"\",CONCATENATE(IF(LEN(V88)=0,\"\",SUBSTITUTE(Settings!$B$41,\"&BEAMColumnCodes\",V88)),CHAR(13)))","v":""},{"$f":"IF(OR(LEN(W72)=0,W58=\"Y\"),\"\",CONCATENATE(IF(LEN(W88)=0,\"\",SUBSTITUTE(Settings!$B$41,\"&BEAMColumnCodes\",W88)),CHAR(13)))","v":""},{"$f":"IF(OR(LEN(X72)=0,X58=\"Y\"),\"\",CONCATENATE(IF(LEN(X88)=0,\"\",SUBSTITUTE(Settings!$B$41,\"&BEAMColumnCodes\",X88)),CHAR(13)))","v":""},{"$f":"IF(OR(LEN(Y72)=0,Y58=\"Y\"),\"\",CONCATENATE(IF(LEN(Y88)=0,\"\",SUBSTITUTE(Settings!$B$41,\"&BEAMColumnCodes\",Y88)),CHAR(13)))","v":""},{"$f":"IF(OR(LEN(Z72)=0,Z58=\"Y\"),\"\",CONCATENATE(IF(LEN(Z88)=0,\"\",SUBSTITUTE(Settings!$B$41,\"&BEAMColumnCodes\",Z88)),CHAR(13)))","v":""},{"$f":"IF(OR(LEN(AA72)=0,AA58=\"Y\"),\"\",CONCATENATE(IF(LEN(AA88)=0,\"\",SUBSTITUTE(Settings!$B$41,\"&BEAMColumnCodes\",AA88)),CHAR(13)))","v":""},{"$f":"IF(OR(LEN(AB72)=0,AB58=\"Y\"),\"\",CONCATENATE(IF(LEN(AB88)=0,\"\",SUBSTITUTE(Settings!$B$41,\"&BEAMColumnCodes\",AB88)),CHAR(13)))","v":""},{"$f":"IF(OR(LEN(AC72)=0,AC58=\"Y\"),\"\",CONCATENATE(IF(LEN(AC88)=0,\"\",SUBSTITUTE(Settings!$B$41,\"&BEAMColumnCodes\",AC88)),CHAR(13)))","v":""},{"$f":"IF(OR(LEN(AD72)=0,AD58=\"Y\"),\"\",CONCATENATE(IF(LEN(AD88)=0,\"\",SUBSTITUTE(Settings!$B$41,\"&BEAMColumnCodes\",AD88)),CHAR(13)))","v":""},{"$f":"IF(OR(LEN(AE72)=0,AE58=\"Y\"),\"\",CONCATENATE(IF(LEN(AE88)=0,\"\",SUBSTITUTE(Settings!$B$41,\"&BEAMColumnCodes\",AE88)),CHAR(13)))","v":""},{"$f":"IF(OR(LEN(AF72)=0,AF58=\"Y\"),\"\",CONCATENATE(IF(LEN(AF88)=0,\"\",SUBSTITUTE(Settings!$B$41,\"&BEAMColumnCodes\",AF88)),CHAR(13)))","v":""},{"$f":"IF(OR(LEN(AG72)=0,AG58=\"Y\"),\"\",CONCATENATE(IF(LEN(AG88)=0,\"\",SUBSTITUTE(Settings!$B$41,\"&BEAMColumnCodes\",AG88)),CHAR(13)))","v":""},{"$f":"IF(OR(LEN(AH72)=0,AH58=\"Y\"),\"\",CONCATENATE(IF(LEN(AH88)=0,\"\",SUBSTITUTE(Settings!$B$41,\"&BEAMColumnCodes\",AH88)),CHAR(13)))","v":""},{"$f":"IF(OR(LEN(AI72)=0,AI58=\"Y\"),\"\",CONCATENATE(IF(LEN(AI88)=0,\"\",SUBSTITUTE(Settings!$B$41,\"&BEAMColumnCodes\",AI88)),CHAR(13)))","v":""},{"$f":"IF(OR(LEN(AJ72)=0,AJ58=\"Y\"),\"\",CONCATENATE(IF(LEN(AJ88)=0,\"\",SUBSTITUTE(Settings!$B$41,\"&BEAMColumnCodes\",AJ88)),CHAR(13)))","v":""},{"$f":"IF(OR(LEN(AK72)=0,AK58=\"Y\"),\"\",CONCATENATE(IF(LEN(AK88)=0,\"\",SUBSTITUTE(Settings!$B$41,\"&BEAMColumnCodes\",AK88)),CHAR(13)))","v":""},{"$f":"IF(OR(LEN(AL72)=0,AL58=\"Y\"),\"\",CONCATENATE(IF(LEN(AL88)=0,\"\",SUBSTITUTE(Settings!$B$41,\"&BEAMColumnCodes\",AL88)),CHAR(13)))","v":""},{"$f":"IF(OR(LEN(AM72)=0,AM58=\"Y\"),\"\",CONCATENATE(IF(LEN(AM88)=0,\"\",SUBSTITUTE(Settings!$B$41,\"&BEAMColumnCodes\",AM88)),CHAR(13)))","v":""},{"$f":"IF(OR(LEN(AN72)=0,AN58=\"Y\"),\"\",CONCATENATE(IF(LEN(AN88)=0,\"\",SUBSTITUTE(Settings!$B$41,\"&BEAMColumnCodes\",AN88)),CHAR(13)))","v":""},{"$f":"IF(OR(LEN(AO72)=0,AO58=\"Y\"),\"\",CONCATENATE(IF(LEN(AO88)=0,\"\",SUBSTITUTE(Settings!$B$41,\"&BEAMColumnCodes\",AO88)),CHAR(13)))","v":""},{"$f":"IF(OR(LEN(AP72)=0,AP58=\"Y\"),\"\",CONCATENATE(IF(LEN(AP88)=0,\"\",SUBSTITUTE(Settings!$B$41,\"&BEAMColumnCodes\",AP88)),CHAR(13)))","v":""},{"$f":"IF(OR(LEN(AQ72)=0,AQ58=\"Y\"),\"\",CONCATENATE(IF(LEN(AQ88)=0,\"\",SUBSTITUTE(Settings!$B$41,\"&BEAMColumnCodes\",AQ88)),CHAR(13)))","v":""},{"$f":"IF(OR(LEN(AR72)=0,AR58=\"Y\"),\"\",CONCATENATE(IF(LEN(AR88)=0,\"\",SUBSTITUTE(Settings!$B$41,\"&BEAMColumnCodes\",AR88)),CHAR(13)))","v":""},{"$f":"IF(OR(LEN(AS72)=0,AS58=\"Y\"),\"\",CONCATENATE(IF(LEN(AS88)=0,\"\",SUBSTITUTE(Settings!$B$41,\"&BEAMColumnCodes\",AS88)),CHAR(13)))","v":""},{"$f":"IF(OR(LEN(AT72)=0,AT58=\"Y\"),\"\",CONCATENATE(IF(LEN(AT88)=0,\"\",SUBSTITUTE(Settings!$B$41,\"&BEAMColumnCodes\",AT88)),CHAR(13)))","v":""},{"$f":"IF(OR(LEN(AU72)=0,AU58=\"Y\"),\"\",CONCATENATE(IF(LEN(AU88)=0,\"\",SUBSTITUTE(Settings!$B$41,\"&BEAMColumnCodes\",AU88)),CHAR(13)))","v":""},{"$f":"IF(OR(LEN(AV72)=0,AV58=\"Y\"),\"\",CONCATENATE(IF(LEN(AV88)=0,\"\",SUBSTITUTE(Settings!$B$41,\"&BEAMColumnCodes\",AV88)),CHAR(13)))","v":""},{"$f":"IF(OR(LEN(AW72)=0,AW58=\"Y\"),\"\",CONCATENATE(IF(LEN(AW88)=0,\"\",SUBSTITUTE(Settings!$B$41,\"&BEAMColumnCodes\",AW88)),CHAR(13)))","v":""},{"$f":"IF(OR(LEN(AX72)=0,AX58=\"Y\"),\"\",CONCATENATE(IF(LEN(AX88)=0,\"\",SUBSTITUTE(Settings!$B$41,\"&BEAMColumnCodes\",AX88)),CHAR(13)))","v":""},{"$f":"IF(OR(LEN(AY72)=0,AY58=\"Y\"),\"\",CONCATENATE(IF(LEN(AY88)=0,\"\",SUBSTITUTE(Settings!$B$41,\"&BEAMColumnCodes\",AY88)),CHAR(13)))","v":""},{"$f":"IF(OR(LEN(AZ72)=0,AZ58=\"Y\"),\"\",CONCATENATE(IF(LEN(AZ88)=0,\"\",SUBSTITUTE(Settings!$B$41,\"&BEAMColumnCodes\",AZ88)),CHAR(13)))","v":""},{"$f":"IF(OR(LEN(BA72)=0,BA58=\"Y\"),\"\",CONCATENATE(IF(LEN(BA88)=0,\"\",SUBSTITUTE(Settings!$B$41,\"&BEAMColumnCodes\",BA88)),CHAR(13)))","v":""},{"$f":"IF(OR(LEN(BB72)=0,BB58=\"Y\"),\"\",CONCATENATE(IF(LEN(BB88)=0,\"\",SUBSTITUTE(Settings!$B$41,\"&BEAMColumnCodes\",BB88)),CHAR(13)))","v":""},{"$f":"IF(OR(LEN(BC72)=0,BC58=\"Y\"),\"\",CONCATENATE(IF(LEN(BC88)=0,\"\",SUBSTITUTE(Settings!$B$41,\"&BEAMColumnCodes\",BC88)),CHAR(13)))","v":""},{"$f":"IF(OR(LEN(BD72)=0,BD58=\"Y\"),\"\",CONCATENATE(IF(LEN(BD88)=0,\"\",SUBSTITUTE(Settings!$B$41,\"&BEAMColumnCodes\",BD88)),CHAR(13)))","v":""},{"$f":"IF(OR(LEN(BE72)=0,BE58=\"Y\"),\"\",CONCATENATE(IF(LEN(BE88)=0,\"\",SUBSTITUTE(Settings!$B$41,\"&BEAMColumnCodes\",BE88)),CHAR(13)))","v":""},{"$f":"IF(OR(LEN(BF72)=0,BF58=\"Y\"),\"\",CONCATENATE(IF(LEN(BF88)=0,\"\",SUBSTITUTE(Settings!$B$41,\"&BEAMColumnCodes\",BF88)),CHAR(13)))","v":""},{"$f":"IF(OR(LEN(BG72)=0,BG58=\"Y\"),\"\",CONCATENATE(IF(LEN(BG88)=0,\"\",SUBSTITUTE(Settings!$B$41,\"&BEAMColumnCodes\",BG88)),CHAR(13)))","v":""},{"$f":"IF(OR(LEN(BH72)=0,BH58=\"Y\"),\"\",CONCATENATE(IF(LEN(BH88)=0,\"\",SUBSTITUTE(Settings!$B$41,\"&BEAMColumnCodes\",BH88)),CHAR(13)))","v":""},{"$f":"IF(OR(LEN(BI72)=0,BI58=\"Y\"),\"\",CONCATENATE(IF(LEN(BI88)=0,\"\",SUBSTITUTE(Settings!$B$41,\"&BEAMColumnCodes\",BI88)),CHAR(13)))","v":""},{"$f":"IF(OR(LEN(BJ72)=0,BJ58=\"Y\"),\"\",CONCATENATE(IF(LEN(BJ88)=0,\"\",SUBSTITUTE(Settings!$B$41,\"&BEAMColumnCodes\",BJ88)),CHAR(13)))","v":""},{"$f":"IF(OR(LEN(BK72)=0,BK58=\"Y\"),\"\",CONCATENATE(IF(LEN(BK88)=0,\"\",SUBSTITUTE(Settings!$B$41,\"&BEAMColumnCodes\",BK88)),CHAR(13)))","v":""},{"$f":"IF(OR(LEN(BL72)=0,BL58=\"Y\"),\"\",CONCATENATE(IF(LEN(BL88)=0,\"\",SUBSTITUTE(Settings!$B$41,\"&BEAMColumnCodes\",BL88)),CHAR(13)))","v":""},{"$f":"IF(OR(LEN(BM72)=0,BM58=\"Y\"),\"\",CONCATENATE(IF(LEN(BM88)=0,\"\",SUBSTITUTE(Settings!$B$41,\"&BEAMColumnCodes\",BM88)),CHAR(13)))","v":""},{"$f":"IF(OR(LEN(BN72)=0,BN58=\"Y\"),\"\",CONCATENATE(IF(LEN(BN88)=0,\"\",SUBSTITUTE(Settings!$B$41,\"&BEAMColumnCodes\",BN88)),CHAR(13)))","v":""},{"$f":"IF(OR(LEN(BO72)=0,BO58=\"Y\"),\"\",CONCATENATE(IF(LEN(BO88)=0,\"\",SUBSTITUTE(Settings!$B$41,\"&BEAMColumnCodes\",BO88)),CHAR(13)))","v":""},{"$f":"IF(OR(LEN(BP72)=0,BP58=\"Y\"),\"\",CONCATENATE(IF(LEN(BP88)=0,\"\",SUBSTITUTE(Settings!$B$41,\"&BEAMColumnCodes\",BP88)),CHAR(13)))","v":""},{"$f":"IF(OR(LEN(BQ72)=0,BQ58=\"Y\"),\"\",CONCATENATE(IF(LEN(BQ88)=0,\"\",SUBSTITUTE(Settings!$B$41,\"&BEAMColumnCodes\",BQ88)),CHAR(13)))","v":""},{"$f":"IF(OR(LEN(BR72)=0,BR58=\"Y\"),\"\",CONCATENATE(IF(LEN(BR88)=0,\"\",SUBSTITUTE(Settings!$B$41,\"&BEAMColumnCodes\",BR88)),CHAR(13)))","v":""},{"$f":"IF(OR(LEN(BS72)=0,BS58=\"Y\"),\"\",CONCATENATE(IF(LEN(BS88)=0,\"\",SUBSTITUTE(Settings!$B$41,\"&BEAMColumnCodes\",BS88)),CHAR(13)))","v":""},{"$f":"IF(OR(LEN(BT72)=0,BT58=\"Y\"),\"\",CONCATENATE(IF(LEN(BT88)=0,\"\",SUBSTITUTE(Settings!$B$41,\"&BEAMColumnCodes\",BT88)),CHAR(13)))","v":""},{"$f":"IF(OR(LEN(BU72)=0,BU58=\"Y\"),\"\",CONCATENATE(IF(LEN(BU88)=0,\"\",SUBSTITUTE(Settings!$B$41,\"&BEAMColumnCodes\",BU88)),CHAR(13)))","v":""},{"$f":"IF(OR(LEN(BV72)=0,BV58=\"Y\"),\"\",CONCATENATE(IF(LEN(BV88)=0,\"\",SUBSTITUTE(Settings!$B$41,\"&BEAMColumnCodes\",BV88)),CHAR(13)))","v":""},{"$f":"IF(OR(LEN(BW72)=0,BW58=\"Y\"),\"\",CONCATENATE(IF(LEN(BW88)=0,\"\",SUBSTITUTE(Settings!$B$41,\"&BEAMColumnCodes\",BW88)),CHAR(13)))","v":""},{"$f":"IF(OR(LEN(BX72)=0,BX58=\"Y\"),\"\",CONCATENATE(IF(LEN(BX88)=0,\"\",SUBSTITUTE(Settings!$B$41,\"&BEAMColumnCodes\",BX88)),CHAR(13)))","v":""},{"$f":"IF(OR(LEN(BY72)=0,BY58=\"Y\"),\"\",CONCATENATE(IF(LEN(BY88)=0,\"\",SUBSTITUTE(Settings!$B$41,\"&BEAMColumnCodes\",BY88)),CHAR(13)))","v":""},{"$f":"IF(OR(LEN(BZ72)=0,BZ58=\"Y\"),\"\",CONCATENATE(IF(LEN(BZ88)=0,\"\",SUBSTITUTE(Settings!$B$41,\"&BEAMColumnCodes\",BZ88)),CHAR(13)))","v":""},{"$f":"IF(OR(LEN(CA72)=0,CA58=\"Y\"),\"\",CONCATENATE(IF(LEN(CA88)=0,\"\",SUBSTITUTE(Settings!$B$41,\"&BEAMColumnCodes\",CA88)),CHAR(13)))","v":""},{"$f":"IF(OR(LEN(CB72)=0,CB58=\"Y\"),\"\",CONCATENATE(IF(LEN(CB88)=0,\"\",SUBSTITUTE(Settings!$B$41,\"&BEAMColumnCodes\",CB88)),CHAR(13)))","v":""},{"$f":"IF(OR(LEN(CC72)=0,CC58=\"Y\"),\"\",CONCATENATE(IF(LEN(CC88)=0,\"\",SUBSTITUTE(Settings!$B$41,\"&BEAMColumnCodes\",CC88)),CHAR(13)))","v":""},{"$f":"IF(OR(LEN(CD72)=0,CD58=\"Y\"),\"\",CONCATENATE(IF(LEN(CD88)=0,\"\",SUBSTITUTE(Settings!$B$41,\"&BEAMColumnCodes\",CD88)),CHAR(13)))","v":""},{"$f":"IF(OR(LEN(CE72)=0,CE58=\"Y\"),\"\",CONCATENATE(IF(LEN(CE88)=0,\"\",SUBSTITUTE(Settings!$B$41,\"&BEAMColumnCodes\",CE88)),CHAR(13)))","v":""},{"$f":"IF(OR(LEN(CF72)=0,CF58=\"Y\"),\"\",CONCATENATE(IF(LEN(CF88)=0,\"\",SUBSTITUTE(Settings!$B$41,\"&BEAMColumnCodes\",CF88)),CHAR(13)))","v":""},{"$f":"IF(OR(LEN(CG72)=0,CG58=\"Y\"),\"\",CONCATENATE(IF(LEN(CG88)=0,\"\",SUBSTITUTE(Settings!$B$41,\"&BEAMColumnCodes\",CG88)),CHAR(13)))","v":""},{"$f":"IF(OR(LEN(CH72)=0,CH58=\"Y\"),\"\",CONCATENATE(IF(LEN(CH88)=0,\"\",SUBSTITUTE(Settings!$B$41,\"&BEAMColumnCodes\",CH88)),CHAR(13)))","v":""},{"$f":"IF(OR(LEN(CI72)=0,CI58=\"Y\"),\"\",CONCATENATE(IF(LEN(CI88)=0,\"\",SUBSTITUTE(Settings!$B$41,\"&BEAMColumnCodes\",CI88)),CHAR(13)))","v":""},{"$f":"IF(OR(LEN(CJ72)=0,CJ58=\"Y\"),\"\",CONCATENATE(IF(LEN(CJ88)=0,\"\",SUBSTITUTE(Settings!$B$41,\"&BEAMColumnCodes\",CJ88)),CHAR(13)))","v":""},{"$f":"IF(OR(LEN(CK72)=0,CK58=\"Y\"),\"\",CONCATENATE(IF(LEN(CK88)=0,\"\",SUBSTITUTE(Settings!$B$41,\"&BEAMColumnCodes\",CK88)),CHAR(13)))","v":""},{"$f":"IF(OR(LEN(CL72)=0,CL58=\"Y\"),\"\",CONCATENATE(IF(LEN(CL88)=0,\"\",SUBSTITUTE(Settings!$B$41,\"&BEAMColumnCodes\",CL88)),CHAR(13)))","v":""},{"$f":"IF(OR(LEN(CM72)=0,CM58=\"Y\"),\"\",CONCATENATE(IF(LEN(CM88)=0,\"\",SUBSTITUTE(Settings!$B$41,\"&BEAMColumnCodes\",CM88)),CHAR(13)))","v":""},{"$f":"IF(OR(LEN(CN72)=0,CN58=\"Y\"),\"\",CONCATENATE(IF(LEN(CN88)=0,\"\",SUBSTITUTE(Settings!$B$41,\"&BEAMColumnCodes\",CN88)),CHAR(13)))","v":""},{"$f":"IF(OR(LEN(CO72)=0,CO58=\"Y\"),\"\",CONCATENATE(IF(LEN(CO88)=0,\"\",SUBSTITUTE(Settings!$B$41,\"&BEAMColumnCodes\",CO88)),CHAR(13)))","v":""},{"$f":"IF(OR(LEN(CP72)=0,CP58=\"Y\"),\"\",CONCATENATE(IF(LEN(CP88)=0,\"\",SUBSTITUTE(Settings!$B$41,\"&BEAMColumnCodes\",CP88)),CHAR(13)))","v":""},{"$f":"IF(OR(LEN(CQ72)=0,CQ58=\"Y\"),\"\",CONCATENATE(IF(LEN(CQ88)=0,\"\",SUBSTITUTE(Settings!$B$41,\"&BEAMColumnCodes\",CQ88)),CHAR(13)))","v":""},{"$f":"IF(OR(LEN(CR72)=0,CR58=\"Y\"),\"\",CONCATENATE(IF(LEN(CR88)=0,\"\",SUBSTITUTE(Settings!$B$41,\"&BEAMColumnCodes\",CR88)),CHAR(13)))","v":""},{"$f":"IF(OR(LEN(CS72)=0,CS58=\"Y\"),\"\",CONCATENATE(IF(LEN(CS88)=0,\"\",SUBSTITUTE(Settings!$B$41,\"&BEAMColumnCodes\",CS88)),CHAR(13)))","v":""},{"$f":"IF(OR(LEN(CT72)=0,CT58=\"Y\"),\"\",CONCATENATE(IF(LEN(CT88)=0,\"\",SUBSTITUTE(Settings!$B$41,\"&BEAMColumnCodes\",CT88)),CHAR(13)))","v":""},{"$f":"IF(OR(LEN(CU72)=0,CU58=\"Y\"),\"\",CONCATENATE(IF(LEN(CU88)=0,\"\",SUBSTITUTE(Settings!$B$41,\"&BEAMColumnCodes\",CU88)),CHAR(13)))","v":""},{"$f":"IF(OR(LEN(CV72)=0,CV58=\"Y\"),\"\",CONCATENATE(IF(LEN(CV88)=0,\"\",SUBSTITUTE(Settings!$B$41,\"&BEAMColumnCodes\",CV88)),CHAR(13)))","v":""},{"$f":"IF(OR(LEN(CW72)=0,CW58=\"Y\"),\"\",CONCATENATE(IF(LEN(CW88)=0,\"\",SUBSTITUTE(Settings!$B$41,\"&BEAMColumnCodes\",CW88)),CHAR(13)))","v":""},{"$f":"IF(OR(LEN(CX72)=0,CX58=\"Y\"),\"\",CONCATENATE(IF(LEN(CX88)=0,\"\",SUBSTITUTE(Settings!$B$41,\"&BEAMColumnCodes\",CX88)),CHAR(13)))","v":""},{"$f":"IF(OR(LEN(CY72)=0,CY58=\"Y\"),\"\",CONCATENATE(IF(LEN(CY88)=0,\"\",SUBSTITUTE(Settings!$B$41,\"&BEAMColumnCodes\",CY88)),CHAR(13)))","v":""},{"$f":"IF(OR(LEN(CZ72)=0,CZ58=\"Y\"),\"\",CONCATENATE(IF(LEN(CZ88)=0,\"\",SUBSTITUTE(Settings!$B$41,\"&BEAMColumnCodes\",CZ88)),CHAR(13)))","v":""},{"$f":"IF(OR(LEN(DA72)=0,DA58=\"Y\"),\"\",CONCATENATE(IF(LEN(DA88)=0,\"\",SUBSTITUTE(Settings!$B$41,\"&BEAMColumnCodes\",DA88)),CHAR(13)))","v":""},{"$f":"IF(OR(LEN(DB72)=0,DB58=\"Y\"),\"\",CONCATENATE(IF(LEN(DB88)=0,\"\",SUBSTITUTE(Settings!$B$41,\"&BEAMColumnCodes\",DB88)),CHAR(13)))","v":""},{"$f":"IF(OR(LEN(DC72)=0,DC58=\"Y\"),\"\",CONCATENATE(IF(LEN(DC88)=0,\"\",SUBSTITUTE(Settings!$B$41,\"&BEAMColumnCodes\",DC88)),CHAR(13)))","v":""},{"$f":"IF(OR(LEN(DD72)=0,DD58=\"Y\"),\"\",CONCATENATE(IF(LEN(DD88)=0,\"\",SUBSTITUTE(Settings!$B$41,\"&BEAMColumnCodes\",DD88)),CHAR(13)))","v":""},{"$f":"IF(OR(LEN(DE72)=0,DE58=\"Y\"),\"\",CONCATENATE(IF(LEN(DE88)=0,\"\",SUBSTITUTE(Settings!$B$41,\"&BEAMColumnCodes\",DE88)),CHAR(13)))","v":""},{"$f":"IF(OR(LEN(DF72)=0,DF58=\"Y\"),\"\",CONCATENATE(IF(LEN(DF88)=0,\"\",SUBSTITUTE(Settings!$B$41,\"&BEAMColumnCodes\",DF88)),CHAR(13)))","v":""},{"$f":"IF(OR(LEN(DG72)=0,DG58=\"Y\"),\"\",CONCATENATE(IF(LEN(DG88)=0,\"\",SUBSTITUTE(Settings!$B$41,\"&BEAMColumnCodes\",DG88)),CHAR(13)))","v":""},{"$f":"IF(OR(LEN(DH72)=0,DH58=\"Y\"),\"\",CONCATENATE(IF(LEN(DH88)=0,\"\",SUBSTITUTE(Settings!$B$41,\"&BEAMColumnCodes\",DH88)),CHAR(13)))","v":""},{"$f":"IF(OR(LEN(DI72)=0,DI58=\"Y\"),\"\",CONCATENATE(IF(LEN(DI88)=0,\"\",SUBSTITUTE(Settings!$B$41,\"&BEAMColumnCodes\",DI88)),CHAR(13)))","v":""},{"$f":"IF(OR(LEN(DJ72)=0,DJ58=\"Y\"),\"\",CONCATENATE(IF(LEN(DJ88)=0,\"\",SUBSTITUTE(Settings!$B$41,\"&BEAMColumnCodes\",DJ88)),CHAR(13)))","v":""},{"$f":"IF(OR(LEN(DK72)=0,DK58=\"Y\"),\"\",CONCATENATE(IF(LEN(DK88)=0,\"\",SUBSTITUTE(Settings!$B$41,\"&BEAMColumnCodes\",DK88)),CHAR(13)))","v":""},{"$f":"IF(OR(LEN(DL72)=0,DL58=\"Y\"),\"\",CONCATENATE(IF(LEN(DL88)=0,\"\",SUBSTITUTE(Settings!$B$41,\"&BEAMColumnCodes\",DL88)),CHAR(13)))","v":""},{"$f":"IF(OR(LEN(DM72)=0,DM58=\"Y\"),\"\",CONCATENATE(IF(LEN(DM88)=0,\"\",SUBSTITUTE(Settings!$B$41,\"&BEAMColumnCodes\",DM88)),CHAR(13)))","v":""},{"$f":"IF(OR(LEN(DN72)=0,DN58=\"Y\"),\"\",CONCATENATE(IF(LEN(DN88)=0,\"\",SUBSTITUTE(Settings!$B$41,\"&BEAMColumnCodes\",DN88)),CHAR(13)))","v":""},{"$f":"IF(OR(LEN(DO72)=0,DO58=\"Y\"),\"\",CONCATENATE(IF(LEN(DO88)=0,\"\",SUBSTITUTE(Settings!$B$41,\"&BEAMColumnCodes\",DO88)),CHAR(13)))","v":""},{"$f":"IF(OR(LEN(DP72)=0,DP58=\"Y\"),\"\",CONCATENATE(IF(LEN(DP88)=0,\"\",SUBSTITUTE(Settings!$B$41,\"&BEAMColumnCodes\",DP88)),CHAR(13)))","v":""},{"$f":"IF(OR(LEN(DQ72)=0,DQ58=\"Y\"),\"\",CONCATENATE(IF(LEN(DQ88)=0,\"\",SUBSTITUTE(Settings!$B$41,\"&BEAMColumnCodes\",DQ88)),CHAR(13)))","v":""},{"$f":"IF(OR(LEN(DR72)=0,DR58=\"Y\"),\"\",CONCATENATE(IF(LEN(DR88)=0,\"\",SUBSTITUTE(Settings!$B$41,\"&BEAMColumnCodes\",DR88)),CHAR(13)))","v":""},{"$f":"IF(OR(LEN(DS72)=0,DS58=\"Y\"),\"\",CONCATENATE(IF(LEN(DS88)=0,\"\",SUBSTITUTE(Settings!$B$41,\"&BEAMColumnCodes\",DS88)),CHAR(13)))","v":""},{"$f":"IF(OR(LEN(DT72)=0,DT58=\"Y\"),\"\",CONCATENATE(IF(LEN(DT88)=0,\"\",SUBSTITUTE(Settings!$B$41,\"&BEAMColumnCodes\",DT88)),CHAR(13)))","v":""},{"$f":"IF(OR(LEN(DU72)=0,DU58=\"Y\"),\"\",CONCATENATE(IF(LEN(DU88)=0,\"\",SUBSTITUTE(Settings!$B$41,\"&BEAMColumnCodes\",DU88)),CHAR(13)))","v":""},{"$f":"IF(OR(LEN(DV72)=0,DV58=\"Y\"),\"\",CONCATENATE(IF(LEN(DV88)=0,\"\",SUBSTITUTE(Settings!$B$41,\"&BEAMColumnCodes\",DV88)),CHAR(13)))","v":""},{"$f":"IF(OR(LEN(DW72)=0,DW58=\"Y\"),\"\",CONCATENATE(IF(LEN(DW88)=0,\"\",SUBSTITUTE(Settings!$B$41,\"&BEAMColumnCodes\",DW88)),CHAR(13)))","v":""},{"$f":"IF(OR(LEN(DX72)=0,DX58=\"Y\"),\"\",CONCATENATE(IF(LEN(DX88)=0,\"\",SUBSTITUTE(Settings!$B$41,\"&BEAMColumnCodes\",DX88)),CHAR(13)))","v":""},{"$f":"IF(OR(LEN(DY72)=0,DY58=\"Y\"),\"\",CONCATENATE(IF(LEN(DY88)=0,\"\",SUBSTITUTE(Settings!$B$41,\"&BEAMColumnCodes\",DY88)),CHAR(13)))","v":""},{"$f":"IF(OR(LEN(DZ72)=0,DZ58=\"Y\"),\"\",CONCATENATE(IF(LEN(DZ88)=0,\"\",SUBSTITUTE(Settings!$B$41,\"&BEAMColumnCodes\",DZ88)),CHAR(13)))","v":""},{"$f":"IF(OR(LEN(EA72)=0,EA58=\"Y\"),\"\",CONCATENATE(IF(LEN(EA88)=0,\"\",SUBSTITUTE(Settings!$B$41,\"&BEAMColumnCodes\",EA88)),CHAR(13)))","v":""},{"$f":"IF(OR(LEN(EB72)=0,EB58=\"Y\"),\"\",CONCATENATE(IF(LEN(EB88)=0,\"\",SUBSTITUTE(Settings!$B$41,\"&BEAMColumnCodes\",EB88)),CHAR(13)))","v":""},{"$f":"IF(OR(LEN(EC72)=0,EC58=\"Y\"),\"\",CONCATENATE(IF(LEN(EC88)=0,\"\",SUBSTITUTE(Settings!$B$41,\"&BEAMColumnCodes\",EC88)),CHAR(13)))","v":""},{"$f":"IF(OR(LEN(ED72)=0,ED58=\"Y\"),\"\",CONCATENATE(IF(LEN(ED88)=0,\"\",SUBSTITUTE(Settings!$B$41,\"&BEAMColumnCodes\",ED88)),CHAR(13)))","v":""},{"$f":"IF(OR(LEN(EE72)=0,EE58=\"Y\"),\"\",CONCATENATE(IF(LEN(EE88)=0,\"\",SUBSTITUTE(Settings!$B$41,\"&BEAMColumnCodes\",EE88)),CHAR(13)))","v":""},{"$f":"IF(OR(LEN(EF72)=0,EF58=\"Y\"),\"\",CONCATENATE(IF(LEN(EF88)=0,\"\",SUBSTITUTE(Settings!$B$41,\"&BEAMColumnCodes\",EF88)),CHAR(13)))","v":""},{"$f":"IF(OR(LEN(EG72)=0,EG58=\"Y\"),\"\",CONCATENATE(IF(LEN(EG88)=0,\"\",SUBSTITUTE(Settings!$B$41,\"&BEAMColumnCodes\",EG88)),CHAR(13)))","v":""},{"$f":"IF(OR(LEN(EH72)=0,EH58=\"Y\"),\"\",CONCATENATE(IF(LEN(EH88)=0,\"\",SUBSTITUTE(Settings!$B$41,\"&BEAMColumnCodes\",EH88)),CHAR(13)))","v":""},{"$f":"IF(OR(LEN(EI72)=0,EI58=\"Y\"),\"\",CONCATENATE(IF(LEN(EI88)=0,\"\",SUBSTITUTE(Settings!$B$41,\"&BEAMColumnCodes\",EI88)),CHAR(13)))","v":""},{"$f":"IF(OR(LEN(EJ72)=0,EJ58=\"Y\"),\"\",CONCATENATE(IF(LEN(EJ88)=0,\"\",SUBSTITUTE(Settings!$B$41,\"&BEAMColumnCodes\",EJ88)),CHAR(13)))","v":""},{"$f":"IF(OR(LEN(EK72)=0,EK58=\"Y\"),\"\",CONCATENATE(IF(LEN(EK88)=0,\"\",SUBSTITUTE(Settings!$B$41,\"&BEAMColumnCodes\",EK88)),CHAR(13)))","v":""},{"$f":"IF(OR(LEN(EL72)=0,EL58=\"Y\"),\"\",CONCATENATE(IF(LEN(EL88)=0,\"\",SUBSTITUTE(Settings!$B$41,\"&BEAMColumnCodes\",EL88)),CHAR(13)))","v":""},{"$f":"IF(OR(LEN(EM72)=0,EM58=\"Y\"),\"\",CONCATENATE(IF(LEN(EM88)=0,\"\",SUBSTITUTE(Settings!$B$41,\"&BEAMColumnCodes\",EM88)),CHAR(13)))","v":""},{"$f":"IF(OR(LEN(EN72)=0,EN58=\"Y\"),\"\",CONCATENATE(IF(LEN(EN88)=0,\"\",SUBSTITUTE(Settings!$B$41,\"&BEAMColumnCodes\",EN88)),CHAR(13)))","v":""},{"$f":"IF(OR(LEN(EO72)=0,EO58=\"Y\"),\"\",CONCATENATE(IF(LEN(EO88)=0,\"\",SUBSTITUTE(Settings!$B$41,\"&BEAMColumnCodes\",EO88)),CHAR(13)))","v":""},{"$f":"IF(OR(LEN(EP72)=0,EP58=\"Y\"),\"\",CONCATENATE(IF(LEN(EP88)=0,\"\",SUBSTITUTE(Settings!$B$41,\"&BEAMColumnCodes\",EP88)),CHAR(13)))","v":""},{"$f":"IF(OR(LEN(EQ72)=0,EQ58=\"Y\"),\"\",CONCATENATE(IF(LEN(EQ88)=0,\"\",SUBSTITUTE(Settings!$B$41,\"&BEAMColumnCodes\",EQ88)),CHAR(13)))","v":""},{"$f":"IF(OR(LEN(ER72)=0,ER58=\"Y\"),\"\",CONCATENATE(IF(LEN(ER88)=0,\"\",SUBSTITUTE(Settings!$B$41,\"&BEAMColumnCodes\",ER88)),CHAR(13)))","v":""},{"$f":"IF(OR(LEN(ES72)=0,ES58=\"Y\"),\"\",CONCATENATE(IF(LEN(ES88)=0,\"\",SUBSTITUTE(Settings!$B$41,\"&BEAMColumnCodes\",ES88)),CHAR(13)))","v":""},{"$f":"IF(OR(LEN(ET72)=0,ET58=\"Y\"),\"\",CONCATENATE(IF(LEN(ET88)=0,\"\",SUBSTITUTE(Settings!$B$41,\"&BEAMColumnCodes\",ET88)),CHAR(13)))","v":""},{"$f":"IF(OR(LEN(EU72)=0,EU58=\"Y\"),\"\",CONCATENATE(IF(LEN(EU88)=0,\"\",SUBSTITUTE(Settings!$B$41,\"&BEAMColumnCodes\",EU88)),CHAR(13)))","v":""},{"$f":"IF(OR(LEN(EV72)=0,EV58=\"Y\"),\"\",CONCATENATE(IF(LEN(EV88)=0,\"\",SUBSTITUTE(Settings!$B$41,\"&BEAMColumnCodes\",EV88)),CHAR(13)))","v":""},{"$f":"IF(OR(LEN(EW72)=0,EW58=\"Y\"),\"\",CONCATENATE(IF(LEN(EW88)=0,\"\",SUBSTITUTE(Settings!$B$41,\"&BEAMColumnCodes\",EW88)),CHAR(13)))","v":""},{"$f":"IF(OR(LEN(EX72)=0,EX58=\"Y\"),\"\",CONCATENATE(IF(LEN(EX88)=0,\"\",SUBSTITUTE(Settings!$B$41,\"&BEAMColumnCodes\",EX88)),CHAR(13)))","v":""},{"$f":"IF(OR(LEN(EY72)=0,EY58=\"Y\"),\"\",CONCATENATE(IF(LEN(EY88)=0,\"\",SUBSTITUTE(Settings!$B$41,\"&BEAMColumnCodes\",EY88)),CHAR(13)))","v":""}]
[null,null,"Key Code",null,null,{"$f":"IF(F63=\"Y\",F89,\"\")","v":""},{"$f":"IF(G63=\"Y\",G89,\"\")","v":""},"","","","","","","","","","","","","","","","","","","","","","","","","","","","","","","","","","","","","","","","","","","","","","","","","","","","","","","","","","","","","","","",{"$f":"IF(BS63=\"Y\",BS89,\"\")","v":""},"","","","","","","","","","","","","","","","","","","","","","","","","","","","","","","","","","","","","","","","","","","","","","","","","","","","","","","","","","","","","","","",{"$f":"IF(EE63=\"Y\",EE89,\"\")","v":""},"","","","","","","","","","","","","","","","","","","",""]
[null,null,"Key Code List",null,null,{"$f":"F90","v":""},{"$f":"CONCATENATE(INDIRECT(ADDRESS(ROW(),COLUMN()-1)),IF(ISERROR(FIND(\"...\",G78)),G90,\"\"))","v":""},{"$f":"CONCATENATE(INDIRECT(ADDRESS(ROW(),COLUMN()-1)),IF(ISERROR(FIND(\"...\",H78)),H90,\"\"))","v":""},"","","","","","","","","","","","","","","","","","","","","","","","","","","","","","","","","","","","","","","","","","","","","","","","","","","","","","","","","","","","","","","",{"$f":"CONCATENATE(INDIRECT(ADDRESS(ROW(),COLUMN()-1)),IF(ISERROR(FIND(\"...\",BT78)),BT90,\"\"))","v":""},"","","","","","","","","","","","","","","","","","","","","","","","","","","","","","","","","","","","","","","","","","","","","","","","","","","","","","","","","","","","","","","",{"$f":"CONCATENATE(INDIRECT(ADDRESS(ROW(),COLUMN()-1)),IF(ISERROR(FIND(\"...\",EF78)),EF90,\"\"))","v":""},"","","","","","","","","","","","","","","","","","",""]
[null,null,"Non-key Code",null,null,{"$f":"IF(F63=\"Y\",\"\",F89)","v":""},{"$f":"IF(G63=\"Y\",\"\",G89)","v":""},"","","","","","","","","","","","","","","","","","","","","","","","","","","","","","","","","","","","","","","","","","","","","","","","","","","","","","","","","","","","","","","",{"$f":"IF(BS63=\"Y\",\"\",BS89)","v":""},"","","","","","","","","","","","","","","","","","","","","","","","","","","","","","","","","","","","","","","","","","","","","","","","","","","","","","","","","","","","","","","",{"$f":"IF(EE63=\"Y\",\"\",EE89)","v":""},"","","","","","","","","","","","","","","","","","","",""]
[null,null,"Key Code List + Non-key Code List",null,null,{"$f":"IF(LEN($H$117)=0, $F$92, $H$117 & CHAR(13) & $F$92)","v":""},{"$f":"CONCATENATE(INDIRECT(ADDRESS(ROW(),COLUMN()-1)),IF(ISERROR(FIND(\"...\",G82)),G92,\"\"))","v":""},{"$f":"CONCATENATE(INDIRECT(ADDRESS(ROW(),COLUMN()-1)),IF(ISERROR(FIND(\"...\",H82)),H92,\"\"))","v":""},"","","","","","","","","","","","","","","","","","","","","","","","","","","","","","","","","","","","","","","","","","","","","","","","","","","","","","","","","","","","","","","",{"$f":"CONCATENATE(INDIRECT(ADDRESS(ROW(),COLUMN()-1)),IF(ISERROR(FIND(\"...\",BT82)),BT92,\"\"))","v":""},"","","","","","","","","","","","","","","","","","","","","","","","","","","","","","","","","","","","","","","","","","","","","","","","","","","","","","","","","","","","","","","",{"$f":"CONCATENATE(INDIRECT(ADDRESS(ROW(),COLUMN()-1)),IF(ISERROR(FIND(\"...\",EF82)),EF92,\"\"))","v":""},"","","","","","","","","","","","","","","","","","",""]
[]
[null,null," SQL Data Type",null,null,{"$f":"IF(LEN(F72)=0,\"\", \" \" & IF(F59=\"Y\", Settings!$B$19, IF(IFERROR(SEARCH(\"N\",F67,1),0)=1,Settings!$B$20,IF(IFERROR(SEARCH(\"C\",F67,1),0)=1,Settings!$B$23,IF(IFERROR(SEARCH(\"DT\",F67,1),0)=1,Settings!$B$26,IF(IFERROR(SEARCH(\"D\",F67,1),0)=1,Settings!$B$25,IF(IFERROR(SEARCH(\"I\",F67,1),0)=1,Settings!$B$22, IF(F64=\"Y\", Settings!$B$18, Settings!$B$17))))))))","v":""},{"$f":"IF(LEN(G72)=0,\"\", \" \" & IF(G59=\"Y\", Settings!$B$19, IF(IFERROR(SEARCH(\"N\",G67,1),0)=1,Settings!$B$20,IF(IFERROR(SEARCH(\"C\",G67,1),0)=1,Settings!$B$23,IF(IFERROR(SEARCH(\"DT\",G67,1),0)=1,Settings!$B$26,IF(IFERROR(SEARCH(\"D\",G67,1),0)=1,Settings!$B$25,IF(IFERROR(SEARCH(\"I\",G67,1),0)=1,Settings!$B$22, IF(G64=\"Y\", Settings!$B$18, Settings!$B$17))))))))","v":""},{"$f":"IF(LEN(H72)=0,\"\", \" \" & IF(H59=\"Y\", Settings!$B$19, IF(IFERROR(SEARCH(\"N\",H67,1),0)=1,Settings!$B$20,IF(IFERROR(SEARCH(\"C\",H67,1),0)=1,Settings!$B$23,IF(IFERROR(SEARCH(\"DT\",H67,1),0)=1,Settings!$B$26,IF(IFERROR(SEARCH(\"D\",H67,1),0)=1,Settings!$B$25,IF(IFERROR(SEARCH(\"I\",H67,1),0)=1,Settings!$B$22, IF(H64=\"Y\", Settings!$B$18, Settings!$B$17))))))))","v":""},{"$f":"IF(LEN(I72)=0,\"\", \" \" & IF(I59=\"Y\", Settings!$B$19, IF(IFERROR(SEARCH(\"N\",I67,1),0)=1,Settings!$B$20,IF(IFERROR(SEARCH(\"C\",I67,1),0)=1,Settings!$B$23,IF(IFERROR(SEARCH(\"DT\",I67,1),0)=1,Settings!$B$26,IF(IFERROR(SEARCH(\"D\",I67,1),0)=1,Settings!$B$25,IF(IFERROR(SEARCH(\"I\",I67,1),0)=1,Settings!$B$22, IF(I64=\"Y\", Settings!$B$18, Settings!$B$17))))))))","v":""},{"$f":"IF(LEN(J72)=0,\"\", \" \" & IF(J59=\"Y\", Settings!$B$19, IF(IFERROR(SEARCH(\"N\",J67,1),0)=1,Settings!$B$20,IF(IFERROR(SEARCH(\"C\",J67,1),0)=1,Settings!$B$23,IF(IFERROR(SEARCH(\"DT\",J67,1),0)=1,Settings!$B$26,IF(IFERROR(SEARCH(\"D\",J67,1),0)=1,Settings!$B$25,IF(IFERROR(SEARCH(\"I\",J67,1),0)=1,Settings!$B$22, IF(J64=\"Y\", Settings!$B$18, Settings!$B$17))))))))","v":""},{"$f":"IF(LEN(K72)=0,\"\", \" \" & IF(K59=\"Y\", Settings!$B$19, IF(IFERROR(SEARCH(\"N\",K67,1),0)=1,Settings!$B$20,IF(IFERROR(SEARCH(\"C\",K67,1),0)=1,Settings!$B$23,IF(IFERROR(SEARCH(\"DT\",K67,1),0)=1,Settings!$B$26,IF(IFERROR(SEARCH(\"D\",K67,1),0)=1,Settings!$B$25,IF(IFERROR(SEARCH(\"I\",K67,1),0)=1,Settings!$B$22, IF(K64=\"Y\", Settings!$B$18, Settings!$B$17))))))))","v":""},{"$f":"IF(LEN(L72)=0,\"\", \" \" & IF(L59=\"Y\", Settings!$B$19, IF(IFERROR(SEARCH(\"N\",L67,1),0)=1,Settings!$B$20,IF(IFERROR(SEARCH(\"C\",L67,1),0)=1,Settings!$B$23,IF(IFERROR(SEARCH(\"DT\",L67,1),0)=1,Settings!$B$26,IF(IFERROR(SEARCH(\"D\",L67,1),0)=1,Settings!$B$25,IF(IFERROR(SEARCH(\"I\",L67,1),0)=1,Settings!$B$22, IF(L64=\"Y\", Settings!$B$18, Settings!$B$17))))))))","v":""},{"$f":"IF(LEN(M72)=0,\"\", \" \" & IF(M59=\"Y\", Settings!$B$19, IF(IFERROR(SEARCH(\"N\",M67,1),0)=1,Settings!$B$20,IF(IFERROR(SEARCH(\"C\",M67,1),0)=1,Settings!$B$23,IF(IFERROR(SEARCH(\"DT\",M67,1),0)=1,Settings!$B$26,IF(IFERROR(SEARCH(\"D\",M67,1),0)=1,Settings!$B$25,IF(IFERROR(SEARCH(\"I\",M67,1),0)=1,Settings!$B$22, IF(M64=\"Y\", Settings!$B$18, Settings!$B$17))))))))","v":""},{"$f":"IF(LEN(N72)=0,\"\", \" \" & IF(N59=\"Y\", Settings!$B$19, IF(IFERROR(SEARCH(\"N\",N67,1),0)=1,Settings!$B$20,IF(IFERROR(SEARCH(\"C\",N67,1),0)=1,Settings!$B$23,IF(IFERROR(SEARCH(\"DT\",N67,1),0)=1,Settings!$B$26,IF(IFERROR(SEARCH(\"D\",N67,1),0)=1,Settings!$B$25,IF(IFERROR(SEARCH(\"I\",N67,1),0)=1,Settings!$B$22, IF(N64=\"Y\", Settings!$B$18, Settings!$B$17))))))))","v":""},{"$f":"IF(LEN(O72)=0,\"\", \" \" & IF(O59=\"Y\", Settings!$B$19, IF(IFERROR(SEARCH(\"N\",O67,1),0)=1,Settings!$B$20,IF(IFERROR(SEARCH(\"C\",O67,1),0)=1,Settings!$B$23,IF(IFERROR(SEARCH(\"DT\",O67,1),0)=1,Settings!$B$26,IF(IFERROR(SEARCH(\"D\",O67,1),0)=1,Settings!$B$25,IF(IFERROR(SEARCH(\"I\",O67,1),0)=1,Settings!$B$22, IF(O64=\"Y\", Settings!$B$18, Settings!$B$17))))))))","v":""},{"$f":"IF(LEN(P72)=0,\"\", \" \" & IF(P59=\"Y\", Settings!$B$19, IF(IFERROR(SEARCH(\"N\",P67,1),0)=1,Settings!$B$20,IF(IFERROR(SEARCH(\"C\",P67,1),0)=1,Settings!$B$23,IF(IFERROR(SEARCH(\"DT\",P67,1),0)=1,Settings!$B$26,IF(IFERROR(SEARCH(\"D\",P67,1),0)=1,Settings!$B$25,IF(IFERROR(SEARCH(\"I\",P67,1),0)=1,Settings!$B$22, IF(P64=\"Y\", Settings!$B$18, Settings!$B$17))))))))","v":""},{"$f":"IF(LEN(Q72)=0,\"\", \" \" & IF(Q59=\"Y\", Settings!$B$19, IF(IFERROR(SEARCH(\"N\",Q67,1),0)=1,Settings!$B$20,IF(IFERROR(SEARCH(\"C\",Q67,1),0)=1,Settings!$B$23,IF(IFERROR(SEARCH(\"DT\",Q67,1),0)=1,Settings!$B$26,IF(IFERROR(SEARCH(\"D\",Q67,1),0)=1,Settings!$B$25,IF(IFERROR(SEARCH(\"I\",Q67,1),0)=1,Settings!$B$22, IF(Q64=\"Y\", Settings!$B$18, Settings!$B$17))))))))","v":""},{"$f":"IF(LEN(R72)=0,\"\", \" \" & IF(R59=\"Y\", Settings!$B$19, IF(IFERROR(SEARCH(\"N\",R67,1),0)=1,Settings!$B$20,IF(IFERROR(SEARCH(\"C\",R67,1),0)=1,Settings!$B$23,IF(IFERROR(SEARCH(\"DT\",R67,1),0)=1,Settings!$B$26,IF(IFERROR(SEARCH(\"D\",R67,1),0)=1,Settings!$B$25,IF(IFERROR(SEARCH(\"I\",R67,1),0)=1,Settings!$B$22, IF(R64=\"Y\", Settings!$B$18, Settings!$B$17))))))))","v":""},{"$f":"IF(LEN(S72)=0,\"\", \" \" & IF(S59=\"Y\", Settings!$B$19, IF(IFERROR(SEARCH(\"N\",S67,1),0)=1,Settings!$B$20,IF(IFERROR(SEARCH(\"C\",S67,1),0)=1,Settings!$B$23,IF(IFERROR(SEARCH(\"DT\",S67,1),0)=1,Settings!$B$26,IF(IFERROR(SEARCH(\"D\",S67,1),0)=1,Settings!$B$25,IF(IFERROR(SEARCH(\"I\",S67,1),0)=1,Settings!$B$22, IF(S64=\"Y\", Settings!$B$18, Settings!$B$17))))))))","v":""},{"$f":"IF(LEN(T72)=0,\"\", \" \" & IF(T59=\"Y\", Settings!$B$19, IF(IFERROR(SEARCH(\"N\",T67,1),0)=1,Settings!$B$20,IF(IFERROR(SEARCH(\"C\",T67,1),0)=1,Settings!$B$23,IF(IFERROR(SEARCH(\"DT\",T67,1),0)=1,Settings!$B$26,IF(IFERROR(SEARCH(\"D\",T67,1),0)=1,Settings!$B$25,IF(IFERROR(SEARCH(\"I\",T67,1),0)=1,Settings!$B$22, IF(T64=\"Y\", Settings!$B$18, Settings!$B$17))))))))","v":""},{"$f":"IF(LEN(U72)=0,\"\", \" \" & IF(U59=\"Y\", Settings!$B$19, IF(IFERROR(SEARCH(\"N\",U67,1),0)=1,Settings!$B$20,IF(IFERROR(SEARCH(\"C\",U67,1),0)=1,Settings!$B$23,IF(IFERROR(SEARCH(\"DT\",U67,1),0)=1,Settings!$B$26,IF(IFERROR(SEARCH(\"D\",U67,1),0)=1,Settings!$B$25,IF(IFERROR(SEARCH(\"I\",U67,1),0)=1,Settings!$B$22, IF(U64=\"Y\", Settings!$B$18, Settings!$B$17))))))))","v":""},{"$f":"IF(LEN(V72)=0,\"\", \" \" & IF(V59=\"Y\", Settings!$B$19, IF(IFERROR(SEARCH(\"N\",V67,1),0)=1,Settings!$B$20,IF(IFERROR(SEARCH(\"C\",V67,1),0)=1,Settings!$B$23,IF(IFERROR(SEARCH(\"DT\",V67,1),0)=1,Settings!$B$26,IF(IFERROR(SEARCH(\"D\",V67,1),0)=1,Settings!$B$25,IF(IFERROR(SEARCH(\"I\",V67,1),0)=1,Settings!$B$22, IF(V64=\"Y\", Settings!$B$18, Settings!$B$17))))))))","v":""},{"$f":"IF(LEN(W72)=0,\"\", \" \" & IF(W59=\"Y\", Settings!$B$19, IF(IFERROR(SEARCH(\"N\",W67,1),0)=1,Settings!$B$20,IF(IFERROR(SEARCH(\"C\",W67,1),0)=1,Settings!$B$23,IF(IFERROR(SEARCH(\"DT\",W67,1),0)=1,Settings!$B$26,IF(IFERROR(SEARCH(\"D\",W67,1),0)=1,Settings!$B$25,IF(IFERROR(SEARCH(\"I\",W67,1),0)=1,Settings!$B$22, IF(W64=\"Y\", Settings!$B$18, Settings!$B$17))))))))","v":""},{"$f":"IF(LEN(X72)=0,\"\", \" \" & IF(X59=\"Y\", Settings!$B$19, IF(IFERROR(SEARCH(\"N\",X67,1),0)=1,Settings!$B$20,IF(IFERROR(SEARCH(\"C\",X67,1),0)=1,Settings!$B$23,IF(IFERROR(SEARCH(\"DT\",X67,1),0)=1,Settings!$B$26,IF(IFERROR(SEARCH(\"D\",X67,1),0)=1,Settings!$B$25,IF(IFERROR(SEARCH(\"I\",X67,1),0)=1,Settings!$B$22, IF(X64=\"Y\", Settings!$B$18, Settings!$B$17))))))))","v":""},{"$f":"IF(LEN(Y72)=0,\"\", \" \" & IF(Y59=\"Y\", Settings!$B$19, IF(IFERROR(SEARCH(\"N\",Y67,1),0)=1,Settings!$B$20,IF(IFERROR(SEARCH(\"C\",Y67,1),0)=1,Settings!$B$23,IF(IFERROR(SEARCH(\"DT\",Y67,1),0)=1,Settings!$B$26,IF(IFERROR(SEARCH(\"D\",Y67,1),0)=1,Settings!$B$25,IF(IFERROR(SEARCH(\"I\",Y67,1),0)=1,Settings!$B$22, IF(Y64=\"Y\", Settings!$B$18, Settings!$B$17))))))))","v":""},{"$f":"IF(LEN(Z72)=0,\"\", \" \" & IF(Z59=\"Y\", Settings!$B$19, IF(IFERROR(SEARCH(\"N\",Z67,1),0)=1,Settings!$B$20,IF(IFERROR(SEARCH(\"C\",Z67,1),0)=1,Settings!$B$23,IF(IFERROR(SEARCH(\"DT\",Z67,1),0)=1,Settings!$B$26,IF(IFERROR(SEARCH(\"D\",Z67,1),0)=1,Settings!$B$25,IF(IFERROR(SEARCH(\"I\",Z67,1),0)=1,Settings!$B$22, IF(Z64=\"Y\", Settings!$B$18, Settings!$B$17))))))))","v":""},{"$f":"IF(LEN(AA72)=0,\"\", \" \" & IF(AA59=\"Y\", Settings!$B$19, IF(IFERROR(SEARCH(\"N\",AA67,1),0)=1,Settings!$B$20,IF(IFERROR(SEARCH(\"C\",AA67,1),0)=1,Settings!$B$23,IF(IFERROR(SEARCH(\"DT\",AA67,1),0)=1,Settings!$B$26,IF(IFERROR(SEARCH(\"D\",AA67,1),0)=1,Settings!$B$25,IF(IFERROR(SEARCH(\"I\",AA67,1),0)=1,Settings!$B$22, IF(AA64=\"Y\", Settings!$B$18, Settings!$B$17))))))))","v":""},{"$f":"IF(LEN(AB72)=0,\"\", \" \" & IF(AB59=\"Y\", Settings!$B$19, IF(IFERROR(SEARCH(\"N\",AB67,1),0)=1,Settings!$B$20,IF(IFERROR(SEARCH(\"C\",AB67,1),0)=1,Settings!$B$23,IF(IFERROR(SEARCH(\"DT\",AB67,1),0)=1,Settings!$B$26,IF(IFERROR(SEARCH(\"D\",AB67,1),0)=1,Settings!$B$25,IF(IFERROR(SEARCH(\"I\",AB67,1),0)=1,Settings!$B$22, IF(AB64=\"Y\", Settings!$B$18, Settings!$B$17))))))))","v":""},{"$f":"IF(LEN(AC72)=0,\"\", \" \" & IF(AC59=\"Y\", Settings!$B$19, IF(IFERROR(SEARCH(\"N\",AC67,1),0)=1,Settings!$B$20,IF(IFERROR(SEARCH(\"C\",AC67,1),0)=1,Settings!$B$23,IF(IFERROR(SEARCH(\"DT\",AC67,1),0)=1,Settings!$B$26,IF(IFERROR(SEARCH(\"D\",AC67,1),0)=1,Settings!$B$25,IF(IFERROR(SEARCH(\"I\",AC67,1),0)=1,Settings!$B$22, IF(AC64=\"Y\", Settings!$B$18, Settings!$B$17))))))))","v":""},{"$f":"IF(LEN(AD72)=0,\"\", \" \" & IF(AD59=\"Y\", Settings!$B$19, IF(IFERROR(SEARCH(\"N\",AD67,1),0)=1,Settings!$B$20,IF(IFERROR(SEARCH(\"C\",AD67,1),0)=1,Settings!$B$23,IF(IFERROR(SEARCH(\"DT\",AD67,1),0)=1,Settings!$B$26,IF(IFERROR(SEARCH(\"D\",AD67,1),0)=1,Settings!$B$25,IF(IFERROR(SEARCH(\"I\",AD67,1),0)=1,Settings!$B$22, IF(AD64=\"Y\", Settings!$B$18, Settings!$B$17))))))))","v":""},{"$f":"IF(LEN(AE72)=0,\"\", \" \" & IF(AE59=\"Y\", Settings!$B$19, IF(IFERROR(SEARCH(\"N\",AE67,1),0)=1,Settings!$B$20,IF(IFERROR(SEARCH(\"C\",AE67,1),0)=1,Settings!$B$23,IF(IFERROR(SEARCH(\"DT\",AE67,1),0)=1,Settings!$B$26,IF(IFERROR(SEARCH(\"D\",AE67,1),0)=1,Settings!$B$25,IF(IFERROR(SEARCH(\"I\",AE67,1),0)=1,Settings!$B$22, IF(AE64=\"Y\", Settings!$B$18, Settings!$B$17))))))))","v":""},{"$f":"IF(LEN(AF72)=0,\"\", \" \" & IF(AF59=\"Y\", Settings!$B$19, IF(IFERROR(SEARCH(\"N\",AF67,1),0)=1,Settings!$B$20,IF(IFERROR(SEARCH(\"C\",AF67,1),0)=1,Settings!$B$23,IF(IFERROR(SEARCH(\"DT\",AF67,1),0)=1,Settings!$B$26,IF(IFERROR(SEARCH(\"D\",AF67,1),0)=1,Settings!$B$25,IF(IFERROR(SEARCH(\"I\",AF67,1),0)=1,Settings!$B$22, IF(AF64=\"Y\", Settings!$B$18, Settings!$B$17))))))))","v":""},{"$f":"IF(LEN(AG72)=0,\"\", \" \" & IF(AG59=\"Y\", Settings!$B$19, IF(IFERROR(SEARCH(\"N\",AG67,1),0)=1,Settings!$B$20,IF(IFERROR(SEARCH(\"C\",AG67,1),0)=1,Settings!$B$23,IF(IFERROR(SEARCH(\"DT\",AG67,1),0)=1,Settings!$B$26,IF(IFERROR(SEARCH(\"D\",AG67,1),0)=1,Settings!$B$25,IF(IFERROR(SEARCH(\"I\",AG67,1),0)=1,Settings!$B$22, IF(AG64=\"Y\", Settings!$B$18, Settings!$B$17))))))))","v":""},{"$f":"IF(LEN(AH72)=0,\"\", \" \" & IF(AH59=\"Y\", Settings!$B$19, IF(IFERROR(SEARCH(\"N\",AH67,1),0)=1,Settings!$B$20,IF(IFERROR(SEARCH(\"C\",AH67,1),0)=1,Settings!$B$23,IF(IFERROR(SEARCH(\"DT\",AH67,1),0)=1,Settings!$B$26,IF(IFERROR(SEARCH(\"D\",AH67,1),0)=1,Settings!$B$25,IF(IFERROR(SEARCH(\"I\",AH67,1),0)=1,Settings!$B$22, IF(AH64=\"Y\", Settings!$B$18, Settings!$B$17))))))))","v":""},{"$f":"IF(LEN(AI72)=0,\"\", \" \" & IF(AI59=\"Y\", Settings!$B$19, IF(IFERROR(SEARCH(\"N\",AI67,1),0)=1,Settings!$B$20,IF(IFERROR(SEARCH(\"C\",AI67,1),0)=1,Settings!$B$23,IF(IFERROR(SEARCH(\"DT\",AI67,1),0)=1,Settings!$B$26,IF(IFERROR(SEARCH(\"D\",AI67,1),0)=1,Settings!$B$25,IF(IFERROR(SEARCH(\"I\",AI67,1),0)=1,Settings!$B$22, IF(AI64=\"Y\", Settings!$B$18, Settings!$B$17))))))))","v":""},{"$f":"IF(LEN(AJ72)=0,\"\", \" \" & IF(AJ59=\"Y\", Settings!$B$19, IF(IFERROR(SEARCH(\"N\",AJ67,1),0)=1,Settings!$B$20,IF(IFERROR(SEARCH(\"C\",AJ67,1),0)=1,Settings!$B$23,IF(IFERROR(SEARCH(\"DT\",AJ67,1),0)=1,Settings!$B$26,IF(IFERROR(SEARCH(\"D\",AJ67,1),0)=1,Settings!$B$25,IF(IFERROR(SEARCH(\"I\",AJ67,1),0)=1,Settings!$B$22, IF(AJ64=\"Y\", Settings!$B$18, Settings!$B$17))))))))","v":""},{"$f":"IF(LEN(AK72)=0,\"\", \" \" & IF(AK59=\"Y\", Settings!$B$19, IF(IFERROR(SEARCH(\"N\",AK67,1),0)=1,Settings!$B$20,IF(IFERROR(SEARCH(\"C\",AK67,1),0)=1,Settings!$B$23,IF(IFERROR(SEARCH(\"DT\",AK67,1),0)=1,Settings!$B$26,IF(IFERROR(SEARCH(\"D\",AK67,1),0)=1,Settings!$B$25,IF(IFERROR(SEARCH(\"I\",AK67,1),0)=1,Settings!$B$22, IF(AK64=\"Y\", Settings!$B$18, Settings!$B$17))))))))","v":""},{"$f":"IF(LEN(AL72)=0,\"\", \" \" & IF(AL59=\"Y\", Settings!$B$19, IF(IFERROR(SEARCH(\"N\",AL67,1),0)=1,Settings!$B$20,IF(IFERROR(SEARCH(\"C\",AL67,1),0)=1,Settings!$B$23,IF(IFERROR(SEARCH(\"DT\",AL67,1),0)=1,Settings!$B$26,IF(IFERROR(SEARCH(\"D\",AL67,1),0)=1,Settings!$B$25,IF(IFERROR(SEARCH(\"I\",AL67,1),0)=1,Settings!$B$22, IF(AL64=\"Y\", Settings!$B$18, Settings!$B$17))))))))","v":""},{"$f":"IF(LEN(AM72)=0,\"\", \" \" & IF(AM59=\"Y\", Settings!$B$19, IF(IFERROR(SEARCH(\"N\",AM67,1),0)=1,Settings!$B$20,IF(IFERROR(SEARCH(\"C\",AM67,1),0)=1,Settings!$B$23,IF(IFERROR(SEARCH(\"DT\",AM67,1),0)=1,Settings!$B$26,IF(IFERROR(SEARCH(\"D\",AM67,1),0)=1,Settings!$B$25,IF(IFERROR(SEARCH(\"I\",AM67,1),0)=1,Settings!$B$22, IF(AM64=\"Y\", Settings!$B$18, Settings!$B$17))))))))","v":""},{"$f":"IF(LEN(AN72)=0,\"\", \" \" & IF(AN59=\"Y\", Settings!$B$19, IF(IFERROR(SEARCH(\"N\",AN67,1),0)=1,Settings!$B$20,IF(IFERROR(SEARCH(\"C\",AN67,1),0)=1,Settings!$B$23,IF(IFERROR(SEARCH(\"DT\",AN67,1),0)=1,Settings!$B$26,IF(IFERROR(SEARCH(\"D\",AN67,1),0)=1,Settings!$B$25,IF(IFERROR(SEARCH(\"I\",AN67,1),0)=1,Settings!$B$22, IF(AN64=\"Y\", Settings!$B$18, Settings!$B$17))))))))","v":""},{"$f":"IF(LEN(AO72)=0,\"\", \" \" & IF(AO59=\"Y\", Settings!$B$19, IF(IFERROR(SEARCH(\"N\",AO67,1),0)=1,Settings!$B$20,IF(IFERROR(SEARCH(\"C\",AO67,1),0)=1,Settings!$B$23,IF(IFERROR(SEARCH(\"DT\",AO67,1),0)=1,Settings!$B$26,IF(IFERROR(SEARCH(\"D\",AO67,1),0)=1,Settings!$B$25,IF(IFERROR(SEARCH(\"I\",AO67,1),0)=1,Settings!$B$22, IF(AO64=\"Y\", Settings!$B$18, Settings!$B$17))))))))","v":""},{"$f":"IF(LEN(AP72)=0,\"\", \" \" & IF(AP59=\"Y\", Settings!$B$19, IF(IFERROR(SEARCH(\"N\",AP67,1),0)=1,Settings!$B$20,IF(IFERROR(SEARCH(\"C\",AP67,1),0)=1,Settings!$B$23,IF(IFERROR(SEARCH(\"DT\",AP67,1),0)=1,Settings!$B$26,IF(IFERROR(SEARCH(\"D\",AP67,1),0)=1,Settings!$B$25,IF(IFERROR(SEARCH(\"I\",AP67,1),0)=1,Settings!$B$22, IF(AP64=\"Y\", Settings!$B$18, Settings!$B$17))))))))","v":""},{"$f":"IF(LEN(AQ72)=0,\"\", \" \" & IF(AQ59=\"Y\", Settings!$B$19, IF(IFERROR(SEARCH(\"N\",AQ67,1),0)=1,Settings!$B$20,IF(IFERROR(SEARCH(\"C\",AQ67,1),0)=1,Settings!$B$23,IF(IFERROR(SEARCH(\"DT\",AQ67,1),0)=1,Settings!$B$26,IF(IFERROR(SEARCH(\"D\",AQ67,1),0)=1,Settings!$B$25,IF(IFERROR(SEARCH(\"I\",AQ67,1),0)=1,Settings!$B$22, IF(AQ64=\"Y\", Settings!$B$18, Settings!$B$17))))))))","v":""},{"$f":"IF(LEN(AR72)=0,\"\", \" \" & IF(AR59=\"Y\", Settings!$B$19, IF(IFERROR(SEARCH(\"N\",AR67,1),0)=1,Settings!$B$20,IF(IFERROR(SEARCH(\"C\",AR67,1),0)=1,Settings!$B$23,IF(IFERROR(SEARCH(\"DT\",AR67,1),0)=1,Settings!$B$26,IF(IFERROR(SEARCH(\"D\",AR67,1),0)=1,Settings!$B$25,IF(IFERROR(SEARCH(\"I\",AR67,1),0)=1,Settings!$B$22, IF(AR64=\"Y\", Settings!$B$18, Settings!$B$17))))))))","v":""},{"$f":"IF(LEN(AS72)=0,\"\", \" \" & IF(AS59=\"Y\", Settings!$B$19, IF(IFERROR(SEARCH(\"N\",AS67,1),0)=1,Settings!$B$20,IF(IFERROR(SEARCH(\"C\",AS67,1),0)=1,Settings!$B$23,IF(IFERROR(SEARCH(\"DT\",AS67,1),0)=1,Settings!$B$26,IF(IFERROR(SEARCH(\"D\",AS67,1),0)=1,Settings!$B$25,IF(IFERROR(SEARCH(\"I\",AS67,1),0)=1,Settings!$B$22, IF(AS64=\"Y\", Settings!$B$18, Settings!$B$17))))))))","v":""},{"$f":"IF(LEN(AT72)=0,\"\", \" \" & IF(AT59=\"Y\", Settings!$B$19, IF(IFERROR(SEARCH(\"N\",AT67,1),0)=1,Settings!$B$20,IF(IFERROR(SEARCH(\"C\",AT67,1),0)=1,Settings!$B$23,IF(IFERROR(SEARCH(\"DT\",AT67,1),0)=1,Settings!$B$26,IF(IFERROR(SEARCH(\"D\",AT67,1),0)=1,Settings!$B$25,IF(IFERROR(SEARCH(\"I\",AT67,1),0)=1,Settings!$B$22, IF(AT64=\"Y\", Settings!$B$18, Settings!$B$17))))))))","v":""},{"$f":"IF(LEN(AU72)=0,\"\", \" \" & IF(AU59=\"Y\", Settings!$B$19, IF(IFERROR(SEARCH(\"N\",AU67,1),0)=1,Settings!$B$20,IF(IFERROR(SEARCH(\"C\",AU67,1),0)=1,Settings!$B$23,IF(IFERROR(SEARCH(\"DT\",AU67,1),0)=1,Settings!$B$26,IF(IFERROR(SEARCH(\"D\",AU67,1),0)=1,Settings!$B$25,IF(IFERROR(SEARCH(\"I\",AU67,1),0)=1,Settings!$B$22, IF(AU64=\"Y\", Settings!$B$18, Settings!$B$17))))))))","v":""},{"$f":"IF(LEN(AV72)=0,\"\", \" \" & IF(AV59=\"Y\", Settings!$B$19, IF(IFERROR(SEARCH(\"N\",AV67,1),0)=1,Settings!$B$20,IF(IFERROR(SEARCH(\"C\",AV67,1),0)=1,Settings!$B$23,IF(IFERROR(SEARCH(\"DT\",AV67,1),0)=1,Settings!$B$26,IF(IFERROR(SEARCH(\"D\",AV67,1),0)=1,Settings!$B$25,IF(IFERROR(SEARCH(\"I\",AV67,1),0)=1,Settings!$B$22, IF(AV64=\"Y\", Settings!$B$18, Settings!$B$17))))))))","v":""},{"$f":"IF(LEN(AW72)=0,\"\", \" \" & IF(AW59=\"Y\", Settings!$B$19, IF(IFERROR(SEARCH(\"N\",AW67,1),0)=1,Settings!$B$20,IF(IFERROR(SEARCH(\"C\",AW67,1),0)=1,Settings!$B$23,IF(IFERROR(SEARCH(\"DT\",AW67,1),0)=1,Settings!$B$26,IF(IFERROR(SEARCH(\"D\",AW67,1),0)=1,Settings!$B$25,IF(IFERROR(SEARCH(\"I\",AW67,1),0)=1,Settings!$B$22, IF(AW64=\"Y\", Settings!$B$18, Settings!$B$17))))))))","v":""},{"$f":"IF(LEN(AX72)=0,\"\", \" \" & IF(AX59=\"Y\", Settings!$B$19, IF(IFERROR(SEARCH(\"N\",AX67,1),0)=1,Settings!$B$20,IF(IFERROR(SEARCH(\"C\",AX67,1),0)=1,Settings!$B$23,IF(IFERROR(SEARCH(\"DT\",AX67,1),0)=1,Settings!$B$26,IF(IFERROR(SEARCH(\"D\",AX67,1),0)=1,Settings!$B$25,IF(IFERROR(SEARCH(\"I\",AX67,1),0)=1,Settings!$B$22, IF(AX64=\"Y\", Settings!$B$18, Settings!$B$17))))))))","v":""},{"$f":"IF(LEN(AY72)=0,\"\", \" \" & IF(AY59=\"Y\", Settings!$B$19, IF(IFERROR(SEARCH(\"N\",AY67,1),0)=1,Settings!$B$20,IF(IFERROR(SEARCH(\"C\",AY67,1),0)=1,Settings!$B$23,IF(IFERROR(SEARCH(\"DT\",AY67,1),0)=1,Settings!$B$26,IF(IFERROR(SEARCH(\"D\",AY67,1),0)=1,Settings!$B$25,IF(IFERROR(SEARCH(\"I\",AY67,1),0)=1,Settings!$B$22, IF(AY64=\"Y\", Settings!$B$18, Settings!$B$17))))))))","v":""},{"$f":"IF(LEN(AZ72)=0,\"\", \" \" & IF(AZ59=\"Y\", Settings!$B$19, IF(IFERROR(SEARCH(\"N\",AZ67,1),0)=1,Settings!$B$20,IF(IFERROR(SEARCH(\"C\",AZ67,1),0)=1,Settings!$B$23,IF(IFERROR(SEARCH(\"DT\",AZ67,1),0)=1,Settings!$B$26,IF(IFERROR(SEARCH(\"D\",AZ67,1),0)=1,Settings!$B$25,IF(IFERROR(SEARCH(\"I\",AZ67,1),0)=1,Settings!$B$22, IF(AZ64=\"Y\", Settings!$B$18, Settings!$B$17))))))))","v":""},{"$f":"IF(LEN(BA72)=0,\"\", \" \" & IF(BA59=\"Y\", Settings!$B$19, IF(IFERROR(SEARCH(\"N\",BA67,1),0)=1,Settings!$B$20,IF(IFERROR(SEARCH(\"C\",BA67,1),0)=1,Settings!$B$23,IF(IFERROR(SEARCH(\"DT\",BA67,1),0)=1,Settings!$B$26,IF(IFERROR(SEARCH(\"D\",BA67,1),0)=1,Settings!$B$25,IF(IFERROR(SEARCH(\"I\",BA67,1),0)=1,Settings!$B$22, IF(BA64=\"Y\", Settings!$B$18, Settings!$B$17))))))))","v":""},{"$f":"IF(LEN(BB72)=0,\"\", \" \" & IF(BB59=\"Y\", Settings!$B$19, IF(IFERROR(SEARCH(\"N\",BB67,1),0)=1,Settings!$B$20,IF(IFERROR(SEARCH(\"C\",BB67,1),0)=1,Settings!$B$23,IF(IFERROR(SEARCH(\"DT\",BB67,1),0)=1,Settings!$B$26,IF(IFERROR(SEARCH(\"D\",BB67,1),0)=1,Settings!$B$25,IF(IFERROR(SEARCH(\"I\",BB67,1),0)=1,Settings!$B$22, IF(BB64=\"Y\", Settings!$B$18, Settings!$B$17))))))))","v":""},{"$f":"IF(LEN(BC72)=0,\"\", \" \" & IF(BC59=\"Y\", Settings!$B$19, IF(IFERROR(SEARCH(\"N\",BC67,1),0)=1,Settings!$B$20,IF(IFERROR(SEARCH(\"C\",BC67,1),0)=1,Settings!$B$23,IF(IFERROR(SEARCH(\"DT\",BC67,1),0)=1,Settings!$B$26,IF(IFERROR(SEARCH(\"D\",BC67,1),0)=1,Settings!$B$25,IF(IFERROR(SEARCH(\"I\",BC67,1),0)=1,Settings!$B$22, IF(BC64=\"Y\", Settings!$B$18, Settings!$B$17))))))))","v":""},{"$f":"IF(LEN(BD72)=0,\"\", \" \" & IF(BD59=\"Y\", Settings!$B$19, IF(IFERROR(SEARCH(\"N\",BD67,1),0)=1,Settings!$B$20,IF(IFERROR(SEARCH(\"C\",BD67,1),0)=1,Settings!$B$23,IF(IFERROR(SEARCH(\"DT\",BD67,1),0)=1,Settings!$B$26,IF(IFERROR(SEARCH(\"D\",BD67,1),0)=1,Settings!$B$25,IF(IFERROR(SEARCH(\"I\",BD67,1),0)=1,Settings!$B$22, IF(BD64=\"Y\", Settings!$B$18, Settings!$B$17))))))))","v":""},{"$f":"IF(LEN(BE72)=0,\"\", \" \" & IF(BE59=\"Y\", Settings!$B$19, IF(IFERROR(SEARCH(\"N\",BE67,1),0)=1,Settings!$B$20,IF(IFERROR(SEARCH(\"C\",BE67,1),0)=1,Settings!$B$23,IF(IFERROR(SEARCH(\"DT\",BE67,1),0)=1,Settings!$B$26,IF(IFERROR(SEARCH(\"D\",BE67,1),0)=1,Settings!$B$25,IF(IFERROR(SEARCH(\"I\",BE67,1),0)=1,Settings!$B$22, IF(BE64=\"Y\", Settings!$B$18, Settings!$B$17))))))))","v":""},{"$f":"IF(LEN(BF72)=0,\"\", \" \" & IF(BF59=\"Y\", Settings!$B$19, IF(IFERROR(SEARCH(\"N\",BF67,1),0)=1,Settings!$B$20,IF(IFERROR(SEARCH(\"C\",BF67,1),0)=1,Settings!$B$23,IF(IFERROR(SEARCH(\"DT\",BF67,1),0)=1,Settings!$B$26,IF(IFERROR(SEARCH(\"D\",BF67,1),0)=1,Settings!$B$25,IF(IFERROR(SEARCH(\"I\",BF67,1),0)=1,Settings!$B$22, IF(BF64=\"Y\", Settings!$B$18, Settings!$B$17))))))))","v":""},{"$f":"IF(LEN(BG72)=0,\"\", \" \" & IF(BG59=\"Y\", Settings!$B$19, IF(IFERROR(SEARCH(\"N\",BG67,1),0)=1,Settings!$B$20,IF(IFERROR(SEARCH(\"C\",BG67,1),0)=1,Settings!$B$23,IF(IFERROR(SEARCH(\"DT\",BG67,1),0)=1,Settings!$B$26,IF(IFERROR(SEARCH(\"D\",BG67,1),0)=1,Settings!$B$25,IF(IFERROR(SEARCH(\"I\",BG67,1),0)=1,Settings!$B$22, IF(BG64=\"Y\", Settings!$B$18, Settings!$B$17))))))))","v":""},{"$f":"IF(LEN(BH72)=0,\"\", \" \" & IF(BH59=\"Y\", Settings!$B$19, IF(IFERROR(SEARCH(\"N\",BH67,1),0)=1,Settings!$B$20,IF(IFERROR(SEARCH(\"C\",BH67,1),0)=1,Settings!$B$23,IF(IFERROR(SEARCH(\"DT\",BH67,1),0)=1,Settings!$B$26,IF(IFERROR(SEARCH(\"D\",BH67,1),0)=1,Settings!$B$25,IF(IFERROR(SEARCH(\"I\",BH67,1),0)=1,Settings!$B$22, IF(BH64=\"Y\", Settings!$B$18, Settings!$B$17))))))))","v":""},{"$f":"IF(LEN(BI72)=0,\"\", \" \" & IF(BI59=\"Y\", Settings!$B$19, IF(IFERROR(SEARCH(\"N\",BI67,1),0)=1,Settings!$B$20,IF(IFERROR(SEARCH(\"C\",BI67,1),0)=1,Settings!$B$23,IF(IFERROR(SEARCH(\"DT\",BI67,1),0)=1,Settings!$B$26,IF(IFERROR(SEARCH(\"D\",BI67,1),0)=1,Settings!$B$25,IF(IFERROR(SEARCH(\"I\",BI67,1),0)=1,Settings!$B$22, IF(BI64=\"Y\", Settings!$B$18, Settings!$B$17))))))))","v":""},{"$f":"IF(LEN(BJ72)=0,\"\", \" \" & IF(BJ59=\"Y\", Settings!$B$19, IF(IFERROR(SEARCH(\"N\",BJ67,1),0)=1,Settings!$B$20,IF(IFERROR(SEARCH(\"C\",BJ67,1),0)=1,Settings!$B$23,IF(IFERROR(SEARCH(\"DT\",BJ67,1),0)=1,Settings!$B$26,IF(IFERROR(SEARCH(\"D\",BJ67,1),0)=1,Settings!$B$25,IF(IFERROR(SEARCH(\"I\",BJ67,1),0)=1,Settings!$B$22, IF(BJ64=\"Y\", Settings!$B$18, Settings!$B$17))))))))","v":""},{"$f":"IF(LEN(BK72)=0,\"\", \" \" & IF(BK59=\"Y\", Settings!$B$19, IF(IFERROR(SEARCH(\"N\",BK67,1),0)=1,Settings!$B$20,IF(IFERROR(SEARCH(\"C\",BK67,1),0)=1,Settings!$B$23,IF(IFERROR(SEARCH(\"DT\",BK67,1),0)=1,Settings!$B$26,IF(IFERROR(SEARCH(\"D\",BK67,1),0)=1,Settings!$B$25,IF(IFERROR(SEARCH(\"I\",BK67,1),0)=1,Settings!$B$22, IF(BK64=\"Y\", Settings!$B$18, Settings!$B$17))))))))","v":""},{"$f":"IF(LEN(BL72)=0,\"\", \" \" & IF(BL59=\"Y\", Settings!$B$19, IF(IFERROR(SEARCH(\"N\",BL67,1),0)=1,Settings!$B$20,IF(IFERROR(SEARCH(\"C\",BL67,1),0)=1,Settings!$B$23,IF(IFERROR(SEARCH(\"DT\",BL67,1),0)=1,Settings!$B$26,IF(IFERROR(SEARCH(\"D\",BL67,1),0)=1,Settings!$B$25,IF(IFERROR(SEARCH(\"I\",BL67,1),0)=1,Settings!$B$22, IF(BL64=\"Y\", Settings!$B$18, Settings!$B$17))))))))","v":""},{"$f":"IF(LEN(BM72)=0,\"\", \" \" & IF(BM59=\"Y\", Settings!$B$19, IF(IFERROR(SEARCH(\"N\",BM67,1),0)=1,Settings!$B$20,IF(IFERROR(SEARCH(\"C\",BM67,1),0)=1,Settings!$B$23,IF(IFERROR(SEARCH(\"DT\",BM67,1),0)=1,Settings!$B$26,IF(IFERROR(SEARCH(\"D\",BM67,1),0)=1,Settings!$B$25,IF(IFERROR(SEARCH(\"I\",BM67,1),0)=1,Settings!$B$22, IF(BM64=\"Y\", Settings!$B$18, Settings!$B$17))))))))","v":""},{"$f":"IF(LEN(BN72)=0,\"\", \" \" & IF(BN59=\"Y\", Settings!$B$19, IF(IFERROR(SEARCH(\"N\",BN67,1),0)=1,Settings!$B$20,IF(IFERROR(SEARCH(\"C\",BN67,1),0)=1,Settings!$B$23,IF(IFERROR(SEARCH(\"DT\",BN67,1),0)=1,Settings!$B$26,IF(IFERROR(SEARCH(\"D\",BN67,1),0)=1,Settings!$B$25,IF(IFERROR(SEARCH(\"I\",BN67,1),0)=1,Settings!$B$22, IF(BN64=\"Y\", Settings!$B$18, Settings!$B$17))))))))","v":""},{"$f":"IF(LEN(BO72)=0,\"\", \" \" & IF(BO59=\"Y\", Settings!$B$19, IF(IFERROR(SEARCH(\"N\",BO67,1),0)=1,Settings!$B$20,IF(IFERROR(SEARCH(\"C\",BO67,1),0)=1,Settings!$B$23,IF(IFERROR(SEARCH(\"DT\",BO67,1),0)=1,Settings!$B$26,IF(IFERROR(SEARCH(\"D\",BO67,1),0)=1,Settings!$B$25,IF(IFERROR(SEARCH(\"I\",BO67,1),0)=1,Settings!$B$22, IF(BO64=\"Y\", Settings!$B$18, Settings!$B$17))))))))","v":""},{"$f":"IF(LEN(BP72)=0,\"\", \" \" & IF(BP59=\"Y\", Settings!$B$19, IF(IFERROR(SEARCH(\"N\",BP67,1),0)=1,Settings!$B$20,IF(IFERROR(SEARCH(\"C\",BP67,1),0)=1,Settings!$B$23,IF(IFERROR(SEARCH(\"DT\",BP67,1),0)=1,Settings!$B$26,IF(IFERROR(SEARCH(\"D\",BP67,1),0)=1,Settings!$B$25,IF(IFERROR(SEARCH(\"I\",BP67,1),0)=1,Settings!$B$22, IF(BP64=\"Y\", Settings!$B$18, Settings!$B$17))))))))","v":""},{"$f":"IF(LEN(BQ72)=0,\"\", \" \" & IF(BQ59=\"Y\", Settings!$B$19, IF(IFERROR(SEARCH(\"N\",BQ67,1),0)=1,Settings!$B$20,IF(IFERROR(SEARCH(\"C\",BQ67,1),0)=1,Settings!$B$23,IF(IFERROR(SEARCH(\"DT\",BQ67,1),0)=1,Settings!$B$26,IF(IFERROR(SEARCH(\"D\",BQ67,1),0)=1,Settings!$B$25,IF(IFERROR(SEARCH(\"I\",BQ67,1),0)=1,Settings!$B$22, IF(BQ64=\"Y\", Settings!$B$18, Settings!$B$17))))))))","v":""},{"$f":"IF(LEN(BR72)=0,\"\", \" \" & IF(BR59=\"Y\", Settings!$B$19, IF(IFERROR(SEARCH(\"N\",BR67,1),0)=1,Settings!$B$20,IF(IFERROR(SEARCH(\"C\",BR67,1),0)=1,Settings!$B$23,IF(IFERROR(SEARCH(\"DT\",BR67,1),0)=1,Settings!$B$26,IF(IFERROR(SEARCH(\"D\",BR67,1),0)=1,Settings!$B$25,IF(IFERROR(SEARCH(\"I\",BR67,1),0)=1,Settings!$B$22, IF(BR64=\"Y\", Settings!$B$18, Settings!$B$17))))))))","v":""},{"$f":"IF(LEN(BS72)=0,\"\", \" \" & IF(BS59=\"Y\", Settings!$B$19, IF(IFERROR(SEARCH(\"N\",BS67,1),0)=1,Settings!$B$20,IF(IFERROR(SEARCH(\"C\",BS67,1),0)=1,Settings!$B$23,IF(IFERROR(SEARCH(\"DT\",BS67,1),0)=1,Settings!$B$26,IF(IFERROR(SEARCH(\"D\",BS67,1),0)=1,Settings!$B$25,IF(IFERROR(SEARCH(\"I\",BS67,1),0)=1,Settings!$B$22, IF(BS64=\"Y\", Settings!$B$18, Settings!$B$17))))))))","v":""},{"$f":"IF(LEN(BT72)=0,\"\", \" \" & IF(BT59=\"Y\", Settings!$B$19, IF(IFERROR(SEARCH(\"N\",BT67,1),0)=1,Settings!$B$20,IF(IFERROR(SEARCH(\"C\",BT67,1),0)=1,Settings!$B$23,IF(IFERROR(SEARCH(\"DT\",BT67,1),0)=1,Settings!$B$26,IF(IFERROR(SEARCH(\"D\",BT67,1),0)=1,Settings!$B$25,IF(IFERROR(SEARCH(\"I\",BT67,1),0)=1,Settings!$B$22, IF(BT64=\"Y\", Settings!$B$18, Settings!$B$17))))))))","v":""},{"$f":"IF(LEN(BU72)=0,\"\", \" \" & IF(BU59=\"Y\", Settings!$B$19, IF(IFERROR(SEARCH(\"N\",BU67,1),0)=1,Settings!$B$20,IF(IFERROR(SEARCH(\"C\",BU67,1),0)=1,Settings!$B$23,IF(IFERROR(SEARCH(\"DT\",BU67,1),0)=1,Settings!$B$26,IF(IFERROR(SEARCH(\"D\",BU67,1),0)=1,Settings!$B$25,IF(IFERROR(SEARCH(\"I\",BU67,1),0)=1,Settings!$B$22, IF(BU64=\"Y\", Settings!$B$18, Settings!$B$17))))))))","v":""},{"$f":"IF(LEN(BV72)=0,\"\", \" \" & IF(BV59=\"Y\", Settings!$B$19, IF(IFERROR(SEARCH(\"N\",BV67,1),0)=1,Settings!$B$20,IF(IFERROR(SEARCH(\"C\",BV67,1),0)=1,Settings!$B$23,IF(IFERROR(SEARCH(\"DT\",BV67,1),0)=1,Settings!$B$26,IF(IFERROR(SEARCH(\"D\",BV67,1),0)=1,Settings!$B$25,IF(IFERROR(SEARCH(\"I\",BV67,1),0)=1,Settings!$B$22, IF(BV64=\"Y\", Settings!$B$18, Settings!$B$17))))))))","v":""},{"$f":"IF(LEN(BW72)=0,\"\", \" \" & IF(BW59=\"Y\", Settings!$B$19, IF(IFERROR(SEARCH(\"N\",BW67,1),0)=1,Settings!$B$20,IF(IFERROR(SEARCH(\"C\",BW67,1),0)=1,Settings!$B$23,IF(IFERROR(SEARCH(\"DT\",BW67,1),0)=1,Settings!$B$26,IF(IFERROR(SEARCH(\"D\",BW67,1),0)=1,Settings!$B$25,IF(IFERROR(SEARCH(\"I\",BW67,1),0)=1,Settings!$B$22, IF(BW64=\"Y\", Settings!$B$18, Settings!$B$17))))))))","v":""},{"$f":"IF(LEN(BX72)=0,\"\", \" \" & IF(BX59=\"Y\", Settings!$B$19, IF(IFERROR(SEARCH(\"N\",BX67,1),0)=1,Settings!$B$20,IF(IFERROR(SEARCH(\"C\",BX67,1),0)=1,Settings!$B$23,IF(IFERROR(SEARCH(\"DT\",BX67,1),0)=1,Settings!$B$26,IF(IFERROR(SEARCH(\"D\",BX67,1),0)=1,Settings!$B$25,IF(IFERROR(SEARCH(\"I\",BX67,1),0)=1,Settings!$B$22, IF(BX64=\"Y\", Settings!$B$18, Settings!$B$17))))))))","v":""},{"$f":"IF(LEN(BY72)=0,\"\", \" \" & IF(BY59=\"Y\", Settings!$B$19, IF(IFERROR(SEARCH(\"N\",BY67,1),0)=1,Settings!$B$20,IF(IFERROR(SEARCH(\"C\",BY67,1),0)=1,Settings!$B$23,IF(IFERROR(SEARCH(\"DT\",BY67,1),0)=1,Settings!$B$26,IF(IFERROR(SEARCH(\"D\",BY67,1),0)=1,Settings!$B$25,IF(IFERROR(SEARCH(\"I\",BY67,1),0)=1,Settings!$B$22, IF(BY64=\"Y\", Settings!$B$18, Settings!$B$17))))))))","v":""},{"$f":"IF(LEN(BZ72)=0,\"\", \" \" & IF(BZ59=\"Y\", Settings!$B$19, IF(IFERROR(SEARCH(\"N\",BZ67,1),0)=1,Settings!$B$20,IF(IFERROR(SEARCH(\"C\",BZ67,1),0)=1,Settings!$B$23,IF(IFERROR(SEARCH(\"DT\",BZ67,1),0)=1,Settings!$B$26,IF(IFERROR(SEARCH(\"D\",BZ67,1),0)=1,Settings!$B$25,IF(IFERROR(SEARCH(\"I\",BZ67,1),0)=1,Settings!$B$22, IF(BZ64=\"Y\", Settings!$B$18, Settings!$B$17))))))))","v":""},{"$f":"IF(LEN(CA72)=0,\"\", \" \" & IF(CA59=\"Y\", Settings!$B$19, IF(IFERROR(SEARCH(\"N\",CA67,1),0)=1,Settings!$B$20,IF(IFERROR(SEARCH(\"C\",CA67,1),0)=1,Settings!$B$23,IF(IFERROR(SEARCH(\"DT\",CA67,1),0)=1,Settings!$B$26,IF(IFERROR(SEARCH(\"D\",CA67,1),0)=1,Settings!$B$25,IF(IFERROR(SEARCH(\"I\",CA67,1),0)=1,Settings!$B$22, IF(CA64=\"Y\", Settings!$B$18, Settings!$B$17))))))))","v":""},{"$f":"IF(LEN(CB72)=0,\"\", \" \" & IF(CB59=\"Y\", Settings!$B$19, IF(IFERROR(SEARCH(\"N\",CB67,1),0)=1,Settings!$B$20,IF(IFERROR(SEARCH(\"C\",CB67,1),0)=1,Settings!$B$23,IF(IFERROR(SEARCH(\"DT\",CB67,1),0)=1,Settings!$B$26,IF(IFERROR(SEARCH(\"D\",CB67,1),0)=1,Settings!$B$25,IF(IFERROR(SEARCH(\"I\",CB67,1),0)=1,Settings!$B$22, IF(CB64=\"Y\", Settings!$B$18, Settings!$B$17))))))))","v":""},{"$f":"IF(LEN(CC72)=0,\"\", \" \" & IF(CC59=\"Y\", Settings!$B$19, IF(IFERROR(SEARCH(\"N\",CC67,1),0)=1,Settings!$B$20,IF(IFERROR(SEARCH(\"C\",CC67,1),0)=1,Settings!$B$23,IF(IFERROR(SEARCH(\"DT\",CC67,1),0)=1,Settings!$B$26,IF(IFERROR(SEARCH(\"D\",CC67,1),0)=1,Settings!$B$25,IF(IFERROR(SEARCH(\"I\",CC67,1),0)=1,Settings!$B$22, IF(CC64=\"Y\", Settings!$B$18, Settings!$B$17))))))))","v":""},{"$f":"IF(LEN(CD72)=0,\"\", \" \" & IF(CD59=\"Y\", Settings!$B$19, IF(IFERROR(SEARCH(\"N\",CD67,1),0)=1,Settings!$B$20,IF(IFERROR(SEARCH(\"C\",CD67,1),0)=1,Settings!$B$23,IF(IFERROR(SEARCH(\"DT\",CD67,1),0)=1,Settings!$B$26,IF(IFERROR(SEARCH(\"D\",CD67,1),0)=1,Settings!$B$25,IF(IFERROR(SEARCH(\"I\",CD67,1),0)=1,Settings!$B$22, IF(CD64=\"Y\", Settings!$B$18, Settings!$B$17))))))))","v":""},{"$f":"IF(LEN(CE72)=0,\"\", \" \" & IF(CE59=\"Y\", Settings!$B$19, IF(IFERROR(SEARCH(\"N\",CE67,1),0)=1,Settings!$B$20,IF(IFERROR(SEARCH(\"C\",CE67,1),0)=1,Settings!$B$23,IF(IFERROR(SEARCH(\"DT\",CE67,1),0)=1,Settings!$B$26,IF(IFERROR(SEARCH(\"D\",CE67,1),0)=1,Settings!$B$25,IF(IFERROR(SEARCH(\"I\",CE67,1),0)=1,Settings!$B$22, IF(CE64=\"Y\", Settings!$B$18, Settings!$B$17))))))))","v":""},{"$f":"IF(LEN(CF72)=0,\"\", \" \" & IF(CF59=\"Y\", Settings!$B$19, IF(IFERROR(SEARCH(\"N\",CF67,1),0)=1,Settings!$B$20,IF(IFERROR(SEARCH(\"C\",CF67,1),0)=1,Settings!$B$23,IF(IFERROR(SEARCH(\"DT\",CF67,1),0)=1,Settings!$B$26,IF(IFERROR(SEARCH(\"D\",CF67,1),0)=1,Settings!$B$25,IF(IFERROR(SEARCH(\"I\",CF67,1),0)=1,Settings!$B$22, IF(CF64=\"Y\", Settings!$B$18, Settings!$B$17))))))))","v":""},{"$f":"IF(LEN(CG72)=0,\"\", \" \" & IF(CG59=\"Y\", Settings!$B$19, IF(IFERROR(SEARCH(\"N\",CG67,1),0)=1,Settings!$B$20,IF(IFERROR(SEARCH(\"C\",CG67,1),0)=1,Settings!$B$23,IF(IFERROR(SEARCH(\"DT\",CG67,1),0)=1,Settings!$B$26,IF(IFERROR(SEARCH(\"D\",CG67,1),0)=1,Settings!$B$25,IF(IFERROR(SEARCH(\"I\",CG67,1),0)=1,Settings!$B$22, IF(CG64=\"Y\", Settings!$B$18, Settings!$B$17))))))))","v":""},{"$f":"IF(LEN(CH72)=0,\"\", \" \" & IF(CH59=\"Y\", Settings!$B$19, IF(IFERROR(SEARCH(\"N\",CH67,1),0)=1,Settings!$B$20,IF(IFERROR(SEARCH(\"C\",CH67,1),0)=1,Settings!$B$23,IF(IFERROR(SEARCH(\"DT\",CH67,1),0)=1,Settings!$B$26,IF(IFERROR(SEARCH(\"D\",CH67,1),0)=1,Settings!$B$25,IF(IFERROR(SEARCH(\"I\",CH67,1),0)=1,Settings!$B$22, IF(CH64=\"Y\", Settings!$B$18, Settings!$B$17))))))))","v":""},{"$f":"IF(LEN(CI72)=0,\"\", \" \" & IF(CI59=\"Y\", Settings!$B$19, IF(IFERROR(SEARCH(\"N\",CI67,1),0)=1,Settings!$B$20,IF(IFERROR(SEARCH(\"C\",CI67,1),0)=1,Settings!$B$23,IF(IFERROR(SEARCH(\"DT\",CI67,1),0)=1,Settings!$B$26,IF(IFERROR(SEARCH(\"D\",CI67,1),0)=1,Settings!$B$25,IF(IFERROR(SEARCH(\"I\",CI67,1),0)=1,Settings!$B$22, IF(CI64=\"Y\", Settings!$B$18, Settings!$B$17))))))))","v":""},{"$f":"IF(LEN(CJ72)=0,\"\", \" \" & IF(CJ59=\"Y\", Settings!$B$19, IF(IFERROR(SEARCH(\"N\",CJ67,1),0)=1,Settings!$B$20,IF(IFERROR(SEARCH(\"C\",CJ67,1),0)=1,Settings!$B$23,IF(IFERROR(SEARCH(\"DT\",CJ67,1),0)=1,Settings!$B$26,IF(IFERROR(SEARCH(\"D\",CJ67,1),0)=1,Settings!$B$25,IF(IFERROR(SEARCH(\"I\",CJ67,1),0)=1,Settings!$B$22, IF(CJ64=\"Y\", Settings!$B$18, Settings!$B$17))))))))","v":""},{"$f":"IF(LEN(CK72)=0,\"\", \" \" & IF(CK59=\"Y\", Settings!$B$19, IF(IFERROR(SEARCH(\"N\",CK67,1),0)=1,Settings!$B$20,IF(IFERROR(SEARCH(\"C\",CK67,1),0)=1,Settings!$B$23,IF(IFERROR(SEARCH(\"DT\",CK67,1),0)=1,Settings!$B$26,IF(IFERROR(SEARCH(\"D\",CK67,1),0)=1,Settings!$B$25,IF(IFERROR(SEARCH(\"I\",CK67,1),0)=1,Settings!$B$22, IF(CK64=\"Y\", Settings!$B$18, Settings!$B$17))))))))","v":""},{"$f":"IF(LEN(CL72)=0,\"\", \" \" & IF(CL59=\"Y\", Settings!$B$19, IF(IFERROR(SEARCH(\"N\",CL67,1),0)=1,Settings!$B$20,IF(IFERROR(SEARCH(\"C\",CL67,1),0)=1,Settings!$B$23,IF(IFERROR(SEARCH(\"DT\",CL67,1),0)=1,Settings!$B$26,IF(IFERROR(SEARCH(\"D\",CL67,1),0)=1,Settings!$B$25,IF(IFERROR(SEARCH(\"I\",CL67,1),0)=1,Settings!$B$22, IF(CL64=\"Y\", Settings!$B$18, Settings!$B$17))))))))","v":""},{"$f":"IF(LEN(CM72)=0,\"\", \" \" & IF(CM59=\"Y\", Settings!$B$19, IF(IFERROR(SEARCH(\"N\",CM67,1),0)=1,Settings!$B$20,IF(IFERROR(SEARCH(\"C\",CM67,1),0)=1,Settings!$B$23,IF(IFERROR(SEARCH(\"DT\",CM67,1),0)=1,Settings!$B$26,IF(IFERROR(SEARCH(\"D\",CM67,1),0)=1,Settings!$B$25,IF(IFERROR(SEARCH(\"I\",CM67,1),0)=1,Settings!$B$22, IF(CM64=\"Y\", Settings!$B$18, Settings!$B$17))))))))","v":""},{"$f":"IF(LEN(CN72)=0,\"\", \" \" & IF(CN59=\"Y\", Settings!$B$19, IF(IFERROR(SEARCH(\"N\",CN67,1),0)=1,Settings!$B$20,IF(IFERROR(SEARCH(\"C\",CN67,1),0)=1,Settings!$B$23,IF(IFERROR(SEARCH(\"DT\",CN67,1),0)=1,Settings!$B$26,IF(IFERROR(SEARCH(\"D\",CN67,1),0)=1,Settings!$B$25,IF(IFERROR(SEARCH(\"I\",CN67,1),0)=1,Settings!$B$22, IF(CN64=\"Y\", Settings!$B$18, Settings!$B$17))))))))","v":""},{"$f":"IF(LEN(CO72)=0,\"\", \" \" & IF(CO59=\"Y\", Settings!$B$19, IF(IFERROR(SEARCH(\"N\",CO67,1),0)=1,Settings!$B$20,IF(IFERROR(SEARCH(\"C\",CO67,1),0)=1,Settings!$B$23,IF(IFERROR(SEARCH(\"DT\",CO67,1),0)=1,Settings!$B$26,IF(IFERROR(SEARCH(\"D\",CO67,1),0)=1,Settings!$B$25,IF(IFERROR(SEARCH(\"I\",CO67,1),0)=1,Settings!$B$22, IF(CO64=\"Y\", Settings!$B$18, Settings!$B$17))))))))","v":""},{"$f":"IF(LEN(CP72)=0,\"\", \" \" & IF(CP59=\"Y\", Settings!$B$19, IF(IFERROR(SEARCH(\"N\",CP67,1),0)=1,Settings!$B$20,IF(IFERROR(SEARCH(\"C\",CP67,1),0)=1,Settings!$B$23,IF(IFERROR(SEARCH(\"DT\",CP67,1),0)=1,Settings!$B$26,IF(IFERROR(SEARCH(\"D\",CP67,1),0)=1,Settings!$B$25,IF(IFERROR(SEARCH(\"I\",CP67,1),0)=1,Settings!$B$22, IF(CP64=\"Y\", Settings!$B$18, Settings!$B$17))))))))","v":""},{"$f":"IF(LEN(CQ72)=0,\"\", \" \" & IF(CQ59=\"Y\", Settings!$B$19, IF(IFERROR(SEARCH(\"N\",CQ67,1),0)=1,Settings!$B$20,IF(IFERROR(SEARCH(\"C\",CQ67,1),0)=1,Settings!$B$23,IF(IFERROR(SEARCH(\"DT\",CQ67,1),0)=1,Settings!$B$26,IF(IFERROR(SEARCH(\"D\",CQ67,1),0)=1,Settings!$B$25,IF(IFERROR(SEARCH(\"I\",CQ67,1),0)=1,Settings!$B$22, IF(CQ64=\"Y\", Settings!$B$18, Settings!$B$17))))))))","v":""},{"$f":"IF(LEN(CR72)=0,\"\", \" \" & IF(CR59=\"Y\", Settings!$B$19, IF(IFERROR(SEARCH(\"N\",CR67,1),0)=1,Settings!$B$20,IF(IFERROR(SEARCH(\"C\",CR67,1),0)=1,Settings!$B$23,IF(IFERROR(SEARCH(\"DT\",CR67,1),0)=1,Settings!$B$26,IF(IFERROR(SEARCH(\"D\",CR67,1),0)=1,Settings!$B$25,IF(IFERROR(SEARCH(\"I\",CR67,1),0)=1,Settings!$B$22, IF(CR64=\"Y\", Settings!$B$18, Settings!$B$17))))))))","v":""},{"$f":"IF(LEN(CS72)=0,\"\", \" \" & IF(CS59=\"Y\", Settings!$B$19, IF(IFERROR(SEARCH(\"N\",CS67,1),0)=1,Settings!$B$20,IF(IFERROR(SEARCH(\"C\",CS67,1),0)=1,Settings!$B$23,IF(IFERROR(SEARCH(\"DT\",CS67,1),0)=1,Settings!$B$26,IF(IFERROR(SEARCH(\"D\",CS67,1),0)=1,Settings!$B$25,IF(IFERROR(SEARCH(\"I\",CS67,1),0)=1,Settings!$B$22, IF(CS64=\"Y\", Settings!$B$18, Settings!$B$17))))))))","v":""},{"$f":"IF(LEN(CT72)=0,\"\", \" \" & IF(CT59=\"Y\", Settings!$B$19, IF(IFERROR(SEARCH(\"N\",CT67,1),0)=1,Settings!$B$20,IF(IFERROR(SEARCH(\"C\",CT67,1),0)=1,Settings!$B$23,IF(IFERROR(SEARCH(\"DT\",CT67,1),0)=1,Settings!$B$26,IF(IFERROR(SEARCH(\"D\",CT67,1),0)=1,Settings!$B$25,IF(IFERROR(SEARCH(\"I\",CT67,1),0)=1,Settings!$B$22, IF(CT64=\"Y\", Settings!$B$18, Settings!$B$17))))))))","v":""},{"$f":"IF(LEN(CU72)=0,\"\", \" \" & IF(CU59=\"Y\", Settings!$B$19, IF(IFERROR(SEARCH(\"N\",CU67,1),0)=1,Settings!$B$20,IF(IFERROR(SEARCH(\"C\",CU67,1),0)=1,Settings!$B$23,IF(IFERROR(SEARCH(\"DT\",CU67,1),0)=1,Settings!$B$26,IF(IFERROR(SEARCH(\"D\",CU67,1),0)=1,Settings!$B$25,IF(IFERROR(SEARCH(\"I\",CU67,1),0)=1,Settings!$B$22, IF(CU64=\"Y\", Settings!$B$18, Settings!$B$17))))))))","v":""},{"$f":"IF(LEN(CV72)=0,\"\", \" \" & IF(CV59=\"Y\", Settings!$B$19, IF(IFERROR(SEARCH(\"N\",CV67,1),0)=1,Settings!$B$20,IF(IFERROR(SEARCH(\"C\",CV67,1),0)=1,Settings!$B$23,IF(IFERROR(SEARCH(\"DT\",CV67,1),0)=1,Settings!$B$26,IF(IFERROR(SEARCH(\"D\",CV67,1),0)=1,Settings!$B$25,IF(IFERROR(SEARCH(\"I\",CV67,1),0)=1,Settings!$B$22, IF(CV64=\"Y\", Settings!$B$18, Settings!$B$17))))))))","v":""},{"$f":"IF(LEN(CW72)=0,\"\", \" \" & IF(CW59=\"Y\", Settings!$B$19, IF(IFERROR(SEARCH(\"N\",CW67,1),0)=1,Settings!$B$20,IF(IFERROR(SEARCH(\"C\",CW67,1),0)=1,Settings!$B$23,IF(IFERROR(SEARCH(\"DT\",CW67,1),0)=1,Settings!$B$26,IF(IFERROR(SEARCH(\"D\",CW67,1),0)=1,Settings!$B$25,IF(IFERROR(SEARCH(\"I\",CW67,1),0)=1,Settings!$B$22, IF(CW64=\"Y\", Settings!$B$18, Settings!$B$17))))))))","v":""},{"$f":"IF(LEN(CX72)=0,\"\", \" \" & IF(CX59=\"Y\", Settings!$B$19, IF(IFERROR(SEARCH(\"N\",CX67,1),0)=1,Settings!$B$20,IF(IFERROR(SEARCH(\"C\",CX67,1),0)=1,Settings!$B$23,IF(IFERROR(SEARCH(\"DT\",CX67,1),0)=1,Settings!$B$26,IF(IFERROR(SEARCH(\"D\",CX67,1),0)=1,Settings!$B$25,IF(IFERROR(SEARCH(\"I\",CX67,1),0)=1,Settings!$B$22, IF(CX64=\"Y\", Settings!$B$18, Settings!$B$17))))))))","v":""},{"$f":"IF(LEN(CY72)=0,\"\", \" \" & IF(CY59=\"Y\", Settings!$B$19, IF(IFERROR(SEARCH(\"N\",CY67,1),0)=1,Settings!$B$20,IF(IFERROR(SEARCH(\"C\",CY67,1),0)=1,Settings!$B$23,IF(IFERROR(SEARCH(\"DT\",CY67,1),0)=1,Settings!$B$26,IF(IFERROR(SEARCH(\"D\",CY67,1),0)=1,Settings!$B$25,IF(IFERROR(SEARCH(\"I\",CY67,1),0)=1,Settings!$B$22, IF(CY64=\"Y\", Settings!$B$18, Settings!$B$17))))))))","v":""},{"$f":"IF(LEN(CZ72)=0,\"\", \" \" & IF(CZ59=\"Y\", Settings!$B$19, IF(IFERROR(SEARCH(\"N\",CZ67,1),0)=1,Settings!$B$20,IF(IFERROR(SEARCH(\"C\",CZ67,1),0)=1,Settings!$B$23,IF(IFERROR(SEARCH(\"DT\",CZ67,1),0)=1,Settings!$B$26,IF(IFERROR(SEARCH(\"D\",CZ67,1),0)=1,Settings!$B$25,IF(IFERROR(SEARCH(\"I\",CZ67,1),0)=1,Settings!$B$22, IF(CZ64=\"Y\", Settings!$B$18, Settings!$B$17))))))))","v":""},{"$f":"IF(LEN(DA72)=0,\"\", \" \" & IF(DA59=\"Y\", Settings!$B$19, IF(IFERROR(SEARCH(\"N\",DA67,1),0)=1,Settings!$B$20,IF(IFERROR(SEARCH(\"C\",DA67,1),0)=1,Settings!$B$23,IF(IFERROR(SEARCH(\"DT\",DA67,1),0)=1,Settings!$B$26,IF(IFERROR(SEARCH(\"D\",DA67,1),0)=1,Settings!$B$25,IF(IFERROR(SEARCH(\"I\",DA67,1),0)=1,Settings!$B$22, IF(DA64=\"Y\", Settings!$B$18, Settings!$B$17))))))))","v":""},{"$f":"IF(LEN(DB72)=0,\"\", \" \" & IF(DB59=\"Y\", Settings!$B$19, IF(IFERROR(SEARCH(\"N\",DB67,1),0)=1,Settings!$B$20,IF(IFERROR(SEARCH(\"C\",DB67,1),0)=1,Settings!$B$23,IF(IFERROR(SEARCH(\"DT\",DB67,1),0)=1,Settings!$B$26,IF(IFERROR(SEARCH(\"D\",DB67,1),0)=1,Settings!$B$25,IF(IFERROR(SEARCH(\"I\",DB67,1),0)=1,Settings!$B$22, IF(DB64=\"Y\", Settings!$B$18, Settings!$B$17))))))))","v":""},{"$f":"IF(LEN(DC72)=0,\"\", \" \" & IF(DC59=\"Y\", Settings!$B$19, IF(IFERROR(SEARCH(\"N\",DC67,1),0)=1,Settings!$B$20,IF(IFERROR(SEARCH(\"C\",DC67,1),0)=1,Settings!$B$23,IF(IFERROR(SEARCH(\"DT\",DC67,1),0)=1,Settings!$B$26,IF(IFERROR(SEARCH(\"D\",DC67,1),0)=1,Settings!$B$25,IF(IFERROR(SEARCH(\"I\",DC67,1),0)=1,Settings!$B$22, IF(DC64=\"Y\", Settings!$B$18, Settings!$B$17))))))))","v":""},{"$f":"IF(LEN(DD72)=0,\"\", \" \" & IF(DD59=\"Y\", Settings!$B$19, IF(IFERROR(SEARCH(\"N\",DD67,1),0)=1,Settings!$B$20,IF(IFERROR(SEARCH(\"C\",DD67,1),0)=1,Settings!$B$23,IF(IFERROR(SEARCH(\"DT\",DD67,1),0)=1,Settings!$B$26,IF(IFERROR(SEARCH(\"D\",DD67,1),0)=1,Settings!$B$25,IF(IFERROR(SEARCH(\"I\",DD67,1),0)=1,Settings!$B$22, IF(DD64=\"Y\", Settings!$B$18, Settings!$B$17))))))))","v":""},{"$f":"IF(LEN(DE72)=0,\"\", \" \" & IF(DE59=\"Y\", Settings!$B$19, IF(IFERROR(SEARCH(\"N\",DE67,1),0)=1,Settings!$B$20,IF(IFERROR(SEARCH(\"C\",DE67,1),0)=1,Settings!$B$23,IF(IFERROR(SEARCH(\"DT\",DE67,1),0)=1,Settings!$B$26,IF(IFERROR(SEARCH(\"D\",DE67,1),0)=1,Settings!$B$25,IF(IFERROR(SEARCH(\"I\",DE67,1),0)=1,Settings!$B$22, IF(DE64=\"Y\", Settings!$B$18, Settings!$B$17))))))))","v":""},{"$f":"IF(LEN(DF72)=0,\"\", \" \" & IF(DF59=\"Y\", Settings!$B$19, IF(IFERROR(SEARCH(\"N\",DF67,1),0)=1,Settings!$B$20,IF(IFERROR(SEARCH(\"C\",DF67,1),0)=1,Settings!$B$23,IF(IFERROR(SEARCH(\"DT\",DF67,1),0)=1,Settings!$B$26,IF(IFERROR(SEARCH(\"D\",DF67,1),0)=1,Settings!$B$25,IF(IFERROR(SEARCH(\"I\",DF67,1),0)=1,Settings!$B$22, IF(DF64=\"Y\", Settings!$B$18, Settings!$B$17))))))))","v":""},{"$f":"IF(LEN(DG72)=0,\"\", \" \" & IF(DG59=\"Y\", Settings!$B$19, IF(IFERROR(SEARCH(\"N\",DG67,1),0)=1,Settings!$B$20,IF(IFERROR(SEARCH(\"C\",DG67,1),0)=1,Settings!$B$23,IF(IFERROR(SEARCH(\"DT\",DG67,1),0)=1,Settings!$B$26,IF(IFERROR(SEARCH(\"D\",DG67,1),0)=1,Settings!$B$25,IF(IFERROR(SEARCH(\"I\",DG67,1),0)=1,Settings!$B$22, IF(DG64=\"Y\", Settings!$B$18, Settings!$B$17))))))))","v":""},{"$f":"IF(LEN(DH72)=0,\"\", \" \" & IF(DH59=\"Y\", Settings!$B$19, IF(IFERROR(SEARCH(\"N\",DH67,1),0)=1,Settings!$B$20,IF(IFERROR(SEARCH(\"C\",DH67,1),0)=1,Settings!$B$23,IF(IFERROR(SEARCH(\"DT\",DH67,1),0)=1,Settings!$B$26,IF(IFERROR(SEARCH(\"D\",DH67,1),0)=1,Settings!$B$25,IF(IFERROR(SEARCH(\"I\",DH67,1),0)=1,Settings!$B$22, IF(DH64=\"Y\", Settings!$B$18, Settings!$B$17))))))))","v":""},{"$f":"IF(LEN(DI72)=0,\"\", \" \" & IF(DI59=\"Y\", Settings!$B$19, IF(IFERROR(SEARCH(\"N\",DI67,1),0)=1,Settings!$B$20,IF(IFERROR(SEARCH(\"C\",DI67,1),0)=1,Settings!$B$23,IF(IFERROR(SEARCH(\"DT\",DI67,1),0)=1,Settings!$B$26,IF(IFERROR(SEARCH(\"D\",DI67,1),0)=1,Settings!$B$25,IF(IFERROR(SEARCH(\"I\",DI67,1),0)=1,Settings!$B$22, IF(DI64=\"Y\", Settings!$B$18, Settings!$B$17))))))))","v":""},{"$f":"IF(LEN(DJ72)=0,\"\", \" \" & IF(DJ59=\"Y\", Settings!$B$19, IF(IFERROR(SEARCH(\"N\",DJ67,1),0)=1,Settings!$B$20,IF(IFERROR(SEARCH(\"C\",DJ67,1),0)=1,Settings!$B$23,IF(IFERROR(SEARCH(\"DT\",DJ67,1),0)=1,Settings!$B$26,IF(IFERROR(SEARCH(\"D\",DJ67,1),0)=1,Settings!$B$25,IF(IFERROR(SEARCH(\"I\",DJ67,1),0)=1,Settings!$B$22, IF(DJ64=\"Y\", Settings!$B$18, Settings!$B$17))))))))","v":""},{"$f":"IF(LEN(DK72)=0,\"\", \" \" & IF(DK59=\"Y\", Settings!$B$19, IF(IFERROR(SEARCH(\"N\",DK67,1),0)=1,Settings!$B$20,IF(IFERROR(SEARCH(\"C\",DK67,1),0)=1,Settings!$B$23,IF(IFERROR(SEARCH(\"DT\",DK67,1),0)=1,Settings!$B$26,IF(IFERROR(SEARCH(\"D\",DK67,1),0)=1,Settings!$B$25,IF(IFERROR(SEARCH(\"I\",DK67,1),0)=1,Settings!$B$22, IF(DK64=\"Y\", Settings!$B$18, Settings!$B$17))))))))","v":""},{"$f":"IF(LEN(DL72)=0,\"\", \" \" & IF(DL59=\"Y\", Settings!$B$19, IF(IFERROR(SEARCH(\"N\",DL67,1),0)=1,Settings!$B$20,IF(IFERROR(SEARCH(\"C\",DL67,1),0)=1,Settings!$B$23,IF(IFERROR(SEARCH(\"DT\",DL67,1),0)=1,Settings!$B$26,IF(IFERROR(SEARCH(\"D\",DL67,1),0)=1,Settings!$B$25,IF(IFERROR(SEARCH(\"I\",DL67,1),0)=1,Settings!$B$22, IF(DL64=\"Y\", Settings!$B$18, Settings!$B$17))))))))","v":""},{"$f":"IF(LEN(DM72)=0,\"\", \" \" & IF(DM59=\"Y\", Settings!$B$19, IF(IFERROR(SEARCH(\"N\",DM67,1),0)=1,Settings!$B$20,IF(IFERROR(SEARCH(\"C\",DM67,1),0)=1,Settings!$B$23,IF(IFERROR(SEARCH(\"DT\",DM67,1),0)=1,Settings!$B$26,IF(IFERROR(SEARCH(\"D\",DM67,1),0)=1,Settings!$B$25,IF(IFERROR(SEARCH(\"I\",DM67,1),0)=1,Settings!$B$22, IF(DM64=\"Y\", Settings!$B$18, Settings!$B$17))))))))","v":""},{"$f":"IF(LEN(DN72)=0,\"\", \" \" & IF(DN59=\"Y\", Settings!$B$19, IF(IFERROR(SEARCH(\"N\",DN67,1),0)=1,Settings!$B$20,IF(IFERROR(SEARCH(\"C\",DN67,1),0)=1,Settings!$B$23,IF(IFERROR(SEARCH(\"DT\",DN67,1),0)=1,Settings!$B$26,IF(IFERROR(SEARCH(\"D\",DN67,1),0)=1,Settings!$B$25,IF(IFERROR(SEARCH(\"I\",DN67,1),0)=1,Settings!$B$22, IF(DN64=\"Y\", Settings!$B$18, Settings!$B$17))))))))","v":""},{"$f":"IF(LEN(DO72)=0,\"\", \" \" & IF(DO59=\"Y\", Settings!$B$19, IF(IFERROR(SEARCH(\"N\",DO67,1),0)=1,Settings!$B$20,IF(IFERROR(SEARCH(\"C\",DO67,1),0)=1,Settings!$B$23,IF(IFERROR(SEARCH(\"DT\",DO67,1),0)=1,Settings!$B$26,IF(IFERROR(SEARCH(\"D\",DO67,1),0)=1,Settings!$B$25,IF(IFERROR(SEARCH(\"I\",DO67,1),0)=1,Settings!$B$22, IF(DO64=\"Y\", Settings!$B$18, Settings!$B$17))))))))","v":""},{"$f":"IF(LEN(DP72)=0,\"\", \" \" & IF(DP59=\"Y\", Settings!$B$19, IF(IFERROR(SEARCH(\"N\",DP67,1),0)=1,Settings!$B$20,IF(IFERROR(SEARCH(\"C\",DP67,1),0)=1,Settings!$B$23,IF(IFERROR(SEARCH(\"DT\",DP67,1),0)=1,Settings!$B$26,IF(IFERROR(SEARCH(\"D\",DP67,1),0)=1,Settings!$B$25,IF(IFERROR(SEARCH(\"I\",DP67,1),0)=1,Settings!$B$22, IF(DP64=\"Y\", Settings!$B$18, Settings!$B$17))))))))","v":""},{"$f":"IF(LEN(DQ72)=0,\"\", \" \" & IF(DQ59=\"Y\", Settings!$B$19, IF(IFERROR(SEARCH(\"N\",DQ67,1),0)=1,Settings!$B$20,IF(IFERROR(SEARCH(\"C\",DQ67,1),0)=1,Settings!$B$23,IF(IFERROR(SEARCH(\"DT\",DQ67,1),0)=1,Settings!$B$26,IF(IFERROR(SEARCH(\"D\",DQ67,1),0)=1,Settings!$B$25,IF(IFERROR(SEARCH(\"I\",DQ67,1),0)=1,Settings!$B$22, IF(DQ64=\"Y\", Settings!$B$18, Settings!$B$17))))))))","v":""},{"$f":"IF(LEN(DR72)=0,\"\", \" \" & IF(DR59=\"Y\", Settings!$B$19, IF(IFERROR(SEARCH(\"N\",DR67,1),0)=1,Settings!$B$20,IF(IFERROR(SEARCH(\"C\",DR67,1),0)=1,Settings!$B$23,IF(IFERROR(SEARCH(\"DT\",DR67,1),0)=1,Settings!$B$26,IF(IFERROR(SEARCH(\"D\",DR67,1),0)=1,Settings!$B$25,IF(IFERROR(SEARCH(\"I\",DR67,1),0)=1,Settings!$B$22, IF(DR64=\"Y\", Settings!$B$18, Settings!$B$17))))))))","v":""},{"$f":"IF(LEN(DS72)=0,\"\", \" \" & IF(DS59=\"Y\", Settings!$B$19, IF(IFERROR(SEARCH(\"N\",DS67,1),0)=1,Settings!$B$20,IF(IFERROR(SEARCH(\"C\",DS67,1),0)=1,Settings!$B$23,IF(IFERROR(SEARCH(\"DT\",DS67,1),0)=1,Settings!$B$26,IF(IFERROR(SEARCH(\"D\",DS67,1),0)=1,Settings!$B$25,IF(IFERROR(SEARCH(\"I\",DS67,1),0)=1,Settings!$B$22, IF(DS64=\"Y\", Settings!$B$18, Settings!$B$17))))))))","v":""},{"$f":"IF(LEN(DT72)=0,\"\", \" \" & IF(DT59=\"Y\", Settings!$B$19, IF(IFERROR(SEARCH(\"N\",DT67,1),0)=1,Settings!$B$20,IF(IFERROR(SEARCH(\"C\",DT67,1),0)=1,Settings!$B$23,IF(IFERROR(SEARCH(\"DT\",DT67,1),0)=1,Settings!$B$26,IF(IFERROR(SEARCH(\"D\",DT67,1),0)=1,Settings!$B$25,IF(IFERROR(SEARCH(\"I\",DT67,1),0)=1,Settings!$B$22, IF(DT64=\"Y\", Settings!$B$18, Settings!$B$17))))))))","v":""},{"$f":"IF(LEN(DU72)=0,\"\", \" \" & IF(DU59=\"Y\", Settings!$B$19, IF(IFERROR(SEARCH(\"N\",DU67,1),0)=1,Settings!$B$20,IF(IFERROR(SEARCH(\"C\",DU67,1),0)=1,Settings!$B$23,IF(IFERROR(SEARCH(\"DT\",DU67,1),0)=1,Settings!$B$26,IF(IFERROR(SEARCH(\"D\",DU67,1),0)=1,Settings!$B$25,IF(IFERROR(SEARCH(\"I\",DU67,1),0)=1,Settings!$B$22, IF(DU64=\"Y\", Settings!$B$18, Settings!$B$17))))))))","v":""},{"$f":"IF(LEN(DV72)=0,\"\", \" \" & IF(DV59=\"Y\", Settings!$B$19, IF(IFERROR(SEARCH(\"N\",DV67,1),0)=1,Settings!$B$20,IF(IFERROR(SEARCH(\"C\",DV67,1),0)=1,Settings!$B$23,IF(IFERROR(SEARCH(\"DT\",DV67,1),0)=1,Settings!$B$26,IF(IFERROR(SEARCH(\"D\",DV67,1),0)=1,Settings!$B$25,IF(IFERROR(SEARCH(\"I\",DV67,1),0)=1,Settings!$B$22, IF(DV64=\"Y\", Settings!$B$18, Settings!$B$17))))))))","v":""},{"$f":"IF(LEN(DW72)=0,\"\", \" \" & IF(DW59=\"Y\", Settings!$B$19, IF(IFERROR(SEARCH(\"N\",DW67,1),0)=1,Settings!$B$20,IF(IFERROR(SEARCH(\"C\",DW67,1),0)=1,Settings!$B$23,IF(IFERROR(SEARCH(\"DT\",DW67,1),0)=1,Settings!$B$26,IF(IFERROR(SEARCH(\"D\",DW67,1),0)=1,Settings!$B$25,IF(IFERROR(SEARCH(\"I\",DW67,1),0)=1,Settings!$B$22, IF(DW64=\"Y\", Settings!$B$18, Settings!$B$17))))))))","v":""},{"$f":"IF(LEN(DX72)=0,\"\", \" \" & IF(DX59=\"Y\", Settings!$B$19, IF(IFERROR(SEARCH(\"N\",DX67,1),0)=1,Settings!$B$20,IF(IFERROR(SEARCH(\"C\",DX67,1),0)=1,Settings!$B$23,IF(IFERROR(SEARCH(\"DT\",DX67,1),0)=1,Settings!$B$26,IF(IFERROR(SEARCH(\"D\",DX67,1),0)=1,Settings!$B$25,IF(IFERROR(SEARCH(\"I\",DX67,1),0)=1,Settings!$B$22, IF(DX64=\"Y\", Settings!$B$18, Settings!$B$17))))))))","v":""},{"$f":"IF(LEN(DY72)=0,\"\", \" \" & IF(DY59=\"Y\", Settings!$B$19, IF(IFERROR(SEARCH(\"N\",DY67,1),0)=1,Settings!$B$20,IF(IFERROR(SEARCH(\"C\",DY67,1),0)=1,Settings!$B$23,IF(IFERROR(SEARCH(\"DT\",DY67,1),0)=1,Settings!$B$26,IF(IFERROR(SEARCH(\"D\",DY67,1),0)=1,Settings!$B$25,IF(IFERROR(SEARCH(\"I\",DY67,1),0)=1,Settings!$B$22, IF(DY64=\"Y\", Settings!$B$18, Settings!$B$17))))))))","v":""},{"$f":"IF(LEN(DZ72)=0,\"\", \" \" & IF(DZ59=\"Y\", Settings!$B$19, IF(IFERROR(SEARCH(\"N\",DZ67,1),0)=1,Settings!$B$20,IF(IFERROR(SEARCH(\"C\",DZ67,1),0)=1,Settings!$B$23,IF(IFERROR(SEARCH(\"DT\",DZ67,1),0)=1,Settings!$B$26,IF(IFERROR(SEARCH(\"D\",DZ67,1),0)=1,Settings!$B$25,IF(IFERROR(SEARCH(\"I\",DZ67,1),0)=1,Settings!$B$22, IF(DZ64=\"Y\", Settings!$B$18, Settings!$B$17))))))))","v":""},{"$f":"IF(LEN(EA72)=0,\"\", \" \" & IF(EA59=\"Y\", Settings!$B$19, IF(IFERROR(SEARCH(\"N\",EA67,1),0)=1,Settings!$B$20,IF(IFERROR(SEARCH(\"C\",EA67,1),0)=1,Settings!$B$23,IF(IFERROR(SEARCH(\"DT\",EA67,1),0)=1,Settings!$B$26,IF(IFERROR(SEARCH(\"D\",EA67,1),0)=1,Settings!$B$25,IF(IFERROR(SEARCH(\"I\",EA67,1),0)=1,Settings!$B$22, IF(EA64=\"Y\", Settings!$B$18, Settings!$B$17))))))))","v":""},{"$f":"IF(LEN(EB72)=0,\"\", \" \" & IF(EB59=\"Y\", Settings!$B$19, IF(IFERROR(SEARCH(\"N\",EB67,1),0)=1,Settings!$B$20,IF(IFERROR(SEARCH(\"C\",EB67,1),0)=1,Settings!$B$23,IF(IFERROR(SEARCH(\"DT\",EB67,1),0)=1,Settings!$B$26,IF(IFERROR(SEARCH(\"D\",EB67,1),0)=1,Settings!$B$25,IF(IFERROR(SEARCH(\"I\",EB67,1),0)=1,Settings!$B$22, IF(EB64=\"Y\", Settings!$B$18, Settings!$B$17))))))))","v":""},{"$f":"IF(LEN(EC72)=0,\"\", \" \" & IF(EC59=\"Y\", Settings!$B$19, IF(IFERROR(SEARCH(\"N\",EC67,1),0)=1,Settings!$B$20,IF(IFERROR(SEARCH(\"C\",EC67,1),0)=1,Settings!$B$23,IF(IFERROR(SEARCH(\"DT\",EC67,1),0)=1,Settings!$B$26,IF(IFERROR(SEARCH(\"D\",EC67,1),0)=1,Settings!$B$25,IF(IFERROR(SEARCH(\"I\",EC67,1),0)=1,Settings!$B$22, IF(EC64=\"Y\", Settings!$B$18, Settings!$B$17))))))))","v":""},{"$f":"IF(LEN(ED72)=0,\"\", \" \" & IF(ED59=\"Y\", Settings!$B$19, IF(IFERROR(SEARCH(\"N\",ED67,1),0)=1,Settings!$B$20,IF(IFERROR(SEARCH(\"C\",ED67,1),0)=1,Settings!$B$23,IF(IFERROR(SEARCH(\"DT\",ED67,1),0)=1,Settings!$B$26,IF(IFERROR(SEARCH(\"D\",ED67,1),0)=1,Settings!$B$25,IF(IFERROR(SEARCH(\"I\",ED67,1),0)=1,Settings!$B$22, IF(ED64=\"Y\", Settings!$B$18, Settings!$B$17))))))))","v":""},{"$f":"IF(LEN(EE72)=0,\"\", \" \" & IF(EE59=\"Y\", Settings!$B$19, IF(IFERROR(SEARCH(\"N\",EE67,1),0)=1,Settings!$B$20,IF(IFERROR(SEARCH(\"C\",EE67,1),0)=1,Settings!$B$23,IF(IFERROR(SEARCH(\"DT\",EE67,1),0)=1,Settings!$B$26,IF(IFERROR(SEARCH(\"D\",EE67,1),0)=1,Settings!$B$25,IF(IFERROR(SEARCH(\"I\",EE67,1),0)=1,Settings!$B$22, IF(EE64=\"Y\", Settings!$B$18, Settings!$B$17))))))))","v":""},{"$f":"IF(LEN(EF72)=0,\"\", \" \" & IF(EF59=\"Y\", Settings!$B$19, IF(IFERROR(SEARCH(\"N\",EF67,1),0)=1,Settings!$B$20,IF(IFERROR(SEARCH(\"C\",EF67,1),0)=1,Settings!$B$23,IF(IFERROR(SEARCH(\"DT\",EF67,1),0)=1,Settings!$B$26,IF(IFERROR(SEARCH(\"D\",EF67,1),0)=1,Settings!$B$25,IF(IFERROR(SEARCH(\"I\",EF67,1),0)=1,Settings!$B$22, IF(EF64=\"Y\", Settings!$B$18, Settings!$B$17))))))))","v":""},{"$f":"IF(LEN(EG72)=0,\"\", \" \" & IF(EG59=\"Y\", Settings!$B$19, IF(IFERROR(SEARCH(\"N\",EG67,1),0)=1,Settings!$B$20,IF(IFERROR(SEARCH(\"C\",EG67,1),0)=1,Settings!$B$23,IF(IFERROR(SEARCH(\"DT\",EG67,1),0)=1,Settings!$B$26,IF(IFERROR(SEARCH(\"D\",EG67,1),0)=1,Settings!$B$25,IF(IFERROR(SEARCH(\"I\",EG67,1),0)=1,Settings!$B$22, IF(EG64=\"Y\", Settings!$B$18, Settings!$B$17))))))))","v":""},{"$f":"IF(LEN(EH72)=0,\"\", \" \" & IF(EH59=\"Y\", Settings!$B$19, IF(IFERROR(SEARCH(\"N\",EH67,1),0)=1,Settings!$B$20,IF(IFERROR(SEARCH(\"C\",EH67,1),0)=1,Settings!$B$23,IF(IFERROR(SEARCH(\"DT\",EH67,1),0)=1,Settings!$B$26,IF(IFERROR(SEARCH(\"D\",EH67,1),0)=1,Settings!$B$25,IF(IFERROR(SEARCH(\"I\",EH67,1),0)=1,Settings!$B$22, IF(EH64=\"Y\", Settings!$B$18, Settings!$B$17))))))))","v":""},{"$f":"IF(LEN(EI72)=0,\"\", \" \" & IF(EI59=\"Y\", Settings!$B$19, IF(IFERROR(SEARCH(\"N\",EI67,1),0)=1,Settings!$B$20,IF(IFERROR(SEARCH(\"C\",EI67,1),0)=1,Settings!$B$23,IF(IFERROR(SEARCH(\"DT\",EI67,1),0)=1,Settings!$B$26,IF(IFERROR(SEARCH(\"D\",EI67,1),0)=1,Settings!$B$25,IF(IFERROR(SEARCH(\"I\",EI67,1),0)=1,Settings!$B$22, IF(EI64=\"Y\", Settings!$B$18, Settings!$B$17))))))))","v":""},{"$f":"IF(LEN(EJ72)=0,\"\", \" \" & IF(EJ59=\"Y\", Settings!$B$19, IF(IFERROR(SEARCH(\"N\",EJ67,1),0)=1,Settings!$B$20,IF(IFERROR(SEARCH(\"C\",EJ67,1),0)=1,Settings!$B$23,IF(IFERROR(SEARCH(\"DT\",EJ67,1),0)=1,Settings!$B$26,IF(IFERROR(SEARCH(\"D\",EJ67,1),0)=1,Settings!$B$25,IF(IFERROR(SEARCH(\"I\",EJ67,1),0)=1,Settings!$B$22, IF(EJ64=\"Y\", Settings!$B$18, Settings!$B$17))))))))","v":""},{"$f":"IF(LEN(EK72)=0,\"\", \" \" & IF(EK59=\"Y\", Settings!$B$19, IF(IFERROR(SEARCH(\"N\",EK67,1),0)=1,Settings!$B$20,IF(IFERROR(SEARCH(\"C\",EK67,1),0)=1,Settings!$B$23,IF(IFERROR(SEARCH(\"DT\",EK67,1),0)=1,Settings!$B$26,IF(IFERROR(SEARCH(\"D\",EK67,1),0)=1,Settings!$B$25,IF(IFERROR(SEARCH(\"I\",EK67,1),0)=1,Settings!$B$22, IF(EK64=\"Y\", Settings!$B$18, Settings!$B$17))))))))","v":""},{"$f":"IF(LEN(EL72)=0,\"\", \" \" & IF(EL59=\"Y\", Settings!$B$19, IF(IFERROR(SEARCH(\"N\",EL67,1),0)=1,Settings!$B$20,IF(IFERROR(SEARCH(\"C\",EL67,1),0)=1,Settings!$B$23,IF(IFERROR(SEARCH(\"DT\",EL67,1),0)=1,Settings!$B$26,IF(IFERROR(SEARCH(\"D\",EL67,1),0)=1,Settings!$B$25,IF(IFERROR(SEARCH(\"I\",EL67,1),0)=1,Settings!$B$22, IF(EL64=\"Y\", Settings!$B$18, Settings!$B$17))))))))","v":""},{"$f":"IF(LEN(EM72)=0,\"\", \" \" & IF(EM59=\"Y\", Settings!$B$19, IF(IFERROR(SEARCH(\"N\",EM67,1),0)=1,Settings!$B$20,IF(IFERROR(SEARCH(\"C\",EM67,1),0)=1,Settings!$B$23,IF(IFERROR(SEARCH(\"DT\",EM67,1),0)=1,Settings!$B$26,IF(IFERROR(SEARCH(\"D\",EM67,1),0)=1,Settings!$B$25,IF(IFERROR(SEARCH(\"I\",EM67,1),0)=1,Settings!$B$22, IF(EM64=\"Y\", Settings!$B$18, Settings!$B$17))))))))","v":""},{"$f":"IF(LEN(EN72)=0,\"\", \" \" & IF(EN59=\"Y\", Settings!$B$19, IF(IFERROR(SEARCH(\"N\",EN67,1),0)=1,Settings!$B$20,IF(IFERROR(SEARCH(\"C\",EN67,1),0)=1,Settings!$B$23,IF(IFERROR(SEARCH(\"DT\",EN67,1),0)=1,Settings!$B$26,IF(IFERROR(SEARCH(\"D\",EN67,1),0)=1,Settings!$B$25,IF(IFERROR(SEARCH(\"I\",EN67,1),0)=1,Settings!$B$22, IF(EN64=\"Y\", Settings!$B$18, Settings!$B$17))))))))","v":""},{"$f":"IF(LEN(EO72)=0,\"\", \" \" & IF(EO59=\"Y\", Settings!$B$19, IF(IFERROR(SEARCH(\"N\",EO67,1),0)=1,Settings!$B$20,IF(IFERROR(SEARCH(\"C\",EO67,1),0)=1,Settings!$B$23,IF(IFERROR(SEARCH(\"DT\",EO67,1),0)=1,Settings!$B$26,IF(IFERROR(SEARCH(\"D\",EO67,1),0)=1,Settings!$B$25,IF(IFERROR(SEARCH(\"I\",EO67,1),0)=1,Settings!$B$22, IF(EO64=\"Y\", Settings!$B$18, Settings!$B$17))))))))","v":""},{"$f":"IF(LEN(EP72)=0,\"\", \" \" & IF(EP59=\"Y\", Settings!$B$19, IF(IFERROR(SEARCH(\"N\",EP67,1),0)=1,Settings!$B$20,IF(IFERROR(SEARCH(\"C\",EP67,1),0)=1,Settings!$B$23,IF(IFERROR(SEARCH(\"DT\",EP67,1),0)=1,Settings!$B$26,IF(IFERROR(SEARCH(\"D\",EP67,1),0)=1,Settings!$B$25,IF(IFERROR(SEARCH(\"I\",EP67,1),0)=1,Settings!$B$22, IF(EP64=\"Y\", Settings!$B$18, Settings!$B$17))))))))","v":""},{"$f":"IF(LEN(EQ72)=0,\"\", \" \" & IF(EQ59=\"Y\", Settings!$B$19, IF(IFERROR(SEARCH(\"N\",EQ67,1),0)=1,Settings!$B$20,IF(IFERROR(SEARCH(\"C\",EQ67,1),0)=1,Settings!$B$23,IF(IFERROR(SEARCH(\"DT\",EQ67,1),0)=1,Settings!$B$26,IF(IFERROR(SEARCH(\"D\",EQ67,1),0)=1,Settings!$B$25,IF(IFERROR(SEARCH(\"I\",EQ67,1),0)=1,Settings!$B$22, IF(EQ64=\"Y\", Settings!$B$18, Settings!$B$17))))))))","v":""},{"$f":"IF(LEN(ER72)=0,\"\", \" \" & IF(ER59=\"Y\", Settings!$B$19, IF(IFERROR(SEARCH(\"N\",ER67,1),0)=1,Settings!$B$20,IF(IFERROR(SEARCH(\"C\",ER67,1),0)=1,Settings!$B$23,IF(IFERROR(SEARCH(\"DT\",ER67,1),0)=1,Settings!$B$26,IF(IFERROR(SEARCH(\"D\",ER67,1),0)=1,Settings!$B$25,IF(IFERROR(SEARCH(\"I\",ER67,1),0)=1,Settings!$B$22, IF(ER64=\"Y\", Settings!$B$18, Settings!$B$17))))))))","v":""},{"$f":"IF(LEN(ES72)=0,\"\", \" \" & IF(ES59=\"Y\", Settings!$B$19, IF(IFERROR(SEARCH(\"N\",ES67,1),0)=1,Settings!$B$20,IF(IFERROR(SEARCH(\"C\",ES67,1),0)=1,Settings!$B$23,IF(IFERROR(SEARCH(\"DT\",ES67,1),0)=1,Settings!$B$26,IF(IFERROR(SEARCH(\"D\",ES67,1),0)=1,Settings!$B$25,IF(IFERROR(SEARCH(\"I\",ES67,1),0)=1,Settings!$B$22, IF(ES64=\"Y\", Settings!$B$18, Settings!$B$17))))))))","v":""},{"$f":"IF(LEN(ET72)=0,\"\", \" \" & IF(ET59=\"Y\", Settings!$B$19, IF(IFERROR(SEARCH(\"N\",ET67,1),0)=1,Settings!$B$20,IF(IFERROR(SEARCH(\"C\",ET67,1),0)=1,Settings!$B$23,IF(IFERROR(SEARCH(\"DT\",ET67,1),0)=1,Settings!$B$26,IF(IFERROR(SEARCH(\"D\",ET67,1),0)=1,Settings!$B$25,IF(IFERROR(SEARCH(\"I\",ET67,1),0)=1,Settings!$B$22, IF(ET64=\"Y\", Settings!$B$18, Settings!$B$17))))))))","v":""},{"$f":"IF(LEN(EU72)=0,\"\", \" \" & IF(EU59=\"Y\", Settings!$B$19, IF(IFERROR(SEARCH(\"N\",EU67,1),0)=1,Settings!$B$20,IF(IFERROR(SEARCH(\"C\",EU67,1),0)=1,Settings!$B$23,IF(IFERROR(SEARCH(\"DT\",EU67,1),0)=1,Settings!$B$26,IF(IFERROR(SEARCH(\"D\",EU67,1),0)=1,Settings!$B$25,IF(IFERROR(SEARCH(\"I\",EU67,1),0)=1,Settings!$B$22, IF(EU64=\"Y\", Settings!$B$18, Settings!$B$17))))))))","v":""},{"$f":"IF(LEN(EV72)=0,\"\", \" \" & IF(EV59=\"Y\", Settings!$B$19, IF(IFERROR(SEARCH(\"N\",EV67,1),0)=1,Settings!$B$20,IF(IFERROR(SEARCH(\"C\",EV67,1),0)=1,Settings!$B$23,IF(IFERROR(SEARCH(\"DT\",EV67,1),0)=1,Settings!$B$26,IF(IFERROR(SEARCH(\"D\",EV67,1),0)=1,Settings!$B$25,IF(IFERROR(SEARCH(\"I\",EV67,1),0)=1,Settings!$B$22, IF(EV64=\"Y\", Settings!$B$18, Settings!$B$17))))))))","v":""},{"$f":"IF(LEN(EW72)=0,\"\", \" \" & IF(EW59=\"Y\", Settings!$B$19, IF(IFERROR(SEARCH(\"N\",EW67,1),0)=1,Settings!$B$20,IF(IFERROR(SEARCH(\"C\",EW67,1),0)=1,Settings!$B$23,IF(IFERROR(SEARCH(\"DT\",EW67,1),0)=1,Settings!$B$26,IF(IFERROR(SEARCH(\"D\",EW67,1),0)=1,Settings!$B$25,IF(IFERROR(SEARCH(\"I\",EW67,1),0)=1,Settings!$B$22, IF(EW64=\"Y\", Settings!$B$18, Settings!$B$17))))))))","v":""},{"$f":"IF(LEN(EX72)=0,\"\", \" \" & IF(EX59=\"Y\", Settings!$B$19, IF(IFERROR(SEARCH(\"N\",EX67,1),0)=1,Settings!$B$20,IF(IFERROR(SEARCH(\"C\",EX67,1),0)=1,Settings!$B$23,IF(IFERROR(SEARCH(\"DT\",EX67,1),0)=1,Settings!$B$26,IF(IFERROR(SEARCH(\"D\",EX67,1),0)=1,Settings!$B$25,IF(IFERROR(SEARCH(\"I\",EX67,1),0)=1,Settings!$B$22, IF(EX64=\"Y\", Settings!$B$18, Settings!$B$17))))))))","v":""},{"$f":"IF(LEN(EY72)=0,\"\", \" \" & IF(EY59=\"Y\", Settings!$B$19, IF(IFERROR(SEARCH(\"N\",EY67,1),0)=1,Settings!$B$20,IF(IFERROR(SEARCH(\"C\",EY67,1),0)=1,Settings!$B$23,IF(IFERROR(SEARCH(\"DT\",EY67,1),0)=1,Settings!$B$26,IF(IFERROR(SEARCH(\"D\",EY67,1),0)=1,Settings!$B$25,IF(IFERROR(SEARCH(\"I\",EY67,1),0)=1,Settings!$B$22, IF(EY64=\"Y\", Settings!$B$18, Settings!$B$17))))))))","v":""}]
[null,null,"Data Type + Length",null,null,{"$f":"IF(OR(F59=\"Y\", LEN(F67)=0, LEN(F69)=0), F95, CONCATENATE(F95,\"(\",F69,\")\"))","v":""},"","","","","","","","","","","","","","","","","","","","","","","","","","","","","","","","","","","","","","","","","","","","","","","","","","","","","","","","","","","","","","","",{"$f":"IF(OR(BR59=\"Y\", LEN(BR67)=0, LEN(BR69)=0), BR95, CONCATENATE(BR95,\"(\",BR69,\")\"))","v":""},"","","","","","","","","","","","","","","","","","","","","","","","","","","","","","","","","","","","","","","","","","","","","","","","","","","","","","","","","","","","","","","",{"$f":"IF(OR(ED59=\"Y\", LEN(ED67)=0, LEN(ED69)=0), ED95, CONCATENATE(ED95,\"(\",ED69,\")\"))","v":""},"","","","","","","","","","","","","","","","","","","","",""]
[null,null,"Column Constraint",null,null,{"$f":"IF(AND(ISTEXT(F72),F65=\"Y\", F57<>\"Y\", ISERROR(FIND(\"SK\",F7))), \" NOT NULL\", \"\")","v":""},{"$f":"IF(AND(ISTEXT(G72),G65=\"Y\", G57<>\"Y\", ISERROR(FIND(\"SK\",G7))), \" NOT NULL\", \"\")","v":""},"","","","","","","","","","","","","","","","","","","","","","","","","","","","","","","","","","","","","","","","","","","","","","","","","","","","","","","","","","","","","","","",{"$f":"IF(AND(ISTEXT(BS72),BS65=\"Y\", BS57<>\"Y\", ISERROR(FIND(\"SK\",BS7))), \" NOT NULL\", \"\")","v":""},"","","","","","","","","","","","","","","","","","","","","","","","","","","","","","","","","","","","","","","","","","","","","","","","","","","","","","","","","","","","","","","",{"$f":"IF(AND(ISTEXT(EE72),EE65=\"Y\", EE57<>\"Y\", ISERROR(FIND(\"SK\",EE7))), \" NOT NULL\", \"\")","v":""},"","","","","","","","","","","","","","","","","","","",""]
[null,null,"Missing/Default Value",null,null,{"$f":"IF(LEN(F72)=0,\"\",TRIM(F13))","v":""},"","","","","","","","","","","","","","","","","","","","","","","","","","","","","","","","","","","","","","","","","","","","","","","","","","","","","","","","","","","","","","","",{"$f":"IF(LEN(BR72)=0,\"\",TRIM(BR13))","v":""},"","","","","","","","","","","","","","","","","","","","","","","","","","","","","","","","","","","","","","","","","","","","","","","","","","","","","","","","","","","","","","","",{"$f":"IF(LEN(ED72)=0,\"\",TRIM(ED13))","v":""},"","","","","","","","","","","","","","","","","","","","",""]
[null,null,"Adjusted Default Value",null,null,{"$f":"IF(F59=\"Y\", \"\", IF(LEN(F98)=0, \"\",  IF(OR(NOT(ISERROR(FIND(\"N\",F67))), F67=\"I\", F64=\"Y\"), F98, CONCATENATE(\"'\",F98,\"'\"))))","v":""},{"$f":"IF(G59=\"Y\", \"\", IF(LEN(G98)=0, \"\",  IF(OR(NOT(ISERROR(FIND(\"N\",G67))), G67=\"I\", G64=\"Y\"), G98, CONCATENATE(\"'\",G98,\"'\"))))","v":""},"","","","","","","","","","","","","","","","","","","","","","","","","","","","","","","","","","","","","","","","","","","","","","","","","","","","","","","","","","","","","","","",{"$f":"IF(BS59=\"Y\", \"\", IF(LEN(BS98)=0, \"\",  IF(OR(NOT(ISERROR(FIND(\"N\",BS67))), BS67=\"I\", BS64=\"Y\"), BS98, CONCATENATE(\"'\",BS98,\"'\"))))","v":""},"","","","","","","","","","","","","","","","","","","","","","","","","","","","","","","","","","","","","","","","","","","","","","","","","","","","","","","","","","","","","","","",{"$f":"IF(EE59=\"Y\", \"\", IF(LEN(EE98)=0, \"\",  IF(OR(NOT(ISERROR(FIND(\"N\",EE67))), EE67=\"I\", EE64=\"Y\"), EE98, CONCATENATE(\"'\",EE98,\"'\"))))","v":""},"","","","","","","","","","","","","","","","","","","",""]
[null,null,"Column Default Clause",null,null,{"$f":"IF(AND(LEN(F99) <> 0, Settings!$B$16 =\"Y\"), CONCATENATE(\" DEFAULT \",F99),\"\")","v":""},{"$f":"IF(AND(LEN(G99) <> 0, Settings!$B$16 =\"Y\"), CONCATENATE(\" DEFAULT \",G99),\"\")","v":""},{"$f":"IF(AND(LEN(H99) <> 0, Settings!$B$16 =\"Y\"), CONCATENATE(\" DEFAULT \",H99),\"\")","v":""},{"$f":"IF(AND(LEN(I99) <> 0, Settings!$B$16 =\"Y\"), CONCATENATE(\" DEFAULT \",I99),\"\")","v":""},{"$f":"IF(AND(LEN(J99) <> 0, Settings!$B$16 =\"Y\"), CONCATENATE(\" DEFAULT \",J99),\"\")","v":""},{"$f":"IF(AND(LEN(K99) <> 0, Settings!$B$16 =\"Y\"), CONCATENATE(\" DEFAULT \",K99),\"\")","v":""},{"$f":"IF(AND(LEN(L99) <> 0, Settings!$B$16 =\"Y\"), CONCATENATE(\" DEFAULT \",L99),\"\")","v":""},{"$f":"IF(AND(LEN(M99) <> 0, Settings!$B$16 =\"Y\"), CONCATENATE(\" DEFAULT \",M99),\"\")","v":""},{"$f":"IF(AND(LEN(N99) <> 0, Settings!$B$16 =\"Y\"), CONCATENATE(\" DEFAULT \",N99),\"\")","v":""},{"$f":"IF(AND(LEN(O99) <> 0, Settings!$B$16 =\"Y\"), CONCATENATE(\" DEFAULT \",O99),\"\")","v":""},{"$f":"IF(AND(LEN(P99) <> 0, Settings!$B$16 =\"Y\"), CONCATENATE(\" DEFAULT \",P99),\"\")","v":""},{"$f":"IF(AND(LEN(Q99) <> 0, Settings!$B$16 =\"Y\"), CONCATENATE(\" DEFAULT \",Q99),\"\")","v":""},{"$f":"IF(AND(LEN(R99) <> 0, Settings!$B$16 =\"Y\"), CONCATENATE(\" DEFAULT \",R99),\"\")","v":""},{"$f":"IF(AND(LEN(S99) <> 0, Settings!$B$16 =\"Y\"), CONCATENATE(\" DEFAULT \",S99),\"\")","v":""},{"$f":"IF(AND(LEN(T99) <> 0, Settings!$B$16 =\"Y\"), CONCATENATE(\" DEFAULT \",T99),\"\")","v":""},{"$f":"IF(AND(LEN(U99) <> 0, Settings!$B$16 =\"Y\"), CONCATENATE(\" DEFAULT \",U99),\"\")","v":""},{"$f":"IF(AND(LEN(V99) <> 0, Settings!$B$16 =\"Y\"), CONCATENATE(\" DEFAULT \",V99),\"\")","v":""},{"$f":"IF(AND(LEN(W99) <> 0, Settings!$B$16 =\"Y\"), CONCATENATE(\" DEFAULT \",W99),\"\")","v":""},{"$f":"IF(AND(LEN(X99) <> 0, Settings!$B$16 =\"Y\"), CONCATENATE(\" DEFAULT \",X99),\"\")","v":""},{"$f":"IF(AND(LEN(Y99) <> 0, Settings!$B$16 =\"Y\"), CONCATENATE(\" DEFAULT \",Y99),\"\")","v":""},{"$f":"IF(AND(LEN(Z99) <> 0, Settings!$B$16 =\"Y\"), CONCATENATE(\" DEFAULT \",Z99),\"\")","v":""},{"$f":"IF(AND(LEN(AA99) <> 0, Settings!$B$16 =\"Y\"), CONCATENATE(\" DEFAULT \",AA99),\"\")","v":""},{"$f":"IF(AND(LEN(AB99) <> 0, Settings!$B$16 =\"Y\"), CONCATENATE(\" DEFAULT \",AB99),\"\")","v":""},{"$f":"IF(AND(LEN(AC99) <> 0, Settings!$B$16 =\"Y\"), CONCATENATE(\" DEFAULT \",AC99),\"\")","v":""},{"$f":"IF(AND(LEN(AD99) <> 0, Settings!$B$16 =\"Y\"), CONCATENATE(\" DEFAULT \",AD99),\"\")","v":""},{"$f":"IF(AND(LEN(AE99) <> 0, Settings!$B$16 =\"Y\"), CONCATENATE(\" DEFAULT \",AE99),\"\")","v":""},{"$f":"IF(AND(LEN(AF99) <> 0, Settings!$B$16 =\"Y\"), CONCATENATE(\" DEFAULT \",AF99),\"\")","v":""},{"$f":"IF(AND(LEN(AG99) <> 0, Settings!$B$16 =\"Y\"), CONCATENATE(\" DEFAULT \",AG99),\"\")","v":""},{"$f":"IF(AND(LEN(AH99) <> 0, Settings!$B$16 =\"Y\"), CONCATENATE(\" DEFAULT \",AH99),\"\")","v":""},{"$f":"IF(AND(LEN(AI99) <> 0, Settings!$B$16 =\"Y\"), CONCATENATE(\" DEFAULT \",AI99),\"\")","v":""},{"$f":"IF(AND(LEN(AJ99) <> 0, Settings!$B$16 =\"Y\"), CONCATENATE(\" DEFAULT \",AJ99),\"\")","v":""},{"$f":"IF(AND(LEN(AK99) <> 0, Settings!$B$16 =\"Y\"), CONCATENATE(\" DEFAULT \",AK99),\"\")","v":""},{"$f":"IF(AND(LEN(AL99) <> 0, Settings!$B$16 =\"Y\"), CONCATENATE(\" DEFAULT \",AL99),\"\")","v":""},{"$f":"IF(AND(LEN(AM99) <> 0, Settings!$B$16 =\"Y\"), CONCATENATE(\" DEFAULT \",AM99),\"\")","v":""},{"$f":"IF(AND(LEN(AN99) <> 0, Settings!$B$16 =\"Y\"), CONCATENATE(\" DEFAULT \",AN99),\"\")","v":""},{"$f":"IF(AND(LEN(AO99) <> 0, Settings!$B$16 =\"Y\"), CONCATENATE(\" DEFAULT \",AO99),\"\")","v":""},{"$f":"IF(AND(LEN(AP99) <> 0, Settings!$B$16 =\"Y\"), CONCATENATE(\" DEFAULT \",AP99),\"\")","v":""},{"$f":"IF(AND(LEN(AQ99) <> 0, Settings!$B$16 =\"Y\"), CONCATENATE(\" DEFAULT \",AQ99),\"\")","v":""},{"$f":"IF(AND(LEN(AR99) <> 0, Settings!$B$16 =\"Y\"), CONCATENATE(\" DEFAULT \",AR99),\"\")","v":""},{"$f":"IF(AND(LEN(AS99) <> 0, Settings!$B$16 =\"Y\"), CONCATENATE(\" DEFAULT \",AS99),\"\")","v":""},{"$f":"IF(AND(LEN(AT99) <> 0, Settings!$B$16 =\"Y\"), CONCATENATE(\" DEFAULT \",AT99),\"\")","v":""},{"$f":"IF(AND(LEN(AU99) <> 0, Settings!$B$16 =\"Y\"), CONCATENATE(\" DEFAULT \",AU99),\"\")","v":""},{"$f":"IF(AND(LEN(AV99) <> 0, Settings!$B$16 =\"Y\"), CONCATENATE(\" DEFAULT \",AV99),\"\")","v":""},{"$f":"IF(AND(LEN(AW99) <> 0, Settings!$B$16 =\"Y\"), CONCATENATE(\" DEFAULT \",AW99),\"\")","v":""},{"$f":"IF(AND(LEN(AX99) <> 0, Settings!$B$16 =\"Y\"), CONCATENATE(\" DEFAULT \",AX99),\"\")","v":""},{"$f":"IF(AND(LEN(AY99) <> 0, Settings!$B$16 =\"Y\"), CONCATENATE(\" DEFAULT \",AY99),\"\")","v":""},{"$f":"IF(AND(LEN(AZ99) <> 0, Settings!$B$16 =\"Y\"), CONCATENATE(\" DEFAULT \",AZ99),\"\")","v":""},{"$f":"IF(AND(LEN(BA99) <> 0, Settings!$B$16 =\"Y\"), CONCATENATE(\" DEFAULT \",BA99),\"\")","v":""},{"$f":"IF(AND(LEN(BB99) <> 0, Settings!$B$16 =\"Y\"), CONCATENATE(\" DEFAULT \",BB99),\"\")","v":""},{"$f":"IF(AND(LEN(BC99) <> 0, Settings!$B$16 =\"Y\"), CONCATENATE(\" DEFAULT \",BC99),\"\")","v":""},{"$f":"IF(AND(LEN(BD99) <> 0, Settings!$B$16 =\"Y\"), CONCATENATE(\" DEFAULT \",BD99),\"\")","v":""},{"$f":"IF(AND(LEN(BE99) <> 0, Settings!$B$16 =\"Y\"), CONCATENATE(\" DEFAULT \",BE99),\"\")","v":""},{"$f":"IF(AND(LEN(BF99) <> 0, Settings!$B$16 =\"Y\"), CONCATENATE(\" DEFAULT \",BF99),\"\")","v":""},{"$f":"IF(AND(LEN(BG99) <> 0, Settings!$B$16 =\"Y\"), CONCATENATE(\" DEFAULT \",BG99),\"\")","v":""},{"$f":"IF(AND(LEN(BH99) <> 0, Settings!$B$16 =\"Y\"), CONCATENATE(\" DEFAULT \",BH99),\"\")","v":""},{"$f":"IF(AND(LEN(BI99) <> 0, Settings!$B$16 =\"Y\"), CONCATENATE(\" DEFAULT \",BI99),\"\")","v":""},{"$f":"IF(AND(LEN(BJ99) <> 0, Settings!$B$16 =\"Y\"), CONCATENATE(\" DEFAULT \",BJ99),\"\")","v":""},{"$f":"IF(AND(LEN(BK99) <> 0, Settings!$B$16 =\"Y\"), CONCATENATE(\" DEFAULT \",BK99),\"\")","v":""},{"$f":"IF(AND(LEN(BL99) <> 0, Settings!$B$16 =\"Y\"), CONCATENATE(\" DEFAULT \",BL99),\"\")","v":""},{"$f":"IF(AND(LEN(BM99) <> 0, Settings!$B$16 =\"Y\"), CONCATENATE(\" DEFAULT \",BM99),\"\")","v":""},{"$f":"IF(AND(LEN(BN99) <> 0, Settings!$B$16 =\"Y\"), CONCATENATE(\" DEFAULT \",BN99),\"\")","v":""},{"$f":"IF(AND(LEN(BO99) <> 0, Settings!$B$16 =\"Y\"), CONCATENATE(\" DEFAULT \",BO99),\"\")","v":""},{"$f":"IF(AND(LEN(BP99) <> 0, Settings!$B$16 =\"Y\"), CONCATENATE(\" DEFAULT \",BP99),\"\")","v":""},{"$f":"IF(AND(LEN(BQ99) <> 0, Settings!$B$16 =\"Y\"), CONCATENATE(\" DEFAULT \",BQ99),\"\")","v":""},{"$f":"IF(AND(LEN(BR99) <> 0, Settings!$B$16 =\"Y\"), CONCATENATE(\" DEFAULT \",BR99),\"\")","v":""},{"$f":"IF(AND(LEN(BS99) <> 0, Settings!$B$16 =\"Y\"), CONCATENATE(\" DEFAULT \",BS99),\"\")","v":""},{"$f":"IF(AND(LEN(BT99) <> 0, Settings!$B$16 =\"Y\"), CONCATENATE(\" DEFAULT \",BT99),\"\")","v":""},{"$f":"IF(AND(LEN(BU99) <> 0, Settings!$B$16 =\"Y\"), CONCATENATE(\" DEFAULT \",BU99),\"\")","v":""},{"$f":"IF(AND(LEN(BV99) <> 0, Settings!$B$16 =\"Y\"), CONCATENATE(\" DEFAULT \",BV99),\"\")","v":""},{"$f":"IF(AND(LEN(BW99) <> 0, Settings!$B$16 =\"Y\"), CONCATENATE(\" DEFAULT \",BW99),\"\")","v":""},{"$f":"IF(AND(LEN(BX99) <> 0, Settings!$B$16 =\"Y\"), CONCATENATE(\" DEFAULT \",BX99),\"\")","v":""},{"$f":"IF(AND(LEN(BY99) <> 0, Settings!$B$16 =\"Y\"), CONCATENATE(\" DEFAULT \",BY99),\"\")","v":""},{"$f":"IF(AND(LEN(BZ99) <> 0, Settings!$B$16 =\"Y\"), CONCATENATE(\" DEFAULT \",BZ99),\"\")","v":""},{"$f":"IF(AND(LEN(CA99) <> 0, Settings!$B$16 =\"Y\"), CONCATENATE(\" DEFAULT \",CA99),\"\")","v":""},{"$f":"IF(AND(LEN(CB99) <> 0, Settings!$B$16 =\"Y\"), CONCATENATE(\" DEFAULT \",CB99),\"\")","v":""},{"$f":"IF(AND(LEN(CC99) <> 0, Settings!$B$16 =\"Y\"), CONCATENATE(\" DEFAULT \",CC99),\"\")","v":""},{"$f":"IF(AND(LEN(CD99) <> 0, Settings!$B$16 =\"Y\"), CONCATENATE(\" DEFAULT \",CD99),\"\")","v":""},{"$f":"IF(AND(LEN(CE99) <> 0, Settings!$B$16 =\"Y\"), CONCATENATE(\" DEFAULT \",CE99),\"\")","v":""},{"$f":"IF(AND(LEN(CF99) <> 0, Settings!$B$16 =\"Y\"), CONCATENATE(\" DEFAULT \",CF99),\"\")","v":""},{"$f":"IF(AND(LEN(CG99) <> 0, Settings!$B$16 =\"Y\"), CONCATENATE(\" DEFAULT \",CG99),\"\")","v":""},{"$f":"IF(AND(LEN(CH99) <> 0, Settings!$B$16 =\"Y\"), CONCATENATE(\" DEFAULT \",CH99),\"\")","v":""},{"$f":"IF(AND(LEN(CI99) <> 0, Settings!$B$16 =\"Y\"), CONCATENATE(\" DEFAULT \",CI99),\"\")","v":""},{"$f":"IF(AND(LEN(CJ99) <> 0, Settings!$B$16 =\"Y\"), CONCATENATE(\" DEFAULT \",CJ99),\"\")","v":""},{"$f":"IF(AND(LEN(CK99) <> 0, Settings!$B$16 =\"Y\"), CONCATENATE(\" DEFAULT \",CK99),\"\")","v":""},{"$f":"IF(AND(LEN(CL99) <> 0, Settings!$B$16 =\"Y\"), CONCATENATE(\" DEFAULT \",CL99),\"\")","v":""},{"$f":"IF(AND(LEN(CM99) <> 0, Settings!$B$16 =\"Y\"), CONCATENATE(\" DEFAULT \",CM99),\"\")","v":""},{"$f":"IF(AND(LEN(CN99) <> 0, Settings!$B$16 =\"Y\"), CONCATENATE(\" DEFAULT \",CN99),\"\")","v":""},{"$f":"IF(AND(LEN(CO99) <> 0, Settings!$B$16 =\"Y\"), CONCATENATE(\" DEFAULT \",CO99),\"\")","v":""},{"$f":"IF(AND(LEN(CP99) <> 0, Settings!$B$16 =\"Y\"), CONCATENATE(\" DEFAULT \",CP99),\"\")","v":""},{"$f":"IF(AND(LEN(CQ99) <> 0, Settings!$B$16 =\"Y\"), CONCATENATE(\" DEFAULT \",CQ99),\"\")","v":""},{"$f":"IF(AND(LEN(CR99) <> 0, Settings!$B$16 =\"Y\"), CONCATENATE(\" DEFAULT \",CR99),\"\")","v":""},{"$f":"IF(AND(LEN(CS99) <> 0, Settings!$B$16 =\"Y\"), CONCATENATE(\" DEFAULT \",CS99),\"\")","v":""},{"$f":"IF(AND(LEN(CT99) <> 0, Settings!$B$16 =\"Y\"), CONCATENATE(\" DEFAULT \",CT99),\"\")","v":""},{"$f":"IF(AND(LEN(CU99) <> 0, Settings!$B$16 =\"Y\"), CONCATENATE(\" DEFAULT \",CU99),\"\")","v":""},{"$f":"IF(AND(LEN(CV99) <> 0, Settings!$B$16 =\"Y\"), CONCATENATE(\" DEFAULT \",CV99),\"\")","v":""},{"$f":"IF(AND(LEN(CW99) <> 0, Settings!$B$16 =\"Y\"), CONCATENATE(\" DEFAULT \",CW99),\"\")","v":""},{"$f":"IF(AND(LEN(CX99) <> 0, Settings!$B$16 =\"Y\"), CONCATENATE(\" DEFAULT \",CX99),\"\")","v":""},{"$f":"IF(AND(LEN(CY99) <> 0, Settings!$B$16 =\"Y\"), CONCATENATE(\" DEFAULT \",CY99),\"\")","v":""},{"$f":"IF(AND(LEN(CZ99) <> 0, Settings!$B$16 =\"Y\"), CONCATENATE(\" DEFAULT \",CZ99),\"\")","v":""},{"$f":"IF(AND(LEN(DA99) <> 0, Settings!$B$16 =\"Y\"), CONCATENATE(\" DEFAULT \",DA99),\"\")","v":""},{"$f":"IF(AND(LEN(DB99) <> 0, Settings!$B$16 =\"Y\"), CONCATENATE(\" DEFAULT \",DB99),\"\")","v":""},{"$f":"IF(AND(LEN(DC99) <> 0, Settings!$B$16 =\"Y\"), CONCATENATE(\" DEFAULT \",DC99),\"\")","v":""},{"$f":"IF(AND(LEN(DD99) <> 0, Settings!$B$16 =\"Y\"), CONCATENATE(\" DEFAULT \",DD99),\"\")","v":""},{"$f":"IF(AND(LEN(DE99) <> 0, Settings!$B$16 =\"Y\"), CONCATENATE(\" DEFAULT \",DE99),\"\")","v":""},{"$f":"IF(AND(LEN(DF99) <> 0, Settings!$B$16 =\"Y\"), CONCATENATE(\" DEFAULT \",DF99),\"\")","v":""},{"$f":"IF(AND(LEN(DG99) <> 0, Settings!$B$16 =\"Y\"), CONCATENATE(\" DEFAULT \",DG99),\"\")","v":""},{"$f":"IF(AND(LEN(DH99) <> 0, Settings!$B$16 =\"Y\"), CONCATENATE(\" DEFAULT \",DH99),\"\")","v":""},{"$f":"IF(AND(LEN(DI99) <> 0, Settings!$B$16 =\"Y\"), CONCATENATE(\" DEFAULT \",DI99),\"\")","v":""},{"$f":"IF(AND(LEN(DJ99) <> 0, Settings!$B$16 =\"Y\"), CONCATENATE(\" DEFAULT \",DJ99),\"\")","v":""},{"$f":"IF(AND(LEN(DK99) <> 0, Settings!$B$16 =\"Y\"), CONCATENATE(\" DEFAULT \",DK99),\"\")","v":""},{"$f":"IF(AND(LEN(DL99) <> 0, Settings!$B$16 =\"Y\"), CONCATENATE(\" DEFAULT \",DL99),\"\")","v":""},{"$f":"IF(AND(LEN(DM99) <> 0, Settings!$B$16 =\"Y\"), CONCATENATE(\" DEFAULT \",DM99),\"\")","v":""},{"$f":"IF(AND(LEN(DN99) <> 0, Settings!$B$16 =\"Y\"), CONCATENATE(\" DEFAULT \",DN99),\"\")","v":""},{"$f":"IF(AND(LEN(DO99) <> 0, Settings!$B$16 =\"Y\"), CONCATENATE(\" DEFAULT \",DO99),\"\")","v":""},{"$f":"IF(AND(LEN(DP99) <> 0, Settings!$B$16 =\"Y\"), CONCATENATE(\" DEFAULT \",DP99),\"\")","v":""},{"$f":"IF(AND(LEN(DQ99) <> 0, Settings!$B$16 =\"Y\"), CONCATENATE(\" DEFAULT \",DQ99),\"\")","v":""},{"$f":"IF(AND(LEN(DR99) <> 0, Settings!$B$16 =\"Y\"), CONCATENATE(\" DEFAULT \",DR99),\"\")","v":""},{"$f":"IF(AND(LEN(DS99) <> 0, Settings!$B$16 =\"Y\"), CONCATENATE(\" DEFAULT \",DS99),\"\")","v":""},{"$f":"IF(AND(LEN(DT99) <> 0, Settings!$B$16 =\"Y\"), CONCATENATE(\" DEFAULT \",DT99),\"\")","v":""},{"$f":"IF(AND(LEN(DU99) <> 0, Settings!$B$16 =\"Y\"), CONCATENATE(\" DEFAULT \",DU99),\"\")","v":""},{"$f":"IF(AND(LEN(DV99) <> 0, Settings!$B$16 =\"Y\"), CONCATENATE(\" DEFAULT \",DV99),\"\")","v":""},{"$f":"IF(AND(LEN(DW99) <> 0, Settings!$B$16 =\"Y\"), CONCATENATE(\" DEFAULT \",DW99),\"\")","v":""},{"$f":"IF(AND(LEN(DX99) <> 0, Settings!$B$16 =\"Y\"), CONCATENATE(\" DEFAULT \",DX99),\"\")","v":""},{"$f":"IF(AND(LEN(DY99) <> 0, Settings!$B$16 =\"Y\"), CONCATENATE(\" DEFAULT \",DY99),\"\")","v":""},{"$f":"IF(AND(LEN(DZ99) <> 0, Settings!$B$16 =\"Y\"), CONCATENATE(\" DEFAULT \",DZ99),\"\")","v":""},{"$f":"IF(AND(LEN(EA99) <> 0, Settings!$B$16 =\"Y\"), CONCATENATE(\" DEFAULT \",EA99),\"\")","v":""},{"$f":"IF(AND(LEN(EB99) <> 0, Settings!$B$16 =\"Y\"), CONCATENATE(\" DEFAULT \",EB99),\"\")","v":""},{"$f":"IF(AND(LEN(EC99) <> 0, Settings!$B$16 =\"Y\"), CONCATENATE(\" DEFAULT \",EC99),\"\")","v":""},{"$f":"IF(AND(LEN(ED99) <> 0, Settings!$B$16 =\"Y\"), CONCATENATE(\" DEFAULT \",ED99),\"\")","v":""},{"$f":"IF(AND(LEN(EE99) <> 0, Settings!$B$16 =\"Y\"), CONCATENATE(\" DEFAULT \",EE99),\"\")","v":""},{"$f":"IF(AND(LEN(EF99) <> 0, Settings!$B$16 =\"Y\"), CONCATENATE(\" DEFAULT \",EF99),\"\")","v":""},{"$f":"IF(AND(LEN(EG99) <> 0, Settings!$B$16 =\"Y\"), CONCATENATE(\" DEFAULT \",EG99),\"\")","v":""},{"$f":"IF(AND(LEN(EH99) <> 0, Settings!$B$16 =\"Y\"), CONCATENATE(\" DEFAULT \",EH99),\"\")","v":""},{"$f":"IF(AND(LEN(EI99) <> 0, Settings!$B$16 =\"Y\"), CONCATENATE(\" DEFAULT \",EI99),\"\")","v":""},{"$f":"IF(AND(LEN(EJ99) <> 0, Settings!$B$16 =\"Y\"), CONCATENATE(\" DEFAULT \",EJ99),\"\")","v":""},{"$f":"IF(AND(LEN(EK99) <> 0, Settings!$B$16 =\"Y\"), CONCATENATE(\" DEFAULT \",EK99),\"\")","v":""},{"$f":"IF(AND(LEN(EL99) <> 0, Settings!$B$16 =\"Y\"), CONCATENATE(\" DEFAULT \",EL99),\"\")","v":""},{"$f":"IF(AND(LEN(EM99) <> 0, Settings!$B$16 =\"Y\"), CONCATENATE(\" DEFAULT \",EM99),\"\")","v":""},{"$f":"IF(AND(LEN(EN99) <> 0, Settings!$B$16 =\"Y\"), CONCATENATE(\" DEFAULT \",EN99),\"\")","v":""},{"$f":"IF(AND(LEN(EO99) <> 0, Settings!$B$16 =\"Y\"), CONCATENATE(\" DEFAULT \",EO99),\"\")","v":""},{"$f":"IF(AND(LEN(EP99) <> 0, Settings!$B$16 =\"Y\"), CONCATENATE(\" DEFAULT \",EP99),\"\")","v":""},{"$f":"IF(AND(LEN(EQ99) <> 0, Settings!$B$16 =\"Y\"), CONCATENATE(\" DEFAULT \",EQ99),\"\")","v":""},{"$f":"IF(AND(LEN(ER99) <> 0, Settings!$B$16 =\"Y\"), CONCATENATE(\" DEFAULT \",ER99),\"\")","v":""},{"$f":"IF(AND(LEN(ES99) <> 0, Settings!$B$16 =\"Y\"), CONCATENATE(\" DEFAULT \",ES99),\"\")","v":""},{"$f":"IF(AND(LEN(ET99) <> 0, Settings!$B$16 =\"Y\"), CONCATENATE(\" DEFAULT \",ET99),\"\")","v":""},{"$f":"IF(AND(LEN(EU99) <> 0, Settings!$B$16 =\"Y\"), CONCATENATE(\" DEFAULT \",EU99),\"\")","v":""},{"$f":"IF(AND(LEN(EV99) <> 0, Settings!$B$16 =\"Y\"), CONCATENATE(\" DEFAULT \",EV99),\"\")","v":""},{"$f":"IF(AND(LEN(EW99) <> 0, Settings!$B$16 =\"Y\"), CONCATENATE(\" DEFAULT \",EW99),\"\")","v":""},{"$f":"IF(AND(LEN(EX99) <> 0, Settings!$B$16 =\"Y\"), CONCATENATE(\" DEFAULT \",EX99),\"\")","v":""},{"$f":"IF(AND(LEN(EY99) <> 0, Settings!$B$16 =\"Y\"), CONCATENATE(\" DEFAULT \",EY99),\"\")","v":""}]
[null,null,"Trailing Comma and <CR>",null,null,{"$f":"IF(LEN(F72) = 0, \"\", \",\" & CHAR(13))","v":""},{"$f":"IF(LEN(G72) = 0, \"\", \",\" & CHAR(13))","v":""},{"$f":"IF(LEN(H72) = 0, \"\", \",\" & CHAR(13))","v":""},"","","","","","","","","","","","","","","","","","","","","","","","","","","","","","","","","","","","","","","","","","","","","","","","","","","","","","","","","","","","","","","",{"$f":"IF(LEN(BT72) = 0, \"\", \",\" & CHAR(13))","v":""},"","","","","","","","","","","","","","","","","","","","","","","","","","","","","","","","","","","","","","","","","","","","","","","","","","","","","","","","","","","","","","","",{"$f":"IF(LEN(EF72) = 0, \"\", \",\" & CHAR(13))","v":""},"","","","","","","","","","","","","","","","","","",""]
[]
[null,null,"Column DDL",null,null,{"$f":"CONCATENATE(F72, F96, F97, F100, F101)","v":""},"","","","","","","","","","","","","","","","","","","","","","","","","","","","","","","","","","","","","","","","","","","","","","","","","","","","","","","","","","","","","","","",{"$f":"CONCATENATE(BR72, BR96, BR97, BR100, BR101)","v":""},"","","","","","","","","","","","","","","","","","","","","","","","","","","","","","","","","","","","","","","","","","","","","","","","","","","","","","","","","","","","","","","",{"$f":"CONCATENATE(ED72, ED96, ED97, ED100, ED101)","v":""},"","","","","","","","","","","","","","","","","","","","",""]
[null,null,"Key Column DDL",null,null,{"$f":"IF(F63=\"Y\",F103,\"\")","v":""},"","","","","","","","","","","","","","","","","","","","","","","","","","","","","","","","","","","","","","","","","","","","","","","","","","","","","","","","","","","","","","","",{"$f":"IF(BR63=\"Y\",BR103,\"\")","v":""},"","","","","","","","","","","","","","","","","","","","","","","","","","","","","","","","","","","","","","","","","","","","","","","","","","","","","","","","","","","","","","","",{"$f":"IF(ED63=\"Y\",ED103,\"\")","v":""},"","","","","","","","","","","","","","","","","","","","",""]
[null,null,"Non Key Column DDL",null,null,{"$f":"IF(F63=\"Y\",\"\",F103)","v":""},"","","","","","","","","","","","","","","","","","","","","","","","","","","","","","","","","","","","","","","","","","","","","","","","","","","","","","","","","","","","","","","",{"$f":"IF(BR63=\"Y\",\"\",BR103)","v":""},"","","","","","","","","","","","","","","","","","","","","","","","","","","","","","","","","","","","","","","","","","","","","","","","","","","","","","","","","","","","","","","",{"$f":"IF(ED63=\"Y\",\"\",ED103)","v":""},"","","","","","","","","","","","","","","","","","","","",""]
[null,null,"Key Column DDL List ",null,null,{"$f":"F104","v":""},{"$f":"CONCATENATE(INDIRECT(ADDRESS(ROW(),COLUMN()-1)),G104)","v":""},{"$f":"CONCATENATE(INDIRECT(ADDRESS(ROW(),COLUMN()-1)),H104)","v":""},"","","","","","","","","","","","","","","","","","","","","","","","","","","","","","","","","","","","","","","","","","","","","","","","","","","","","","","","","","","","","","","",{"$f":"CONCATENATE(INDIRECT(ADDRESS(ROW(),COLUMN()-1)),BT104)","v":""},"","","","","","","","","","","","","","","","","","","","","","","","","","","","","","","","","","","","","","","","","","","","","","","","","","","","","","","","","","","","","","","",{"$f":"CONCATENATE(INDIRECT(ADDRESS(ROW(),COLUMN()-1)),EF104)","v":""},"","","","","","","","","","","","","","","","","","",""]
[null,null,"Non-Key Column DDL List ",null,null,{"$f":"F105","v":""},{"$f":"CONCATENATE(INDIRECT(ADDRESS(ROW(),COLUMN()-1)),G105)","v":""},"","","","","","","","","","","","","","","","","","","","","","","","","","","","","","","","","","","","","","","","","","","","","","","","","","","","","","","","","","","","","","","","","","","","","","","","","","","","","","","","","","","","","","","","","","","","","","","","","","","","","","","","","","","","","","","","","","","","","","","","","","","","","","","","","","","","","","","","","","","","","","","","","","","",""]
[]
[null,null,"Column Comments",null,null,{"$f":"IF(LEN(F83)=0,\"\",SUBSTITUTE(SUBSTITUTE(SUBSTITUTE(Settings!$B$39,\"&Table\",$F$45),\"&Column\",F72),\"&BEAMColumnCodes\",F83))","v":""},{"$f":"IF(LEN(G83)=0,\"\",SUBSTITUTE(SUBSTITUTE(SUBSTITUTE(Settings!$B$39,\"&Table\",$F$45),\"&Column\",G72),\"&BEAMColumnCodes\",G83))","v":""},{"$f":"IF(LEN(H83)=0,\"\",SUBSTITUTE(SUBSTITUTE(SUBSTITUTE(Settings!$B$39,\"&Table\",$F$45),\"&Column\",H72),\"&BEAMColumnCodes\",H83))","v":""},{"$f":"IF(LEN(I83)=0,\"\",SUBSTITUTE(SUBSTITUTE(SUBSTITUTE(Settings!$B$39,\"&Table\",$F$45),\"&Column\",I72),\"&BEAMColumnCodes\",I83))","v":""},{"$f":"IF(LEN(J83)=0,\"\",SUBSTITUTE(SUBSTITUTE(SUBSTITUTE(Settings!$B$39,\"&Table\",$F$45),\"&Column\",J72),\"&BEAMColumnCodes\",J83))","v":""},{"$f":"IF(LEN(K83)=0,\"\",SUBSTITUTE(SUBSTITUTE(SUBSTITUTE(Settings!$B$39,\"&Table\",$F$45),\"&Column\",K72),\"&BEAMColumnCodes\",K83))","v":""},{"$f":"IF(LEN(L83)=0,\"\",SUBSTITUTE(SUBSTITUTE(SUBSTITUTE(Settings!$B$39,\"&Table\",$F$45),\"&Column\",L72),\"&BEAMColumnCodes\",L83))","v":""},{"$f":"IF(LEN(M83)=0,\"\",SUBSTITUTE(SUBSTITUTE(SUBSTITUTE(Settings!$B$39,\"&Table\",$F$45),\"&Column\",M72),\"&BEAMColumnCodes\",M83))","v":""},{"$f":"IF(LEN(N83)=0,\"\",SUBSTITUTE(SUBSTITUTE(SUBSTITUTE(Settings!$B$39,\"&Table\",$F$45),\"&Column\",N72),\"&BEAMColumnCodes\",N83))","v":""},{"$f":"IF(LEN(O83)=0,\"\",SUBSTITUTE(SUBSTITUTE(SUBSTITUTE(Settings!$B$39,\"&Table\",$F$45),\"&Column\",O72),\"&BEAMColumnCodes\",O83))","v":""},{"$f":"IF(LEN(P83)=0,\"\",SUBSTITUTE(SUBSTITUTE(SUBSTITUTE(Settings!$B$39,\"&Table\",$F$45),\"&Column\",P72),\"&BEAMColumnCodes\",P83))","v":""},{"$f":"IF(LEN(Q83)=0,\"\",SUBSTITUTE(SUBSTITUTE(SUBSTITUTE(Settings!$B$39,\"&Table\",$F$45),\"&Column\",Q72),\"&BEAMColumnCodes\",Q83))","v":""},{"$f":"IF(LEN(R83)=0,\"\",SUBSTITUTE(SUBSTITUTE(SUBSTITUTE(Settings!$B$39,\"&Table\",$F$45),\"&Column\",R72),\"&BEAMColumnCodes\",R83))","v":""},{"$f":"IF(LEN(S83)=0,\"\",SUBSTITUTE(SUBSTITUTE(SUBSTITUTE(Settings!$B$39,\"&Table\",$F$45),\"&Column\",S72),\"&BEAMColumnCodes\",S83))","v":""},{"$f":"IF(LEN(T83)=0,\"\",SUBSTITUTE(SUBSTITUTE(SUBSTITUTE(Settings!$B$39,\"&Table\",$F$45),\"&Column\",T72),\"&BEAMColumnCodes\",T83))","v":""},{"$f":"IF(LEN(U83)=0,\"\",SUBSTITUTE(SUBSTITUTE(SUBSTITUTE(Settings!$B$39,\"&Table\",$F$45),\"&Column\",U72),\"&BEAMColumnCodes\",U83))","v":""},{"$f":"IF(LEN(V83)=0,\"\",SUBSTITUTE(SUBSTITUTE(SUBSTITUTE(Settings!$B$39,\"&Table\",$F$45),\"&Column\",V72),\"&BEAMColumnCodes\",V83))","v":""},{"$f":"IF(LEN(W83)=0,\"\",SUBSTITUTE(SUBSTITUTE(SUBSTITUTE(Settings!$B$39,\"&Table\",$F$45),\"&Column\",W72),\"&BEAMColumnCodes\",W83))","v":""},{"$f":"IF(LEN(X83)=0,\"\",SUBSTITUTE(SUBSTITUTE(SUBSTITUTE(Settings!$B$39,\"&Table\",$F$45),\"&Column\",X72),\"&BEAMColumnCodes\",X83))","v":""},{"$f":"IF(LEN(Y83)=0,\"\",SUBSTITUTE(SUBSTITUTE(SUBSTITUTE(Settings!$B$39,\"&Table\",$F$45),\"&Column\",Y72),\"&BEAMColumnCodes\",Y83))","v":""},{"$f":"IF(LEN(Z83)=0,\"\",SUBSTITUTE(SUBSTITUTE(SUBSTITUTE(Settings!$B$39,\"&Table\",$F$45),\"&Column\",Z72),\"&BEAMColumnCodes\",Z83))","v":""},{"$f":"IF(LEN(AA83)=0,\"\",SUBSTITUTE(SUBSTITUTE(SUBSTITUTE(Settings!$B$39,\"&Table\",$F$45),\"&Column\",AA72),\"&BEAMColumnCodes\",AA83))","v":""},{"$f":"IF(LEN(AB83)=0,\"\",SUBSTITUTE(SUBSTITUTE(SUBSTITUTE(Settings!$B$39,\"&Table\",$F$45),\"&Column\",AB72),\"&BEAMColumnCodes\",AB83))","v":""},{"$f":"IF(LEN(AC83)=0,\"\",SUBSTITUTE(SUBSTITUTE(SUBSTITUTE(Settings!$B$39,\"&Table\",$F$45),\"&Column\",AC72),\"&BEAMColumnCodes\",AC83))","v":""},{"$f":"IF(LEN(AD83)=0,\"\",SUBSTITUTE(SUBSTITUTE(SUBSTITUTE(Settings!$B$39,\"&Table\",$F$45),\"&Column\",AD72),\"&BEAMColumnCodes\",AD83))","v":""},{"$f":"IF(LEN(AE83)=0,\"\",SUBSTITUTE(SUBSTITUTE(SUBSTITUTE(Settings!$B$39,\"&Table\",$F$45),\"&Column\",AE72),\"&BEAMColumnCodes\",AE83))","v":""},{"$f":"IF(LEN(AF83)=0,\"\",SUBSTITUTE(SUBSTITUTE(SUBSTITUTE(Settings!$B$39,\"&Table\",$F$45),\"&Column\",AF72),\"&BEAMColumnCodes\",AF83))","v":""},{"$f":"IF(LEN(AG83)=0,\"\",SUBSTITUTE(SUBSTITUTE(SUBSTITUTE(Settings!$B$39,\"&Table\",$F$45),\"&Column\",AG72),\"&BEAMColumnCodes\",AG83))","v":""},{"$f":"IF(LEN(AH83)=0,\"\",SUBSTITUTE(SUBSTITUTE(SUBSTITUTE(Settings!$B$39,\"&Table\",$F$45),\"&Column\",AH72),\"&BEAMColumnCodes\",AH83))","v":""},{"$f":"IF(LEN(AI83)=0,\"\",SUBSTITUTE(SUBSTITUTE(SUBSTITUTE(Settings!$B$39,\"&Table\",$F$45),\"&Column\",AI72),\"&BEAMColumnCodes\",AI83))","v":""},{"$f":"IF(LEN(AJ83)=0,\"\",SUBSTITUTE(SUBSTITUTE(SUBSTITUTE(Settings!$B$39,\"&Table\",$F$45),\"&Column\",AJ72),\"&BEAMColumnCodes\",AJ83))","v":""},{"$f":"IF(LEN(AK83)=0,\"\",SUBSTITUTE(SUBSTITUTE(SUBSTITUTE(Settings!$B$39,\"&Table\",$F$45),\"&Column\",AK72),\"&BEAMColumnCodes\",AK83))","v":""},{"$f":"IF(LEN(AL83)=0,\"\",SUBSTITUTE(SUBSTITUTE(SUBSTITUTE(Settings!$B$39,\"&Table\",$F$45),\"&Column\",AL72),\"&BEAMColumnCodes\",AL83))","v":""},{"$f":"IF(LEN(AM83)=0,\"\",SUBSTITUTE(SUBSTITUTE(SUBSTITUTE(Settings!$B$39,\"&Table\",$F$45),\"&Column\",AM72),\"&BEAMColumnCodes\",AM83))","v":""},{"$f":"IF(LEN(AN83)=0,\"\",SUBSTITUTE(SUBSTITUTE(SUBSTITUTE(Settings!$B$39,\"&Table\",$F$45),\"&Column\",AN72),\"&BEAMColumnCodes\",AN83))","v":""},{"$f":"IF(LEN(AO83)=0,\"\",SUBSTITUTE(SUBSTITUTE(SUBSTITUTE(Settings!$B$39,\"&Table\",$F$45),\"&Column\",AO72),\"&BEAMColumnCodes\",AO83))","v":""},{"$f":"IF(LEN(AP83)=0,\"\",SUBSTITUTE(SUBSTITUTE(SUBSTITUTE(Settings!$B$39,\"&Table\",$F$45),\"&Column\",AP72),\"&BEAMColumnCodes\",AP83))","v":""},{"$f":"IF(LEN(AQ83)=0,\"\",SUBSTITUTE(SUBSTITUTE(SUBSTITUTE(Settings!$B$39,\"&Table\",$F$45),\"&Column\",AQ72),\"&BEAMColumnCodes\",AQ83))","v":""},{"$f":"IF(LEN(AR83)=0,\"\",SUBSTITUTE(SUBSTITUTE(SUBSTITUTE(Settings!$B$39,\"&Table\",$F$45),\"&Column\",AR72),\"&BEAMColumnCodes\",AR83))","v":""},{"$f":"IF(LEN(AS83)=0,\"\",SUBSTITUTE(SUBSTITUTE(SUBSTITUTE(Settings!$B$39,\"&Table\",$F$45),\"&Column\",AS72),\"&BEAMColumnCodes\",AS83))","v":""},{"$f":"IF(LEN(AT83)=0,\"\",SUBSTITUTE(SUBSTITUTE(SUBSTITUTE(Settings!$B$39,\"&Table\",$F$45),\"&Column\",AT72),\"&BEAMColumnCodes\",AT83))","v":""},{"$f":"IF(LEN(AU83)=0,\"\",SUBSTITUTE(SUBSTITUTE(SUBSTITUTE(Settings!$B$39,\"&Table\",$F$45),\"&Column\",AU72),\"&BEAMColumnCodes\",AU83))","v":""},{"$f":"IF(LEN(AV83)=0,\"\",SUBSTITUTE(SUBSTITUTE(SUBSTITUTE(Settings!$B$39,\"&Table\",$F$45),\"&Column\",AV72),\"&BEAMColumnCodes\",AV83))","v":""},{"$f":"IF(LEN(AW83)=0,\"\",SUBSTITUTE(SUBSTITUTE(SUBSTITUTE(Settings!$B$39,\"&Table\",$F$45),\"&Column\",AW72),\"&BEAMColumnCodes\",AW83))","v":""},{"$f":"IF(LEN(AX83)=0,\"\",SUBSTITUTE(SUBSTITUTE(SUBSTITUTE(Settings!$B$39,\"&Table\",$F$45),\"&Column\",AX72),\"&BEAMColumnCodes\",AX83))","v":""},{"$f":"IF(LEN(AY83)=0,\"\",SUBSTITUTE(SUBSTITUTE(SUBSTITUTE(Settings!$B$39,\"&Table\",$F$45),\"&Column\",AY72),\"&BEAMColumnCodes\",AY83))","v":""},{"$f":"IF(LEN(AZ83)=0,\"\",SUBSTITUTE(SUBSTITUTE(SUBSTITUTE(Settings!$B$39,\"&Table\",$F$45),\"&Column\",AZ72),\"&BEAMColumnCodes\",AZ83))","v":""},{"$f":"IF(LEN(BA83)=0,\"\",SUBSTITUTE(SUBSTITUTE(SUBSTITUTE(Settings!$B$39,\"&Table\",$F$45),\"&Column\",BA72),\"&BEAMColumnCodes\",BA83))","v":""},{"$f":"IF(LEN(BB83)=0,\"\",SUBSTITUTE(SUBSTITUTE(SUBSTITUTE(Settings!$B$39,\"&Table\",$F$45),\"&Column\",BB72),\"&BEAMColumnCodes\",BB83))","v":""},{"$f":"IF(LEN(BC83)=0,\"\",SUBSTITUTE(SUBSTITUTE(SUBSTITUTE(Settings!$B$39,\"&Table\",$F$45),\"&Column\",BC72),\"&BEAMColumnCodes\",BC83))","v":""},{"$f":"IF(LEN(BD83)=0,\"\",SUBSTITUTE(SUBSTITUTE(SUBSTITUTE(Settings!$B$39,\"&Table\",$F$45),\"&Column\",BD72),\"&BEAMColumnCodes\",BD83))","v":""},{"$f":"IF(LEN(BE83)=0,\"\",SUBSTITUTE(SUBSTITUTE(SUBSTITUTE(Settings!$B$39,\"&Table\",$F$45),\"&Column\",BE72),\"&BEAMColumnCodes\",BE83))","v":""},{"$f":"IF(LEN(BF83)=0,\"\",SUBSTITUTE(SUBSTITUTE(SUBSTITUTE(Settings!$B$39,\"&Table\",$F$45),\"&Column\",BF72),\"&BEAMColumnCodes\",BF83))","v":""},{"$f":"IF(LEN(BG83)=0,\"\",SUBSTITUTE(SUBSTITUTE(SUBSTITUTE(Settings!$B$39,\"&Table\",$F$45),\"&Column\",BG72),\"&BEAMColumnCodes\",BG83))","v":""},{"$f":"IF(LEN(BH83)=0,\"\",SUBSTITUTE(SUBSTITUTE(SUBSTITUTE(Settings!$B$39,\"&Table\",$F$45),\"&Column\",BH72),\"&BEAMColumnCodes\",BH83))","v":""},{"$f":"IF(LEN(BI83)=0,\"\",SUBSTITUTE(SUBSTITUTE(SUBSTITUTE(Settings!$B$39,\"&Table\",$F$45),\"&Column\",BI72),\"&BEAMColumnCodes\",BI83))","v":""},{"$f":"IF(LEN(BJ83)=0,\"\",SUBSTITUTE(SUBSTITUTE(SUBSTITUTE(Settings!$B$39,\"&Table\",$F$45),\"&Column\",BJ72),\"&BEAMColumnCodes\",BJ83))","v":""},{"$f":"IF(LEN(BK83)=0,\"\",SUBSTITUTE(SUBSTITUTE(SUBSTITUTE(Settings!$B$39,\"&Table\",$F$45),\"&Column\",BK72),\"&BEAMColumnCodes\",BK83))","v":""},{"$f":"IF(LEN(BL83)=0,\"\",SUBSTITUTE(SUBSTITUTE(SUBSTITUTE(Settings!$B$39,\"&Table\",$F$45),\"&Column\",BL72),\"&BEAMColumnCodes\",BL83))","v":""},{"$f":"IF(LEN(BM83)=0,\"\",SUBSTITUTE(SUBSTITUTE(SUBSTITUTE(Settings!$B$39,\"&Table\",$F$45),\"&Column\",BM72),\"&BEAMColumnCodes\",BM83))","v":""},{"$f":"IF(LEN(BN83)=0,\"\",SUBSTITUTE(SUBSTITUTE(SUBSTITUTE(Settings!$B$39,\"&Table\",$F$45),\"&Column\",BN72),\"&BEAMColumnCodes\",BN83))","v":""},{"$f":"IF(LEN(BO83)=0,\"\",SUBSTITUTE(SUBSTITUTE(SUBSTITUTE(Settings!$B$39,\"&Table\",$F$45),\"&Column\",BO72),\"&BEAMColumnCodes\",BO83))","v":""},{"$f":"IF(LEN(BP83)=0,\"\",SUBSTITUTE(SUBSTITUTE(SUBSTITUTE(Settings!$B$39,\"&Table\",$F$45),\"&Column\",BP72),\"&BEAMColumnCodes\",BP83))","v":""},{"$f":"IF(LEN(BQ83)=0,\"\",SUBSTITUTE(SUBSTITUTE(SUBSTITUTE(Settings!$B$39,\"&Table\",$F$45),\"&Column\",BQ72),\"&BEAMColumnCodes\",BQ83))","v":""},{"$f":"IF(LEN(BR83)=0,\"\",SUBSTITUTE(SUBSTITUTE(SUBSTITUTE(Settings!$B$39,\"&Table\",$F$45),\"&Column\",BR72),\"&BEAMColumnCodes\",BR83))","v":""},{"$f":"IF(LEN(BS83)=0,\"\",SUBSTITUTE(SUBSTITUTE(SUBSTITUTE(Settings!$B$39,\"&Table\",$F$45),\"&Column\",BS72),\"&BEAMColumnCodes\",BS83))","v":""},{"$f":"IF(LEN(BT83)=0,\"\",SUBSTITUTE(SUBSTITUTE(SUBSTITUTE(Settings!$B$39,\"&Table\",$F$45),\"&Column\",BT72),\"&BEAMColumnCodes\",BT83))","v":""},{"$f":"IF(LEN(BU83)=0,\"\",SUBSTITUTE(SUBSTITUTE(SUBSTITUTE(Settings!$B$39,\"&Table\",$F$45),\"&Column\",BU72),\"&BEAMColumnCodes\",BU83))","v":""},{"$f":"IF(LEN(BV83)=0,\"\",SUBSTITUTE(SUBSTITUTE(SUBSTITUTE(Settings!$B$39,\"&Table\",$F$45),\"&Column\",BV72),\"&BEAMColumnCodes\",BV83))","v":""},{"$f":"IF(LEN(BW83)=0,\"\",SUBSTITUTE(SUBSTITUTE(SUBSTITUTE(Settings!$B$39,\"&Table\",$F$45),\"&Column\",BW72),\"&BEAMColumnCodes\",BW83))","v":""},{"$f":"IF(LEN(BX83)=0,\"\",SUBSTITUTE(SUBSTITUTE(SUBSTITUTE(Settings!$B$39,\"&Table\",$F$45),\"&Column\",BX72),\"&BEAMColumnCodes\",BX83))","v":""},{"$f":"IF(LEN(BY83)=0,\"\",SUBSTITUTE(SUBSTITUTE(SUBSTITUTE(Settings!$B$39,\"&Table\",$F$45),\"&Column\",BY72),\"&BEAMColumnCodes\",BY83))","v":""},{"$f":"IF(LEN(BZ83)=0,\"\",SUBSTITUTE(SUBSTITUTE(SUBSTITUTE(Settings!$B$39,\"&Table\",$F$45),\"&Column\",BZ72),\"&BEAMColumnCodes\",BZ83))","v":""},{"$f":"IF(LEN(CA83)=0,\"\",SUBSTITUTE(SUBSTITUTE(SUBSTITUTE(Settings!$B$39,\"&Table\",$F$45),\"&Column\",CA72),\"&BEAMColumnCodes\",CA83))","v":""},{"$f":"IF(LEN(CB83)=0,\"\",SUBSTITUTE(SUBSTITUTE(SUBSTITUTE(Settings!$B$39,\"&Table\",$F$45),\"&Column\",CB72),\"&BEAMColumnCodes\",CB83))","v":""},{"$f":"IF(LEN(CC83)=0,\"\",SUBSTITUTE(SUBSTITUTE(SUBSTITUTE(Settings!$B$39,\"&Table\",$F$45),\"&Column\",CC72),\"&BEAMColumnCodes\",CC83))","v":""},{"$f":"IF(LEN(CD83)=0,\"\",SUBSTITUTE(SUBSTITUTE(SUBSTITUTE(Settings!$B$39,\"&Table\",$F$45),\"&Column\",CD72),\"&BEAMColumnCodes\",CD83))","v":""},{"$f":"IF(LEN(CE83)=0,\"\",SUBSTITUTE(SUBSTITUTE(SUBSTITUTE(Settings!$B$39,\"&Table\",$F$45),\"&Column\",CE72),\"&BEAMColumnCodes\",CE83))","v":""},{"$f":"IF(LEN(CF83)=0,\"\",SUBSTITUTE(SUBSTITUTE(SUBSTITUTE(Settings!$B$39,\"&Table\",$F$45),\"&Column\",CF72),\"&BEAMColumnCodes\",CF83))","v":""},{"$f":"IF(LEN(CG83)=0,\"\",SUBSTITUTE(SUBSTITUTE(SUBSTITUTE(Settings!$B$39,\"&Table\",$F$45),\"&Column\",CG72),\"&BEAMColumnCodes\",CG83))","v":""},{"$f":"IF(LEN(CH83)=0,\"\",SUBSTITUTE(SUBSTITUTE(SUBSTITUTE(Settings!$B$39,\"&Table\",$F$45),\"&Column\",CH72),\"&BEAMColumnCodes\",CH83))","v":""},{"$f":"IF(LEN(CI83)=0,\"\",SUBSTITUTE(SUBSTITUTE(SUBSTITUTE(Settings!$B$39,\"&Table\",$F$45),\"&Column\",CI72),\"&BEAMColumnCodes\",CI83))","v":""},{"$f":"IF(LEN(CJ83)=0,\"\",SUBSTITUTE(SUBSTITUTE(SUBSTITUTE(Settings!$B$39,\"&Table\",$F$45),\"&Column\",CJ72),\"&BEAMColumnCodes\",CJ83))","v":""},{"$f":"IF(LEN(CK83)=0,\"\",SUBSTITUTE(SUBSTITUTE(SUBSTITUTE(Settings!$B$39,\"&Table\",$F$45),\"&Column\",CK72),\"&BEAMColumnCodes\",CK83))","v":""},{"$f":"IF(LEN(CL83)=0,\"\",SUBSTITUTE(SUBSTITUTE(SUBSTITUTE(Settings!$B$39,\"&Table\",$F$45),\"&Column\",CL72),\"&BEAMColumnCodes\",CL83))","v":""},{"$f":"IF(LEN(CM83)=0,\"\",SUBSTITUTE(SUBSTITUTE(SUBSTITUTE(Settings!$B$39,\"&Table\",$F$45),\"&Column\",CM72),\"&BEAMColumnCodes\",CM83))","v":""},{"$f":"IF(LEN(CN83)=0,\"\",SUBSTITUTE(SUBSTITUTE(SUBSTITUTE(Settings!$B$39,\"&Table\",$F$45),\"&Column\",CN72),\"&BEAMColumnCodes\",CN83))","v":""},{"$f":"IF(LEN(CO83)=0,\"\",SUBSTITUTE(SUBSTITUTE(SUBSTITUTE(Settings!$B$39,\"&Table\",$F$45),\"&Column\",CO72),\"&BEAMColumnCodes\",CO83))","v":""},{"$f":"IF(LEN(CP83)=0,\"\",SUBSTITUTE(SUBSTITUTE(SUBSTITUTE(Settings!$B$39,\"&Table\",$F$45),\"&Column\",CP72),\"&BEAMColumnCodes\",CP83))","v":""},{"$f":"IF(LEN(CQ83)=0,\"\",SUBSTITUTE(SUBSTITUTE(SUBSTITUTE(Settings!$B$39,\"&Table\",$F$45),\"&Column\",CQ72),\"&BEAMColumnCodes\",CQ83))","v":""},{"$f":"IF(LEN(CR83)=0,\"\",SUBSTITUTE(SUBSTITUTE(SUBSTITUTE(Settings!$B$39,\"&Table\",$F$45),\"&Column\",CR72),\"&BEAMColumnCodes\",CR83))","v":""},{"$f":"IF(LEN(CS83)=0,\"\",SUBSTITUTE(SUBSTITUTE(SUBSTITUTE(Settings!$B$39,\"&Table\",$F$45),\"&Column\",CS72),\"&BEAMColumnCodes\",CS83))","v":""},{"$f":"IF(LEN(CT83)=0,\"\",SUBSTITUTE(SUBSTITUTE(SUBSTITUTE(Settings!$B$39,\"&Table\",$F$45),\"&Column\",CT72),\"&BEAMColumnCodes\",CT83))","v":""},{"$f":"IF(LEN(CU83)=0,\"\",SUBSTITUTE(SUBSTITUTE(SUBSTITUTE(Settings!$B$39,\"&Table\",$F$45),\"&Column\",CU72),\"&BEAMColumnCodes\",CU83))","v":""},{"$f":"IF(LEN(CV83)=0,\"\",SUBSTITUTE(SUBSTITUTE(SUBSTITUTE(Settings!$B$39,\"&Table\",$F$45),\"&Column\",CV72),\"&BEAMColumnCodes\",CV83))","v":""},{"$f":"IF(LEN(CW83)=0,\"\",SUBSTITUTE(SUBSTITUTE(SUBSTITUTE(Settings!$B$39,\"&Table\",$F$45),\"&Column\",CW72),\"&BEAMColumnCodes\",CW83))","v":""},{"$f":"IF(LEN(CX83)=0,\"\",SUBSTITUTE(SUBSTITUTE(SUBSTITUTE(Settings!$B$39,\"&Table\",$F$45),\"&Column\",CX72),\"&BEAMColumnCodes\",CX83))","v":""},{"$f":"IF(LEN(CY83)=0,\"\",SUBSTITUTE(SUBSTITUTE(SUBSTITUTE(Settings!$B$39,\"&Table\",$F$45),\"&Column\",CY72),\"&BEAMColumnCodes\",CY83))","v":""},{"$f":"IF(LEN(CZ83)=0,\"\",SUBSTITUTE(SUBSTITUTE(SUBSTITUTE(Settings!$B$39,\"&Table\",$F$45),\"&Column\",CZ72),\"&BEAMColumnCodes\",CZ83))","v":""},{"$f":"IF(LEN(DA83)=0,\"\",SUBSTITUTE(SUBSTITUTE(SUBSTITUTE(Settings!$B$39,\"&Table\",$F$45),\"&Column\",DA72),\"&BEAMColumnCodes\",DA83))","v":""},{"$f":"IF(LEN(DB83)=0,\"\",SUBSTITUTE(SUBSTITUTE(SUBSTITUTE(Settings!$B$39,\"&Table\",$F$45),\"&Column\",DB72),\"&BEAMColumnCodes\",DB83))","v":""},{"$f":"IF(LEN(DC83)=0,\"\",SUBSTITUTE(SUBSTITUTE(SUBSTITUTE(Settings!$B$39,\"&Table\",$F$45),\"&Column\",DC72),\"&BEAMColumnCodes\",DC83))","v":""},{"$f":"IF(LEN(DD83)=0,\"\",SUBSTITUTE(SUBSTITUTE(SUBSTITUTE(Settings!$B$39,\"&Table\",$F$45),\"&Column\",DD72),\"&BEAMColumnCodes\",DD83))","v":""},{"$f":"IF(LEN(DE83)=0,\"\",SUBSTITUTE(SUBSTITUTE(SUBSTITUTE(Settings!$B$39,\"&Table\",$F$45),\"&Column\",DE72),\"&BEAMColumnCodes\",DE83))","v":""},{"$f":"IF(LEN(DF83)=0,\"\",SUBSTITUTE(SUBSTITUTE(SUBSTITUTE(Settings!$B$39,\"&Table\",$F$45),\"&Column\",DF72),\"&BEAMColumnCodes\",DF83))","v":""},{"$f":"IF(LEN(DG83)=0,\"\",SUBSTITUTE(SUBSTITUTE(SUBSTITUTE(Settings!$B$39,\"&Table\",$F$45),\"&Column\",DG72),\"&BEAMColumnCodes\",DG83))","v":""},{"$f":"IF(LEN(DH83)=0,\"\",SUBSTITUTE(SUBSTITUTE(SUBSTITUTE(Settings!$B$39,\"&Table\",$F$45),\"&Column\",DH72),\"&BEAMColumnCodes\",DH83))","v":""},{"$f":"IF(LEN(DI83)=0,\"\",SUBSTITUTE(SUBSTITUTE(SUBSTITUTE(Settings!$B$39,\"&Table\",$F$45),\"&Column\",DI72),\"&BEAMColumnCodes\",DI83))","v":""},{"$f":"IF(LEN(DJ83)=0,\"\",SUBSTITUTE(SUBSTITUTE(SUBSTITUTE(Settings!$B$39,\"&Table\",$F$45),\"&Column\",DJ72),\"&BEAMColumnCodes\",DJ83))","v":""},{"$f":"IF(LEN(DK83)=0,\"\",SUBSTITUTE(SUBSTITUTE(SUBSTITUTE(Settings!$B$39,\"&Table\",$F$45),\"&Column\",DK72),\"&BEAMColumnCodes\",DK83))","v":""},{"$f":"IF(LEN(DL83)=0,\"\",SUBSTITUTE(SUBSTITUTE(SUBSTITUTE(Settings!$B$39,\"&Table\",$F$45),\"&Column\",DL72),\"&BEAMColumnCodes\",DL83))","v":""},{"$f":"IF(LEN(DM83)=0,\"\",SUBSTITUTE(SUBSTITUTE(SUBSTITUTE(Settings!$B$39,\"&Table\",$F$45),\"&Column\",DM72),\"&BEAMColumnCodes\",DM83))","v":""},{"$f":"IF(LEN(DN83)=0,\"\",SUBSTITUTE(SUBSTITUTE(SUBSTITUTE(Settings!$B$39,\"&Table\",$F$45),\"&Column\",DN72),\"&BEAMColumnCodes\",DN83))","v":""},{"$f":"IF(LEN(DO83)=0,\"\",SUBSTITUTE(SUBSTITUTE(SUBSTITUTE(Settings!$B$39,\"&Table\",$F$45),\"&Column\",DO72),\"&BEAMColumnCodes\",DO83))","v":""},{"$f":"IF(LEN(DP83)=0,\"\",SUBSTITUTE(SUBSTITUTE(SUBSTITUTE(Settings!$B$39,\"&Table\",$F$45),\"&Column\",DP72),\"&BEAMColumnCodes\",DP83))","v":""},{"$f":"IF(LEN(DQ83)=0,\"\",SUBSTITUTE(SUBSTITUTE(SUBSTITUTE(Settings!$B$39,\"&Table\",$F$45),\"&Column\",DQ72),\"&BEAMColumnCodes\",DQ83))","v":""},{"$f":"IF(LEN(DR83)=0,\"\",SUBSTITUTE(SUBSTITUTE(SUBSTITUTE(Settings!$B$39,\"&Table\",$F$45),\"&Column\",DR72),\"&BEAMColumnCodes\",DR83))","v":""},{"$f":"IF(LEN(DS83)=0,\"\",SUBSTITUTE(SUBSTITUTE(SUBSTITUTE(Settings!$B$39,\"&Table\",$F$45),\"&Column\",DS72),\"&BEAMColumnCodes\",DS83))","v":""},{"$f":"IF(LEN(DT83)=0,\"\",SUBSTITUTE(SUBSTITUTE(SUBSTITUTE(Settings!$B$39,\"&Table\",$F$45),\"&Column\",DT72),\"&BEAMColumnCodes\",DT83))","v":""},{"$f":"IF(LEN(DU83)=0,\"\",SUBSTITUTE(SUBSTITUTE(SUBSTITUTE(Settings!$B$39,\"&Table\",$F$45),\"&Column\",DU72),\"&BEAMColumnCodes\",DU83))","v":""},{"$f":"IF(LEN(DV83)=0,\"\",SUBSTITUTE(SUBSTITUTE(SUBSTITUTE(Settings!$B$39,\"&Table\",$F$45),\"&Column\",DV72),\"&BEAMColumnCodes\",DV83))","v":""},{"$f":"IF(LEN(DW83)=0,\"\",SUBSTITUTE(SUBSTITUTE(SUBSTITUTE(Settings!$B$39,\"&Table\",$F$45),\"&Column\",DW72),\"&BEAMColumnCodes\",DW83))","v":""},{"$f":"IF(LEN(DX83)=0,\"\",SUBSTITUTE(SUBSTITUTE(SUBSTITUTE(Settings!$B$39,\"&Table\",$F$45),\"&Column\",DX72),\"&BEAMColumnCodes\",DX83))","v":""},{"$f":"IF(LEN(DY83)=0,\"\",SUBSTITUTE(SUBSTITUTE(SUBSTITUTE(Settings!$B$39,\"&Table\",$F$45),\"&Column\",DY72),\"&BEAMColumnCodes\",DY83))","v":""},{"$f":"IF(LEN(DZ83)=0,\"\",SUBSTITUTE(SUBSTITUTE(SUBSTITUTE(Settings!$B$39,\"&Table\",$F$45),\"&Column\",DZ72),\"&BEAMColumnCodes\",DZ83))","v":""},{"$f":"IF(LEN(EA83)=0,\"\",SUBSTITUTE(SUBSTITUTE(SUBSTITUTE(Settings!$B$39,\"&Table\",$F$45),\"&Column\",EA72),\"&BEAMColumnCodes\",EA83))","v":""},{"$f":"IF(LEN(EB83)=0,\"\",SUBSTITUTE(SUBSTITUTE(SUBSTITUTE(Settings!$B$39,\"&Table\",$F$45),\"&Column\",EB72),\"&BEAMColumnCodes\",EB83))","v":""},{"$f":"IF(LEN(EC83)=0,\"\",SUBSTITUTE(SUBSTITUTE(SUBSTITUTE(Settings!$B$39,\"&Table\",$F$45),\"&Column\",EC72),\"&BEAMColumnCodes\",EC83))","v":""},{"$f":"IF(LEN(ED83)=0,\"\",SUBSTITUTE(SUBSTITUTE(SUBSTITUTE(Settings!$B$39,\"&Table\",$F$45),\"&Column\",ED72),\"&BEAMColumnCodes\",ED83))","v":""},{"$f":"IF(LEN(EE83)=0,\"\",SUBSTITUTE(SUBSTITUTE(SUBSTITUTE(Settings!$B$39,\"&Table\",$F$45),\"&Column\",EE72),\"&BEAMColumnCodes\",EE83))","v":""},{"$f":"IF(LEN(EF83)=0,\"\",SUBSTITUTE(SUBSTITUTE(SUBSTITUTE(Settings!$B$39,\"&Table\",$F$45),\"&Column\",EF72),\"&BEAMColumnCodes\",EF83))","v":""},{"$f":"IF(LEN(EG83)=0,\"\",SUBSTITUTE(SUBSTITUTE(SUBSTITUTE(Settings!$B$39,\"&Table\",$F$45),\"&Column\",EG72),\"&BEAMColumnCodes\",EG83))","v":""},{"$f":"IF(LEN(EH83)=0,\"\",SUBSTITUTE(SUBSTITUTE(SUBSTITUTE(Settings!$B$39,\"&Table\",$F$45),\"&Column\",EH72),\"&BEAMColumnCodes\",EH83))","v":""},{"$f":"IF(LEN(EI83)=0,\"\",SUBSTITUTE(SUBSTITUTE(SUBSTITUTE(Settings!$B$39,\"&Table\",$F$45),\"&Column\",EI72),\"&BEAMColumnCodes\",EI83))","v":""},{"$f":"IF(LEN(EJ83)=0,\"\",SUBSTITUTE(SUBSTITUTE(SUBSTITUTE(Settings!$B$39,\"&Table\",$F$45),\"&Column\",EJ72),\"&BEAMColumnCodes\",EJ83))","v":""},{"$f":"IF(LEN(EK83)=0,\"\",SUBSTITUTE(SUBSTITUTE(SUBSTITUTE(Settings!$B$39,\"&Table\",$F$45),\"&Column\",EK72),\"&BEAMColumnCodes\",EK83))","v":""},{"$f":"IF(LEN(EL83)=0,\"\",SUBSTITUTE(SUBSTITUTE(SUBSTITUTE(Settings!$B$39,\"&Table\",$F$45),\"&Column\",EL72),\"&BEAMColumnCodes\",EL83))","v":""},{"$f":"IF(LEN(EM83)=0,\"\",SUBSTITUTE(SUBSTITUTE(SUBSTITUTE(Settings!$B$39,\"&Table\",$F$45),\"&Column\",EM72),\"&BEAMColumnCodes\",EM83))","v":""},{"$f":"IF(LEN(EN83)=0,\"\",SUBSTITUTE(SUBSTITUTE(SUBSTITUTE(Settings!$B$39,\"&Table\",$F$45),\"&Column\",EN72),\"&BEAMColumnCodes\",EN83))","v":""},{"$f":"IF(LEN(EO83)=0,\"\",SUBSTITUTE(SUBSTITUTE(SUBSTITUTE(Settings!$B$39,\"&Table\",$F$45),\"&Column\",EO72),\"&BEAMColumnCodes\",EO83))","v":""},{"$f":"IF(LEN(EP83)=0,\"\",SUBSTITUTE(SUBSTITUTE(SUBSTITUTE(Settings!$B$39,\"&Table\",$F$45),\"&Column\",EP72),\"&BEAMColumnCodes\",EP83))","v":""},{"$f":"IF(LEN(EQ83)=0,\"\",SUBSTITUTE(SUBSTITUTE(SUBSTITUTE(Settings!$B$39,\"&Table\",$F$45),\"&Column\",EQ72),\"&BEAMColumnCodes\",EQ83))","v":""},{"$f":"IF(LEN(ER83)=0,\"\",SUBSTITUTE(SUBSTITUTE(SUBSTITUTE(Settings!$B$39,\"&Table\",$F$45),\"&Column\",ER72),\"&BEAMColumnCodes\",ER83))","v":""},{"$f":"IF(LEN(ES83)=0,\"\",SUBSTITUTE(SUBSTITUTE(SUBSTITUTE(Settings!$B$39,\"&Table\",$F$45),\"&Column\",ES72),\"&BEAMColumnCodes\",ES83))","v":""},{"$f":"IF(LEN(ET83)=0,\"\",SUBSTITUTE(SUBSTITUTE(SUBSTITUTE(Settings!$B$39,\"&Table\",$F$45),\"&Column\",ET72),\"&BEAMColumnCodes\",ET83))","v":""},{"$f":"IF(LEN(EU83)=0,\"\",SUBSTITUTE(SUBSTITUTE(SUBSTITUTE(Settings!$B$39,\"&Table\",$F$45),\"&Column\",EU72),\"&BEAMColumnCodes\",EU83))","v":""},{"$f":"IF(LEN(EV83)=0,\"\",SUBSTITUTE(SUBSTITUTE(SUBSTITUTE(Settings!$B$39,\"&Table\",$F$45),\"&Column\",EV72),\"&BEAMColumnCodes\",EV83))","v":""},{"$f":"IF(LEN(EW83)=0,\"\",SUBSTITUTE(SUBSTITUTE(SUBSTITUTE(Settings!$B$39,\"&Table\",$F$45),\"&Column\",EW72),\"&BEAMColumnCodes\",EW83))","v":""},{"$f":"IF(LEN(EX83)=0,\"\",SUBSTITUTE(SUBSTITUTE(SUBSTITUTE(Settings!$B$39,\"&Table\",$F$45),\"&Column\",EX72),\"&BEAMColumnCodes\",EX83))","v":""},{"$f":"IF(LEN(EY83)=0,\"\",SUBSTITUTE(SUBSTITUTE(SUBSTITUTE(Settings!$B$39,\"&Table\",$F$45),\"&Column\",EY72),\"&BEAMColumnCodes\",EY83))","v":""}]
[null,null,"Column Comments List",null,null,{"$f":"F109","v":""},{"$f":"CONCATENATE(INDIRECT(ADDRESS(ROW(),COLUMN()-1)),G109)","v":""},{"$f":"CONCATENATE(INDIRECT(ADDRESS(ROW(),COLUMN()-1)),H109)","v":""},"","","","","","","","","","","","","","","","","","","","","","","","","","","","","","","","","","","","","","","","","","","","","","","","","","","","","","","","","","","","","","","",{"$f":"CONCATENATE(INDIRECT(ADDRESS(ROW(),COLUMN()-1)),BT109)","v":""},"","","","","","","","","","","","","","","","","","","","","","","","","","","","","","","","","","","","","","","","","","","","","","","","","","","","","","","","","","","","","","","",{"$f":"CONCATENATE(INDIRECT(ADDRESS(ROW(),COLUMN()-1)),EF109)","v":""},"","","","","","","","","","","","","","","","","","",""]
[]
[null,null,"Column Index",null,null,{"$f":"IF(AND(F57<>\"Y\",$F$55=\"Fact\",F59=\"Y\"),CHAR(13)& SUBSTITUTE(SUBSTITUTE(SUBSTITUTE(SUBSTITUTE(Settings!$B$45,\"&BEAMColumn\",F71),\"&BEAMTable\",$F$44),\"&Column\", F72),\"&Table\",$F$45),\"\")","v":""},{"$f":"IF(AND(G57<>\"Y\",$F$55=\"Fact\",G59=\"Y\"),CHAR(13)& SUBSTITUTE(SUBSTITUTE(SUBSTITUTE(SUBSTITUTE(Settings!$B$45,\"&BEAMColumn\",G71),\"&BEAMTable\",$F$44),\"&Column\", G72),\"&Table\",$F$45),\"\")","v":""},{"$f":"IF(AND(H57<>\"Y\",$F$55=\"Fact\",H59=\"Y\"),CHAR(13)& SUBSTITUTE(SUBSTITUTE(SUBSTITUTE(SUBSTITUTE(Settings!$B$45,\"&BEAMColumn\",H71),\"&BEAMTable\",$F$44),\"&Column\", H72),\"&Table\",$F$45),\"\")","v":""},{"$f":"IF(AND(I57<>\"Y\",$F$55=\"Fact\",I59=\"Y\"),CHAR(13)& SUBSTITUTE(SUBSTITUTE(SUBSTITUTE(SUBSTITUTE(Settings!$B$45,\"&BEAMColumn\",I71),\"&BEAMTable\",$F$44),\"&Column\", I72),\"&Table\",$F$45),\"\")","v":""},{"$f":"IF(AND(J57<>\"Y\",$F$55=\"Fact\",J59=\"Y\"),CHAR(13)& SUBSTITUTE(SUBSTITUTE(SUBSTITUTE(SUBSTITUTE(Settings!$B$45,\"&BEAMColumn\",J71),\"&BEAMTable\",$F$44),\"&Column\", J72),\"&Table\",$F$45),\"\")","v":""},{"$f":"IF(AND(K57<>\"Y\",$F$55=\"Fact\",K59=\"Y\"),CHAR(13)& SUBSTITUTE(SUBSTITUTE(SUBSTITUTE(SUBSTITUTE(Settings!$B$45,\"&BEAMColumn\",K71),\"&BEAMTable\",$F$44),\"&Column\", K72),\"&Table\",$F$45),\"\")","v":""},{"$f":"IF(AND(L57<>\"Y\",$F$55=\"Fact\",L59=\"Y\"),CHAR(13)& SUBSTITUTE(SUBSTITUTE(SUBSTITUTE(SUBSTITUTE(Settings!$B$45,\"&BEAMColumn\",L71),\"&BEAMTable\",$F$44),\"&Column\", L72),\"&Table\",$F$45),\"\")","v":""},{"$f":"IF(AND(M57<>\"Y\",$F$55=\"Fact\",M59=\"Y\"),CHAR(13)& SUBSTITUTE(SUBSTITUTE(SUBSTITUTE(SUBSTITUTE(Settings!$B$45,\"&BEAMColumn\",M71),\"&BEAMTable\",$F$44),\"&Column\", M72),\"&Table\",$F$45),\"\")","v":""},{"$f":"IF(AND(N57<>\"Y\",$F$55=\"Fact\",N59=\"Y\"),CHAR(13)& SUBSTITUTE(SUBSTITUTE(SUBSTITUTE(SUBSTITUTE(Settings!$B$45,\"&BEAMColumn\",N71),\"&BEAMTable\",$F$44),\"&Column\", N72),\"&Table\",$F$45),\"\")","v":""},{"$f":"IF(AND(O57<>\"Y\",$F$55=\"Fact\",O59=\"Y\"),CHAR(13)& SUBSTITUTE(SUBSTITUTE(SUBSTITUTE(SUBSTITUTE(Settings!$B$45,\"&BEAMColumn\",O71),\"&BEAMTable\",$F$44),\"&Column\", O72),\"&Table\",$F$45),\"\")","v":""},{"$f":"IF(AND(P57<>\"Y\",$F$55=\"Fact\",P59=\"Y\"),CHAR(13)& SUBSTITUTE(SUBSTITUTE(SUBSTITUTE(SUBSTITUTE(Settings!$B$45,\"&BEAMColumn\",P71),\"&BEAMTable\",$F$44),\"&Column\", P72),\"&Table\",$F$45),\"\")","v":""},{"$f":"IF(AND(Q57<>\"Y\",$F$55=\"Fact\",Q59=\"Y\"),CHAR(13)& SUBSTITUTE(SUBSTITUTE(SUBSTITUTE(SUBSTITUTE(Settings!$B$45,\"&BEAMColumn\",Q71),\"&BEAMTable\",$F$44),\"&Column\", Q72),\"&Table\",$F$45),\"\")","v":""},{"$f":"IF(AND(R57<>\"Y\",$F$55=\"Fact\",R59=\"Y\"),CHAR(13)& SUBSTITUTE(SUBSTITUTE(SUBSTITUTE(SUBSTITUTE(Settings!$B$45,\"&BEAMColumn\",R71),\"&BEAMTable\",$F$44),\"&Column\", R72),\"&Table\",$F$45),\"\")","v":""},{"$f":"IF(AND(S57<>\"Y\",$F$55=\"Fact\",S59=\"Y\"),CHAR(13)& SUBSTITUTE(SUBSTITUTE(SUBSTITUTE(SUBSTITUTE(Settings!$B$45,\"&BEAMColumn\",S71),\"&BEAMTable\",$F$44),\"&Column\", S72),\"&Table\",$F$45),\"\")","v":""},{"$f":"IF(AND(T57<>\"Y\",$F$55=\"Fact\",T59=\"Y\"),CHAR(13)& SUBSTITUTE(SUBSTITUTE(SUBSTITUTE(SUBSTITUTE(Settings!$B$45,\"&BEAMColumn\",T71),\"&BEAMTable\",$F$44),\"&Column\", T72),\"&Table\",$F$45),\"\")","v":""},{"$f":"IF(AND(U57<>\"Y\",$F$55=\"Fact\",U59=\"Y\"),CHAR(13)& SUBSTITUTE(SUBSTITUTE(SUBSTITUTE(SUBSTITUTE(Settings!$B$45,\"&BEAMColumn\",U71),\"&BEAMTable\",$F$44),\"&Column\", U72),\"&Table\",$F$45),\"\")","v":""},{"$f":"IF(AND(V57<>\"Y\",$F$55=\"Fact\",V59=\"Y\"),CHAR(13)& SUBSTITUTE(SUBSTITUTE(SUBSTITUTE(SUBSTITUTE(Settings!$B$45,\"&BEAMColumn\",V71),\"&BEAMTable\",$F$44),\"&Column\", V72),\"&Table\",$F$45),\"\")","v":""},{"$f":"IF(AND(W57<>\"Y\",$F$55=\"Fact\",W59=\"Y\"),CHAR(13)& SUBSTITUTE(SUBSTITUTE(SUBSTITUTE(SUBSTITUTE(Settings!$B$45,\"&BEAMColumn\",W71),\"&BEAMTable\",$F$44),\"&Column\", W72),\"&Table\",$F$45),\"\")","v":""},{"$f":"IF(AND(X57<>\"Y\",$F$55=\"Fact\",X59=\"Y\"),CHAR(13)& SUBSTITUTE(SUBSTITUTE(SUBSTITUTE(SUBSTITUTE(Settings!$B$45,\"&BEAMColumn\",X71),\"&BEAMTable\",$F$44),\"&Column\", X72),\"&Table\",$F$45),\"\")","v":""},{"$f":"IF(AND(Y57<>\"Y\",$F$55=\"Fact\",Y59=\"Y\"),CHAR(13)& SUBSTITUTE(SUBSTITUTE(SUBSTITUTE(SUBSTITUTE(Settings!$B$45,\"&BEAMColumn\",Y71),\"&BEAMTable\",$F$44),\"&Column\", Y72),\"&Table\",$F$45),\"\")","v":""},{"$f":"IF(AND(Z57<>\"Y\",$F$55=\"Fact\",Z59=\"Y\"),CHAR(13)& SUBSTITUTE(SUBSTITUTE(SUBSTITUTE(SUBSTITUTE(Settings!$B$45,\"&BEAMColumn\",Z71),\"&BEAMTable\",$F$44),\"&Column\", Z72),\"&Table\",$F$45),\"\")","v":""},{"$f":"IF(AND(AA57<>\"Y\",$F$55=\"Fact\",AA59=\"Y\"),CHAR(13)& SUBSTITUTE(SUBSTITUTE(SUBSTITUTE(SUBSTITUTE(Settings!$B$45,\"&BEAMColumn\",AA71),\"&BEAMTable\",$F$44),\"&Column\", AA72),\"&Table\",$F$45),\"\")","v":""},{"$f":"IF(AND(AB57<>\"Y\",$F$55=\"Fact\",AB59=\"Y\"),CHAR(13)& SUBSTITUTE(SUBSTITUTE(SUBSTITUTE(SUBSTITUTE(Settings!$B$45,\"&BEAMColumn\",AB71),\"&BEAMTable\",$F$44),\"&Column\", AB72),\"&Table\",$F$45),\"\")","v":""},{"$f":"IF(AND(AC57<>\"Y\",$F$55=\"Fact\",AC59=\"Y\"),CHAR(13)& SUBSTITUTE(SUBSTITUTE(SUBSTITUTE(SUBSTITUTE(Settings!$B$45,\"&BEAMColumn\",AC71),\"&BEAMTable\",$F$44),\"&Column\", AC72),\"&Table\",$F$45),\"\")","v":""},{"$f":"IF(AND(AD57<>\"Y\",$F$55=\"Fact\",AD59=\"Y\"),CHAR(13)& SUBSTITUTE(SUBSTITUTE(SUBSTITUTE(SUBSTITUTE(Settings!$B$45,\"&BEAMColumn\",AD71),\"&BEAMTable\",$F$44),\"&Column\", AD72),\"&Table\",$F$45),\"\")","v":""},{"$f":"IF(AND(AE57<>\"Y\",$F$55=\"Fact\",AE59=\"Y\"),CHAR(13)& SUBSTITUTE(SUBSTITUTE(SUBSTITUTE(SUBSTITUTE(Settings!$B$45,\"&BEAMColumn\",AE71),\"&BEAMTable\",$F$44),\"&Column\", AE72),\"&Table\",$F$45),\"\")","v":""},{"$f":"IF(AND(AF57<>\"Y\",$F$55=\"Fact\",AF59=\"Y\"),CHAR(13)& SUBSTITUTE(SUBSTITUTE(SUBSTITUTE(SUBSTITUTE(Settings!$B$45,\"&BEAMColumn\",AF71),\"&BEAMTable\",$F$44),\"&Column\", AF72),\"&Table\",$F$45),\"\")","v":""},{"$f":"IF(AND(AG57<>\"Y\",$F$55=\"Fact\",AG59=\"Y\"),CHAR(13)& SUBSTITUTE(SUBSTITUTE(SUBSTITUTE(SUBSTITUTE(Settings!$B$45,\"&BEAMColumn\",AG71),\"&BEAMTable\",$F$44),\"&Column\", AG72),\"&Table\",$F$45),\"\")","v":""},{"$f":"IF(AND(AH57<>\"Y\",$F$55=\"Fact\",AH59=\"Y\"),CHAR(13)& SUBSTITUTE(SUBSTITUTE(SUBSTITUTE(SUBSTITUTE(Settings!$B$45,\"&BEAMColumn\",AH71),\"&BEAMTable\",$F$44),\"&Column\", AH72),\"&Table\",$F$45),\"\")","v":""},{"$f":"IF(AND(AI57<>\"Y\",$F$55=\"Fact\",AI59=\"Y\"),CHAR(13)& SUBSTITUTE(SUBSTITUTE(SUBSTITUTE(SUBSTITUTE(Settings!$B$45,\"&BEAMColumn\",AI71),\"&BEAMTable\",$F$44),\"&Column\", AI72),\"&Table\",$F$45),\"\")","v":""},{"$f":"IF(AND(AJ57<>\"Y\",$F$55=\"Fact\",AJ59=\"Y\"),CHAR(13)& SUBSTITUTE(SUBSTITUTE(SUBSTITUTE(SUBSTITUTE(Settings!$B$45,\"&BEAMColumn\",AJ71),\"&BEAMTable\",$F$44),\"&Column\", AJ72),\"&Table\",$F$45),\"\")","v":""},{"$f":"IF(AND(AK57<>\"Y\",$F$55=\"Fact\",AK59=\"Y\"),CHAR(13)& SUBSTITUTE(SUBSTITUTE(SUBSTITUTE(SUBSTITUTE(Settings!$B$45,\"&BEAMColumn\",AK71),\"&BEAMTable\",$F$44),\"&Column\", AK72),\"&Table\",$F$45),\"\")","v":""},{"$f":"IF(AND(AL57<>\"Y\",$F$55=\"Fact\",AL59=\"Y\"),CHAR(13)& SUBSTITUTE(SUBSTITUTE(SUBSTITUTE(SUBSTITUTE(Settings!$B$45,\"&BEAMColumn\",AL71),\"&BEAMTable\",$F$44),\"&Column\", AL72),\"&Table\",$F$45),\"\")","v":""},{"$f":"IF(AND(AM57<>\"Y\",$F$55=\"Fact\",AM59=\"Y\"),CHAR(13)& SUBSTITUTE(SUBSTITUTE(SUBSTITUTE(SUBSTITUTE(Settings!$B$45,\"&BEAMColumn\",AM71),\"&BEAMTable\",$F$44),\"&Column\", AM72),\"&Table\",$F$45),\"\")","v":""},{"$f":"IF(AND(AN57<>\"Y\",$F$55=\"Fact\",AN59=\"Y\"),CHAR(13)& SUBSTITUTE(SUBSTITUTE(SUBSTITUTE(SUBSTITUTE(Settings!$B$45,\"&BEAMColumn\",AN71),\"&BEAMTable\",$F$44),\"&Column\", AN72),\"&Table\",$F$45),\"\")","v":""},{"$f":"IF(AND(AO57<>\"Y\",$F$55=\"Fact\",AO59=\"Y\"),CHAR(13)& SUBSTITUTE(SUBSTITUTE(SUBSTITUTE(SUBSTITUTE(Settings!$B$45,\"&BEAMColumn\",AO71),\"&BEAMTable\",$F$44),\"&Column\", AO72),\"&Table\",$F$45),\"\")","v":""},{"$f":"IF(AND(AP57<>\"Y\",$F$55=\"Fact\",AP59=\"Y\"),CHAR(13)& SUBSTITUTE(SUBSTITUTE(SUBSTITUTE(SUBSTITUTE(Settings!$B$45,\"&BEAMColumn\",AP71),\"&BEAMTable\",$F$44),\"&Column\", AP72),\"&Table\",$F$45),\"\")","v":""},{"$f":"IF(AND(AQ57<>\"Y\",$F$55=\"Fact\",AQ59=\"Y\"),CHAR(13)& SUBSTITUTE(SUBSTITUTE(SUBSTITUTE(SUBSTITUTE(Settings!$B$45,\"&BEAMColumn\",AQ71),\"&BEAMTable\",$F$44),\"&Column\", AQ72),\"&Table\",$F$45),\"\")","v":""},{"$f":"IF(AND(AR57<>\"Y\",$F$55=\"Fact\",AR59=\"Y\"),CHAR(13)& SUBSTITUTE(SUBSTITUTE(SUBSTITUTE(SUBSTITUTE(Settings!$B$45,\"&BEAMColumn\",AR71),\"&BEAMTable\",$F$44),\"&Column\", AR72),\"&Table\",$F$45),\"\")","v":""},{"$f":"IF(AND(AS57<>\"Y\",$F$55=\"Fact\",AS59=\"Y\"),CHAR(13)& SUBSTITUTE(SUBSTITUTE(SUBSTITUTE(SUBSTITUTE(Settings!$B$45,\"&BEAMColumn\",AS71),\"&BEAMTable\",$F$44),\"&Column\", AS72),\"&Table\",$F$45),\"\")","v":""},{"$f":"IF(AND(AT57<>\"Y\",$F$55=\"Fact\",AT59=\"Y\"),CHAR(13)& SUBSTITUTE(SUBSTITUTE(SUBSTITUTE(SUBSTITUTE(Settings!$B$45,\"&BEAMColumn\",AT71),\"&BEAMTable\",$F$44),\"&Column\", AT72),\"&Table\",$F$45),\"\")","v":""},{"$f":"IF(AND(AU57<>\"Y\",$F$55=\"Fact\",AU59=\"Y\"),CHAR(13)& SUBSTITUTE(SUBSTITUTE(SUBSTITUTE(SUBSTITUTE(Settings!$B$45,\"&BEAMColumn\",AU71),\"&BEAMTable\",$F$44),\"&Column\", AU72),\"&Table\",$F$45),\"\")","v":""},{"$f":"IF(AND(AV57<>\"Y\",$F$55=\"Fact\",AV59=\"Y\"),CHAR(13)& SUBSTITUTE(SUBSTITUTE(SUBSTITUTE(SUBSTITUTE(Settings!$B$45,\"&BEAMColumn\",AV71),\"&BEAMTable\",$F$44),\"&Column\", AV72),\"&Table\",$F$45),\"\")","v":""},{"$f":"IF(AND(AW57<>\"Y\",$F$55=\"Fact\",AW59=\"Y\"),CHAR(13)& SUBSTITUTE(SUBSTITUTE(SUBSTITUTE(SUBSTITUTE(Settings!$B$45,\"&BEAMColumn\",AW71),\"&BEAMTable\",$F$44),\"&Column\", AW72),\"&Table\",$F$45),\"\")","v":""},{"$f":"IF(AND(AX57<>\"Y\",$F$55=\"Fact\",AX59=\"Y\"),CHAR(13)& SUBSTITUTE(SUBSTITUTE(SUBSTITUTE(SUBSTITUTE(Settings!$B$45,\"&BEAMColumn\",AX71),\"&BEAMTable\",$F$44),\"&Column\", AX72),\"&Table\",$F$45),\"\")","v":""},{"$f":"IF(AND(AY57<>\"Y\",$F$55=\"Fact\",AY59=\"Y\"),CHAR(13)& SUBSTITUTE(SUBSTITUTE(SUBSTITUTE(SUBSTITUTE(Settings!$B$45,\"&BEAMColumn\",AY71),\"&BEAMTable\",$F$44),\"&Column\", AY72),\"&Table\",$F$45),\"\")","v":""},{"$f":"IF(AND(AZ57<>\"Y\",$F$55=\"Fact\",AZ59=\"Y\"),CHAR(13)& SUBSTITUTE(SUBSTITUTE(SUBSTITUTE(SUBSTITUTE(Settings!$B$45,\"&BEAMColumn\",AZ71),\"&BEAMTable\",$F$44),\"&Column\", AZ72),\"&Table\",$F$45),\"\")","v":""},{"$f":"IF(AND(BA57<>\"Y\",$F$55=\"Fact\",BA59=\"Y\"),CHAR(13)& SUBSTITUTE(SUBSTITUTE(SUBSTITUTE(SUBSTITUTE(Settings!$B$45,\"&BEAMColumn\",BA71),\"&BEAMTable\",$F$44),\"&Column\", BA72),\"&Table\",$F$45),\"\")","v":""},{"$f":"IF(AND(BB57<>\"Y\",$F$55=\"Fact\",BB59=\"Y\"),CHAR(13)& SUBSTITUTE(SUBSTITUTE(SUBSTITUTE(SUBSTITUTE(Settings!$B$45,\"&BEAMColumn\",BB71),\"&BEAMTable\",$F$44),\"&Column\", BB72),\"&Table\",$F$45),\"\")","v":""},{"$f":"IF(AND(BC57<>\"Y\",$F$55=\"Fact\",BC59=\"Y\"),CHAR(13)& SUBSTITUTE(SUBSTITUTE(SUBSTITUTE(SUBSTITUTE(Settings!$B$45,\"&BEAMColumn\",BC71),\"&BEAMTable\",$F$44),\"&Column\", BC72),\"&Table\",$F$45),\"\")","v":""},{"$f":"IF(AND(BD57<>\"Y\",$F$55=\"Fact\",BD59=\"Y\"),CHAR(13)& SUBSTITUTE(SUBSTITUTE(SUBSTITUTE(SUBSTITUTE(Settings!$B$45,\"&BEAMColumn\",BD71),\"&BEAMTable\",$F$44),\"&Column\", BD72),\"&Table\",$F$45),\"\")","v":""},{"$f":"IF(AND(BE57<>\"Y\",$F$55=\"Fact\",BE59=\"Y\"),CHAR(13)& SUBSTITUTE(SUBSTITUTE(SUBSTITUTE(SUBSTITUTE(Settings!$B$45,\"&BEAMColumn\",BE71),\"&BEAMTable\",$F$44),\"&Column\", BE72),\"&Table\",$F$45),\"\")","v":""},{"$f":"IF(AND(BF57<>\"Y\",$F$55=\"Fact\",BF59=\"Y\"),CHAR(13)& SUBSTITUTE(SUBSTITUTE(SUBSTITUTE(SUBSTITUTE(Settings!$B$45,\"&BEAMColumn\",BF71),\"&BEAMTable\",$F$44),\"&Column\", BF72),\"&Table\",$F$45),\"\")","v":""},{"$f":"IF(AND(BG57<>\"Y\",$F$55=\"Fact\",BG59=\"Y\"),CHAR(13)& SUBSTITUTE(SUBSTITUTE(SUBSTITUTE(SUBSTITUTE(Settings!$B$45,\"&BEAMColumn\",BG71),\"&BEAMTable\",$F$44),\"&Column\", BG72),\"&Table\",$F$45),\"\")","v":""},{"$f":"IF(AND(BH57<>\"Y\",$F$55=\"Fact\",BH59=\"Y\"),CHAR(13)& SUBSTITUTE(SUBSTITUTE(SUBSTITUTE(SUBSTITUTE(Settings!$B$45,\"&BEAMColumn\",BH71),\"&BEAMTable\",$F$44),\"&Column\", BH72),\"&Table\",$F$45),\"\")","v":""},{"$f":"IF(AND(BI57<>\"Y\",$F$55=\"Fact\",BI59=\"Y\"),CHAR(13)& SUBSTITUTE(SUBSTITUTE(SUBSTITUTE(SUBSTITUTE(Settings!$B$45,\"&BEAMColumn\",BI71),\"&BEAMTable\",$F$44),\"&Column\", BI72),\"&Table\",$F$45),\"\")","v":""},{"$f":"IF(AND(BJ57<>\"Y\",$F$55=\"Fact\",BJ59=\"Y\"),CHAR(13)& SUBSTITUTE(SUBSTITUTE(SUBSTITUTE(SUBSTITUTE(Settings!$B$45,\"&BEAMColumn\",BJ71),\"&BEAMTable\",$F$44),\"&Column\", BJ72),\"&Table\",$F$45),\"\")","v":""},{"$f":"IF(AND(BK57<>\"Y\",$F$55=\"Fact\",BK59=\"Y\"),CHAR(13)& SUBSTITUTE(SUBSTITUTE(SUBSTITUTE(SUBSTITUTE(Settings!$B$45,\"&BEAMColumn\",BK71),\"&BEAMTable\",$F$44),\"&Column\", BK72),\"&Table\",$F$45),\"\")","v":""},{"$f":"IF(AND(BL57<>\"Y\",$F$55=\"Fact\",BL59=\"Y\"),CHAR(13)& SUBSTITUTE(SUBSTITUTE(SUBSTITUTE(SUBSTITUTE(Settings!$B$45,\"&BEAMColumn\",BL71),\"&BEAMTable\",$F$44),\"&Column\", BL72),\"&Table\",$F$45),\"\")","v":""},{"$f":"IF(AND(BM57<>\"Y\",$F$55=\"Fact\",BM59=\"Y\"),CHAR(13)& SUBSTITUTE(SUBSTITUTE(SUBSTITUTE(SUBSTITUTE(Settings!$B$45,\"&BEAMColumn\",BM71),\"&BEAMTable\",$F$44),\"&Column\", BM72),\"&Table\",$F$45),\"\")","v":""},{"$f":"IF(AND(BN57<>\"Y\",$F$55=\"Fact\",BN59=\"Y\"),CHAR(13)& SUBSTITUTE(SUBSTITUTE(SUBSTITUTE(SUBSTITUTE(Settings!$B$45,\"&BEAMColumn\",BN71),\"&BEAMTable\",$F$44),\"&Column\", BN72),\"&Table\",$F$45),\"\")","v":""},{"$f":"IF(AND(BO57<>\"Y\",$F$55=\"Fact\",BO59=\"Y\"),CHAR(13)& SUBSTITUTE(SUBSTITUTE(SUBSTITUTE(SUBSTITUTE(Settings!$B$45,\"&BEAMColumn\",BO71),\"&BEAMTable\",$F$44),\"&Column\", BO72),\"&Table\",$F$45),\"\")","v":""},{"$f":"IF(AND(BP57<>\"Y\",$F$55=\"Fact\",BP59=\"Y\"),CHAR(13)& SUBSTITUTE(SUBSTITUTE(SUBSTITUTE(SUBSTITUTE(Settings!$B$45,\"&BEAMColumn\",BP71),\"&BEAMTable\",$F$44),\"&Column\", BP72),\"&Table\",$F$45),\"\")","v":""},{"$f":"IF(AND(BQ57<>\"Y\",$F$55=\"Fact\",BQ59=\"Y\"),CHAR(13)& SUBSTITUTE(SUBSTITUTE(SUBSTITUTE(SUBSTITUTE(Settings!$B$45,\"&BEAMColumn\",BQ71),\"&BEAMTable\",$F$44),\"&Column\", BQ72),\"&Table\",$F$45),\"\")","v":""},{"$f":"IF(AND(BR57<>\"Y\",$F$55=\"Fact\",BR59=\"Y\"),CHAR(13)& SUBSTITUTE(SUBSTITUTE(SUBSTITUTE(SUBSTITUTE(Settings!$B$45,\"&BEAMColumn\",BR71),\"&BEAMTable\",$F$44),\"&Column\", BR72),\"&Table\",$F$45),\"\")","v":""},{"$f":"IF(AND(BS57<>\"Y\",$F$55=\"Fact\",BS59=\"Y\"),CHAR(13)& SUBSTITUTE(SUBSTITUTE(SUBSTITUTE(SUBSTITUTE(Settings!$B$45,\"&BEAMColumn\",BS71),\"&BEAMTable\",$F$44),\"&Column\", BS72),\"&Table\",$F$45),\"\")","v":""},{"$f":"IF(AND(BT57<>\"Y\",$F$55=\"Fact\",BT59=\"Y\"),CHAR(13)& SUBSTITUTE(SUBSTITUTE(SUBSTITUTE(SUBSTITUTE(Settings!$B$45,\"&BEAMColumn\",BT71),\"&BEAMTable\",$F$44),\"&Column\", BT72),\"&Table\",$F$45),\"\")","v":""},{"$f":"IF(AND(BU57<>\"Y\",$F$55=\"Fact\",BU59=\"Y\"),CHAR(13)& SUBSTITUTE(SUBSTITUTE(SUBSTITUTE(SUBSTITUTE(Settings!$B$45,\"&BEAMColumn\",BU71),\"&BEAMTable\",$F$44),\"&Column\", BU72),\"&Table\",$F$45),\"\")","v":""},{"$f":"IF(AND(BV57<>\"Y\",$F$55=\"Fact\",BV59=\"Y\"),CHAR(13)& SUBSTITUTE(SUBSTITUTE(SUBSTITUTE(SUBSTITUTE(Settings!$B$45,\"&BEAMColumn\",BV71),\"&BEAMTable\",$F$44),\"&Column\", BV72),\"&Table\",$F$45),\"\")","v":""},{"$f":"IF(AND(BW57<>\"Y\",$F$55=\"Fact\",BW59=\"Y\"),CHAR(13)& SUBSTITUTE(SUBSTITUTE(SUBSTITUTE(SUBSTITUTE(Settings!$B$45,\"&BEAMColumn\",BW71),\"&BEAMTable\",$F$44),\"&Column\", BW72),\"&Table\",$F$45),\"\")","v":""},{"$f":"IF(AND(BX57<>\"Y\",$F$55=\"Fact\",BX59=\"Y\"),CHAR(13)& SUBSTITUTE(SUBSTITUTE(SUBSTITUTE(SUBSTITUTE(Settings!$B$45,\"&BEAMColumn\",BX71),\"&BEAMTable\",$F$44),\"&Column\", BX72),\"&Table\",$F$45),\"\")","v":""},{"$f":"IF(AND(BY57<>\"Y\",$F$55=\"Fact\",BY59=\"Y\"),CHAR(13)& SUBSTITUTE(SUBSTITUTE(SUBSTITUTE(SUBSTITUTE(Settings!$B$45,\"&BEAMColumn\",BY71),\"&BEAMTable\",$F$44),\"&Column\", BY72),\"&Table\",$F$45),\"\")","v":""},{"$f":"IF(AND(BZ57<>\"Y\",$F$55=\"Fact\",BZ59=\"Y\"),CHAR(13)& SUBSTITUTE(SUBSTITUTE(SUBSTITUTE(SUBSTITUTE(Settings!$B$45,\"&BEAMColumn\",BZ71),\"&BEAMTable\",$F$44),\"&Column\", BZ72),\"&Table\",$F$45),\"\")","v":""},{"$f":"IF(AND(CA57<>\"Y\",$F$55=\"Fact\",CA59=\"Y\"),CHAR(13)& SUBSTITUTE(SUBSTITUTE(SUBSTITUTE(SUBSTITUTE(Settings!$B$45,\"&BEAMColumn\",CA71),\"&BEAMTable\",$F$44),\"&Column\", CA72),\"&Table\",$F$45),\"\")","v":""},{"$f":"IF(AND(CB57<>\"Y\",$F$55=\"Fact\",CB59=\"Y\"),CHAR(13)& SUBSTITUTE(SUBSTITUTE(SUBSTITUTE(SUBSTITUTE(Settings!$B$45,\"&BEAMColumn\",CB71),\"&BEAMTable\",$F$44),\"&Column\", CB72),\"&Table\",$F$45),\"\")","v":""},{"$f":"IF(AND(CC57<>\"Y\",$F$55=\"Fact\",CC59=\"Y\"),CHAR(13)& SUBSTITUTE(SUBSTITUTE(SUBSTITUTE(SUBSTITUTE(Settings!$B$45,\"&BEAMColumn\",CC71),\"&BEAMTable\",$F$44),\"&Column\", CC72),\"&Table\",$F$45),\"\")","v":""},{"$f":"IF(AND(CD57<>\"Y\",$F$55=\"Fact\",CD59=\"Y\"),CHAR(13)& SUBSTITUTE(SUBSTITUTE(SUBSTITUTE(SUBSTITUTE(Settings!$B$45,\"&BEAMColumn\",CD71),\"&BEAMTable\",$F$44),\"&Column\", CD72),\"&Table\",$F$45),\"\")","v":""},{"$f":"IF(AND(CE57<>\"Y\",$F$55=\"Fact\",CE59=\"Y\"),CHAR(13)& SUBSTITUTE(SUBSTITUTE(SUBSTITUTE(SUBSTITUTE(Settings!$B$45,\"&BEAMColumn\",CE71),\"&BEAMTable\",$F$44),\"&Column\", CE72),\"&Table\",$F$45),\"\")","v":""},{"$f":"IF(AND(CF57<>\"Y\",$F$55=\"Fact\",CF59=\"Y\"),CHAR(13)& SUBSTITUTE(SUBSTITUTE(SUBSTITUTE(SUBSTITUTE(Settings!$B$45,\"&BEAMColumn\",CF71),\"&BEAMTable\",$F$44),\"&Column\", CF72),\"&Table\",$F$45),\"\")","v":""},{"$f":"IF(AND(CG57<>\"Y\",$F$55=\"Fact\",CG59=\"Y\"),CHAR(13)& SUBSTITUTE(SUBSTITUTE(SUBSTITUTE(SUBSTITUTE(Settings!$B$45,\"&BEAMColumn\",CG71),\"&BEAMTable\",$F$44),\"&Column\", CG72),\"&Table\",$F$45),\"\")","v":""},{"$f":"IF(AND(CH57<>\"Y\",$F$55=\"Fact\",CH59=\"Y\"),CHAR(13)& SUBSTITUTE(SUBSTITUTE(SUBSTITUTE(SUBSTITUTE(Settings!$B$45,\"&BEAMColumn\",CH71),\"&BEAMTable\",$F$44),\"&Column\", CH72),\"&Table\",$F$45),\"\")","v":""},{"$f":"IF(AND(CI57<>\"Y\",$F$55=\"Fact\",CI59=\"Y\"),CHAR(13)& SUBSTITUTE(SUBSTITUTE(SUBSTITUTE(SUBSTITUTE(Settings!$B$45,\"&BEAMColumn\",CI71),\"&BEAMTable\",$F$44),\"&Column\", CI72),\"&Table\",$F$45),\"\")","v":""},{"$f":"IF(AND(CJ57<>\"Y\",$F$55=\"Fact\",CJ59=\"Y\"),CHAR(13)& SUBSTITUTE(SUBSTITUTE(SUBSTITUTE(SUBSTITUTE(Settings!$B$45,\"&BEAMColumn\",CJ71),\"&BEAMTable\",$F$44),\"&Column\", CJ72),\"&Table\",$F$45),\"\")","v":""},{"$f":"IF(AND(CK57<>\"Y\",$F$55=\"Fact\",CK59=\"Y\"),CHAR(13)& SUBSTITUTE(SUBSTITUTE(SUBSTITUTE(SUBSTITUTE(Settings!$B$45,\"&BEAMColumn\",CK71),\"&BEAMTable\",$F$44),\"&Column\", CK72),\"&Table\",$F$45),\"\")","v":""},{"$f":"IF(AND(CL57<>\"Y\",$F$55=\"Fact\",CL59=\"Y\"),CHAR(13)& SUBSTITUTE(SUBSTITUTE(SUBSTITUTE(SUBSTITUTE(Settings!$B$45,\"&BEAMColumn\",CL71),\"&BEAMTable\",$F$44),\"&Column\", CL72),\"&Table\",$F$45),\"\")","v":""},{"$f":"IF(AND(CM57<>\"Y\",$F$55=\"Fact\",CM59=\"Y\"),CHAR(13)& SUBSTITUTE(SUBSTITUTE(SUBSTITUTE(SUBSTITUTE(Settings!$B$45,\"&BEAMColumn\",CM71),\"&BEAMTable\",$F$44),\"&Column\", CM72),\"&Table\",$F$45),\"\")","v":""},{"$f":"IF(AND(CN57<>\"Y\",$F$55=\"Fact\",CN59=\"Y\"),CHAR(13)& SUBSTITUTE(SUBSTITUTE(SUBSTITUTE(SUBSTITUTE(Settings!$B$45,\"&BEAMColumn\",CN71),\"&BEAMTable\",$F$44),\"&Column\", CN72),\"&Table\",$F$45),\"\")","v":""},{"$f":"IF(AND(CO57<>\"Y\",$F$55=\"Fact\",CO59=\"Y\"),CHAR(13)& SUBSTITUTE(SUBSTITUTE(SUBSTITUTE(SUBSTITUTE(Settings!$B$45,\"&BEAMColumn\",CO71),\"&BEAMTable\",$F$44),\"&Column\", CO72),\"&Table\",$F$45),\"\")","v":""},{"$f":"IF(AND(CP57<>\"Y\",$F$55=\"Fact\",CP59=\"Y\"),CHAR(13)& SUBSTITUTE(SUBSTITUTE(SUBSTITUTE(SUBSTITUTE(Settings!$B$45,\"&BEAMColumn\",CP71),\"&BEAMTable\",$F$44),\"&Column\", CP72),\"&Table\",$F$45),\"\")","v":""},{"$f":"IF(AND(CQ57<>\"Y\",$F$55=\"Fact\",CQ59=\"Y\"),CHAR(13)& SUBSTITUTE(SUBSTITUTE(SUBSTITUTE(SUBSTITUTE(Settings!$B$45,\"&BEAMColumn\",CQ71),\"&BEAMTable\",$F$44),\"&Column\", CQ72),\"&Table\",$F$45),\"\")","v":""},{"$f":"IF(AND(CR57<>\"Y\",$F$55=\"Fact\",CR59=\"Y\"),CHAR(13)& SUBSTITUTE(SUBSTITUTE(SUBSTITUTE(SUBSTITUTE(Settings!$B$45,\"&BEAMColumn\",CR71),\"&BEAMTable\",$F$44),\"&Column\", CR72),\"&Table\",$F$45),\"\")","v":""},{"$f":"IF(AND(CS57<>\"Y\",$F$55=\"Fact\",CS59=\"Y\"),CHAR(13)& SUBSTITUTE(SUBSTITUTE(SUBSTITUTE(SUBSTITUTE(Settings!$B$45,\"&BEAMColumn\",CS71),\"&BEAMTable\",$F$44),\"&Column\", CS72),\"&Table\",$F$45),\"\")","v":""},{"$f":"IF(AND(CT57<>\"Y\",$F$55=\"Fact\",CT59=\"Y\"),CHAR(13)& SUBSTITUTE(SUBSTITUTE(SUBSTITUTE(SUBSTITUTE(Settings!$B$45,\"&BEAMColumn\",CT71),\"&BEAMTable\",$F$44),\"&Column\", CT72),\"&Table\",$F$45),\"\")","v":""},{"$f":"IF(AND(CU57<>\"Y\",$F$55=\"Fact\",CU59=\"Y\"),CHAR(13)& SUBSTITUTE(SUBSTITUTE(SUBSTITUTE(SUBSTITUTE(Settings!$B$45,\"&BEAMColumn\",CU71),\"&BEAMTable\",$F$44),\"&Column\", CU72),\"&Table\",$F$45),\"\")","v":""},{"$f":"IF(AND(CV57<>\"Y\",$F$55=\"Fact\",CV59=\"Y\"),CHAR(13)& SUBSTITUTE(SUBSTITUTE(SUBSTITUTE(SUBSTITUTE(Settings!$B$45,\"&BEAMColumn\",CV71),\"&BEAMTable\",$F$44),\"&Column\", CV72),\"&Table\",$F$45),\"\")","v":""},{"$f":"IF(AND(CW57<>\"Y\",$F$55=\"Fact\",CW59=\"Y\"),CHAR(13)& SUBSTITUTE(SUBSTITUTE(SUBSTITUTE(SUBSTITUTE(Settings!$B$45,\"&BEAMColumn\",CW71),\"&BEAMTable\",$F$44),\"&Column\", CW72),\"&Table\",$F$45),\"\")","v":""},{"$f":"IF(AND(CX57<>\"Y\",$F$55=\"Fact\",CX59=\"Y\"),CHAR(13)& SUBSTITUTE(SUBSTITUTE(SUBSTITUTE(SUBSTITUTE(Settings!$B$45,\"&BEAMColumn\",CX71),\"&BEAMTable\",$F$44),\"&Column\", CX72),\"&Table\",$F$45),\"\")","v":""},{"$f":"IF(AND(CY57<>\"Y\",$F$55=\"Fact\",CY59=\"Y\"),CHAR(13)& SUBSTITUTE(SUBSTITUTE(SUBSTITUTE(SUBSTITUTE(Settings!$B$45,\"&BEAMColumn\",CY71),\"&BEAMTable\",$F$44),\"&Column\", CY72),\"&Table\",$F$45),\"\")","v":""},{"$f":"IF(AND(CZ57<>\"Y\",$F$55=\"Fact\",CZ59=\"Y\"),CHAR(13)& SUBSTITUTE(SUBSTITUTE(SUBSTITUTE(SUBSTITUTE(Settings!$B$45,\"&BEAMColumn\",CZ71),\"&BEAMTable\",$F$44),\"&Column\", CZ72),\"&Table\",$F$45),\"\")","v":""},{"$f":"IF(AND(DA57<>\"Y\",$F$55=\"Fact\",DA59=\"Y\"),CHAR(13)& SUBSTITUTE(SUBSTITUTE(SUBSTITUTE(SUBSTITUTE(Settings!$B$45,\"&BEAMColumn\",DA71),\"&BEAMTable\",$F$44),\"&Column\", DA72),\"&Table\",$F$45),\"\")","v":""},{"$f":"IF(AND(DB57<>\"Y\",$F$55=\"Fact\",DB59=\"Y\"),CHAR(13)& SUBSTITUTE(SUBSTITUTE(SUBSTITUTE(SUBSTITUTE(Settings!$B$45,\"&BEAMColumn\",DB71),\"&BEAMTable\",$F$44),\"&Column\", DB72),\"&Table\",$F$45),\"\")","v":""},{"$f":"IF(AND(DC57<>\"Y\",$F$55=\"Fact\",DC59=\"Y\"),CHAR(13)& SUBSTITUTE(SUBSTITUTE(SUBSTITUTE(SUBSTITUTE(Settings!$B$45,\"&BEAMColumn\",DC71),\"&BEAMTable\",$F$44),\"&Column\", DC72),\"&Table\",$F$45),\"\")","v":""},{"$f":"IF(AND(DD57<>\"Y\",$F$55=\"Fact\",DD59=\"Y\"),CHAR(13)& SUBSTITUTE(SUBSTITUTE(SUBSTITUTE(SUBSTITUTE(Settings!$B$45,\"&BEAMColumn\",DD71),\"&BEAMTable\",$F$44),\"&Column\", DD72),\"&Table\",$F$45),\"\")","v":""},{"$f":"IF(AND(DE57<>\"Y\",$F$55=\"Fact\",DE59=\"Y\"),CHAR(13)& SUBSTITUTE(SUBSTITUTE(SUBSTITUTE(SUBSTITUTE(Settings!$B$45,\"&BEAMColumn\",DE71),\"&BEAMTable\",$F$44),\"&Column\", DE72),\"&Table\",$F$45),\"\")","v":""},{"$f":"IF(AND(DF57<>\"Y\",$F$55=\"Fact\",DF59=\"Y\"),CHAR(13)& SUBSTITUTE(SUBSTITUTE(SUBSTITUTE(SUBSTITUTE(Settings!$B$45,\"&BEAMColumn\",DF71),\"&BEAMTable\",$F$44),\"&Column\", DF72),\"&Table\",$F$45),\"\")","v":""},{"$f":"IF(AND(DG57<>\"Y\",$F$55=\"Fact\",DG59=\"Y\"),CHAR(13)& SUBSTITUTE(SUBSTITUTE(SUBSTITUTE(SUBSTITUTE(Settings!$B$45,\"&BEAMColumn\",DG71),\"&BEAMTable\",$F$44),\"&Column\", DG72),\"&Table\",$F$45),\"\")","v":""},{"$f":"IF(AND(DH57<>\"Y\",$F$55=\"Fact\",DH59=\"Y\"),CHAR(13)& SUBSTITUTE(SUBSTITUTE(SUBSTITUTE(SUBSTITUTE(Settings!$B$45,\"&BEAMColumn\",DH71),\"&BEAMTable\",$F$44),\"&Column\", DH72),\"&Table\",$F$45),\"\")","v":""},{"$f":"IF(AND(DI57<>\"Y\",$F$55=\"Fact\",DI59=\"Y\"),CHAR(13)& SUBSTITUTE(SUBSTITUTE(SUBSTITUTE(SUBSTITUTE(Settings!$B$45,\"&BEAMColumn\",DI71),\"&BEAMTable\",$F$44),\"&Column\", DI72),\"&Table\",$F$45),\"\")","v":""},{"$f":"IF(AND(DJ57<>\"Y\",$F$55=\"Fact\",DJ59=\"Y\"),CHAR(13)& SUBSTITUTE(SUBSTITUTE(SUBSTITUTE(SUBSTITUTE(Settings!$B$45,\"&BEAMColumn\",DJ71),\"&BEAMTable\",$F$44),\"&Column\", DJ72),\"&Table\",$F$45),\"\")","v":""},{"$f":"IF(AND(DK57<>\"Y\",$F$55=\"Fact\",DK59=\"Y\"),CHAR(13)& SUBSTITUTE(SUBSTITUTE(SUBSTITUTE(SUBSTITUTE(Settings!$B$45,\"&BEAMColumn\",DK71),\"&BEAMTable\",$F$44),\"&Column\", DK72),\"&Table\",$F$45),\"\")","v":""},{"$f":"IF(AND(DL57<>\"Y\",$F$55=\"Fact\",DL59=\"Y\"),CHAR(13)& SUBSTITUTE(SUBSTITUTE(SUBSTITUTE(SUBSTITUTE(Settings!$B$45,\"&BEAMColumn\",DL71),\"&BEAMTable\",$F$44),\"&Column\", DL72),\"&Table\",$F$45),\"\")","v":""},{"$f":"IF(AND(DM57<>\"Y\",$F$55=\"Fact\",DM59=\"Y\"),CHAR(13)& SUBSTITUTE(SUBSTITUTE(SUBSTITUTE(SUBSTITUTE(Settings!$B$45,\"&BEAMColumn\",DM71),\"&BEAMTable\",$F$44),\"&Column\", DM72),\"&Table\",$F$45),\"\")","v":""},{"$f":"IF(AND(DN57<>\"Y\",$F$55=\"Fact\",DN59=\"Y\"),CHAR(13)& SUBSTITUTE(SUBSTITUTE(SUBSTITUTE(SUBSTITUTE(Settings!$B$45,\"&BEAMColumn\",DN71),\"&BEAMTable\",$F$44),\"&Column\", DN72),\"&Table\",$F$45),\"\")","v":""},{"$f":"IF(AND(DO57<>\"Y\",$F$55=\"Fact\",DO59=\"Y\"),CHAR(13)& SUBSTITUTE(SUBSTITUTE(SUBSTITUTE(SUBSTITUTE(Settings!$B$45,\"&BEAMColumn\",DO71),\"&BEAMTable\",$F$44),\"&Column\", DO72),\"&Table\",$F$45),\"\")","v":""},{"$f":"IF(AND(DP57<>\"Y\",$F$55=\"Fact\",DP59=\"Y\"),CHAR(13)& SUBSTITUTE(SUBSTITUTE(SUBSTITUTE(SUBSTITUTE(Settings!$B$45,\"&BEAMColumn\",DP71),\"&BEAMTable\",$F$44),\"&Column\", DP72),\"&Table\",$F$45),\"\")","v":""},{"$f":"IF(AND(DQ57<>\"Y\",$F$55=\"Fact\",DQ59=\"Y\"),CHAR(13)& SUBSTITUTE(SUBSTITUTE(SUBSTITUTE(SUBSTITUTE(Settings!$B$45,\"&BEAMColumn\",DQ71),\"&BEAMTable\",$F$44),\"&Column\", DQ72),\"&Table\",$F$45),\"\")","v":""},{"$f":"IF(AND(DR57<>\"Y\",$F$55=\"Fact\",DR59=\"Y\"),CHAR(13)& SUBSTITUTE(SUBSTITUTE(SUBSTITUTE(SUBSTITUTE(Settings!$B$45,\"&BEAMColumn\",DR71),\"&BEAMTable\",$F$44),\"&Column\", DR72),\"&Table\",$F$45),\"\")","v":""},{"$f":"IF(AND(DS57<>\"Y\",$F$55=\"Fact\",DS59=\"Y\"),CHAR(13)& SUBSTITUTE(SUBSTITUTE(SUBSTITUTE(SUBSTITUTE(Settings!$B$45,\"&BEAMColumn\",DS71),\"&BEAMTable\",$F$44),\"&Column\", DS72),\"&Table\",$F$45),\"\")","v":""},{"$f":"IF(AND(DT57<>\"Y\",$F$55=\"Fact\",DT59=\"Y\"),CHAR(13)& SUBSTITUTE(SUBSTITUTE(SUBSTITUTE(SUBSTITUTE(Settings!$B$45,\"&BEAMColumn\",DT71),\"&BEAMTable\",$F$44),\"&Column\", DT72),\"&Table\",$F$45),\"\")","v":""},{"$f":"IF(AND(DU57<>\"Y\",$F$55=\"Fact\",DU59=\"Y\"),CHAR(13)& SUBSTITUTE(SUBSTITUTE(SUBSTITUTE(SUBSTITUTE(Settings!$B$45,\"&BEAMColumn\",DU71),\"&BEAMTable\",$F$44),\"&Column\", DU72),\"&Table\",$F$45),\"\")","v":""},{"$f":"IF(AND(DV57<>\"Y\",$F$55=\"Fact\",DV59=\"Y\"),CHAR(13)& SUBSTITUTE(SUBSTITUTE(SUBSTITUTE(SUBSTITUTE(Settings!$B$45,\"&BEAMColumn\",DV71),\"&BEAMTable\",$F$44),\"&Column\", DV72),\"&Table\",$F$45),\"\")","v":""},{"$f":"IF(AND(DW57<>\"Y\",$F$55=\"Fact\",DW59=\"Y\"),CHAR(13)& SUBSTITUTE(SUBSTITUTE(SUBSTITUTE(SUBSTITUTE(Settings!$B$45,\"&BEAMColumn\",DW71),\"&BEAMTable\",$F$44),\"&Column\", DW72),\"&Table\",$F$45),\"\")","v":""},{"$f":"IF(AND(DX57<>\"Y\",$F$55=\"Fact\",DX59=\"Y\"),CHAR(13)& SUBSTITUTE(SUBSTITUTE(SUBSTITUTE(SUBSTITUTE(Settings!$B$45,\"&BEAMColumn\",DX71),\"&BEAMTable\",$F$44),\"&Column\", DX72),\"&Table\",$F$45),\"\")","v":""},{"$f":"IF(AND(DY57<>\"Y\",$F$55=\"Fact\",DY59=\"Y\"),CHAR(13)& SUBSTITUTE(SUBSTITUTE(SUBSTITUTE(SUBSTITUTE(Settings!$B$45,\"&BEAMColumn\",DY71),\"&BEAMTable\",$F$44),\"&Column\", DY72),\"&Table\",$F$45),\"\")","v":""},{"$f":"IF(AND(DZ57<>\"Y\",$F$55=\"Fact\",DZ59=\"Y\"),CHAR(13)& SUBSTITUTE(SUBSTITUTE(SUBSTITUTE(SUBSTITUTE(Settings!$B$45,\"&BEAMColumn\",DZ71),\"&BEAMTable\",$F$44),\"&Column\", DZ72),\"&Table\",$F$45),\"\")","v":""},{"$f":"IF(AND(EA57<>\"Y\",$F$55=\"Fact\",EA59=\"Y\"),CHAR(13)& SUBSTITUTE(SUBSTITUTE(SUBSTITUTE(SUBSTITUTE(Settings!$B$45,\"&BEAMColumn\",EA71),\"&BEAMTable\",$F$44),\"&Column\", EA72),\"&Table\",$F$45),\"\")","v":""},{"$f":"IF(AND(EB57<>\"Y\",$F$55=\"Fact\",EB59=\"Y\"),CHAR(13)& SUBSTITUTE(SUBSTITUTE(SUBSTITUTE(SUBSTITUTE(Settings!$B$45,\"&BEAMColumn\",EB71),\"&BEAMTable\",$F$44),\"&Column\", EB72),\"&Table\",$F$45),\"\")","v":""},{"$f":"IF(AND(EC57<>\"Y\",$F$55=\"Fact\",EC59=\"Y\"),CHAR(13)& SUBSTITUTE(SUBSTITUTE(SUBSTITUTE(SUBSTITUTE(Settings!$B$45,\"&BEAMColumn\",EC71),\"&BEAMTable\",$F$44),\"&Column\", EC72),\"&Table\",$F$45),\"\")","v":""},{"$f":"IF(AND(ED57<>\"Y\",$F$55=\"Fact\",ED59=\"Y\"),CHAR(13)& SUBSTITUTE(SUBSTITUTE(SUBSTITUTE(SUBSTITUTE(Settings!$B$45,\"&BEAMColumn\",ED71),\"&BEAMTable\",$F$44),\"&Column\", ED72),\"&Table\",$F$45),\"\")","v":""},{"$f":"IF(AND(EE57<>\"Y\",$F$55=\"Fact\",EE59=\"Y\"),CHAR(13)& SUBSTITUTE(SUBSTITUTE(SUBSTITUTE(SUBSTITUTE(Settings!$B$45,\"&BEAMColumn\",EE71),\"&BEAMTable\",$F$44),\"&Column\", EE72),\"&Table\",$F$45),\"\")","v":""},{"$f":"IF(AND(EF57<>\"Y\",$F$55=\"Fact\",EF59=\"Y\"),CHAR(13)& SUBSTITUTE(SUBSTITUTE(SUBSTITUTE(SUBSTITUTE(Settings!$B$45,\"&BEAMColumn\",EF71),\"&BEAMTable\",$F$44),\"&Column\", EF72),\"&Table\",$F$45),\"\")","v":""},{"$f":"IF(AND(EG57<>\"Y\",$F$55=\"Fact\",EG59=\"Y\"),CHAR(13)& SUBSTITUTE(SUBSTITUTE(SUBSTITUTE(SUBSTITUTE(Settings!$B$45,\"&BEAMColumn\",EG71),\"&BEAMTable\",$F$44),\"&Column\", EG72),\"&Table\",$F$45),\"\")","v":""},{"$f":"IF(AND(EH57<>\"Y\",$F$55=\"Fact\",EH59=\"Y\"),CHAR(13)& SUBSTITUTE(SUBSTITUTE(SUBSTITUTE(SUBSTITUTE(Settings!$B$45,\"&BEAMColumn\",EH71),\"&BEAMTable\",$F$44),\"&Column\", EH72),\"&Table\",$F$45),\"\")","v":""},{"$f":"IF(AND(EI57<>\"Y\",$F$55=\"Fact\",EI59=\"Y\"),CHAR(13)& SUBSTITUTE(SUBSTITUTE(SUBSTITUTE(SUBSTITUTE(Settings!$B$45,\"&BEAMColumn\",EI71),\"&BEAMTable\",$F$44),\"&Column\", EI72),\"&Table\",$F$45),\"\")","v":""},{"$f":"IF(AND(EJ57<>\"Y\",$F$55=\"Fact\",EJ59=\"Y\"),CHAR(13)& SUBSTITUTE(SUBSTITUTE(SUBSTITUTE(SUBSTITUTE(Settings!$B$45,\"&BEAMColumn\",EJ71),\"&BEAMTable\",$F$44),\"&Column\", EJ72),\"&Table\",$F$45),\"\")","v":""},{"$f":"IF(AND(EK57<>\"Y\",$F$55=\"Fact\",EK59=\"Y\"),CHAR(13)& SUBSTITUTE(SUBSTITUTE(SUBSTITUTE(SUBSTITUTE(Settings!$B$45,\"&BEAMColumn\",EK71),\"&BEAMTable\",$F$44),\"&Column\", EK72),\"&Table\",$F$45),\"\")","v":""},{"$f":"IF(AND(EL57<>\"Y\",$F$55=\"Fact\",EL59=\"Y\"),CHAR(13)& SUBSTITUTE(SUBSTITUTE(SUBSTITUTE(SUBSTITUTE(Settings!$B$45,\"&BEAMColumn\",EL71),\"&BEAMTable\",$F$44),\"&Column\", EL72),\"&Table\",$F$45),\"\")","v":""},{"$f":"IF(AND(EM57<>\"Y\",$F$55=\"Fact\",EM59=\"Y\"),CHAR(13)& SUBSTITUTE(SUBSTITUTE(SUBSTITUTE(SUBSTITUTE(Settings!$B$45,\"&BEAMColumn\",EM71),\"&BEAMTable\",$F$44),\"&Column\", EM72),\"&Table\",$F$45),\"\")","v":""},{"$f":"IF(AND(EN57<>\"Y\",$F$55=\"Fact\",EN59=\"Y\"),CHAR(13)& SUBSTITUTE(SUBSTITUTE(SUBSTITUTE(SUBSTITUTE(Settings!$B$45,\"&BEAMColumn\",EN71),\"&BEAMTable\",$F$44),\"&Column\", EN72),\"&Table\",$F$45),\"\")","v":""},{"$f":"IF(AND(EO57<>\"Y\",$F$55=\"Fact\",EO59=\"Y\"),CHAR(13)& SUBSTITUTE(SUBSTITUTE(SUBSTITUTE(SUBSTITUTE(Settings!$B$45,\"&BEAMColumn\",EO71),\"&BEAMTable\",$F$44),\"&Column\", EO72),\"&Table\",$F$45),\"\")","v":""},{"$f":"IF(AND(EP57<>\"Y\",$F$55=\"Fact\",EP59=\"Y\"),CHAR(13)& SUBSTITUTE(SUBSTITUTE(SUBSTITUTE(SUBSTITUTE(Settings!$B$45,\"&BEAMColumn\",EP71),\"&BEAMTable\",$F$44),\"&Column\", EP72),\"&Table\",$F$45),\"\")","v":""},{"$f":"IF(AND(EQ57<>\"Y\",$F$55=\"Fact\",EQ59=\"Y\"),CHAR(13)& SUBSTITUTE(SUBSTITUTE(SUBSTITUTE(SUBSTITUTE(Settings!$B$45,\"&BEAMColumn\",EQ71),\"&BEAMTable\",$F$44),\"&Column\", EQ72),\"&Table\",$F$45),\"\")","v":""},{"$f":"IF(AND(ER57<>\"Y\",$F$55=\"Fact\",ER59=\"Y\"),CHAR(13)& SUBSTITUTE(SUBSTITUTE(SUBSTITUTE(SUBSTITUTE(Settings!$B$45,\"&BEAMColumn\",ER71),\"&BEAMTable\",$F$44),\"&Column\", ER72),\"&Table\",$F$45),\"\")","v":""},{"$f":"IF(AND(ES57<>\"Y\",$F$55=\"Fact\",ES59=\"Y\"),CHAR(13)& SUBSTITUTE(SUBSTITUTE(SUBSTITUTE(SUBSTITUTE(Settings!$B$45,\"&BEAMColumn\",ES71),\"&BEAMTable\",$F$44),\"&Column\", ES72),\"&Table\",$F$45),\"\")","v":""},{"$f":"IF(AND(ET57<>\"Y\",$F$55=\"Fact\",ET59=\"Y\"),CHAR(13)& SUBSTITUTE(SUBSTITUTE(SUBSTITUTE(SUBSTITUTE(Settings!$B$45,\"&BEAMColumn\",ET71),\"&BEAMTable\",$F$44),\"&Column\", ET72),\"&Table\",$F$45),\"\")","v":""},{"$f":"IF(AND(EU57<>\"Y\",$F$55=\"Fact\",EU59=\"Y\"),CHAR(13)& SUBSTITUTE(SUBSTITUTE(SUBSTITUTE(SUBSTITUTE(Settings!$B$45,\"&BEAMColumn\",EU71),\"&BEAMTable\",$F$44),\"&Column\", EU72),\"&Table\",$F$45),\"\")","v":""},{"$f":"IF(AND(EV57<>\"Y\",$F$55=\"Fact\",EV59=\"Y\"),CHAR(13)& SUBSTITUTE(SUBSTITUTE(SUBSTITUTE(SUBSTITUTE(Settings!$B$45,\"&BEAMColumn\",EV71),\"&BEAMTable\",$F$44),\"&Column\", EV72),\"&Table\",$F$45),\"\")","v":""},{"$f":"IF(AND(EW57<>\"Y\",$F$55=\"Fact\",EW59=\"Y\"),CHAR(13)& SUBSTITUTE(SUBSTITUTE(SUBSTITUTE(SUBSTITUTE(Settings!$B$45,\"&BEAMColumn\",EW71),\"&BEAMTable\",$F$44),\"&Column\", EW72),\"&Table\",$F$45),\"\")","v":""},{"$f":"IF(AND(EX57<>\"Y\",$F$55=\"Fact\",EX59=\"Y\"),CHAR(13)& SUBSTITUTE(SUBSTITUTE(SUBSTITUTE(SUBSTITUTE(Settings!$B$45,\"&BEAMColumn\",EX71),\"&BEAMTable\",$F$44),\"&Column\", EX72),\"&Table\",$F$45),\"\")","v":""},{"$f":"IF(AND(EY57<>\"Y\",$F$55=\"Fact\",EY59=\"Y\"),CHAR(13)& SUBSTITUTE(SUBSTITUTE(SUBSTITUTE(SUBSTITUTE(Settings!$B$45,\"&BEAMColumn\",EY71),\"&BEAMTable\",$F$44),\"&Column\", EY72),\"&Table\",$F$45),\"\")","v":""}]
[null,null,"Index List",null,null,{"$f":"F112","v":""},{"$f":"CONCATENATE(INDIRECT(ADDRESS(ROW(),COLUMN()-1)),G112)","v":""},{"$f":"CONCATENATE(INDIRECT(ADDRESS(ROW(),COLUMN()-1)),H112)","v":""},"","","","","","","","","","","","","","","","","","","","","","","","","","","","","","","","","","","","","","","","","","","","","","","","","","","","","","","","","","","","","","","",{"$f":"CONCATENATE(INDIRECT(ADDRESS(ROW(),COLUMN()-1)),BT112)","v":""},"","","","","","","","","","","","","","","","","","","","","","","","","","","","","","","","","","","","","","","","","","","","","","","","","","","","","","","","","","","","","","","",{"$f":"CONCATENATE(INDIRECT(ADDRESS(ROW(),COLUMN()-1)),EF112)","v":""},"","","","","","","","","","","","","","","","","","",""]
[]
[]
[{"$nulls":5},"SQL","Visable Display Columns","Viable Key Codes"]
[null,null,"Raw Key Lists (Array functions)",null,null,{"$f":"INDEX(F106:EY106,MATCH(MAX(LEN(F106:EY106)),LEN(F106:EY106),0))","v":""},{"$f":"INDEX(F78:EY78,MATCH(MAX(LEN(F78:EY78)),LEN(F78:EY78),0))","v":""},{"$f":"INDEX(F91:EY91,MATCH(MAX(LEN(F91:EY91)),LEN(F91:EY91),0))","v":""}]
[null,null,"Raw Non-key Lists",null,null,{"$f":"INDEX(F107:EY107,MATCH(MAX(LEN(F107:EY107)),LEN(F107:EY107),0))","v":""},{"$f":"INDEX(F82:EY82,MATCH(MAX(LEN(F82:EY82)),LEN(F82:EY82),0))","v":""},{"$f":"INDEX(F93:EY93,MATCH(MAX(LEN(F93:EY93)),LEN(F93:EY93),0))","v":""}]
[null,null,"All Column codes (hidden and visable)",null,null,{"$f":"INDEX(F84:EY84,MATCH(MAX(LEN(F84:EY84)),LEN(F84:EY84),0))","v":", , , , , , , , , , , , , , , , , , , , , , , , , , , , , , , , , , , , , , , , , , , , , , , , , , , , , , , , , , , , , , , , , , , , , , , , , , , , , , , , , , , , , , , , , , , , , , , , , , , , , , , , , , , , , , , , , , , , , , , , , , , , , , , , , , , , , , , , , , , , , , , , , , , , , "}]
[null,null,"Add Auto Surrogate Key to Dimension Key Column list if no explicitely SK defined",null,null,{"$f":"IF(AND($F$55=\"Dimension\",ISERROR(FIND(\"SK\",$F$119))),\"Y\",\"\")","v":""}]
[null,null,"Auto Surrogate Key Processing",null,null,{"$f":"IF($F$120=\"Y\", CONCATENATE(Settings!$B$12,\" \", Settings!B19, \",\",CHAR(13), F117),  F117)","v":""},{"$f":"IF(AND($F$120=\"Y\", Settings!$B$42<>\"Y\"), CONCATENATE(Settings!$B$12,CHAR(13), IF(LEN(G117)=0,CHAR(13),\"\"), G118),  G118)","v":""},{"$f":"IF(AND($F$120=\"Y\", Settings!$B$42<>\"Y\"), CONCATENATE(SUBSTITUTE(Settings!$B$41,\"&BEAMColumnCodes\",\"SK\"),CHAR(13), IF(LEN($H$117)=0,CHAR(13),\"\"), $H$118),  $H$118)","v":""}]
[null,null,"Add Key and Non-Key Column Lists",null,null,{"$f":"F121 & F118","v":""}]
[null,null,"Remove trailing comma and <CR> from Column List. \n\nEmpty if no valid SQL columns",null,null,{"$f":"IF(LEN($F$122)=0,\"\",LEFT(F122,LEN(F122)-2))","v":""}]
[null,null,"Add DDL Comment Create Table Clause",null,null,{"$f":"CONCATENATE(Settings!B3, \" DDL for \", F54, \" &Table generated by BEAM*Modelstormer \", $F$43, \" on \", TEXT(NOW(),\"d mmm yyyy at hh:mm\"),\" \", Settings!B4, CHAR(13), CHAR(13), F56, Settings!B11, F123)","v":"/* DDL for  &Table generated by BEAM*Modelstormer 0.97C on 22 May 2017 at 19:16 */\r\rCREATE TABLE [ Fill in Table Name in F4 ]\r("}]
[null,null,"Add Admin Attributes if table is a HV dimension",null,null,{"$f":"IF(AND($F$55=\"Dimension\",NOT(ISERROR(FIND(\"HV\",$F$50)))),\"Y\",\"\")","v":""}]
[null,null,"Adding Admin Attributes. \n\nEnd column list in SQL",null,null,{"$f":"IF($F$125=\"Y\",$F$124 & Settings!$B$29 & Settings!$B$33, $F$124 & Settings!$B$33)","v":"/* DDL for  &Table generated by BEAM*Modelstormer 0.97C on 22 May 2017 at 19:16 */\r\rCREATE TABLE [ Fill in Table Name in F4 ]\r()"},{"$f":"IF($F$125<>\"Y\", $G$121, IF(LEN($G$121) + LEN(Settings!$B$30)<254,$G$121 & Settings!$B$30, $G$121 & \"…\"))","v":""},{"$f":"IF(AND($F$125=\"Y\", LEN($G$121)+LEN(Settings!$B$30)<254), $H$121 & Settings!$B$31, $H$121)","v":""}]
[null,null,"Add Create Table options below column list and <Statement End>",null,null,{"$f":"TRIM(F126 & IF(AND($F$55=\"Dimension\", LEN(Settings!$B$35)<>0), CHAR(13) & Settings!B35,IF(AND($F$55=\"Fact\", LEN(Settings!$B$34)<>0), CHAR(13) & Settings!B34, \"\")) & Settings!$B$36)","v":"/* DDL for &Table generated by BEAM*Modelstormer 0.97C on 22 May 2017 at 19:16 */\r\rCREATE TABLE [ Fill in Table Name in F4 ]\r();\r"}]
[null,null,"SK Column List (array formulae)",null,null,{"$f":"INDEX(F87:EY87,MATCH(MAX(LEN(F87:EY87)),LEN(F87:EY87),0))","v":""}]
[null,null,"Create Key Column CSV List",null,null,{"$f":"IF($F$120=\"Y\",SUBSTITUTE(Settings!$B$12,\"&Table\",$F$45),IF(LEN($F$128)=0,\"\",LEFT($F$128,LEN($F$128)-2)))","v":""}]
[null,null,"Add Dimension Constraint/Index if necessary",null,null,{"$f":"F127 & IF(AND($F$55=\"Dimension\", LEN(Settings!$B$46)<>0), CHAR(13) & Settings!$B$46 & CHAR(13),\"\")","v":"/* DDL for &Table generated by BEAM*Modelstormer 0.97C on 22 May 2017 at 19:16 */\r\rCREATE TABLE [ Fill in Table Name in F4 ]\r();\r"}]
[null,null,"Substitute Table Name for &Table. Key Column List for &KeyColumns\n\n",null,null,{"$f":"SUBSTITUTE(SUBSTITUTE($F$130, \"&Table\", $F$45),\"&KeyColumns\",$F$129)","v":"/* DDL for [ Fill in Table Name in F4 ] generated by BEAM*Modelstormer 0.97C on 22 May 2017 at 19:16 */\r\rCREATE TABLE [ Fill in Table Name in F4 ]\r();\r"},{"$f":"SUBSTITUTE(G126, \"&Table\", $F$45)","v":""}]
[null,null,"Logical Column Names in Diagram List if required",{"$nulls":3},{"$f":"IF(Settings!$B$44=\"Y\", PROPER(SUBSTITUTE(G131,\"_\",\" \")), F131)","v":""}]
[null,null,"Column Comments (Array Function)",null,null,{"$f":"INDEX(F110:EY110,MATCH(MAX(LEN(F110:EY110)),LEN(F110:EY110),0))","v":""}]
[null,null,"Comment on Auto SK",null,null,{"$f":"IF($F$120=\"Y\",SUBSTITUTE(SUBSTITUTE(SUBSTITUTE(Settings!$B$39,\"&Column\", Settings!$B$12),\"&Table\",$F$45),\"&BEAMColumnCodes\",\"SK\"),\"\")","v":""}]
[null,null,"Comments on Admin Attributes",null,null,{"$f":"IF($F$125=\"Y\", SUBSTITUTE(Settings!B32, \"&Table\", $F$45), \"\")","v":""}]
[null,null,"Table and Column Comments if comment option is \"Y\"",null,null,{"$f":"IF(Settings!$B$37=\"Y\", CHAR(13) & $F$52 & $F$134 & $F$133 & $F$135, \"\")","v":"\r"}]
[null,null,"Fact table Indices (Array Function)",null,null,{"$f":"INDEX(F113:EY113,MATCH(MAX(LEN(F113:EY113)),LEN(F113:EY113),0))","v":""}]
[null,null,"Add Indices and Comments to SQL",null,null,{"$f":"CONCATENATE(F131, F137, IF(LEN(F137)<>0, CHAR(13),\"\"), F136)","v":"/* DDL for [ Fill in Table Name in F4 ] generated by BEAM*Modelstormer 0.97C on 22 May 2017 at 19:16 */\r\rCREATE TABLE [ Fill in Table Name in F4 ]\r();\r\r"}]
[null,null,"Finished SQL DLL\n\nContains instruction to add columns if column list is empty",null,null,{"$f":"IF(LEN($F$123)= 0, \"Add column names in F6 to EY6 to generate SQL DDL\", $F$138)","v":"Add column names in F6 to EY6 to generate SQL DDL"}]
[]
[{"$nulls":5},{"$f":"MAX(LEN(G106:AY106))","v":0}]
[]
[]
[{"$nulls":5},"Agile Data Warehouse Design",null,"www.modelstorming.com"]

{"sheet":"Settings","index":5,"n_rows":47,"n_cols":3,"rows_kept":47}
["Setting","Active Value","Alternative (to copy and paste – Do Not Drag and Drop!)"]
["Database Type (documentation only)","Oracle","MS SQL Server (DDL syntax not fully optimised/checked yet. Please help to improve)"]
["Comment Start","/*"]
["Comment Stop","*/"]
["Max Length Table/Column Name",30,128]
["SQL Fact Table Name","&BEAMTable_FACT"]
["SQL Dimension Table Name","&BEAMTable "]
["Create Clause Prefix – Fact Table","CREATE TABLE &Table"]
["Create Clause Prefix – Dimension Table ","CREATE TABLE &Table"]
["Create Clause Prefix – General Table ","CREATE TABLE &Table"]
["Start Column List","\n("]
["Automatic Dimension Surrogate Key Naming ","&Table_KEY"]
["Automatic Fact Surrogate Key Naming","&BEAMColumn_KEY"]
["Ignore Derived Facts (DF)","Y"]
["Enforce Not Null Constraint on MD columns","Y"]
["Enable Default Value (Missing: 4th row of Example Data)","Y"]
["Default Data Type","VARCHAR2(40)"]
["Default Fact Data Type","NUMBER"]
["Surrogate Key Type","INTEGER NOT NULL DEFAULT 0","INT"]
["Numeric Data Type","NUMBER"]
["Default Number Length,Precision"]
["Integer Data Type","INTEGER"]
["Character Data Type","VARCHAR2"]
["Default Character Length",30]
["Date Data Type","DATE"]
["Datetime Data Type","TIMESTAMP"]
["Text Data Type","CLOB"]
["Blob Data Type","BLOB"]
["Dimension Admin Attributes SQL",", \nEFFECTIVE_DATE DATETIME NOT NULL, \nEND_DATE DATETIME NOT NULL DEFAULT '9999-12-31', \nCURRENT_IND CHAR(1) NOT NULL DEFAULT 'Y' CHECK (CURRENT_IND IN ('Y', 'N'))"]
["Dimension Admin Attributes Schema Diagram Columns","\nEFFECTIVE_DATE \nEND_DATE\nCURRENT_IND"]
["Dimension Admin Attributes Schema Diagram Codes \n(Make sure they line up with the columns above)","\n \n\n[Y/N]"]
["Dimensional Admin Attribute Comments\n(with appropriate Statement End and <CR>)","Comment on Column &Table.CURRENT_IND is '[Y/N]';\n","EXEC sys.sp_addextendedproperty \n@name = N'MS_Description', \n@value = N'[Y/N]', \n@level0type = N'SCHEMA', @level0name = N'dbo',\n@level1type = N'TABLE',  @level1name = N'&Table',\n@level2type = N'Column', @level2name = N'CURRENT_IND';\nGO"]
["End Column List",")"]
["Fact Create Table Options e.g. Partitioning\n(reference &Table &KeyColumns as necessary)"]
["Dimension Create Table Options\n(reference &Table and &KeyColumns as necessary)"]
["Statement End (with <CR>)",";\n"]
["Generate Comments","Y"]
["Table Comments\n(with appropriate Statement End and <CR>)","Comment on Table &Table is '&BEAMTableCodes';\n","EXEC sys.sp_addextendedproperty \n@name = N'MS_Description', \n@value = N'&BEAMTableCodes', \n@level0type = N'SCHEMA', @level0name = N'dbo',\n@level1type = N'TABLE',  @level1name = N'&Table';\nGO\n"]
["Column Comments\n(with appropriate Statement End and <CR>)","Comment on Column &Table.&Column is '&BEAMColumnCodes';\n","EXEC sys.sp_addextendedproperty \n@name = N'MS_Description', \n@value = N'&BEAMColumnCodes', \n@level0type = N'SCHEMA', @level0name = N'dbo',\n@level1type = N'TABLE',  @level1name = N'&Table',\n@level2type = N'Column', @level2name = N'&Column';\nGO\n"]
["Diagram Table Code Pattern ","  [ &BEAMTableCodes ]"]
["Diagram Column Code Pattern "," &BEAMColumnCodes "]
["Hide Surrogate Key Columns on Diagrams","N"]
["Hide Unimportant Columns on Diagrams","N"]
["Logical Names (initcaps spaced) on Diagrams","Y"]
["Fact Table SK Indices","CREATE BITMAP INDEX I_&BEAMTable_&BEAMColumn ON &Table (&Column);","CREATE NONCLUSTERED INDEX I_&BEAMTable_&BEAMColumn ON &Table (&Column);"]
["Dimension Table SK Index or Constraint","ALTER TABLE &Table ADD CONSTRAINT C_&Table_PK PRIMARY KEY (&KeyColumns);"]
["Modelstomer Version","0.97C"]

{"sheet":"Help (BEAM✲ Codes)","index":6,"n_rows":56,"n_cols":5,"rows_kept":56,"merged":[[1,0,9,0],[4,3,8,3],[10,0,19,0],[10,3,18,3],[20,0,29,0],[30,0,36,0],[30,3,36,3],[37,0,42,0],[37,3,42,3],[43,0,46,0],[47,0,55,0],[51,3,53,3]]}
["Code Type","Code ","Meaning/Usage","Modelstormer Special Behaviour (Settings)","ADWD Chapters"]
["Event and Fact Table","[DE]","Discrete Event. Event represents a point in time or short duration transaction that has completed. Implemented as a transaction fact table."]
[null,"[RE]","Recurring Event. Event represents measurements taken at predictable regular intervals. Implemented as a periodic snapshot fact table.",null,"2, 8"]
[null,"[EE]","Evolving Event. Event represents a process that takes time to complete. Implemented as an accumulating snapshot fact table.",null,"2, 4, 8"]
[null,"[TF]","Transaction Fact table. Physical equivalent of a discrete event [DE]. Typi-cally maintained by insert only.","If a table is defined as a fact table (TF,AS, PS, AG or DF) SK columns will be renamed using the Automatic Fact Surrogate Key Naming setting. Fact tables are renamed using the SQL Fact Table Name setting pattern.","5, 8"]
[null,"[AS]","Accumulating Snapshot. Physical fact table equivalent of an evolving event [EE]. Maintained by insert and update. Typically contains multiple milestone date/time dimensions with matching duration and state count facts.",null,8]
[null,"[PS]","Periodic Snapshot. Physical fact table equivalent of a recurring event [RE]. Typically contains semi-additive facts.",null,8]
[null,"[AG]","Aggregate. Fact table that summarizes an existing fact table.",null,8]
[null,"[DF]","Derived Fact table. Fact table that is constructed by merging, slicing, or pivoting existing fact tables.",null,8]
[null,"{Source}","Data source. Default source system table or filename.","Stripped out of code list for table diagrams",5]
["Dimension","[CV]","Current Value. Table contains only current value dimensional attributes. Also known as a type 1 slowly changing dimension.","Dimensions without an explicit surrogate key have an auto generated SK prepended using Automatic Dimension Surrogate Key Naming.\n\nAdmin attributes are automatically added to HV dimensions. \n\nDimension tables are renamed using the SQL Dimension Table Name setting pattern","4, 5, 6"]
[null,"[HV]","Historic Value. Table contains at least one historical value dimensional attribute. Also known as a type 2 slowly changing dimension.",null,"4, 5, 6"]
[null,"[RP]","Role-Playing. Dimension is used to play multiple roles; for example, Salesperson and Manager are both roles of the Employee [RP]dimension. Calendar[RP] is the most common role-playing dimension.",null,4]
[null,"[RU]","Rollup. Dimension is derived from a more granular dimension. For example, Month[RU] is a rollup of the Calendar dimension containing conformed dimensional attributes Month, Quarter, and Year.",null,4]
[null,"[SD]","Swappable Dimension. Part of a set of dimensions with a common surrogate key that can be used in place of each other. Swappable dimensions are often used to provide subsets of a large dimension population for efficiency; for example, Business Customer is a swappable subset of Customer. Swappable dimensions can also be used to provide alternative historical views and national language support.",null,6]
[null,"[ML]","Multi-Level. A dimension containing additional members representing higher levels in the dimension's hierarchy. Used when a fact table can be attached to a dimension at different levels. For example, sales transactions can be assigned to an individual Employee or a Team/Branch, and web advertisements can be for a specific product or a product category.",null,6]
[null,"[HM]","Hierarchy Map. A table used to resolve a recursive relationship. Represents a variable-depth hierarchy. For example, Company Structure[CV,HM] is a current value hierarchy map (does not track hierarchy history).",null,6]
[null,"[MV]","Multi-Valued. A bridge table used to resolve a many-to-many relationship between a fact table and a multi-valued dimension. Or\nA hierarchy map [HM] that contains child members with multiple direct parents. For example, Reporting Structure [MV,HM] is a hierarchy map that connects employees to more than one direct manager. \nMV tables often contain a weighting factor that allows facts to be allocated across the multiple values at query time.",null,"6, 9"]
[null,"[PD]","Pivoted Dimension. A dimension that represents multiple row values as a set of column (bit) flags-used to simplify combination selection. Often built by pivoting a multi-valued bridge table or a fact table.",null,9]
[null,"{Source}","Data source. Default source system table or filename. ","Stripped out of code list for table diagrams",5]
["Column (General)","MD","Mandatory. Column value should be present under normal conditions. Column is defined as nullable so it can handle errors.","Defines SQL column as NOT NULL","2"]
[null,"NN","Not Null. Column does not allow nulls. All SK and FK columns are not null by default. ",null,"5"]
[null,"ND\nNDn","No Duplicates. Column must not contain duplicate values. The numbered version is used to define a combination of columns that must be unique.",null,"9"]
[null,"Xn","Exclusive. A dimensional attribute that is not valid for all members of a dimension. Used in conjunction with a DC defining characteristic. Number coded to identify mutually exclusive attributes or attribute groups and identify the defining characteristics it is paired with. Also used to denote exclusive facts that are only valid for certain dimensional values.",null,"3, 8"]
[null,"DC\nDCn,n","Defining Characteristic. Column value dictates which exclusive attributes or facts are valid. For example, Product Type DC defines which Product attributes are valid. Number coded when multiple defining characteristics exist in the same table.",null,"3, 8"]
[null,"[W-type] [dimension]","Dimension type or name. The W (who, what, when, where, why, how) type of an event detail or the dimension name when a detail is a role; for example, Salesperson [Employee] where Salesperson is a role of the Employee dimension. Also used to show a recursive relationship within a detail table.",null,"4, 6"]
[null,"{Source}","Data source. The name of a column or field in a source system. Can be qualified with a table or filename if necessary (when different from the table default). ","Stripped out of code list for table diagrams","5"]
[null,"UnavailableMD","Unavailable or incorrect. Column name or column code annotation denoting that source data is unavailable or does not comply with the current column type definition. For example,  MD  denotes that the source system does not treat the data as mandatory as it contains null or missing values. Gender denotes that Gender is not available.",null,"5"]
[null,"?","Suspect. A column that still needs to be clarified.","Column will be ignored in generated SQL DLL and table diagrams","New"]
[null,"!","Important. A significant column with a table.","Column will still be displayed in a table diagram when Hide Unimportant Columns on Diagrams is set to \"Y\" ","New"]
["Data Type","C\nCn","Character data type. The numbered version is used to define the maximum length. Overrides the default length.","Overides default data type, length and percision","5"]
[null,"N\nNn.n","Numeric data type. The numbered version is used to define precision. Overrides the default precision.",null,"5"]
[null,"I","Integer data type.",null,"New"]
[null,"DT\nDTn","Date/Time data type. The numbered version is used in duration formulas for derived facts; for example, Delivery Delay DF=DT2-DT1. Numbering can also denote default chronological order of milestones within an evolving event. ",null,"4, 5"]
[null,"D\nDn","Date data type. The numbered version is used in duration formulas for derived facts; for example, Project Duration DF=D2-D1. Numbering can also denote chronological order of milestones within an evolving event.",null,"5"]
[null,"T\nTn","Text. Long character data used to hold free format text. The numbered version is used to define the maximum length. Overrides the default length.",null,"5"]
[null,"B","Blob. Binary long object used to hold documents, images, sound, objects, and so on.",null,"5"]
["Key Type","PK","Primary Key. Column or group of columns that uniquely identify each row in a table.","SK renames Fact Table columns using the Automatic Fact Surrogate Key Naming setting. All SK columns are defined using Surrogate Key Type. SK columns are hidden on Table Diagrams when \n\nAll key type columns are sorted first in SQL DLL and Table Diagrams.\n\n","5"]
[null,"SK","Surrogate Key. integer assigned by the data warehouse as the primary key for a dimension table. Used as a foreign key in fact tables. Used to denote that example data in a BEAM table column will be replaced by an integer foreign key in the physical model.",null,"5"]
[null,"BK","Business Key. A source system key.",null,"3, 5"]
[null,"NK","Natural Key. A (source system) key used in the real world",null,"5"]
[null,"FK","Foreign Key. A column that references the primary key of another table. ",null,"5"]
[null,"RK","Recursive Key. A foreign key that references the primary key of its own table. Often used to represent variable-depth hierarchies. Stores information needed to build hierarchy maps; for example, Parent Company Key in Company.",null,"6"]
["Dimensional Attribute","CV\nCVn","Current Value attribute. A dimensional attribute that holds the current value only. Source system updates overwrite the previous value. Supports current value (as is) reporting. Also known as a type 1 slowly changing dimensional attribute. \nThe numbered version relates a CV attribute to a previous value (PV) version of itself; for example, Territory CV1 and Previous Territory PV1.",null,"3, 6"]
[null,"HV\nHVn","Historic Value attribute. A dimensional attribute that tracks historical values. Source system updates cause a new version of the dimensional record to be created, preserving the historically correct values. Supports historical value (as was) reporting. Also known as a type 2 slowly changing dimensional attribute.\nThe numbered version is used in combination with CV to define conditional HV attributes. These are CV attributes that act as HV attributes only when another HV attribute with the same number changes; for example, Street CV, HV1 will only track changes when Zip Code HV1 changes at the same time.",null,"3, 6"]
[null,"FV","Fixed Value attribute. A dimensional attribute that should not change; for example Date of Birth. FV attributes however can be corrected. When FV attributes are corrected they behave like CV attributes: the previous incorrect value is not preserved.",null,"3"]
[null,"PVn","Previous Value attribute. A dimensional attribute that records the previous value of another current value attribute. Also known as a type 3 slowly changing dimensional attribute.\nPVn is always used in conjunction with a matching CVn to relate the previous value to the current value; for example, Previous Territory PV1 and Territory CV1.\nPV attributes can also be used to hold initial or “as at specific date” values; for example, Initial Territory PV1 or YE2010 Territory PV1.",null,"6"]
["Event and Fact Column","MV","Multi-Value. Event detail contains multiple values that must be resolved using a bridge table when converted to a dimensional model.\nFact table FK that points to a multi-value bridge table.",null,"6, 9"]
[null,"ML","Multi-Level. Event detail represents various levels in a hierarchy such as individual employee or teams/branches that must be handled by a multi-level dimension that contains additional members representing the required levels.\nFact table FK that points to a multi-level dimension and makes use of the additional levels.",null,"6"]
[null,"DD","Degenerate Dimension. Dimensional attribute stored in a fact table. Has no additional descriptive attributes; therefore, does not join to a physical dimension table. Typically used for transaction IDs (how details); for example, Order ID DD.",null,"2, 3, 4, 5"]
[null,"GD\nGDn","Granular Dimension. A dimension or combination of dimensions that defines the granularity of a fact table.\nThe numbered version is used when alternative dimension combinations can define the granularity. For example, Call Reference Number GD1 or Customer GD2, Call Time GD2 define the granularity of a call detail fact table.",null,"2, 8"]
[null,"FA","(Fully) Additive fact. A fact that produces a correct total when summed across any combination of its dimensions. For a fact to be additive it must be expressed in a single unit of measure. Percentages and unit prices are not additive.","Fact columns (FA, SA and NA) are defined using Default Fact Data Type usless their data type is explicitly defined.","5, 8"]
[null,"SA\nSAn","Semi-Additive fact. A fact that can be correctly totaled by some dimensions but not others. Semi-additive facts have at least one non-additive (NA) dimension. For example, an account balance cannot be summed over time: its non-additive (NA) dimension. Semi-additive facts are often averaged over their non-additive dimension.\nSA is always used in conjunction with at least one NA dimension foreign key to relate the semi-additive fact to its non-additive dimensions.\nThe numbered version is used to relate multiple semi-additive facts in the same table to their appropriate NA dimensions. For example, Stock Level SA1 is non-additive across Stock Date Key NA1 whereas Order Count SA2 is non-additive across Product Key NA2. ",null,"8"]
[null,"NA\nNAn","Non-Additive fact. A fact that cannot be aggregated using sum; for example, Temperature NA. Non-additive facts can be aggregated using other functions such as min, max, and average.\nA non-additive dimension of a semi-additive fact. The numbered version is used to relate non-additive dimensions to specific semi-additive facts when multiple SAs exist in the same table. ",null,"8"]
[null,"DF\nDF=formula","Derived Fact. A fact that can be derived from other columns within the same table. May be followed by a simple formula referencing other facts or date/time details by number; for example, Unit Price DF=Revenue /Quantity.","DF columns are not generated if Ignore Derived Facts (DF) is Y.","4"]
[null,"[UoM]\n[UoM1, UoM2,...]","Unit of measure. Unit of measure symbol or description; for example, Order Revenue [$] or Delivery Delay [days]. \nLists multiple units of measure required for reporting, with the default standard unit (UoM1) first. All quantities are stored in the standard UoM to pro-duce an additive fact.",null,"2, 4"]